{"text_format":"1","workbook":"xlsx","n_sheets":13,"sheets":["PENNANT TEAMS","Blank cards","Blank Cards Rear","Results","Card Stickers","Result Stickers","Player List","Weekly Records","Result sheet sticker blank","Score card sticker blank","Instructions","Club_Details","Player_Records"],"not_rendered":{"charts":0,"images":3,"macros":1,"external_links":3,"defined_names":51,"comments":0,"pivot_tables":0},"unopened":[],"bounds":{"document_bytes":16777216,"sheet_cells":100000,"rows_first":2000,"rows_last":500,"rows_between":2000,"halvings":0,"cell_chars":16384,"cell_head_chars":4096},"cells_cut":0,"cells_raw":0,"read":"whole","date_system":"1900"}

{"sheet":"PENNANT TEAMS","index":0,"n_rows":158,"n_cols":256,"rows_kept":158,"cut":false,"hidden":false,"merged":[[2,0,2,1],[119,0,119,4],[3,3,3,4]]}
["Column1","Column2","Column3","Column4","Column5","Column6","Column7","Column8","Column9","Column10","Column11","Column12","Column13","Column14","Column15","Column16","Column17","Column18","Column19","Column20","Column21","Column22","Column23","Column24","Column25","Column26","Column27","Column28","Column29","Column30","Column31","Column32","Column33","Column34","Column35","Column36","Column37","Column38","Column39","Column40","Column41","Column42","Column43","Column44","Column45","Column46","Column47","Column48","Column49","Column50","Column51","Column52","Column53","Column54","Column55","Column56","Column57","Column58","Column59","Column60","Column61","Column62","Column63","Column64","Column65","Column66","Column67","Column68","Column69","Column70","Column71","Column72","Column73","Column74","Column75","Column76","Column77","Column78","Column79","Column80","Column81","Column82","Column83","Column84","Column85","Column86","Column87","Column88","Column89","Column90","Column91","Column92","Column93","Column94","Column95","Column96","Column97","Column98","Column99","Column100","Column101","Column102","Column103","Column104","Column105","Column106","Column107","Column108","Column109","Column110","Column111","Column112","Column113","Column114","Column115","Column116","Column117","Column118","Column119","Column120","Column121","Column122","Column123","Column124","Column125","Column126","Column127","Column128","Column129","Column130","Column131","Column132","Column133","Column134","Column135","Column136","Column137","Column138","Column139","Column140","Column141","Column142","Column143","Column144","Column145","Column146","Column147","Column148","Column149","Column150","Column151","Column152","Column153","Column154","Column155","Column156","Column157","Column158","Column159","Column160","Column161","Column162","Column163","Column164","Column165","Column166","Column167","Column168","Column169","Column170","Column171","Column172","Column173","Column174","Column175","Column176","Column177","Column178","Column179","Column180","Column181","Column182","Column183","Column184","Column185","Column186","Column187","Column188","Column189","Column190","Column191","Column192","Column193","Column194","Column195","Column196","Column197","Column198","Column199","Column200","Column201","Column202","Column203","Column204","Column205","Column206","Column207","Column208","Column209","Column210","Column211","Column212","Column213","Column214","Column215","Column216","Column217","Column218","Column219","Column220","Column221","Column222","Column223","Column224","Column225","Column226","Column227","Column228","Column229","Column230","Column231","Column232","Column233","Column234","Column235","Column236","Column237","Column238","Column239","Column240","Column241","Column242","Column243","Column244","Column245","Column246","Column247","Column248","Column249","Column250","Column251","Column252","Column253","Column254","Column255","Column256"]
[]
["PENNANT TEAMS",null,null,"CLUB NAME"]
["DATE : -","2019-02-02","UMPIRE/S:-","NAME"]
["ROUND:-",1]
[null,"LEAD","SECOND","THIRD","SKIP"]
["GRADE","AWAY","VERSUS","CLUB NAME",null,null,{"$f":"IF(B7=\"home\",D$3,IF(B7=\"away\",D7))","v":"CLUB NAME"}]
[]
[null,{"$f":"IF(B8>1,VLOOKUP(B8,BOWLERS,3,FALSE),\"\")","v":""},{"$f":"IF(C8>1,VLOOKUP(C8,BOWLERS,3,FALSE),\"\")","v":""},{"$f":"IF(D8>1,VLOOKUP(D8,BOWLERS,3,FALSE),\"\")","v":""},{"$f":"IF(E8>1,VLOOKUP(E8,BOWLERS,3,FALSE),\"\")","v":""}]
["SIDE MANAGER"]
[null,{"$f":"IF(B10>1,VLOOKUP(B10,BOWLERS,3,FALSE),\"\")","v":""},{"$f":"IF(C10>1,VLOOKUP(C10,BOWLERS,3,FALSE),\"\")","v":""},{"$f":"IF(D10>1,VLOOKUP(D10,BOWLERS,3,FALSE),\"\")","v":""},{"$f":"IF(E10>1,VLOOKUP(E10,BOWLERS,3,FALSE),\"\")","v":""}]
[]
[{"$f":"IF(A12>1,VLOOKUP(A12,BOWLERS,3,FALSE),\"\")","v":""},{"$f":"IF(B12>1,VLOOKUP(B12,BOWLERS,3,FALSE),\"\")","v":""},{"$f":"IF(C12>1,VLOOKUP(C12,BOWLERS,3,FALSE),\"\")","v":""},{"$f":"IF(D12>1,VLOOKUP(D12,BOWLERS,3,FALSE),\"\")","v":""},{"$f":"IF(E12>1,VLOOKUP(E12,BOWLERS,3,FALSE),\"\")","v":""}]
[null,null,"SECTION"]
[]
["GRADE","AWAY","VERSUS","CLUB NAME",null,null,{"$f":"IF(B16=\"home\",D$3,IF(B16=\"away\",D16))","v":"CLUB NAME"}]
[]
[null,{"$f":"IF(B17>1,VLOOKUP(B17,BOWLERS,3,FALSE),\"\")","v":""},{"$f":"IF(C17>1,VLOOKUP(C17,BOWLERS,3,FALSE),\"\")","v":""},{"$f":"IF(D17>1,VLOOKUP(D17,BOWLERS,3,FALSE),\"\")","v":""},{"$f":"IF(E17>1,VLOOKUP(E17,BOWLERS,3,FALSE),\"\")","v":""}]
["SIDE MANAGER"]
[null,{"$f":"IF(B19>1,VLOOKUP(B19,BOWLERS,3,FALSE),\"\")","v":""},{"$f":"IF(C19>1,VLOOKUP(C19,BOWLERS,3,FALSE),\"\")","v":""},{"$f":"IF(D19>1,VLOOKUP(D19,BOWLERS,3,FALSE),\"\")","v":""},{"$f":"IF(E19>1,VLOOKUP(E19,BOWLERS,3,FALSE),\"\")","v":""}]
[]
[{"$f":"IF(A21>1,VLOOKUP(A21,BOWLERS,3,FALSE),\"\")","v":""},{"$f":"IF(B21>1,VLOOKUP(B21,BOWLERS,3,FALSE),\"\")","v":""},{"$f":"IF(C21>1,VLOOKUP(C21,BOWLERS,3,FALSE),\"\")","v":""},{"$f":"IF(D21>1,VLOOKUP(D21,BOWLERS,3,FALSE),\"\")","v":""},{"$f":"IF(E21>1,VLOOKUP(E21,BOWLERS,3,FALSE),\"\")","v":""}]
[null,null,"SECTION"]
[]
["GRADE","HOME","VERSUS",null,null,null,{"$f":"IF(B25=\"home\",D$3,IF(B25=\"away\",D25))","v":"CLUB NAME"}]
[]
[null,{"$f":"IF(B26>1,VLOOKUP(B26,BOWLERS,3,FALSE),\"\")","v":""},{"$f":"IF(C26>1,VLOOKUP(C26,BOWLERS,3,FALSE),\"\")","v":""},{"$f":"IF(D26>1,VLOOKUP(D26,BOWLERS,3,FALSE),\"\")","v":""},{"$f":"IF(E26>1,VLOOKUP(E26,BOWLERS,3,FALSE),\"\")","v":""}]
["SIDE MANAGER"]
[null,{"$f":"IF(B28>1,VLOOKUP(B28,BOWLERS,3,FALSE),\"\")","v":""},{"$f":"IF(C28>1,VLOOKUP(C28,BOWLERS,3,FALSE),\"\")","v":""},{"$f":"IF(D28>1,VLOOKUP(D28,BOWLERS,3,FALSE),\"\")","v":""},{"$f":"IF(E28>1,VLOOKUP(E28,BOWLERS,3,FALSE),\"\")","v":""}]
[]
[{"$f":"IF(A30>1,VLOOKUP(A30,BOWLERS,3,FALSE),\"\")","v":""},{"$f":"IF(B30>1,VLOOKUP(B30,BOWLERS,3,FALSE),\"\")","v":""},{"$f":"IF(C30>1,VLOOKUP(C30,BOWLERS,3,FALSE),\"\")","v":""},{"$f":"IF(D30>1,VLOOKUP(D30,BOWLERS,3,FALSE),\"\")","v":""},{"$f":"IF(E30>1,VLOOKUP(E30,BOWLERS,3,FALSE),\"\")","v":""}]
[null,null,"SECTION"]
[]
["GRADE","HOME","VERSUS",null,null,null,{"$f":"IF(B34=\"home\",D$3,IF(B34=\"away\",D34))","v":"CLUB NAME"}]
[]
[null,{"$f":"IF(B35>1,VLOOKUP(B35,BOWLERS,3,FALSE),\"\")","v":""},{"$f":"IF(C35>1,VLOOKUP(C35,BOWLERS,3,FALSE),\"\")","v":""},{"$f":"IF(D35>1,VLOOKUP(D35,BOWLERS,3,FALSE),\"\")","v":""},{"$f":"IF(E35>1,VLOOKUP(E35,BOWLERS,3,FALSE),\"\")","v":""}]
["SIDE MANAGER"]
[null,{"$f":"IF(B37>1,VLOOKUP(B37,BOWLERS,3,FALSE),\"\")","v":""},{"$f":"IF(C37>1,VLOOKUP(C37,BOWLERS,3,FALSE),\"\")","v":""},{"$f":"IF(D37>1,VLOOKUP(D37,BOWLERS,3,FALSE),\"\")","v":""},{"$f":"IF(E37>1,VLOOKUP(E37,BOWLERS,3,FALSE),\"\")","v":""}]
[]
[{"$f":"IF(A39>1,VLOOKUP(A39,BOWLERS,3,FALSE),\"\")","v":""},{"$f":"IF(B39>1,VLOOKUP(B39,BOWLERS,3,FALSE),\"\")","v":""},{"$f":"IF(C39>1,VLOOKUP(C39,BOWLERS,3,FALSE),\"\")","v":""},{"$f":"IF(D39>1,VLOOKUP(D39,BOWLERS,3,FALSE),\"\")","v":""},{"$f":"IF(E39>1,VLOOKUP(E39,BOWLERS,3,FALSE),\"\")","v":""}]
[null,null,"SECTION"]
[]
["GRADE","HOME","VERSUS",null,null,null,{"$f":"IF(B43=\"home\",D$3,IF(B43=\"away\",D43))","v":"CLUB NAME"}]
[]
[null,{"$f":"IF(B44>1,VLOOKUP(B44,BOWLERS,3,FALSE),\"\")","v":""},{"$f":"IF(C44>1,VLOOKUP(C44,BOWLERS,3,FALSE),\"\")","v":""},{"$f":"IF(D44>1,VLOOKUP(D44,BOWLERS,3,FALSE),\"\")","v":""},{"$f":"IF(E44>1,VLOOKUP(E44,BOWLERS,3,FALSE),\"\")","v":""}]
["SIDE MANAGER"]
[null,{"$f":"IF(B46>1,VLOOKUP(B46,BOWLERS,3,FALSE),\"\")","v":""},{"$f":"IF(C46>1,VLOOKUP(C46,BOWLERS,3,FALSE),\"\")","v":""},{"$f":"IF(D46>1,VLOOKUP(D46,BOWLERS,3,FALSE),\"\")","v":""},{"$f":"IF(E46>1,VLOOKUP(E46,BOWLERS,3,FALSE),\"\")","v":""}]
[]
[{"$f":"IF(A48>1,VLOOKUP(A48,BOWLERS,3,FALSE),\"\")","v":""},{"$f":"IF(B48>1,VLOOKUP(B48,BOWLERS,3,FALSE),\"\")","v":""},{"$f":"IF(C48>1,VLOOKUP(C48,BOWLERS,3,FALSE),\"\")","v":""},{"$f":"IF(D48>1,VLOOKUP(D48,BOWLERS,3,FALSE),\"\")","v":""},{"$f":"IF(E48>1,VLOOKUP(E48,BOWLERS,3,FALSE),\"\")","v":""}]
[null,null,"SECTION"]
[]
["GRADE","HOME","VERSUS",null,null,null,{"$f":"IF(B52=\"home\",D$3,IF(B52=\"away\",D52))","v":"CLUB NAME"}]
[]
[null,{"$f":"IF(B53>1,VLOOKUP(B53,BOWLERS,3,FALSE),\"\")","v":""},{"$f":"IF(C53>1,VLOOKUP(C53,BOWLERS,3,FALSE),\"\")","v":""},{"$f":"IF(D53>1,VLOOKUP(D53,BOWLERS,3,FALSE),\"\")","v":""},{"$f":"IF(E53>1,VLOOKUP(E53,BOWLERS,3,FALSE),\"\")","v":""}]
["SIDE MANAGER"]
[null,{"$f":"IF(B55>1,VLOOKUP(B55,BOWLERS,3,FALSE),\"\")","v":""},{"$f":"IF(C55>1,VLOOKUP(C55,BOWLERS,3,FALSE),\"\")","v":""},{"$f":"IF(D55>1,VLOOKUP(D55,BOWLERS,3,FALSE),\"\")","v":""},{"$f":"IF(E55>1,VLOOKUP(E55,BOWLERS,3,FALSE),\"\")","v":""}]
[]
[{"$f":"IF(A57>1,VLOOKUP(A57,BOWLERS,3,FALSE),\"\")","v":""},{"$f":"IF(B57>1,VLOOKUP(B57,BOWLERS,3,FALSE),\"\")","v":""},{"$f":"IF(C57>1,VLOOKUP(C57,BOWLERS,3,FALSE),\"\")","v":""},{"$f":"IF(D57>1,VLOOKUP(D57,BOWLERS,3,FALSE),\"\")","v":""},{"$f":"IF(E57>1,VLOOKUP(E57,BOWLERS,3,FALSE),\"\")","v":""}]
[null,null,"SECTION"]
[]
["GRADE","HOME","VERSUS",null,null,null,{"$f":"IF(B61=\"home\",D$3,IF(B61=\"away\",D61))","v":"CLUB NAME"}]
[]
[null,{"$f":"IF(B62>1,VLOOKUP(B62,BOWLERS,3,FALSE),\"\")","v":""},{"$f":"IF(C62>1,VLOOKUP(C62,BOWLERS,3,FALSE),\"\")","v":""},{"$f":"IF(D62>1,VLOOKUP(D62,BOWLERS,3,FALSE),\"\")","v":""},{"$f":"IF(E62>1,VLOOKUP(E62,BOWLERS,3,FALSE),\"\")","v":""}]
["SIDE MANAGER"]
[null,{"$f":"IF(B64>1,VLOOKUP(B64,BOWLERS,3,FALSE),\"\")","v":""},{"$f":"IF(C64>1,VLOOKUP(C64,BOWLERS,3,FALSE),\"\")","v":""},{"$f":"IF(D64>1,VLOOKUP(D64,BOWLERS,3,FALSE),\"\")","v":""},{"$f":"IF(E64>1,VLOOKUP(E64,BOWLERS,3,FALSE),\"\")","v":""}]
[]
[{"$f":"IF(A66>1,VLOOKUP(A66,BOWLERS,3,FALSE),\"\")","v":""},{"$f":"IF(B66>1,VLOOKUP(B66,BOWLERS,3,FALSE),\"\")","v":""},{"$f":"IF(C66>1,VLOOKUP(C66,BOWLERS,3,FALSE),\"\")","v":""},{"$f":"IF(D66>1,VLOOKUP(D66,BOWLERS,3,FALSE),\"\")","v":""},{"$f":"IF(E66>1,VLOOKUP(E66,BOWLERS,3,FALSE),\"\")","v":""}]
[null,null,"SECTION"]
[]
["GRADE","HOME","VERSUS",null,null,null,{"$f":"IF(B70=\"home\",D$3,IF(B70=\"away\",D70))","v":"CLUB NAME"}]
[]
[null,{"$f":"IF(B71>1,VLOOKUP(B71,BOWLERS,3,FALSE),\"\")","v":""},{"$f":"IF(C71>1,VLOOKUP(C71,BOWLERS,3,FALSE),\"\")","v":""},{"$f":"IF(D71>1,VLOOKUP(D71,BOWLERS,3,FALSE),\"\")","v":""},{"$f":"IF(E71>1,VLOOKUP(E71,BOWLERS,3,FALSE),\"\")","v":""}]
["SIDE MANAGER"]
[null,{"$f":"IF(B73>1,VLOOKUP(B73,BOWLERS,3,FALSE),\"\")","v":""},{"$f":"IF(C73>1,VLOOKUP(C73,BOWLERS,3,FALSE),\"\")","v":""},{"$f":"IF(D73>1,VLOOKUP(D73,BOWLERS,3,FALSE),\"\")","v":""},{"$f":"IF(E73>1,VLOOKUP(E73,BOWLERS,3,FALSE),\"\")","v":""}]
[]
[{"$f":"IF(A75>1,VLOOKUP(A75,BOWLERS,3,FALSE),\"\")","v":""},{"$f":"IF(B75>1,VLOOKUP(B75,BOWLERS,3,FALSE),\"\")","v":""},{"$f":"IF(C75>1,VLOOKUP(C75,BOWLERS,3,FALSE),\"\")","v":""},{"$f":"IF(D75>1,VLOOKUP(D75,BOWLERS,3,FALSE),\"\")","v":""},{"$f":"IF(E75>1,VLOOKUP(E75,BOWLERS,3,FALSE),\"\")","v":""}]
[null,null,"SECTION"]
[]
["GRADE","HOME","VERSUS",null,null,null,{"$f":"IF(B79=\"home\",D$3,IF(B79=\"away\",D79))","v":"CLUB NAME"}]
[]
[null,{"$f":"IF(B80>1,VLOOKUP(B80,BOWLERS,3,FALSE),\"\")","v":""},{"$f":"IF(C80>1,VLOOKUP(C80,BOWLERS,3,FALSE),\"\")","v":""},{"$f":"IF(D80>1,VLOOKUP(D80,BOWLERS,3,FALSE),\"\")","v":""},{"$f":"IF(E80>1,VLOOKUP(E80,BOWLERS,3,FALSE),\"\")","v":""}]
["SIDE MANAGER"]
[null,{"$f":"IF(B82>1,VLOOKUP(B82,BOWLERS,3,FALSE),\"\")","v":""},{"$f":"IF(C82>1,VLOOKUP(C82,BOWLERS,3,FALSE),\"\")","v":""},{"$f":"IF(D82>1,VLOOKUP(D82,BOWLERS,3,FALSE),\"\")","v":""},{"$f":"IF(E82>1,VLOOKUP(E82,BOWLERS,3,FALSE),\"\")","v":""}]
[]
[{"$f":"IF(A84>1,VLOOKUP(A84,BOWLERS,3,FALSE),\"\")","v":""},{"$f":"IF(B84>1,VLOOKUP(B84,BOWLERS,3,FALSE),\"\")","v":""},{"$f":"IF(C84>1,VLOOKUP(C84,BOWLERS,3,FALSE),\"\")","v":""},{"$f":"IF(D84>1,VLOOKUP(D84,BOWLERS,3,FALSE),\"\")","v":""},{"$f":"IF(E84>1,VLOOKUP(E84,BOWLERS,3,FALSE),\"\")","v":""}]
[null,null,"SECTION  "]
[]
["GRADE","HOME","VERSUS",null,null,null,{"$f":"IF(B88=\"home\",D$3,IF(B88=\"away\",D88))","v":"CLUB NAME"}]
[]
[null,{"$f":"IF(B89>1,VLOOKUP(B89,BOWLERS,3,FALSE),\"\")","v":""},{"$f":"IF(C89>1,VLOOKUP(C89,BOWLERS,3,FALSE),\"\")","v":""},{"$f":"IF(D89>1,VLOOKUP(D89,BOWLERS,3,FALSE),\"\")","v":""},{"$f":"IF(E89>1,VLOOKUP(E89,BOWLERS,3,FALSE),\"\")","v":""}]
["SIDE MANAGER"]
[null,{"$f":"IF(B91>1,VLOOKUP(B91,BOWLERS,3,FALSE),\"\")","v":""},{"$f":"IF(C91>1,VLOOKUP(C91,BOWLERS,3,FALSE),\"\")","v":""},{"$f":"IF(D91>1,VLOOKUP(D91,BOWLERS,3,FALSE),\"\")","v":""},{"$f":"IF(E91>1,VLOOKUP(E91,BOWLERS,3,FALSE),\"\")","v":""}]
[]
[{"$f":"IF(A93>1,VLOOKUP(A93,BOWLERS,3,FALSE),\"\")","v":""},{"$f":"IF(B93>1,VLOOKUP(B93,BOWLERS,3,FALSE),\"\")","v":""},{"$f":"IF(C93>1,VLOOKUP(C93,BOWLERS,3,FALSE),\"\")","v":""},{"$f":"IF(D93>1,VLOOKUP(D93,BOWLERS,3,FALSE),\"\")","v":""},{"$f":"IF(E93>1,VLOOKUP(E93,BOWLERS,3,FALSE),\"\")","v":""}]
[null,null,"SECTION  "]
[]
["OUT FOR YEAR","RESERVES","RESERVES","RESERVES","UNAVAILABLE"]
["Name","Name","Name","Name","Name"]
[{"$f":"IF(A98>1,VLOOKUP(A98,BOWLERS,3,FALSE),\"\")","v":"No"},{"$f":"IF(B98>1,VLOOKUP(B98,BOWLERS,3,FALSE),\"\")","v":"No"},{"$f":"IF(C98>1,VLOOKUP(C98,BOWLERS,3,FALSE),\"\")","v":"No"},{"$f":"IF(D98>1,VLOOKUP(D98,BOWLERS,3,FALSE),\"\")","v":"No"},{"$f":"IF(E98>1,VLOOKUP(E98,BOWLERS,3,FALSE),\"\")","v":"No"}]
[]
[{"$f":"IF(A100>1,VLOOKUP(A100,BOWLERS,3,FALSE),\"\")","v":""},{"$f":"IF(B100>1,VLOOKUP(B100,BOWLERS,3,FALSE),\"\")","v":""},{"$f":"IF(C100>1,VLOOKUP(C100,BOWLERS,3,FALSE),\"\")","v":""},{"$f":"IF(D100>1,VLOOKUP(D100,BOWLERS,3,FALSE),\"\")","v":""},{"$f":"IF(E100>1,VLOOKUP(E100,BOWLERS,3,FALSE),\"\")","v":""}]
[]
[{"$f":"IF(A102>1,VLOOKUP(A102,BOWLERS,3,FALSE),\"\")","v":""},{"$f":"IF(B102>1,VLOOKUP(B102,BOWLERS,3,FALSE),\"\")","v":""},{"$f":"IF(C102>1,VLOOKUP(C102,BOWLERS,3,FALSE),\"\")","v":""},{"$f":"IF(D102>1,VLOOKUP(D102,BOWLERS,3,FALSE),\"\")","v":""},{"$f":"IF(E102>1,VLOOKUP(E102,BOWLERS,3,FALSE),\"\")","v":""}]
[]
[{"$f":"IF(A104>1,VLOOKUP(A104,BOWLERS,3,FALSE),\"\")","v":""},{"$f":"IF(B104>1,VLOOKUP(B104,BOWLERS,3,FALSE),\"\")","v":""},{"$f":"IF(C104>1,VLOOKUP(C104,BOWLERS,3,FALSE),\"\")","v":""},{"$f":"IF(D104>1,VLOOKUP(D104,BOWLERS,3,FALSE),\"\")","v":""},{"$f":"IF(E104>1,VLOOKUP(E104,BOWLERS,3,FALSE),\"\")","v":""}]
[]
[{"$f":"IF(A106>1,VLOOKUP(A106,BOWLERS,3,FALSE),\"\")","v":""},{"$f":"IF(B106>1,VLOOKUP(B106,BOWLERS,3,FALSE),\"\")","v":""},{"$f":"IF(C106>1,VLOOKUP(C106,BOWLERS,3,FALSE),\"\")","v":""},{"$f":"IF(D106>1,VLOOKUP(D106,BOWLERS,3,FALSE),\"\")","v":""},{"$f":"IF(E106>1,VLOOKUP(E106,BOWLERS,3,FALSE),\"\")","v":""}]
[]
[{"$f":"IF(A108>1,VLOOKUP(A108,BOWLERS,3,FALSE),\"\")","v":""},{"$f":"IF(B108>1,VLOOKUP(B108,BOWLERS,3,FALSE),\"\")","v":""},{"$f":"IF(C108>1,VLOOKUP(C108,BOWLERS,3,FALSE),\"\")","v":""},{"$f":"IF(D108>1,VLOOKUP(D108,BOWLERS,3,FALSE),\"\")","v":""},{"$f":"IF(E108>1,VLOOKUP(E108,BOWLERS,3,FALSE),\"\")","v":""}]
[]
[{"$f":"IF(A110>1,VLOOKUP(A110,BOWLERS,3,FALSE),\"\")","v":""},{"$f":"IF(B110>1,VLOOKUP(B110,BOWLERS,3,FALSE),\"\")","v":""},{"$f":"IF(C110>1,VLOOKUP(C110,BOWLERS,3,FALSE),\"\")","v":""},{"$f":"IF(D110>1,VLOOKUP(D110,BOWLERS,3,FALSE),\"\")","v":""},{"$f":"IF(E110>1,VLOOKUP(E110,BOWLERS,3,FALSE),\"\")","v":""}]
[]
[{"$f":"IF(A112>1,VLOOKUP(A112,BOWLERS,3,FALSE),\"\")","v":""},{"$f":"IF(B112>1,VLOOKUP(B112,BOWLERS,3,FALSE),\"\")","v":""},{"$f":"IF(C112>1,VLOOKUP(C112,BOWLERS,3,FALSE),\"\")","v":""},{"$f":"IF(D112>1,VLOOKUP(D112,BOWLERS,3,FALSE),\"\")","v":""},{"$f":"IF(E112>1,VLOOKUP(E112,BOWLERS,3,FALSE),\"\")","v":""}]
[]
[{"$f":"IF(A114>1,VLOOKUP(A114,BOWLERS,3,FALSE),\"\")","v":""},{"$f":"IF(B114>1,VLOOKUP(B114,BOWLERS,3,FALSE),\"\")","v":""},{"$f":"IF(C114>1,VLOOKUP(C114,BOWLERS,3,FALSE),\"\")","v":""},{"$f":"IF(D114>1,VLOOKUP(D114,BOWLERS,3,FALSE),\"\")","v":""},{"$f":"IF(E114>1,VLOOKUP(E114,BOWLERS,3,FALSE),\"\")","v":""}]
[]
[]
["PLEASE    TICK       NAMES AS SOON AS POSSIBLE"]
["IF      N/A      PLEASE MARK AND NOTIFY A SELECTOR"]
["IF PLAYING AWAY PLEASE INDICATE IF TAKING  (CAR)  OR IF GOING DIRECT"]
[]
[]
[]
[]
[]
[]
[]
[]
[]
[]
[]
[]
[]
[]
[]
[]
[]
[]
[]
[]
[]
[]
[]
[]
[]
[]
[]
[]
[]
[]
[]
[]
[]
[]
["BOWLERS"]
["Column1","Column2","RNSWBA"]
["Name",null,"No","GRADE"]
["SURNAME First Names",null,"nnnnn","2018 Grade"]

{"sheet":"Blank cards","index":1,"n_rows":450,"n_cols":21,"rows_kept":450,"cut":false,"hidden":false,"merged":[[4,5,4,8],[4,9,4,13],[4,14,4,18],[5,0,5,4],[5,5,5,8],[5,9,5,13],[5,14,5,18],[4,19,4,23],[5,19,5,23],[0,0,0,3],[0,4,0,23],[2,0,2,9],[2,10,2,13],[2,14,2,23],[3,0,3,4],[3,5,3,23],[4,0,4,4],[12,0,12,3],[12,4,12,11],[12,12,12,15],[12,16,12,23],[14,0,14,23],[15,0,15,3],[15,4,15,23],[13,0,13,2],[13,3,13,11],[13,12,13,15],[9,0,9,10],[9,11,9,12],[9,13,9,23],[10,0,10,10],[10,11,10,12],[10,13,10,23],[6,10,6,13],[7,0,7,10],[7,11,7,12],[7,13,7,23],[8,0,8,10],[8,11,8,12],[8,13,8,23],[24,0,24,10],[24,11,24,12],[24,13,24,23],[25,0,25,10],[25,11,25,12],[25,13,25,23],[21,10,21,13],[22,0,22,10],[22,11,22,12],[22,13,22,23],[23,0,23,10],[23,11,23,12],[23,13,23,23],[13,16,13,23],[18,0,18,4],[18,5,18,23],[19,19,19,23],[20,19,20,23],[20,0,20,4],[20,5,20,8],[20,9,20,13],[20,14,20,18],[19,0,19,4],[19,5,19,8],[19,9,19,13],[19,14,19,18],[17,0,17,9],[17,10,17,13],[17,14,17,23],[28,16,28,23],[33,0,33,4],[33,5,33,23],[34,19,34,23],[35,19,35,23],[35,0,35,4],[35,5,35,8],[35,9,35,13],[35,14,35,18],[34,0,34,4],[34,5,34,8],[34,9,34,13],[34,14,34,18],[32,0,32,9],[32,10,32,13],[32,14,32,23],[27,0,27,3],[27,4,27,11],[27,12,27,15],[27,16,27,23],[29,0,29,23],[30,0,30,3],[30,4,30,23],[28,0,28,2],[28,3,28,11],[28,12,28,15],[42,0,42,3],[42,4,42,11],[42,12,42,15],[42,16,42,23],[44,0,44,23],[45,0,45,3],[45,4,45,23],[43,0,43,2],[43,3,43,11],[43,12,43,15],[39,0,39,10],[39,11,39,12],[39,13,39,23],[40,0,40,10],[40,11,40,12],[40,13,40,23],[36,10,36,13],[37,0,37,10],[37,11,37,12],[37,13,37,23],[38,0,38,10],[38,11,38,12],[38,13,38,23],[54,0,54,10],[54,11,54,12],[54,13,54,23],[55,0,55,10],[55,11,55,12],[55,13,55,23],[51,10,51,13],[52,0,52,10],[52,11,52,12],[52,13,52,23],[53,0,53,10],[53,11,53,12],[53,13,53,23],[43,16,43,23],[48,0,48,4],[48,5,48,23],[49,19,49,23],[50,19,50,23],[50,0,50,4],[50,5,50,8],[50,9,50,13],[50,14,50,18],[49,0,49,4],[49,5,49,8],[49,9,49,13],[49,14,49,18],[47,0,47,9],[47,10,47,13],[47,14,47,23],[58,16,58,23],[63,0,63,4],[63,5,63,23],[64,19,64,23],[65,19,65,23],[65,0,65,4],[65,5,65,8],[65,9,65,13],[65,14,65,18],[64,0,64,4],[64,5,64,8],[64,9,64,13],[64,14,64,18],[62,0,62,9],[62,10,62,13],[62,14,62,23],[57,0,57,3],[57,4,57,11],[57,12,57,15],[57,16,57,23],[59,0,59,23],[60,0,60,3],[60,4,60,23],[58,0,58,2],[58,3,58,11],[58,12,58,15],[72,0,72,3],[72,4,72,11],[72,12,72,15],[72,16,72,23],[74,0,74,23],[75,0,75,3],[75,4,75,23],[73,0,73,2],[73,3,73,11],[73,12,73,15],[69,0,69,10],[69,11,69,12],[69,13,69,23],[70,0,70,10],[70,11,70,12],[70,13,70,23],[66,10,66,13],[67,0,67,10],[67,11,67,12],[67,13,67,23],[68,0,68,10],[68,11,68,12],[68,13,68,23],[84,0,84,10],[84,11,84,12],[84,13,84,23],[85,0,85,10],[85,11,85,12],[85,13,85,23],[81,10,81,13],[82,0,82,10],[82,11,82,12],[82,13,82,23],[83,0,83,10],[83,11,83,12],[83,13,83,23],[73,16,73,23],[78,0,78,4],[78,5,78,23],[79,19,79,23],[80,19,80,23],[80,0,80,4],[80,5,80,8],[80,9,80,13],[80,14,80,18],[79,0,79,4],[79,5,79,8],[79,9,79,13],[79,14,79,18],[77,0,77,9],[77,10,77,13],[77,14,77,23],[88,16,88,23],[93,0,93,4],[93,5,93,23],[94,19,94,23],[95,19,95,23],[95,0,95,4],[95,5,95,8],[95,9,95,13],[95,14,95,18],[94,0,94,4],[94,5,94,8],[94,9,94,13],[94,14,94,18],[92,0,92,9],[92,10,92,13],[92,14,92,23],[87,0,87,3],[87,4,87,11],[87,12,87,15],[87,16,87,23],[89,0,89,23],[90,0,90,3],[90,4,90,23],[88,0,88,2],[88,3,88,11],[88,12,88,15],[102,0,102,3],[102,4,102,11],[102,12,102,15],[102,16,102,23],[104,0,104,23],[105,0,105,3],[105,4,105,23],[103,0,103,2],[103,3,103,11],[103,12,103,15],[99,0,99,10],[99,11,99,12],[99,13,99,23],[100,0,100,10],[100,11,100,12],[100,13,100,23],[96,10,96,13],[97,0,97,10],[97,11,97,12],[97,13,97,23],[98,0,98,10],[98,11,98,12],[98,13,98,23],[114,0,114,10],[114,11,114,12],[114,13,114,23],[115,0,115,10],[115,11,115,12],[115,13,115,23],[111,10,111,13],[112,0,112,10],[112,11,112,12],[112,13,112,23],[113,0,113,10],[113,11,113,12],[113,13,113,23],[103,16,103,23],[108,0,108,4],[108,5,108,23],[109,19,109,23],[110,19,110,23],[110,0,110,4],[110,5,110,8],[110,9,110,13],[110,14,110,18],[109,0,109,4],[109,5,109,8],[109,9,109,13],[109,14,109,18],[107,0,107,9],[107,10,107,13],[107,14,107,23],[118,16,118,23],[123,0,123,4],[123,5,123,23],[124,19,124,23],[125,19,125,23],[125,0,125,4],[125,5,125,8],[125,9,125,13],[125,14,125,18],[124,0,124,4],[124,5,124,8],[124,9,124,13],[124,14,124,18],[122,0,122,9],[122,10,122,13],[122,14,122,23],[117,0,117,3],[117,4,117,11],[117,12,117,15],[117,16,117,23],[119,0,119,23],[120,0,120,3],[120,4,120,23],[118,0,118,2],[118,3,118,11],[118,12,118,15],[132,0,132,3],[132,4,132,11],[132,12,132,15],[132,16,132,23],[134,0,134,23],[135,0,135,3],[135,4,135,23],[133,0,133,2],[133,3,133,11],[133,12,133,15],[129,0,129,10],[129,11,129,12],[129,13,129,23],[130,0,130,10],[130,11,130,12],[130,13,130,23],[126,10,126,13],[127,0,127,10],[127,11,127,12],[127,13,127,23],[128,0,128,10],[128,11,128,12],[128,13,128,23],[144,0,144,10],[144,11,144,12],[144,13,144,23],[145,0,145,10],[145,11,145,12],[145,13,145,23],[141,10,141,13],[142,0,142,10],[142,11,142,12],[142,13,142,23],[143,0,143,10],[143,11,143,12],[143,13,143,23],[133,16,133,23],[138,0,138,4],[138,5,138,23],[139,19,139,23],[140,19,140,23],[140,0,140,4],[140,5,140,8],[140,9,140,13],[140,14,140,18],[139,0,139,4],[139,5,139,8],[139,9,139,13],[139,14,139,18],[137,0,137,9],[137,10,137,13],[137,14,137,23],[148,16,148,23],[153,0,153,4],[153,5,153,23],[154,19,154,23],[155,19,155,23],[155,0,155,4],[155,5,155,8],[155,9,155,13],[155,14,155,18],[154,0,154,4],[154,5,154,8],[154,9,154,13],[154,14,154,18],[152,0,152,9],[152,10,152,13],[152,14,152,23],[147,0,147,3],[147,4,147,11],[147,12,147,15],[147,16,147,23],[149,0,149,23],[150,0,150,3],[150,4,150,23],[148,0,148,2],[148,3,148,11],[148,12,148,15],[162,0,162,3],[162,4,162,11],[162,12,162,15],[162,16,162,23],[164,0,164,23],[165,0,165,3],[165,4,165,23],[163,0,163,2],[163,3,163,11],[163,12,163,15],[159,0,159,10],[159,11,159,12],[159,13,159,23],[160,0,160,10],[160,11,160,12],[160,13,160,23],[156,10,156,13],[157,0,157,10],[157,11,157,12],[157,13,157,23],[158,0,158,10],[158,11,158,12],[158,13,158,23],[174,0,174,10],[174,11,174,12],[174,13,174,23],[175,0,175,10],[175,11,175,12],[175,13,175,23],[171,10,171,13],[172,0,172,10],[172,11,172,12],[172,13,172,23],[173,0,173,10],[173,11,173,12],[173,13,173,23],[163,16,163,23],[168,0,168,4],[168,5,168,23],[169,19,169,23],[170,19,170,23],[170,0,170,4],[170,5,170,8],[170,9,170,13],[170,14,170,18],[169,0,169,4],[169,5,169,8],[169,9,169,13],[169,14,169,18],[167,0,167,9],[167,10,167,13],[167,14,167,23],[178,16,178,23],[183,0,183,4],[183,5,183,23],[184,19,184,23],[185,19,185,23],[185,0,185,4],[185,5,185,8],[185,9,185,13],[185,14,185,18],[184,0,184,4],[184,5,184,8],[184,9,184,13],[184,14,184,18],[182,0,182,9],[182,10,182,13],[182,14,182,23],[177,0,177,3],[177,4,177,11],[177,12,177,15],[177,16,177,23],[179,0,179,23],[180,0,180,3],[180,4,180,23],[178,0,178,2],[178,3,178,11],[178,12,178,15],[192,0,192,3],[192,4,192,11],[192,12,192,15],[192,16,192,23],[194,0,194,23],[195,0,195,3],[195,4,195,23],[193,0,193,2],[193,3,193,11],[193,12,193,15],[189,0,189,10],[189,11,189,12],[189,13,189,23],[190,0,190,10],[190,11,190,12],[190,13,190,23],[186,10,186,13],[187,0,187,10],[187,11,187,12],[187,13,187,23],[188,0,188,10],[188,11,188,12],[188,13,188,23],[204,0,204,10],[204,11,204,12],[204,13,204,23],[205,0,205,10],[205,11,205,12],[205,13,205,23],[201,10,201,13],[202,0,202,10],[202,11,202,12],[202,13,202,23],[203,0,203,10],[203,11,203,12],[203,13,203,23],[193,16,193,23],[198,0,198,4],[198,5,198,23],[199,19,199,23],[200,19,200,23],[200,0,200,4],[200,5,200,8],[200,9,200,13],[200,14,200,18],[199,0,199,4],[199,5,199,8],[199,9,199,13],[199,14,199,18],[197,0,197,9],[197,10,197,13],[197,14,197,23],[208,16,208,23],[213,0,213,4],[213,5,213,23],[214,19,214,23],[215,19,215,23],[215,0,215,4],[215,5,215,8],[215,9,215,13],[215,14,215,18],[214,0,214,4],[214,5,214,8],[214,9,214,13],[214,14,214,18],[212,0,212,9],[212,10,212,13],[212,14,212,23],[207,0,207,3],[207,4,207,11],[207,12,207,15],[207,16,207,23],[209,0,209,23],[210,0,210,3],[210,4,210,23],[208,0,208,2],[208,3,208,11],[208,12,208,15],[222,0,222,3],[222,4,222,11],[222,12,222,15],[222,16,222,23],[224,0,224,23],[225,0,225,3],[225,4,225,23],[223,0,223,2],[223,3,223,11],[223,12,223,15],[219,0,219,10],[219,11,219,12],[219,13,219,23],[220,0,220,10],[220,11,220,12],[220,13,220,23],[216,10,216,13],[217,0,217,10],[217,11,217,12],[217,13,217,23],[218,0,218,10],[218,11,218,12],[218,13,218,23],[234,0,234,10],[234,11,234,12],[234,13,234,23],[235,0,235,10],[235,11,235,12],[235,13,235,23],[231,10,231,13],[232,0,232,10],[232,11,232,12],[232,13,232,23],[233,0,233,10],[233,11,233,12],[233,13,233,23],[223,16,223,23],[228,0,228,4],[228,5,228,23],[229,19,229,23],[230,19,230,23],[230,0,230,4],[230,5,230,8],[230,9,230,13],[230,14,230,18],[229,0,229,4],[229,5,229,8],[229,9,229,13],[229,14,229,18],[227,0,227,9],[227,10,227,13],[227,14,227,23],[238,16,238,23],[243,0,243,4],[243,5,243,23],[244,19,244,23],[245,19,245,23],[245,0,245,4],[245,5,245,8],[245,9,245,13],[245,14,245,18],[244,0,244,4],[244,5,244,8],[244,9,244,13],[244,14,244,18],[242,0,242,9],[242,10,242,13],[242,14,242,23],[237,0,237,3],[237,4,237,11],[237,12,237,15],[237,16,237,23],[239,0,239,23],[240,0,240,3],[240,4,240,23],[238,0,238,2],[238,3,238,11],[238,12,238,15],[252,0,252,3],[252,4,252,11],[252,12,252,15],[252,16,252,23],[254,0,254,23],[255,0,255,3],[255,4,255,23],[253,0,253,2],[253,3,253,11],[253,12,253,15],[249,0,249,10],[249,11,249,12],[249,13,249,23],[250,0,250,10],[250,11,250,12],[250,13,250,23],[246,10,246,13],[247,0,247,10],[247,11,247,12],[247,13,247,23],[248,0,248,10],[248,11,248,12],[248,13,248,23],[264,0,264,10],[264,11,264,12],[264,13,264,23],[265,0,265,10],[265,11,265,12],[265,13,265,23],[261,10,261,13],[262,0,262,10],[262,11,262,12],[262,13,262,23],[263,0,263,10],[263,11,263,12],[263,13,263,23],[253,16,253,23],[258,0,258,4],[258,5,258,23],[259,19,259,23],[260,19,260,23],[260,0,260,4],[260,5,260,8],[260,9,260,13],[260,14,260,18],[259,0,259,4],[259,5,259,8],[259,9,259,13],[259,14,259,18],[257,0,257,9],[257,10,257,13],[257,14,257,23],[268,16,268,23],[273,0,273,4],[273,5,273,23],[274,19,274,23],[275,19,275,23],[275,0,275,4],[275,5,275,8],[275,9,275,13],[275,14,275,18],[274,0,274,4],[274,5,274,8],[274,9,274,13],[274,14,274,18],[272,0,272,9],[272,10,272,13],[272,14,272,23],[267,0,267,3],[267,4,267,11],[267,12,267,15],[267,16,267,23],[269,0,269,23],[270,0,270,3],[270,4,270,23],[268,0,268,2],[268,3,268,11],[268,12,268,15],[282,0,282,3],[282,4,282,11],[282,12,282,15],[282,16,282,23],[284,0,284,23],[285,0,285,3],[285,4,285,23],[283,0,283,2],[283,3,283,11],[283,12,283,15],[279,0,279,10],[279,11,279,12],[279,13,279,23],[280,0,280,10],[280,11,280,12],[280,13,280,23],[276,10,276,13],[277,0,277,10],[277,11,277,12],[277,13,277,23],[278,0,278,10],[278,11,278,12],[278,13,278,23],[294,0,294,10],[294,11,294,12],[294,13,294,23],[295,0,295,10],[295,11,295,12],[295,13,295,23],[291,10,291,13],[292,0,292,10],[292,11,292,12],[292,13,292,23],[293,0,293,10],[293,11,293,12],[293,13,293,23],[283,16,283,23],[288,0,288,4],[288,5,288,23],[289,19,289,23],[290,19,290,23],[290,0,290,4],[290,5,290,8],[290,9,290,13],[290,14,290,18],[289,0,289,4],[289,5,289,8],[289,9,289,13],[289,14,289,18],[287,0,287,9],[287,10,287,13],[287,14,287,23],[298,16,298,23],[303,0,303,4],[303,5,303,23],[304,19,304,23],[305,19,305,23],[305,0,305,4],[305,5,305,8],[305,9,305,13],[305,14,305,18],[304,0,304,4],[304,5,304,8],[304,9,304,13],[304,14,304,18],[302,0,302,9],[302,10,302,13],[302,14,302,23],[297,0,297,3],[297,4,297,11],[297,12,297,15],[297,16,297,23],[299,0,299,23],[300,0,300,3],[300,4,300,23],[298,0,298,2],[298,3,298,11],[298,12,298,15],[312,0,312,3],[312,4,312,11],[312,12,312,15],[312,16,312,23],[314,0,314,23],[315,0,315,3],[315,4,315,23],[313,0,313,2],[313,3,313,11],[313,12,313,15],[309,0,309,10],[309,11,309,12],[309,13,309,23],[310,0,310,10],[310,11,310,12],[310,13,310,23],[306,10,306,13],[307,0,307,10],[307,11,307,12],[307,13,307,23],[308,0,308,10],[308,11,308,12],[308,13,308,23],[324,0,324,10],[324,11,324,12],[324,13,324,23],[325,0,325,10],[325,11,325,12],[325,13,325,23],[321,10,321,13],[322,0,322,10],[322,11,322,12],[322,13,322,23],[323,0,323,10],[323,11,323,12],[323,13,323,23],[313,16,313,23],[318,0,318,4],[318,5,318,23],[319,19,319,23],[320,19,320,23],[320,0,320,4],[320,5,320,8],[320,9,320,13],[320,14,320,18],[319,0,319,4],[319,5,319,8],[319,9,319,13],[319,14,319,18],[317,0,317,9],[317,10,317,13],[317,14,317,23],[328,16,328,23],[333,0,333,4],[333,5,333,23],[334,19,334,23],[335,19,335,23],[335,0,335,4],[335,5,335,8],[335,9,335,13],[335,14,335,18],[334,0,334,4],[334,5,334,8],[334,9,334,13],[334,14,334,18],[332,0,332,9],[332,10,332,13],[332,14,332,23],[327,0,327,3],[327,4,327,11],[327,12,327,15],[327,16,327,23],[329,0,329,23],[330,0,330,3],[330,4,330,23],[328,0,328,2],[328,3,328,11],[328,12,328,15],[342,0,342,3],[342,4,342,11],[342,12,342,15],[342,16,342,23],[344,0,344,23],[345,0,345,3],[345,4,345,23],[343,0,343,2],[343,3,343,11],[343,12,343,15],[339,0,339,10],[339,11,339,12],[339,13,339,23],[340,0,340,10],[340,11,340,12],[340,13,340,23],[336,10,336,13],[337,0,337,10],[337,11,337,12],[337,13,337,23],[338,0,338,10],[338,11,338,12],[338,13,338,23],[354,0,354,10],[354,11,354,12],[354,13,354,23],[355,0,355,10],[355,11,355,12],[355,13,355,23],[351,10,351,13],[352,0,352,10],[352,11,352,12],[352,13,352,23],[353,0,353,10],[353,11,353,12],[353,13,353,23],[343,16,343,23],[348,0,348,4],[348,5,348,23],[349,19,349,23],[350,19,350,23],[350,0,350,4],[350,5,350,8],[350,9,350,13],[350,14,350,18],[349,0,349,4],[349,5,349,8],[349,9,349,13],[349,14,349,18],[347,0,347,9],[347,10,347,13],[347,14,347,23],[358,16,358,23],[363,0,363,4],[363,5,363,23],[364,19,364,23],[365,19,365,23],[365,0,365,4],[365,5,365,8],[365,9,365,13],[365,14,365,18],[364,0,364,4],[364,5,364,8],[364,9,364,13],[364,14,364,18],[362,0,362,9],[362,10,362,13],[362,14,362,23],[357,0,357,3],[357,4,357,11],[357,12,357,15],[357,16,357,23],[359,0,359,23],[360,0,360,3],[360,4,360,23],[358,0,358,2],[358,3,358,11],[358,12,358,15],[372,0,372,3],[372,4,372,11],[372,12,372,15],[372,16,372,23],[374,0,374,23],[375,0,375,3],[375,4,375,23],[373,0,373,2],[373,3,373,11],[373,12,373,15],[369,0,369,10],[369,11,369,12],[369,13,369,23],[370,0,370,10],[370,11,370,12],[370,13,370,23],[366,10,366,13],[367,0,367,10],[367,11,367,12],[367,13,367,23],[368,0,368,10],[368,11,368,12],[368,13,368,23],[384,0,384,10],[384,11,384,12],[384,13,384,23],[385,0,385,10],[385,11,385,12],[385,13,385,23],[381,10,381,13],[382,0,382,10],[382,11,382,12],[382,13,382,23],[383,0,383,10],[383,11,383,12],[383,13,383,23],[373,16,373,23],[378,0,378,4],[378,5,378,23],[379,19,379,23],[380,19,380,23],[380,0,380,4],[380,5,380,8],[380,9,380,13],[380,14,380,18],[379,0,379,4],[379,5,379,8]],"merged_total":1170,"flags":["merged_cut"]}
["DATE",null,null,null,{"$f":"'PENNANT TEAMS'!$B$4","v":"2019-02-02"},null,null,null,"2009-04-14",null,null,null,"2009-04-14",null,null,null,"2009-04-14",null,null,null,"2009-04-14"]
[]
[{"$f":"'PENNANT TEAMS'!$D$3","v":"CLUB NAME"},null,"BATEAU BAY",null,"BATEAU BAY",null,"BATEAU BAY",null,"BATEAU BAY",null,"CLUB PLAYS",null,null,null,{"$f":"'PENNANT TEAMS'!$D$7","v":"CLUB NAME"}]
["EVENT",null,null,null,null,{"$f":"'PENNANT TEAMS'!$A$3","v":"PENNANT TEAMS"}]
["GREEN",null,null,null,null,"RINK",null,null,null,"GRADE",null,null,null,null,"SECTION",null,null,null,null,"ROUND"]
[null,null,null,null,null,null,null,null,null,{"$f":"'PENNANT TEAMS'!$A$8","v":0},null,null,null,null,{"$f":"'PENNANT TEAMS'!$D$14","v":0},null,null,null,null,{"$f":"'PENNANT TEAMS'!$B$5","v":1}]
[null,null,null,null,null,null,null,null,null,null,"TEAMS"]
[{"$f":"'PENNANT TEAMS'!$B$8","v":0},null,null,null,null,null,null,null,null,null,null,"L"]
[{"$f":"'PENNANT TEAMS'!$C$8","v":0},null,null,null,null,null,null,null,null,null,null,"S"]
[{"$f":"'PENNANT TEAMS'!$D$8","v":0},null,null,null,null,null,null,null,null,null,null,"T"]
[{"$f":"'PENNANT TEAMS'!$E$8","v":0},null,null,null,null,null,null,null,null,null,null,"Sk"]
[]
["SCORE",null,null,null,null,null,null,null,null,null,null,null,"SCORE"]
["SIGN",null,null,null,null,null,null,null,null,null,null,null,"SIGN"]
["FINISH TIME"]
["DATE",null,null,null,{"$f":"'PENNANT TEAMS'!$B$4","v":"2019-02-02"},null,null,null,"2009-04-14",null,null,null,"2009-04-14",null,null,null,"2009-04-14",null,null,null,"2009-04-14"]
[]
[{"$f":"'PENNANT TEAMS'!$D$3","v":"CLUB NAME"},null,"BATEAU BAY",null,"BATEAU BAY",null,"BATEAU BAY",null,"BATEAU BAY",null,"CLUB PLAYS",null,null,null,{"$f":"'PENNANT TEAMS'!$D$7","v":"CLUB NAME"}]
["EVENT",null,null,null,null,{"$f":"'PENNANT TEAMS'!$A$3","v":"PENNANT TEAMS"}]
["GREEN",null,null,null,null,"RINK",null,null,null,"GRADE",null,null,null,null,"SECTION",null,null,null,null,"ROUND"]
[null,null,null,null,null,null,null,null,null,{"$f":"'PENNANT TEAMS'!$A$8","v":0},null,null,null,null,{"$f":"'PENNANT TEAMS'!$D$14","v":0},null,null,null,null,{"$f":"'PENNANT TEAMS'!$B$5","v":1}]
[null,null,null,null,null,null,null,null,null,null,"TEAMS"]
[{"$f":"'PENNANT TEAMS'!$B$10","v":0},null,null,null,null,null,null,null,null,null,null,"L"]
[{"$f":"'PENNANT TEAMS'!$C$10","v":0},null,null,null,null,null,null,null,null,null,null,"S"]
[{"$f":"'PENNANT TEAMS'!$D$10","v":0},null,null,null,null,null,null,null,null,null,null,"T"]
[{"$f":"'PENNANT TEAMS'!$E$10","v":0},null,null,null,null,null,null,null,null,null,null,"Sk"]
[]
["SCORE",null,null,null,null,null,null,null,null,null,null,null,"SCORE"]
["SIGN",null,null,null,null,null,null,null,null,null,null,null,"SIGN"]
["FINISH TIME"]
["DATE",null,null,null,{"$f":"'PENNANT TEAMS'!$B$4","v":"2019-02-02"},null,null,null,"2009-04-14",null,null,null,"2009-04-14",null,null,null,"2009-04-14",null,null,null,"2009-04-14"]
[]
[{"$f":"'PENNANT TEAMS'!$D$3","v":"CLUB NAME"},null,"BATEAU BAY",null,"BATEAU BAY",null,"BATEAU BAY",null,"BATEAU BAY",null,"CLUB PLAYS",null,null,null,{"$f":"'PENNANT TEAMS'!$D$7","v":"CLUB NAME"}]
["EVENT",null,null,null,null,{"$f":"'PENNANT TEAMS'!$A$3","v":"PENNANT TEAMS"}]
["GREEN",null,null,null,null,"RINK",null,null,null,"GRADE",null,null,null,null,"SECTION",null,null,null,null,"ROUND"]
[null,null,null,null,null,null,null,null,null,{"$f":"'PENNANT TEAMS'!$A$8","v":0},null,null,null,null,{"$f":"'PENNANT TEAMS'!$D$14","v":0},null,null,null,null,{"$f":"'PENNANT TEAMS'!$B$5","v":1}]
[null,null,null,null,null,null,null,null,null,null,"TEAMS"]
[{"$f":"'PENNANT TEAMS'!$B$12","v":0},null,null,null,null,null,null,null,null,null,null,"L"]
[{"$f":"'PENNANT TEAMS'!$C$12","v":0},null,null,null,null,null,null,null,null,null,null,"S"]
[{"$f":"'PENNANT TEAMS'!$D$12","v":0},null,null,null,null,null,null,null,null,null,null,"T"]
[{"$f":"'PENNANT TEAMS'!$E$12","v":0},null,null,null,null,null,null,null,null,null,null,"Sk"]
[]
["SCORE",null,null,null,null,null,null,null,null,null,null,null,"SCORE"]
["SIGN",null,null,null,null,null,null,null,null,null,null,null,"SIGN"]
["FINISH TIME"]
["DATE",null,null,null,{"$f":"'PENNANT TEAMS'!$B$4","v":"2019-02-02"},null,null,null,"2009-04-14",null,null,null,"2009-04-14",null,null,null,"2009-04-14",null,null,null,"2009-04-14"]
[]
[{"$f":"'PENNANT TEAMS'!$D$3","v":"CLUB NAME"},null,"BATEAU BAY",null,"BATEAU BAY",null,"BATEAU BAY",null,"BATEAU BAY",null,"CLUB PLAYS",null,null,null,{"$f":"'PENNANT TEAMS'!$D$16","v":"CLUB NAME"}]
["EVENT",null,null,null,null,{"$f":"'PENNANT TEAMS'!$A$3","v":"PENNANT TEAMS"}]
["GREEN",null,null,null,null,"RINK",null,null,null,"GRADE",null,null,null,null,"SECTION",null,null,null,null,"ROUND"]
[null,null,null,null,null,null,null,null,null,{"$f":"'PENNANT TEAMS'!$A$17","v":0},null,null,null,null,{"$f":"'PENNANT TEAMS'!$D$23","v":0},null,null,null,null,{"$f":"'PENNANT TEAMS'!$B$5","v":1}]
[null,null,null,null,null,null,null,null,null,null,"TEAMS"]
[{"$f":"'PENNANT TEAMS'!$B$17","v":0},null,null,null,null,null,null,null,null,null,null,"L"]
[{"$f":"'PENNANT TEAMS'!$C$17","v":0},null,null,null,null,null,null,null,null,null,null,"S"]
[{"$f":"'PENNANT TEAMS'!$D$17","v":0},null,null,null,null,null,null,null,null,null,null,"T"]
[{"$f":"'PENNANT TEAMS'!$E$17","v":0},null,null,null,null,null,null,null,null,null,null,"Sk"]
[]
["SCORE",null,null,null,null,null,null,null,null,null,null,null,"SCORE"]
["SIGN",null,null,null,null,null,null,null,null,null,null,null,"SIGN"]
["FINISH TIME"]
["DATE",null,null,null,{"$f":"'PENNANT TEAMS'!$B$4","v":"2019-02-02"},null,null,null,"2009-04-14",null,null,null,"2009-04-14",null,null,null,"2009-04-14",null,null,null,"2009-04-14"]
[]
[{"$f":"'PENNANT TEAMS'!$D$3","v":"CLUB NAME"},null,"BATEAU BAY",null,"BATEAU BAY",null,"BATEAU BAY",null,"BATEAU BAY",null,"CLUB PLAYS",null,null,null,{"$f":"'PENNANT TEAMS'!$D$16","v":"CLUB NAME"}]
["EVENT",null,null,null,null,{"$f":"'PENNANT TEAMS'!$A$3","v":"PENNANT TEAMS"}]
["GREEN",null,null,null,null,"RINK",null,null,null,"GRADE",null,null,null,null,"SECTION",null,null,null,null,"ROUND"]
[null,null,null,null,null,null,null,null,null,{"$f":"'PENNANT TEAMS'!$A$17","v":0},null,null,null,null,{"$f":"'PENNANT TEAMS'!$D$23","v":0},null,null,null,null,{"$f":"'PENNANT TEAMS'!$B$5","v":1}]
[null,null,null,null,null,null,null,null,null,null,"TEAMS"]
[{"$f":"'PENNANT TEAMS'!$B$19","v":0},null,null,null,null,null,null,null,null,null,null,"L"]
[{"$f":"'PENNANT TEAMS'!$C$19","v":0},null,null,null,null,null,null,null,null,null,null,"S"]
[{"$f":"'PENNANT TEAMS'!$D$19","v":0},null,null,null,null,null,null,null,null,null,null,"T"]
[{"$f":"'PENNANT TEAMS'!$E$19","v":0},null,null,null,null,null,null,null,null,null,null,"Sk"]
[]
["SCORE",null,null,null,null,null,null,null,null,null,null,null,"SCORE"]
["SIGN",null,null,null,null,null,null,null,null,null,null,null,"SIGN"]
["FINISH TIME"]
["DATE",null,null,null,{"$f":"'PENNANT TEAMS'!$B$4","v":"2019-02-02"},null,null,null,"2009-04-14",null,null,null,"2009-04-14",null,null,null,"2009-04-14",null,null,null,"2009-04-14"]
[]
[{"$f":"'PENNANT TEAMS'!$D$3","v":"CLUB NAME"},null,"BATEAU BAY",null,"BATEAU BAY",null,"BATEAU BAY",null,"BATEAU BAY",null,"CLUB PLAYS",null,null,null,{"$f":"'PENNANT TEAMS'!$D$16","v":"CLUB NAME"}]
["EVENT",null,null,null,null,{"$f":"'PENNANT TEAMS'!$A$3","v":"PENNANT TEAMS"}]
["GREEN",null,null,null,null,"RINK",null,null,null,"GRADE",null,null,null,null,"SECTION",null,null,null,null,"ROUND"]
[null,null,null,null,null,null,null,null,null,{"$f":"'PENNANT TEAMS'!$A$17","v":0},null,null,null,null,{"$f":"'PENNANT TEAMS'!$D$23","v":0},null,null,null,null,{"$f":"'PENNANT TEAMS'!$B$5","v":1}]
[null,null,null,null,null,null,null,null,null,null,"TEAMS"]
[{"$f":"'PENNANT TEAMS'!$B$21","v":0},null,null,null,null,null,null,null,null,null,null,"L"]
[{"$f":"'PENNANT TEAMS'!$C$21","v":0},null,null,null,null,null,null,null,null,null,null,"S"]
[{"$f":"'PENNANT TEAMS'!$D$21","v":0},null,null,null,null,null,null,null,null,null,null,"T"]
[{"$f":"'PENNANT TEAMS'!$E$21","v":0},null,null,null,null,null,null,null,null,null,null,"Sk"]
[]
["SCORE",null,null,null,null,null,null,null,null,null,null,null,"SCORE"]
["SIGN",null,null,null,null,null,null,null,null,null,null,null,"SIGN"]
["FINISH TIME"]
["DATE",null,null,null,{"$f":"'PENNANT TEAMS'!$B$4","v":"2019-02-02"},null,null,null,"2009-04-14",null,null,null,"2009-04-14",null,null,null,"2009-04-14",null,null,null,"2009-04-14"]
[]
[{"$f":"'PENNANT TEAMS'!$D$3","v":"CLUB NAME"},null,"BATEAU BAY",null,"BATEAU BAY",null,"BATEAU BAY",null,"BATEAU BAY",null,"CLUB PLAYS",null,null,null,{"$f":"'PENNANT TEAMS'!$D$25","v":0}]
["EVENT",null,null,null,null,{"$f":"'PENNANT TEAMS'!$A$3","v":"PENNANT TEAMS"}]
["GREEN",null,null,null,null,"RINK",null,null,null,"GRADE",null,null,null,null,"SECTION",null,null,null,null,"ROUND"]
[null,null,null,null,null,null,null,null,null,{"$f":"'PENNANT TEAMS'!$A$26","v":0},null,null,null,null,{"$f":"'PENNANT TEAMS'!$D$32","v":0},null,null,null,null,{"$f":"'PENNANT TEAMS'!$B$5","v":1}]
[null,null,null,null,null,null,null,null,null,null,"TEAMS"]
[{"$f":"'PENNANT TEAMS'!$B$26","v":0},null,null,null,null,null,null,null,null,null,null,"L"]
[{"$f":"'PENNANT TEAMS'!$C$26","v":0},null,null,null,null,null,null,null,null,null,null,"S"]
[{"$f":"'PENNANT TEAMS'!$D$26","v":0},null,null,null,null,null,null,null,null,null,null,"T"]
[{"$f":"'PENNANT TEAMS'!$E$26","v":0},null,null,null,null,null,null,null,null,null,null,"Sk"]
[]
["SCORE",null,null,null,null,null,null,null,null,null,null,null,"SCORE"]
["SIGN",null,null,null,null,null,null,null,null,null,null,null,"SIGN"]
["FINISH TIME"]
["DATE",null,null,null,{"$f":"'PENNANT TEAMS'!$B$4","v":"2019-02-02"},null,null,null,"2009-04-14",null,null,null,"2009-04-14",null,null,null,"2009-04-14",null,null,null,"2009-04-14"]
[]
[{"$f":"'PENNANT TEAMS'!$D$3","v":"CLUB NAME"},null,"BATEAU BAY",null,"BATEAU BAY",null,"BATEAU BAY",null,"BATEAU BAY",null,"CLUB PLAYS",null,null,null,{"$f":"'PENNANT TEAMS'!$D$25","v":0}]
["EVENT",null,null,null,null,{"$f":"'PENNANT TEAMS'!$A$3","v":"PENNANT TEAMS"}]
["GREEN",null,null,null,null,"RINK",null,null,null,"GRADE",null,null,null,null,"SECTION",null,null,null,null,"ROUND"]
[null,null,null,null,null,null,null,null,null,{"$f":"'PENNANT TEAMS'!$A$26","v":0},null,null,null,null,{"$f":"'PENNANT TEAMS'!$D$32","v":0},null,null,null,null,{"$f":"'PENNANT TEAMS'!$B$5","v":1}]
[null,null,null,null,null,null,null,null,null,null,"TEAMS"]
[{"$f":"'PENNANT TEAMS'!$B$28","v":0},null,null,null,null,null,null,null,null,null,null,"L"]
[{"$f":"'PENNANT TEAMS'!$C$28","v":0},null,null,null,null,null,null,null,null,null,null,"S"]
[{"$f":"'PENNANT TEAMS'!$D$28","v":0},null,null,null,null,null,null,null,null,null,null,"T"]
[{"$f":"'PENNANT TEAMS'!$E$28","v":0},null,null,null,null,null,null,null,null,null,null,"Sk"]
[]
["SCORE",null,null,null,null,null,null,null,null,null,null,null,"SCORE"]
["SIGN",null,null,null,null,null,null,null,null,null,null,null,"SIGN"]
["FINISH TIME"]
["DATE",null,null,null,{"$f":"'PENNANT TEAMS'!$B$4","v":"2019-02-02"},null,null,null,"2009-04-14",null,null,null,"2009-04-14",null,null,null,"2009-04-14",null,null,null,"2009-04-14"]
[]
[{"$f":"'PENNANT TEAMS'!$D$3","v":"CLUB NAME"},null,"BATEAU BAY",null,"BATEAU BAY",null,"BATEAU BAY",null,"BATEAU BAY",null,"CLUB PLAYS",null,null,null,{"$f":"'PENNANT TEAMS'!$D$25","v":0}]
["EVENT",null,null,null,null,{"$f":"'PENNANT TEAMS'!$A$3","v":"PENNANT TEAMS"}]
["GREEN",null,null,null,null,"RINK",null,null,null,"GRADE",null,null,null,null,"SECTION",null,null,null,null,"ROUND"]
[null,null,null,null,null,null,null,null,null,{"$f":"'PENNANT TEAMS'!$A$26","v":0},null,null,null,null,{"$f":"'PENNANT TEAMS'!$D$32","v":0},null,null,null,null,{"$f":"'PENNANT TEAMS'!$B$5","v":1}]
[null,null,null,null,null,null,null,null,null,null,"TEAMS"]
[{"$f":"'PENNANT TEAMS'!$B$30","v":0},null,null,null,null,null,null,null,null,null,null,"L"]
[{"$f":"'PENNANT TEAMS'!$C$30","v":0},null,null,null,null,null,null,null,null,null,null,"S"]
[{"$f":"'PENNANT TEAMS'!$D$30","v":0},null,null,null,null,null,null,null,null,null,null,"T"]
[{"$f":"'PENNANT TEAMS'!$E$30","v":0},null,null,null,null,null,null,null,null,null,null,"Sk"]
[]
["SCORE",null,null,null,null,null,null,null,null,null,null,null,"SCORE"]
["SIGN",null,null,null,null,null,null,null,null,null,null,null,"SIGN"]
["FINISH TIME"]
["DATE",null,null,null,{"$f":"'PENNANT TEAMS'!$B$4","v":"2019-02-02"},null,null,null,"2009-04-14",null,null,null,"2009-04-14",null,null,null,"2009-04-14",null,null,null,"2009-04-14"]
[]
[{"$f":"'PENNANT TEAMS'!$D$3","v":"CLUB NAME"},null,"BATEAU BAY",null,"BATEAU BAY",null,"BATEAU BAY",null,"BATEAU BAY",null,"CLUB PLAYS",null,null,null,{"$f":"'PENNANT TEAMS'!$D$34","v":0}]
["EVENT",null,null,null,null,{"$f":"'PENNANT TEAMS'!$A$3","v":"PENNANT TEAMS"}]
["GREEN",null,null,null,null,"RINK",null,null,null,"GRADE",null,null,null,null,"SECTION",null,null,null,null,"ROUND"]
[null,null,null,null,null,null,null,null,null,{"$f":"'PENNANT TEAMS'!$A$35","v":0},null,null,null,null,{"$f":"'PENNANT TEAMS'!$D$41","v":0},null,null,null,null,{"$f":"'PENNANT TEAMS'!$B$5","v":1}]
[null,null,null,null,null,null,null,null,null,null,"TEAMS"]
[{"$f":"'PENNANT TEAMS'!$B$35","v":0},null,null,null,null,null,null,null,null,null,null,"L"]
[{"$f":"'PENNANT TEAMS'!$C$35","v":0},null,null,null,null,null,null,null,null,null,null,"S"]
[{"$f":"'PENNANT TEAMS'!$D$35","v":0},null,null,null,null,null,null,null,null,null,null,"T"]
[{"$f":"'PENNANT TEAMS'!$E$35","v":0},null,null,null,null,null,null,null,null,null,null,"Sk"]
[]
["SCORE",null,null,null,null,null,null,null,null,null,null,null,"SCORE"]
["SIGN",null,null,null,null,null,null,null,null,null,null,null,"SIGN"]
["FINISH TIME"]
["DATE",null,null,null,{"$f":"'PENNANT TEAMS'!$B$4","v":"2019-02-02"},null,null,null,"2009-04-14",null,null,null,"2009-04-14",null,null,null,"2009-04-14",null,null,null,"2009-04-14"]
[]
[{"$f":"'PENNANT TEAMS'!$D$3","v":"CLUB NAME"},null,"BATEAU BAY",null,"BATEAU BAY",null,"BATEAU BAY",null,"BATEAU BAY",null,"CLUB PLAYS",null,null,null,{"$f":"'PENNANT TEAMS'!$D$34","v":0}]
["EVENT",null,null,null,null,{"$f":"'PENNANT TEAMS'!$A$3","v":"PENNANT TEAMS"}]
["GREEN",null,null,null,null,"RINK",null,null,null,"GRADE",null,null,null,null,"SECTION",null,null,null,null,"ROUND"]
[null,null,null,null,null,null,null,null,null,{"$f":"'PENNANT TEAMS'!$A$35","v":0},null,null,null,null,{"$f":"'PENNANT TEAMS'!$D$41","v":0},null,null,null,null,{"$f":"'PENNANT TEAMS'!$B$5","v":1}]
[null,null,null,null,null,null,null,null,null,null,"TEAMS"]
[{"$f":"'PENNANT TEAMS'!$B$37","v":0},null,null,null,null,null,null,null,null,null,null,"L"]
[{"$f":"'PENNANT TEAMS'!$C$37","v":0},null,null,null,null,null,null,null,null,null,null,"S"]
[{"$f":"'PENNANT TEAMS'!$D$37","v":0},null,null,null,null,null,null,null,null,null,null,"T"]
[{"$f":"'PENNANT TEAMS'!$E$37","v":0},null,null,null,null,null,null,null,null,null,null,"Sk"]
[]
["SCORE",null,null,null,null,null,null,null,null,null,null,null,"SCORE"]
["SIGN",null,null,null,null,null,null,null,null,null,null,null,"SIGN"]
["FINISH TIME"]
["DATE",null,null,null,{"$f":"'PENNANT TEAMS'!$B$4","v":"2019-02-02"},null,null,null,"2009-04-14",null,null,null,"2009-04-14",null,null,null,"2009-04-14",null,null,null,"2009-04-14"]
[]
[{"$f":"'PENNANT TEAMS'!$D$3","v":"CLUB NAME"},null,"BATEAU BAY",null,"BATEAU BAY",null,"BATEAU BAY",null,"BATEAU BAY",null,"CLUB PLAYS",null,null,null,{"$f":"'PENNANT TEAMS'!$D$34","v":0}]
["EVENT",null,null,null,null,{"$f":"'PENNANT TEAMS'!$A$3","v":"PENNANT TEAMS"}]
["GREEN",null,null,null,null,"RINK",null,null,null,"GRADE",null,null,null,null,"SECTION",null,null,null,null,"ROUND"]
[null,null,null,null,null,null,null,null,null,{"$f":"'PENNANT TEAMS'!$A$35","v":0},null,null,null,null,{"$f":"'PENNANT TEAMS'!$D$41","v":0},null,null,null,null,{"$f":"'PENNANT TEAMS'!$B$5","v":1}]
[null,null,null,null,null,null,null,null,null,null,"TEAMS"]
[{"$f":"'PENNANT TEAMS'!$B$39","v":0},null,null,null,null,null,null,null,null,null,null,"L"]
[{"$f":"'PENNANT TEAMS'!$C$39","v":0},null,null,null,null,null,null,null,null,null,null,"S"]
[{"$f":"'PENNANT TEAMS'!$D$39","v":0},null,null,null,null,null,null,null,null,null,null,"T"]
[{"$f":"'PENNANT TEAMS'!$E$39","v":0},null,null,null,null,null,null,null,null,null,null,"Sk"]
[]
["SCORE",null,null,null,null,null,null,null,null,null,null,null,"SCORE"]
["SIGN",null,null,null,null,null,null,null,null,null,null,null,"SIGN"]
["FINISH TIME"]
["DATE",null,null,null,{"$f":"'PENNANT TEAMS'!$B$4","v":"2019-02-02"},null,null,null,"2009-04-14",null,null,null,"2009-04-14",null,null,null,"2009-04-14",null,null,null,"2009-04-14"]
[]
[{"$f":"'PENNANT TEAMS'!$D$3","v":"CLUB NAME"},null,"BATEAU BAY",null,"BATEAU BAY",null,"BATEAU BAY",null,"BATEAU BAY",null,"CLUB PLAYS",null,null,null,{"$f":"'PENNANT TEAMS'!$D$43","v":0}]
["EVENT",null,null,null,null,{"$f":"'PENNANT TEAMS'!$A$3","v":"PENNANT TEAMS"}]
["GREEN",null,null,null,null,"RINK",null,null,null,"GRADE",null,null,null,null,"SECTION",null,null,null,null,"ROUND"]
[null,null,null,null,null,null,null,null,null,{"$f":"'PENNANT TEAMS'!$A$44","v":0},null,null,null,null,{"$f":"'PENNANT TEAMS'!$D$50","v":0},null,null,null,null,{"$f":"'PENNANT TEAMS'!$B$5","v":1}]
[null,null,null,null,null,null,null,null,null,null,"TEAMS"]
[{"$f":"'PENNANT TEAMS'!$B$44","v":0},null,null,null,null,null,null,null,null,null,null,"L"]
[{"$f":"'PENNANT TEAMS'!$C$44","v":0},null,null,null,null,null,null,null,null,null,null,"S"]
[{"$f":"'PENNANT TEAMS'!$D$44","v":0},null,null,null,null,null,null,null,null,null,null,"T"]
[{"$f":"'PENNANT TEAMS'!$E$44","v":0},null,null,null,null,null,null,null,null,null,null,"Sk"]
[]
["SCORE",null,null,null,null,null,null,null,null,null,null,null,"SCORE"]
["SIGN",null,null,null,null,null,null,null,null,null,null,null,"SIGN"]
["FINISH TIME"]
["DATE",null,null,null,{"$f":"'PENNANT TEAMS'!$B$4","v":"2019-02-02"},null,null,null,"2009-04-14",null,null,null,"2009-04-14",null,null,null,"2009-04-14",null,null,null,"2009-04-14"]
[]
[{"$f":"'PENNANT TEAMS'!$D$3","v":"CLUB NAME"},null,"BATEAU BAY",null,"BATEAU BAY",null,"BATEAU BAY",null,"BATEAU BAY",null,"CLUB PLAYS",null,null,null,{"$f":"'PENNANT TEAMS'!$D$43","v":0}]
["EVENT",null,null,null,null,{"$f":"'PENNANT TEAMS'!$A$3","v":"PENNANT TEAMS"}]
["GREEN",null,null,null,null,"RINK",null,null,null,"GRADE",null,null,null,null,"SECTION",null,null,null,null,"ROUND"]
[null,null,null,null,null,null,null,null,null,{"$f":"'PENNANT TEAMS'!$A$44","v":0},null,null,null,null,{"$f":"'PENNANT TEAMS'!$D$50","v":0},null,null,null,null,{"$f":"'PENNANT TEAMS'!$B$5","v":1}]
[null,null,null,null,null,null,null,null,null,null,"TEAMS"]
[{"$f":"'PENNANT TEAMS'!$B$46","v":0},null,null,null,null,null,null,null,null,null,null,"L"]
[{"$f":"'PENNANT TEAMS'!$C$46","v":0},null,null,null,null,null,null,null,null,null,null,"S"]
[{"$f":"'PENNANT TEAMS'!$D$46","v":0},null,null,null,null,null,null,null,null,null,null,"T"]
[{"$f":"'PENNANT TEAMS'!$E$46","v":0},null,null,null,null,null,null,null,null,null,null,"Sk"]
[]
["SCORE",null,null,null,null,null,null,null,null,null,null,null,"SCORE"]
["SIGN",null,null,null,null,null,null,null,null,null,null,null,"SIGN"]
["FINISH TIME"]
["DATE",null,null,null,{"$f":"'PENNANT TEAMS'!$B$4","v":"2019-02-02"},null,null,null,"2009-04-14",null,null,null,"2009-04-14",null,null,null,"2009-04-14",null,null,null,"2009-04-14"]
[]
[{"$f":"'PENNANT TEAMS'!$D$3","v":"CLUB NAME"},null,"BATEAU BAY",null,"BATEAU BAY",null,"BATEAU BAY",null,"BATEAU BAY",null,"CLUB PLAYS",null,null,null,{"$f":"'PENNANT TEAMS'!$D$43","v":0}]
["EVENT",null,null,null,null,{"$f":"'PENNANT TEAMS'!$A$3","v":"PENNANT TEAMS"}]
["GREEN",null,null,null,null,"RINK",null,null,null,"GRADE",null,null,null,null,"SECTION",null,null,null,null,"ROUND"]
[null,null,null,null,null,null,null,null,null,{"$f":"'PENNANT TEAMS'!$A$44","v":0},null,null,null,null,{"$f":"'PENNANT TEAMS'!$D$50","v":0},null,null,null,null,{"$f":"'PENNANT TEAMS'!$B$5","v":1}]
[null,null,null,null,null,null,null,null,null,null,"TEAMS"]
[{"$f":"'PENNANT TEAMS'!$B$48","v":0},null,null,null,null,null,null,null,null,null,null,"L"]
[{"$f":"'PENNANT TEAMS'!$C$48","v":0},null,null,null,null,null,null,null,null,null,null,"S"]
[{"$f":"'PENNANT TEAMS'!$D$48","v":0},null,null,null,null,null,null,null,null,null,null,"T"]
[{"$f":"'PENNANT TEAMS'!$E$48","v":0},null,null,null,null,null,null,null,null,null,null,"Sk"]
[]
["SCORE",null,null,null,null,null,null,null,null,null,null,null,"SCORE"]
["SIGN",null,null,null,null,null,null,null,null,null,null,null,"SIGN"]
["FINISH TIME"]
["DATE",null,null,null,{"$f":"'PENNANT TEAMS'!$B$4","v":"2019-02-02"},null,null,null,"2009-04-14",null,null,null,"2009-04-14",null,null,null,"2009-04-14",null,null,null,"2009-04-14"]
[]
[{"$f":"'PENNANT TEAMS'!$D$3","v":"CLUB NAME"},null,"BATEAU BAY",null,"BATEAU BAY",null,"BATEAU BAY",null,"BATEAU BAY",null,"CLUB PLAYS",null,null,null,{"$f":"'PENNANT TEAMS'!$D$52","v":0}]
["EVENT",null,null,null,null,{"$f":"'PENNANT TEAMS'!$A$3","v":"PENNANT TEAMS"}]
["GREEN",null,null,null,null,"RINK",null,null,null,"GRADE",null,null,null,null,"SECTION",null,null,null,null,"ROUND"]
[null,null,null,null,null,null,null,null,null,{"$f":"'PENNANT TEAMS'!$A$53","v":0},null,null,null,null,{"$f":"'PENNANT TEAMS'!$D$59","v":0},null,null,null,null,{"$f":"'PENNANT TEAMS'!$B$5","v":1}]
[null,null,null,null,null,null,null,null,null,null,"TEAMS"]
[{"$f":"'PENNANT TEAMS'!$B$53","v":0},null,null,null,null,null,null,null,null,null,null,"L"]
[{"$f":"'PENNANT TEAMS'!$C$53","v":0},null,null,null,null,null,null,null,null,null,null,"S"]
[{"$f":"'PENNANT TEAMS'!$D$53","v":0},null,null,null,null,null,null,null,null,null,null,"T"]
[{"$f":"'PENNANT TEAMS'!$E$53","v":0},null,null,null,null,null,null,null,null,null,null,"Sk"]
[]
["SCORE",null,null,null,null,null,null,null,null,null,null,null,"SCORE"]
["SIGN",null,null,null,null,null,null,null,null,null,null,null,"SIGN"]
["FINISH TIME"]
["DATE",null,null,null,{"$f":"'PENNANT TEAMS'!$B$4","v":"2019-02-02"},null,null,null,"2009-04-14",null,null,null,"2009-04-14",null,null,null,"2009-04-14",null,null,null,"2009-04-14"]
[]
[{"$f":"'PENNANT TEAMS'!$D$3","v":"CLUB NAME"},null,"BATEAU BAY",null,"BATEAU BAY",null,"BATEAU BAY",null,"BATEAU BAY",null,"CLUB PLAYS",null,null,null,{"$f":"'PENNANT TEAMS'!$D$52","v":0}]
["EVENT",null,null,null,null,{"$f":"'PENNANT TEAMS'!$A$3","v":"PENNANT TEAMS"}]
["GREEN",null,null,null,null,"RINK",null,null,null,"GRADE",null,null,null,null,"SECTION",null,null,null,null,"ROUND"]
[null,null,null,null,null,null,null,null,null,{"$f":"'PENNANT TEAMS'!$A$53","v":0},null,null,null,null,{"$f":"'PENNANT TEAMS'!$D$59","v":0},null,null,null,null,{"$f":"'PENNANT TEAMS'!$B$5","v":1}]
[null,null,null,null,null,null,null,null,null,null,"TEAMS"]
[{"$f":"'PENNANT TEAMS'!$B$55","v":0},null,null,null,null,null,null,null,null,null,null,"L"]
[{"$f":"'PENNANT TEAMS'!$C$55","v":0},null,null,null,null,null,null,null,null,null,null,"S"]
[{"$f":"'PENNANT TEAMS'!$D$55","v":0},null,null,null,null,null,null,null,null,null,null,"T"]
[{"$f":"'PENNANT TEAMS'!$E$55","v":0},null,null,null,null,null,null,null,null,null,null,"Sk"]
[]
["SCORE",null,null,null,null,null,null,null,null,null,null,null,"SCORE"]
["SIGN",null,null,null,null,null,null,null,null,null,null,null,"SIGN"]
["FINISH TIME"]
["DATE",null,null,null,{"$f":"'PENNANT TEAMS'!$B$4","v":"2019-02-02"},null,null,null,"2009-04-14",null,null,null,"2009-04-14",null,null,null,"2009-04-14",null,null,null,"2009-04-14"]
[]
[{"$f":"'PENNANT TEAMS'!$D$3","v":"CLUB NAME"},null,"BATEAU BAY",null,"BATEAU BAY",null,"BATEAU BAY",null,"BATEAU BAY",null,"CLUB PLAYS",null,null,null,{"$f":"'PENNANT TEAMS'!$D$52","v":0}]
["EVENT",null,null,null,null,{"$f":"'PENNANT TEAMS'!$A$3","v":"PENNANT TEAMS"}]
["GREEN",null,null,null,null,"RINK",null,null,null,"GRADE",null,null,null,null,"SECTION",null,null,null,null,"ROUND"]
[null,null,null,null,null,null,null,null,null,{"$f":"'PENNANT TEAMS'!$A$53","v":0},null,null,null,null,{"$f":"'PENNANT TEAMS'!$D$59","v":0},null,null,null,null,{"$f":"'PENNANT TEAMS'!$B$5","v":1}]
[null,null,null,null,null,null,null,null,null,null,"TEAMS"]
[{"$f":"'PENNANT TEAMS'!$B$57","v":0},null,null,null,null,null,null,null,null,null,null,"L"]
[{"$f":"'PENNANT TEAMS'!$C$57","v":0},null,null,null,null,null,null,null,null,null,null,"S"]
[{"$f":"'PENNANT TEAMS'!$D$57","v":0},null,null,null,null,null,null,null,null,null,null,"T"]
[{"$f":"'PENNANT TEAMS'!$E$57","v":0},null,null,null,null,null,null,null,null,null,null,"Sk"]
[]
["SCORE",null,null,null,null,null,null,null,null,null,null,null,"SCORE"]
["SIGN",null,null,null,null,null,null,null,null,null,null,null,"SIGN"]
["FINISH TIME"]
["DATE",null,null,null,{"$f":"'PENNANT TEAMS'!$B$4","v":"2019-02-02"},null,null,null,"2009-04-14",null,null,null,"2009-04-14",null,null,null,"2009-04-14",null,null,null,"2009-04-14"]
[]
[{"$f":"'PENNANT TEAMS'!$D$3","v":"CLUB NAME"},null,"BATEAU BAY",null,"BATEAU BAY",null,"BATEAU BAY",null,"BATEAU BAY",null,"CLUB PLAYS",null,null,null,{"$f":"'PENNANT TEAMS'!$D$61","v":0}]
["EVENT",null,null,null,null,{"$f":"'PENNANT TEAMS'!$A$3","v":"PENNANT TEAMS"}]
["GREEN",null,null,null,null,"RINK",null,null,null,"GRADE",null,null,null,null,"SECTION",null,null,null,null,"ROUND"]
[null,null,null,null,null,null,null,null,null,{"$f":"'PENNANT TEAMS'!$A$62","v":0},null,null,null,null,{"$f":"'PENNANT TEAMS'!$D$68","v":0},null,null,null,null,{"$f":"'PENNANT TEAMS'!$B$5","v":1}]
[null,null,null,null,null,null,null,null,null,null,"TEAMS"]
[{"$f":"'PENNANT TEAMS'!$B$62","v":0},null,null,null,null,null,null,null,null,null,null,"L"]
[{"$f":"'PENNANT TEAMS'!$C$62","v":0},null,null,null,null,null,null,null,null,null,null,"S"]
[{"$f":"'PENNANT TEAMS'!$D$62","v":0},null,null,null,null,null,null,null,null,null,null,"T"]
[{"$f":"'PENNANT TEAMS'!$E$62","v":0},null,null,null,null,null,null,null,null,null,null,"Sk"]
[]
["SCORE",null,null,null,null,null,null,null,null,null,null,null,"SCORE"]
["SIGN",null,null,null,null,null,null,null,null,null,null,null,"SIGN"]
["FINISH TIME"]
["DATE",null,null,null,{"$f":"'PENNANT TEAMS'!$B$4","v":"2019-02-02"},null,null,null,"2009-04-14",null,null,null,"2009-04-14",null,null,null,"2009-04-14",null,null,null,"2009-04-14"]
[]
[{"$f":"'PENNANT TEAMS'!$D$3","v":"CLUB NAME"},null,"BATEAU BAY",null,"BATEAU BAY",null,"BATEAU BAY",null,"BATEAU BAY",null,"CLUB PLAYS",null,null,null,{"$f":"'PENNANT TEAMS'!$D$61","v":0}]
["EVENT",null,null,null,null,{"$f":"'PENNANT TEAMS'!$A$3","v":"PENNANT TEAMS"}]
["GREEN",null,null,null,null,"RINK",null,null,null,"GRADE",null,null,null,null,"SECTION",null,null,null,null,"ROUND"]
[null,null,null,null,null,null,null,null,null,{"$f":"'PENNANT TEAMS'!$A$62","v":0},null,null,null,null,{"$f":"'PENNANT TEAMS'!$D$68","v":0},null,null,null,null,{"$f":"'PENNANT TEAMS'!$B$5","v":1}]
[null,null,null,null,null,null,null,null,null,null,"TEAMS"]
[{"$f":"'PENNANT TEAMS'!$B$64","v":0},null,null,null,null,null,null,null,null,null,null,"L"]
[{"$f":"'PENNANT TEAMS'!$C$64","v":0},null,null,null,null,null,null,null,null,null,null,"S"]
[{"$f":"'PENNANT TEAMS'!$D$64","v":0},null,null,null,null,null,null,null,null,null,null,"T"]
[{"$f":"'PENNANT TEAMS'!$E$64","v":0},null,null,null,null,null,null,null,null,null,null,"Sk"]
[]
["SCORE",null,null,null,null,null,null,null,null,null,null,null,"SCORE"]
["SIGN",null,null,null,null,null,null,null,null,null,null,null,"SIGN"]
["FINISH TIME"]
["DATE",null,null,null,{"$f":"'PENNANT TEAMS'!$B$4","v":"2019-02-02"},null,null,null,"2009-04-14",null,null,null,"2009-04-14",null,null,null,"2009-04-14",null,null,null,"2009-04-14"]
[]
[{"$f":"'PENNANT TEAMS'!$D$3","v":"CLUB NAME"},null,"BATEAU BAY",null,"BATEAU BAY",null,"BATEAU BAY",null,"BATEAU BAY",null,"CLUB PLAYS",null,null,null,{"$f":"'PENNANT TEAMS'!$D$61","v":0}]
["EVENT",null,null,null,null,{"$f":"'PENNANT TEAMS'!$A$3","v":"PENNANT TEAMS"}]
["GREEN",null,null,null,null,"RINK",null,null,null,"GRADE",null,null,null,null,"SECTION",null,null,null,null,"ROUND"]
[null,null,null,null,null,null,null,null,null,{"$f":"'PENNANT TEAMS'!$A$62","v":0},null,null,null,null,{"$f":"'PENNANT TEAMS'!$D$68","v":0},null,null,null,null,{"$f":"'PENNANT TEAMS'!$B$5","v":1}]
[null,null,null,null,null,null,null,null,null,null,"TEAMS"]
[{"$f":"'PENNANT TEAMS'!$B$66","v":0},null,null,null,null,null,null,null,null,null,null,"L"]
[{"$f":"'PENNANT TEAMS'!$C$66","v":0},null,null,null,null,null,null,null,null,null,null,"S"]
[{"$f":"'PENNANT TEAMS'!$D$66","v":0},null,null,null,null,null,null,null,null,null,null,"T"]
[{"$f":"'PENNANT TEAMS'!$E$66","v":0},null,null,null,null,null,null,null,null,null,null,"Sk"]
[]
["SCORE",null,null,null,null,null,null,null,null,null,null,null,"SCORE"]
["SIGN",null,null,null,null,null,null,null,null,null,null,null,"SIGN"]
["FINISH TIME"]
["DATE",null,null,null,{"$f":"'PENNANT TEAMS'!$B$4","v":"2019-02-02"},null,null,null,"2009-04-14",null,null,null,"2009-04-14",null,null,null,"2009-04-14",null,null,null,"2009-04-14"]
[]
[{"$f":"'PENNANT TEAMS'!$D$3","v":"CLUB NAME"},null,"BATEAU BAY",null,"BATEAU BAY",null,"BATEAU BAY",null,"BATEAU BAY",null,"CLUB PLAYS",null,null,null,{"$f":"'PENNANT TEAMS'!$D$70","v":0}]
["EVENT",null,null,null,null,{"$f":"'PENNANT TEAMS'!$A$3","v":"PENNANT TEAMS"}]
["GREEN",null,null,null,null,"RINK",null,null,null,"GRADE",null,null,null,null,"SECTION",null,null,null,null,"ROUND"]
[null,null,null,null,null,null,null,null,null,{"$f":"'PENNANT TEAMS'!$A$71","v":0},null,null,null,null,{"$f":"'PENNANT TEAMS'!$D$77","v":0},null,null,null,null,{"$f":"'PENNANT TEAMS'!$B$5","v":1}]
[null,null,null,null,null,null,null,null,null,null,"TEAMS"]
[{"$f":"'PENNANT TEAMS'!$B$71","v":0},null,null,null,null,null,null,null,null,null,null,"L"]
[{"$f":"'PENNANT TEAMS'!$C$71","v":0},null,null,null,null,null,null,null,null,null,null,"S"]
[{"$f":"'PENNANT TEAMS'!$D$71","v":0},null,null,null,null,null,null,null,null,null,null,"T"]
[{"$f":"'PENNANT TEAMS'!$E$71","v":0},null,null,null,null,null,null,null,null,null,null,"Sk"]
[]
["SCORE",null,null,null,null,null,null,null,null,null,null,null,"SCORE"]
["SIGN",null,null,null,null,null,null,null,null,null,null,null,"SIGN"]
["FINISH TIME"]
["DATE",null,null,null,{"$f":"'PENNANT TEAMS'!$B$4","v":"2019-02-02"},null,null,null,"2009-04-14",null,null,null,"2009-04-14",null,null,null,"2009-04-14",null,null,null,"2009-04-14"]
[]
[{"$f":"'PENNANT TEAMS'!$D$3","v":"CLUB NAME"},null,"BATEAU BAY",null,"BATEAU BAY",null,"BATEAU BAY",null,"BATEAU BAY",null,"CLUB PLAYS",null,null,null,{"$f":"'PENNANT TEAMS'!$D$70","v":0}]
["EVENT",null,null,null,null,{"$f":"'PENNANT TEAMS'!$A$3","v":"PENNANT TEAMS"}]
["GREEN",null,null,null,null,"RINK",null,null,null,"GRADE",null,null,null,null,"SECTION",null,null,null,null,"ROUND"]
[null,null,null,null,null,null,null,null,null,{"$f":"'PENNANT TEAMS'!$A$71","v":0},null,null,null,null,{"$f":"'PENNANT TEAMS'!$D$77","v":0},null,null,null,null,{"$f":"'PENNANT TEAMS'!$B$5","v":1}]
[null,null,null,null,null,null,null,null,null,null,"TEAMS"]
[{"$f":"'PENNANT TEAMS'!$B$73","v":0},null,null,null,null,null,null,null,null,null,null,"L"]
[{"$f":"'PENNANT TEAMS'!$C$73","v":0},null,null,null,null,null,null,null,null,null,null,"S"]
[{"$f":"'PENNANT TEAMS'!$D$73","v":0},null,null,null,null,null,null,null,null,null,null,"T"]
[{"$f":"'PENNANT TEAMS'!$E$73","v":0},null,null,null,null,null,null,null,null,null,null,"Sk"]
[]
["SCORE",null,null,null,null,null,null,null,null,null,null,null,"SCORE"]
["SIGN",null,null,null,null,null,null,null,null,null,null,null,"SIGN"]
["FINISH TIME"]
["DATE",null,null,null,{"$f":"'PENNANT TEAMS'!$B$4","v":"2019-02-02"},null,null,null,"2009-04-14",null,null,null,"2009-04-14",null,null,null,"2009-04-14",null,null,null,"2009-04-14"]
[]
[{"$f":"'PENNANT TEAMS'!$D$3","v":"CLUB NAME"},null,"BATEAU BAY",null,"BATEAU BAY",null,"BATEAU BAY",null,"BATEAU BAY",null,"CLUB PLAYS",null,null,null,{"$f":"'PENNANT TEAMS'!$D$70","v":0}]
["EVENT",null,null,null,null,{"$f":"'PENNANT TEAMS'!$A$3","v":"PENNANT TEAMS"}]
["GREEN",null,null,null,null,"RINK",null,null,null,"GRADE",null,null,null,null,"SECTION",null,null,null,null,"ROUND"]
[null,null,null,null,null,null,null,null,null,{"$f":"'PENNANT TEAMS'!$A$71","v":0},null,null,null,null,{"$f":"'PENNANT TEAMS'!$D$77","v":0},null,null,null,null,{"$f":"'PENNANT TEAMS'!$B$5","v":1}]
[null,null,null,null,null,null,null,null,null,null,"TEAMS"]
[{"$f":"'PENNANT TEAMS'!$B$75","v":0},null,null,null,null,null,null,null,null,null,null,"L"]
[{"$f":"'PENNANT TEAMS'!$C$75","v":0},null,null,null,null,null,null,null,null,null,null,"S"]
[{"$f":"'PENNANT TEAMS'!$D$75","v":0},null,null,null,null,null,null,null,null,null,null,"T"]
[{"$f":"'PENNANT TEAMS'!$E$75","v":0},null,null,null,null,null,null,null,null,null,null,"Sk"]
[]
["SCORE",null,null,null,null,null,null,null,null,null,null,null,"SCORE"]
["SIGN",null,null,null,null,null,null,null,null,null,null,null,"SIGN"]
["FINISH TIME"]
["DATE",null,null,null,{"$f":"'PENNANT TEAMS'!$B$4","v":"2019-02-02"},null,null,null,"2009-04-14",null,null,null,"2009-04-14",null,null,null,"2009-04-14",null,null,null,"2009-04-14"]
[]
[{"$f":"'PENNANT TEAMS'!$D$3","v":"CLUB NAME"},null,"BATEAU BAY",null,"BATEAU BAY",null,"BATEAU BAY",null,"BATEAU BAY",null,"CLUB PLAYS",null,null,null,{"$f":"'PENNANT TEAMS'!$D$79","v":0}]
["EVENT",null,null,null,null,{"$f":"'PENNANT TEAMS'!$A$3","v":"PENNANT TEAMS"}]
["GREEN",null,null,null,null,"RINK",null,null,null,"GRADE",null,null,null,null,"SECTION",null,null,null,null,"ROUND"]
[null,null,null,null,null,null,null,null,null,{"$f":"'PENNANT TEAMS'!$A$80","v":0},null,null,null,null,{"$f":"'PENNANT TEAMS'!$D$86","v":0},null,null,null,null,{"$f":"'PENNANT TEAMS'!$B$5","v":1}]
[null,null,null,null,null,null,null,null,null,null,"TEAMS"]
[{"$f":"'PENNANT TEAMS'!$B$80","v":0},null,null,null,null,null,null,null,null,null,null,"L"]
[{"$f":"'PENNANT TEAMS'!$C$80","v":0},null,null,null,null,null,null,null,null,null,null,"S"]
[{"$f":"'PENNANT TEAMS'!$D$80","v":0},null,null,null,null,null,null,null,null,null,null,"T"]
[{"$f":"'PENNANT TEAMS'!$E$80","v":0},null,null,null,null,null,null,null,null,null,null,"Sk"]
[]
["SCORE",null,null,null,null,null,null,null,null,null,null,null,"SCORE"]
["SIGN",null,null,null,null,null,null,null,null,null,null,null,"SIGN"]
["FINISH TIME"]
["DATE",null,null,null,{"$f":"'PENNANT TEAMS'!$B$4","v":"2019-02-02"},null,null,null,"2009-04-14",null,null,null,"2009-04-14",null,null,null,"2009-04-14",null,null,null,"2009-04-14"]
[]
[{"$f":"'PENNANT TEAMS'!$D$3","v":"CLUB NAME"},null,"BATEAU BAY",null,"BATEAU BAY",null,"BATEAU BAY",null,"BATEAU BAY",null,"CLUB PLAYS",null,null,null,{"$f":"'PENNANT TEAMS'!$D$79","v":0}]
["EVENT",null,null,null,null,{"$f":"'PENNANT TEAMS'!$A$3","v":"PENNANT TEAMS"}]
["GREEN",null,null,null,null,"RINK",null,null,null,"GRADE",null,null,null,null,"SECTION",null,null,null,null,"ROUND"]
[null,null,null,null,null,null,null,null,null,{"$f":"'PENNANT TEAMS'!$A$80","v":0},null,null,null,null,{"$f":"'PENNANT TEAMS'!$D$86","v":0},null,null,null,null,{"$f":"'PENNANT TEAMS'!$B$5","v":1}]
[null,null,null,null,null,null,null,null,null,null,"TEAMS"]
[{"$f":"'PENNANT TEAMS'!$B$82","v":0},null,null,null,null,null,null,null,null,null,null,"L"]
[{"$f":"'PENNANT TEAMS'!$C$82","v":0},null,null,null,null,null,null,null,null,null,null,"S"]
[{"$f":"'PENNANT TEAMS'!$D$82","v":0},null,null,null,null,null,null,null,null,null,null,"T"]
[{"$f":"'PENNANT TEAMS'!$E$82","v":0},null,null,null,null,null,null,null,null,null,null,"Sk"]
[]
["SCORE",null,null,null,null,null,null,null,null,null,null,null,"SCORE"]
["SIGN",null,null,null,null,null,null,null,null,null,null,null,"SIGN"]
["FINISH TIME"]
["DATE",null,null,null,{"$f":"'PENNANT TEAMS'!$B$4","v":"2019-02-02"},null,null,null,"2009-04-14",null,null,null,"2009-04-14",null,null,null,"2009-04-14",null,null,null,"2009-04-14"]
[]
[{"$f":"'PENNANT TEAMS'!$D$3","v":"CLUB NAME"},null,"BATEAU BAY",null,"BATEAU BAY",null,"BATEAU BAY",null,"BATEAU BAY",null,"CLUB PLAYS",null,null,null,{"$f":"'PENNANT TEAMS'!$D$79","v":0}]
["EVENT",null,null,null,null,{"$f":"'PENNANT TEAMS'!$A$3","v":"PENNANT TEAMS"}]
["GREEN",null,null,null,null,"RINK",null,null,null,"GRADE",null,null,null,null,"SECTION",null,null,null,null,"ROUND"]
[null,null,null,null,null,null,null,null,null,{"$f":"'PENNANT TEAMS'!$A$80","v":0},null,null,null,null,{"$f":"'PENNANT TEAMS'!$D$86","v":0},null,null,null,null,{"$f":"'PENNANT TEAMS'!$B$5","v":1}]
[null,null,null,null,null,null,null,null,null,null,"TEAMS"]
[{"$f":"'PENNANT TEAMS'!$B$84","v":0},null,null,null,null,null,null,null,null,null,null,"L"]
[{"$f":"'PENNANT TEAMS'!$C$84","v":0},null,null,null,null,null,null,null,null,null,null,"S"]
[{"$f":"'PENNANT TEAMS'!$D$84","v":0},null,null,null,null,null,null,null,null,null,null,"T"]
[{"$f":"'PENNANT TEAMS'!$E$84","v":0},null,null,null,null,null,null,null,null,null,null,"Sk"]
[]
["SCORE",null,null,null,null,null,null,null,null,null,null,null,"SCORE"]
["SIGN",null,null,null,null,null,null,null,null,null,null,null,"SIGN"]
["FINISH TIME"]
["DATE",null,null,null,{"$f":"'PENNANT TEAMS'!$B$4","v":"2019-02-02"},null,null,null,"2009-04-14",null,null,null,"2009-04-14",null,null,null,"2009-04-14",null,null,null,"2009-04-14"]
[]
[{"$f":"'PENNANT TEAMS'!$D$3","v":"CLUB NAME"},null,"BATEAU BAY",null,"BATEAU BAY",null,"BATEAU BAY",null,"BATEAU BAY",null,"CLUB PLAYS",null,null,null,{"$f":"'PENNANT TEAMS'!$D$88","v":0}]
["EVENT",null,null,null,null,{"$f":"'PENNANT TEAMS'!$A$3","v":"PENNANT TEAMS"}]
["GREEN",null,null,null,null,"RINK",null,null,null,"GRADE",null,null,null,null,"SECTION",null,null,null,null,"ROUND"]
[null,null,null,null,null,null,null,null,null,{"$f":"'PENNANT TEAMS'!$A$89","v":0},null,null,null,null,{"$f":"'PENNANT TEAMS'!$D$95","v":0},null,null,null,null,{"$f":"'PENNANT TEAMS'!$B$5","v":1}]
[null,null,null,null,null,null,null,null,null,null,"TEAMS"]
[{"$f":"'PENNANT TEAMS'!$B$89","v":0},null,null,null,null,null,null,null,null,null,null,"L"]
[{"$f":"'PENNANT TEAMS'!$C$89","v":0},null,null,null,null,null,null,null,null,null,null,"S"]
[{"$f":"'PENNANT TEAMS'!$D$89","v":0},null,null,null,null,null,null,null,null,null,null,"T"]
[{"$f":"'PENNANT TEAMS'!$E$89","v":0},null,null,null,null,null,null,null,null,null,null,"Sk"]
[]
["SCORE",null,null,null,null,null,null,null,null,null,null,null,"SCORE"]
["SIGN",null,null,null,null,null,null,null,null,null,null,null,"SIGN"]
["FINISH TIME"]
["DATE",null,null,null,{"$f":"'PENNANT TEAMS'!$B$4","v":"2019-02-02"},null,null,null,"2009-04-14",null,null,null,"2009-04-14",null,null,null,"2009-04-14",null,null,null,"2009-04-14"]
[]
[{"$f":"'PENNANT TEAMS'!$D$3","v":"CLUB NAME"},null,"BATEAU BAY",null,"BATEAU BAY",null,"BATEAU BAY",null,"BATEAU BAY",null,"CLUB PLAYS",null,null,null,{"$f":"'PENNANT TEAMS'!$D$88","v":0}]
["EVENT",null,null,null,null,{"$f":"'PENNANT TEAMS'!$A$3","v":"PENNANT TEAMS"}]
["GREEN",null,null,null,null,"RINK",null,null,null,"GRADE",null,null,null,null,"SECTION",null,null,null,null,"ROUND"]
[null,null,null,null,null,null,null,null,null,{"$f":"'PENNANT TEAMS'!$A$89","v":0},null,null,null,null,{"$f":"'PENNANT TEAMS'!$D$95","v":0},null,null,null,null,{"$f":"'PENNANT TEAMS'!$B$5","v":1}]
[null,null,null,null,null,null,null,null,null,null,"TEAMS"]
[{"$f":"'PENNANT TEAMS'!$B$91","v":0},null,null,null,null,null,null,null,null,null,null,"L"]
[{"$f":"'PENNANT TEAMS'!$C$91","v":0},null,null,null,null,null,null,null,null,null,null,"S"]
[{"$f":"'PENNANT TEAMS'!$D$91","v":0},null,null,null,null,null,null,null,null,null,null,"T"]
[{"$f":"'PENNANT TEAMS'!$E$91","v":0},null,null,null,null,null,null,null,null,null,null,"Sk"]
[]
["SCORE",null,null,null,null,null,null,null,null,null,null,null,"SCORE"]
["SIGN",null,null,null,null,null,null,null,null,null,null,null,"SIGN"]
["FINISH TIME"]
["DATE",null,null,null,{"$f":"'PENNANT TEAMS'!$B$4","v":"2019-02-02"},null,null,null,"2009-04-14",null,null,null,"2009-04-14",null,null,null,"2009-04-14",null,null,null,"2009-04-14"]
[]
[{"$f":"'PENNANT TEAMS'!$D$3","v":"CLUB NAME"},null,"BATEAU BAY",null,"BATEAU BAY",null,"BATEAU BAY",null,"BATEAU BAY",null,"CLUB PLAYS",null,null,null,{"$f":"'PENNANT TEAMS'!$D$88","v":0}]
["EVENT",null,null,null,null,{"$f":"'PENNANT TEAMS'!$A$3","v":"PENNANT TEAMS"}]
["GREEN",null,null,null,null,"RINK",null,null,null,"GRADE",null,null,null,null,"SECTION",null,null,null,null,"ROUND"]
[null,null,null,null,null,null,null,null,null,{"$f":"'PENNANT TEAMS'!$A$89","v":0},null,null,null,null,{"$f":"'PENNANT TEAMS'!$D$95","v":0},null,null,null,null,{"$f":"'PENNANT TEAMS'!$B$5","v":1}]
[null,null,null,null,null,null,null,null,null,null,"TEAMS"]
[{"$f":"'PENNANT TEAMS'!$B$93","v":0},null,null,null,null,null,null,null,null,null,null,"L"]
[{"$f":"'PENNANT TEAMS'!$C$93","v":0},null,null,null,null,null,null,null,null,null,null,"S"]
[{"$f":"'PENNANT TEAMS'!$D$93","v":0},null,null,null,null,null,null,null,null,null,null,"T"]
[{"$f":"'PENNANT TEAMS'!$E$93","v":0},null,null,null,null,null,null,null,null,null,null,"Sk"]
[]
["SCORE",null,null,null,null,null,null,null,null,null,null,null,"SCORE"]
["SIGN",null,null,null,null,null,null,null,null,null,null,null,"SIGN"]
["FINISH TIME"]

{"sheet":"Blank Cards Rear","index":2,"n_rows":16,"n_cols":10,"rows_kept":16,"cut":false,"hidden":false,"merged":[[1,1,1,2],[1,3,1,4],[1,6,1,7],[1,8,1,9]]}
[]
[]
["End","Shots","Total","Shots","Total","End","Shots","Total","Shots","Total"]
[1,null,null,null,null,14]
[2,null,null,null,null,15]
[3,null,null,null,null,16]
[4,null,null,null,null,17]
[5,null,null,null,null,18]
[6,null,null,null,null,19]
[7,null,null,null,null,20]
[8,null,null,null,null,21]
[9,null,null,null,null,22]
[10,null,null,null,null,23]
[11,null,null,null,null,24]
[12,null,null,null,null,25]
[13,null,null,null,null,"T"]

{"sheet":"Results","index":3,"n_rows":497,"n_cols":10,"rows_kept":497,"cut":false,"hidden":false,"merged":[[1,1,1,9],[2,1,2,9],[3,1,3,9],[4,1,4,9],[5,1,5,9],[6,1,6,9],[9,1,9,3],[9,5,9,6],[9,7,9,9],[10,1,10,3],[10,5,10,6],[10,7,10,9],[7,1,7,3],[7,5,7,6],[7,7,7,9],[8,1,8,3],[8,5,8,6],[8,7,8,9],[11,1,11,9],[12,2,12,5],[12,6,12,9],[13,2,14,5],[13,6,14,9],[15,2,16,2],[15,3,15,4],[15,5,20,5],[15,6,20,6],[15,7,15,8],[15,9,16,9],[16,1,22,1],[17,2,18,2],[17,3,17,4],[17,7,17,8],[17,9,18,9],[19,2,20,2],[19,3,19,4],[19,7,19,8],[19,9,20,9],[21,2,22,2],[21,3,21,4],[21,7,21,8],[21,9,22,9],[31,7,31,8],[31,9,32,9],[49,1,49,9],[50,1,50,9],[51,1,51,9],[23,2,24,2],[23,3,23,4],[23,5,28,5],[23,6,28,6],[23,7,23,8],[23,9,24,9],[24,1,30,1],[25,2,26,2],[25,3,25,4],[25,7,25,8],[25,9,26,9],[27,2,28,2],[27,3,27,4],[27,7,27,8],[27,9,28,9],[29,2,30,2],[29,3,29,4],[29,7,29,8],[29,9,30,9],[52,1,52,9],[53,1,53,9],[54,1,54,9],[37,3,37,4],[37,7,37,8],[37,9,38,9],[44,2,44,4],[44,7,44,9],[45,2,45,4],[45,7,45,9],[32,1,38,1],[33,2,34,2],[33,3,33,4],[33,7,33,8],[33,9,34,9],[35,2,36,2],[35,3,35,4],[35,7,35,8],[35,9,36,9],[37,2,38,2],[31,2,32,2],[31,3,31,4],[31,5,36,5],[31,6,36,6],[57,1,57,3],[57,5,57,6],[57,7,57,9],[58,1,58,3],[58,5,58,6],[58,7,58,9],[55,1,55,3],[55,5,55,6],[55,7,55,9],[56,1,56,3],[56,5,56,6],[56,7,56,9],[59,1,59,9],[60,2,60,5],[60,6,60,9],[61,2,62,5],[61,6,62,9],[63,2,64,2],[63,3,63,4],[63,5,68,5],[63,6,68,6],[63,7,63,8],[63,9,64,9],[64,1,70,1],[65,2,66,2],[65,3,65,4],[65,7,65,8],[65,9,66,9],[67,2,68,2],[67,3,67,4],[67,7,67,8],[67,9,68,9],[69,2,70,2],[69,3,69,4],[69,7,69,8],[69,9,70,9],[79,7,79,8],[79,9,80,9],[100,1,100,9],[101,1,101,9],[102,1,102,9],[71,2,72,2],[71,3,71,4],[71,5,76,5],[71,6,76,6],[71,7,71,8],[71,9,72,9],[72,1,78,1],[73,2,74,2],[73,3,73,4],[73,7,73,8],[73,9,74,9],[75,2,76,2],[75,3,75,4],[75,7,75,8],[75,9,76,9],[77,2,78,2],[77,3,77,4],[77,7,77,8],[77,9,78,9],[103,1,103,9],[104,1,104,9],[105,1,105,9],[85,3,85,4],[85,7,85,8],[85,9,86,9],[92,2,92,4],[92,7,92,9],[93,2,93,4],[93,7,93,9],[80,1,86,1],[81,2,82,2],[81,3,81,4],[81,7,81,8],[81,9,82,9],[83,2,84,2],[83,3,83,4],[83,7,83,8],[83,9,84,9],[85,2,86,2],[79,2,80,2],[79,3,79,4],[79,5,84,5],[79,6,84,6],[108,1,108,3],[108,5,108,6],[108,7,108,9],[109,1,109,3],[109,5,109,6],[109,7,109,9],[106,1,106,3],[106,5,106,6],[106,7,106,9],[107,1,107,3],[107,5,107,6],[107,7,107,9],[110,1,110,9],[111,2,111,5],[111,6,111,9],[112,2,113,5],[112,6,113,9],[114,2,115,2],[114,3,114,4],[114,5,119,5],[114,6,119,6],[114,7,114,8],[114,9,115,9],[115,1,121,1],[116,2,117,2],[116,3,116,4],[116,7,116,8],[116,9,117,9],[118,2,119,2],[118,3,118,4],[118,7,118,8],[118,9,119,9],[120,2,121,2],[120,3,120,4],[120,7,120,8],[120,9,121,9],[130,7,130,8],[130,9,131,9],[152,1,152,9],[153,1,153,9],[122,2,123,2],[122,3,122,4],[122,5,127,5],[122,6,127,6],[122,7,122,8],[122,9,123,9],[123,1,129,1],[124,2,125,2],[124,3,124,4],[124,7,124,8],[124,9,125,9],[126,2,127,2],[126,3,126,4],[126,7,126,8],[126,9,127,9],[128,2,129,2],[128,3,128,4],[128,7,128,8],[128,9,129,9],[151,1,151,9],[155,1,155,9],[156,1,156,9],[157,1,157,9],[136,3,136,4],[136,7,136,8],[136,9,137,9],[143,2,143,4],[143,7,143,9],[144,2,144,4],[144,7,144,9],[131,1,137,1],[132,2,133,2],[132,3,132,4],[132,7,132,8],[132,9,133,9],[134,2,135,2],[134,3,134,4],[134,7,134,8],[134,9,135,9],[136,2,137,2],[130,2,131,2],[130,3,130,4],[130,5,135,5],[130,6,135,6],[160,1,160,3],[160,5,160,6],[160,7,160,9],[161,1,161,3],[161,5,161,6],[161,7,161,9],[158,1,158,3],[158,5,158,6],[158,7,158,9],[159,1,159,3],[159,5,159,6],[159,7,159,9],[162,1,162,9],[163,2,163,5],[163,6,163,9],[164,2,165,5],[164,6,165,9],[166,2,167,2],[166,3,166,4],[166,5,171,5],[166,6,171,6],[166,7,166,8],[166,9,167,9],[167,1,173,1],[168,2,169,2],[168,3,168,4],[168,7,168,8],[168,9,169,9],[170,2,171,2],[170,3,170,4],[170,7,170,8],[170,9,171,9],[172,2,173,2],[172,3,172,4],[172,7,172,8],[172,9,173,9],[182,7,182,8],[182,9,183,9],[203,1,203,9],[204,1,204,9],[174,2,175,2],[174,3,174,4],[174,5,179,5],[174,6,179,6],[174,7,174,8],[174,9,175,9],[175,1,181,1],[176,2,177,2],[176,3,176,4],[176,7,176,8],[176,9,177,9],[178,2,179,2],[178,3,178,4],[178,7,178,8],[178,9,179,9],[180,2,181,2],[180,3,180,4],[180,7,180,8],[180,9,181,9],[205,1,205,9],[206,1,206,9],[207,1,207,9],[188,3,188,4],[188,7,188,8],[188,9,189,9],[195,2,195,4],[195,7,195,9],[196,2,196,4],[196,7,196,9],[183,1,189,1],[184,2,185,2],[184,3,184,4],[184,7,184,8],[184,9,185,9],[186,2,187,2],[186,3,186,4],[186,7,186,8],[186,9,187,9],[188,2,189,2],[182,2,183,2],[182,3,182,4],[182,5,187,5],[182,6,187,6],[211,1,211,3],[211,5,211,6],[211,7,211,9],[212,1,212,3],[212,5,212,6],[212,7,212,9],[209,1,209,3],[209,5,209,6],[209,7,209,9],[210,1,210,3],[210,5,210,6],[210,7,210,9],[213,1,213,9],[214,2,214,5],[214,6,214,9],[215,2,216,5],[215,6,216,9],[217,2,218,2],[217,3,217,4],[217,5,222,5],[217,6,222,6],[217,7,217,8],[217,9,218,9],[218,1,224,1],[219,2,220,2],[219,3,219,4],[219,7,219,8],[219,9,220,9],[221,2,222,2],[221,3,221,4],[221,7,221,8],[221,9,222,9],[223,2,224,2],[223,3,223,4],[223,7,223,8],[223,9,224,9],[233,7,233,8],[233,9,234,9],[256,1,256,9],[257,1,257,9],[225,2,226,2],[225,3,225,4],[225,5,230,5],[225,6,230,6],[225,7,225,8],[225,9,226,9],[226,1,232,1],[227,2,228,2],[227,3,227,4],[227,7,227,8],[227,9,228,9],[229,2,230,2],[229,3,229,4],[229,7,229,8],[229,9,230,9],[231,2,232,2],[231,3,231,4],[231,7,231,8],[231,9,232,9],[258,1,258,9],[259,1,259,9],[260,1,260,9],[239,3,239,4],[239,7,239,8],[239,9,240,9],[246,2,246,4],[246,7,246,9],[247,2,247,4],[247,7,247,9],[234,1,240,1],[235,2,236,2],[235,3,235,4],[235,7,235,8],[235,9,236,9],[237,2,238,2],[237,3,237,4],[237,7,237,8],[237,9,238,9],[239,2,240,2],[233,2,234,2],[233,3,233,4],[233,5,238,5],[233,6,238,6],[264,1,264,3],[264,5,264,6],[264,7,264,9],[265,1,265,3],[265,5,265,6],[265,7,265,9],[262,1,262,3],[262,5,262,6],[262,7,262,9],[263,1,263,3],[263,5,263,6],[263,7,263,9],[266,1,266,9],[267,2,267,5],[267,6,267,9],[268,2,269,5],[268,6,269,9],[270,2,271,2],[270,3,270,4],[270,5,275,5],[270,6,275,6],[270,7,270,8],[270,9,271,9],[271,1,277,1],[272,2,273,2],[272,3,272,4],[272,7,272,8],[272,9,273,9],[274,2,275,2],[274,3,274,4],[274,7,274,8],[274,9,275,9],[276,2,277,2],[276,3,276,4],[276,7,276,8],[276,9,277,9],[286,7,286,8],[286,9,287,9],[305,1,305,9],[306,1,306,9],[307,1,307,9],[278,2,279,2],[278,3,278,4],[278,5,283,5],[278,6,283,6],[278,7,278,8],[278,9,279,9],[279,1,285,1],[280,2,281,2],[280,3,280,4],[280,7,280,8],[280,9,281,9],[282,2,283,2],[282,3,282,4],[282,7,282,8],[282,9,283,9],[284,2,285,2],[284,3,284,4],[284,7,284,8],[284,9,285,9],[308,1,308,9],[309,1,309,9],[310,1,310,9],[292,3,292,4],[292,7,292,8],[292,9,293,9],[299,2,299,4],[299,7,299,9],[300,2,300,4],[300,7,300,9],[287,1,293,1],[288,2,289,2],[288,3,288,4],[288,7,288,8],[288,9,289,9],[290,2,291,2],[290,3,290,4],[290,7,290,8],[290,9,291,9],[292,2,293,2],[286,2,287,2],[286,3,286,4],[286,5,291,5],[286,6,291,6],[313,1,313,3],[313,5,313,6],[313,7,313,9],[314,1,314,3],[314,5,314,6],[314,7,314,9],[311,1,311,3],[311,5,311,6],[311,7,311,9],[312,1,312,3],[312,5,312,6],[312,7,312,9],[315,1,315,9],[316,2,316,5],[316,6,316,9],[317,2,318,5],[317,6,318,9],[319,2,320,2],[319,3,319,4],[319,5,324,5],[319,6,324,6],[319,7,319,8],[319,9,320,9],[320,1,326,1],[321,2,322,2],[321,3,321,4],[321,7,321,8],[321,9,322,9],[323,2,324,2],[323,3,323,4],[323,7,323,8],[323,9,324,9],[325,2,326,2],[325,3,325,4],[325,7,325,8],[325,9,326,9],[335,7,335,8],[335,9,336,9],[354,1,354,9],[355,1,355,9],[356,1,356,9],[327,2,328,2],[327,3,327,4],[327,5,332,5],[327,6,332,6],[327,7,327,8],[327,9,328,9],[328,1,334,1],[329,2,330,2],[329,3,329,4],[329,7,329,8],[329,9,330,9],[331,2,332,2],[331,3,331,4],[331,7,331,8],[331,9,332,9],[333,2,334,2],[333,3,333,4],[333,7,333,8],[333,9,334,9],[357,1,357,9],[358,1,358,9],[359,1,359,9],[341,3,341,4],[341,7,341,8],[341,9,342,9],[348,2,348,4],[348,7,348,9],[349,2,349,4],[349,7,349,9],[336,1,342,1],[337,2,338,2],[337,3,337,4],[337,7,337,8],[337,9,338,9],[339,2,340,2],[339,3,339,4],[339,7,339,8],[339,9,340,9],[341,2,342,2],[335,2,336,2],[335,3,335,4],[335,5,340,5],[335,6,340,6],[362,1,362,3],[362,5,362,6],[362,7,362,9],[363,1,363,3],[363,5,363,6],[363,7,363,9],[360,1,360,3],[360,5,360,6],[360,7,360,9],[361,1,361,3],[361,5,361,6],[361,7,361,9],[364,1,364,9],[365,2,365,5],[365,6,365,9],[366,2,367,5],[366,6,367,9],[368,2,369,2],[368,3,368,4],[368,5,373,5],[368,6,373,6],[368,7,368,8],[368,9,369,9],[369,1,375,1],[370,2,371,2],[370,3,370,4],[370,7,370,8],[370,9,371,9],[372,2,373,2],[372,3,372,4],[372,7,372,8],[372,9,373,9],[374,2,375,2],[374,3,374,4],[374,7,374,8],[374,9,375,9],[384,7,384,8],[384,9,385,9],[403,1,403,9],[404,1,404,9],[405,1,405,9],[376,2,377,2],[376,3,376,4],[376,5,381,5],[376,6,381,6],[376,7,376,8],[376,9,377,9],[377,1,383,1],[378,2,379,2],[378,3,378,4],[378,7,378,8],[378,9,379,9],[380,2,381,2],[380,3,380,4],[380,7,380,8],[380,9,381,9],[382,2,383,2],[382,3,382,4],[382,7,382,8],[382,9,383,9],[406,1,406,9],[407,1,407,9],[408,1,408,9],[390,3,390,4],[390,7,390,8],[390,9,391,9],[397,2,397,4],[397,7,397,9],[398,2,398,4],[398,7,398,9],[385,1,391,1],[386,2,387,2],[386,3,386,4],[386,7,386,8],[386,9,387,9],[388,2,389,2],[388,3,388,4],[388,7,388,8],[388,9,389,9],[390,2,391,2],[384,2,385,2],[384,3,384,4],[384,5,389,5],[384,6,389,6],[411,1,411,3],[411,5,411,6],[411,7,411,9],[412,1,412,3],[412,5,412,6],[412,7,412,9],[409,1,409,3],[409,5,409,6],[409,7,409,9],[410,1,410,3],[410,5,410,6],[410,7,410,9],[413,1,413,9],[414,2,414,5],[414,6,414,9],[415,2,416,5],[415,6,416,9],[417,2,418,2],[417,3,417,4],[417,5,422,5],[417,6,422,6],[417,7,417,8],[417,9,418,9],[418,1,424,1],[419,2,420,2],[419,3,419,4],[419,7,419,8],[419,9,420,9],[421,2,422,2],[421,3,421,4],[421,7,421,8],[421,9,422,9],[423,2,424,2],[423,3,423,4],[423,7,423,8],[423,9,424,9],[433,7,433,8],[433,9,434,9],[452,1,452,9],[453,1,453,9],[454,1,454,9],[425,2,426,2],[425,3,425,4],[425,5,430,5],[425,6,430,6],[425,7,425,8],[425,9,426,9],[426,1,432,1],[427,2,428,2],[427,3,427,4],[427,7,427,8],[427,9,428,9],[429,2,430,2],[429,3,429,4],[429,7,429,8],[429,9,430,9],[431,2,432,2],[431,3,431,4],[431,7,431,8],[431,9,432,9],[455,1,455,9],[456,1,456,9],[457,1,457,9],[439,3,439,4],[439,7,439,8],[439,9,440,9],[446,2,446,4],[446,7,446,9],[447,2,447,4],[447,7,447,9],[434,1,440,1],[435,2,436,2],[435,3,435,4],[435,7,435,8],[435,9,436,9],[437,2,438,2],[437,3,437,4],[437,7,437,8],[437,9,438,9],[439,2,440,2],[433,2,434,2],[433,3,433,4],[433,5,438,5],[433,6,438,6],[460,1,460,3],[460,5,460,6],[460,7,460,9],[461,1,461,3],[461,5,461,6],[461,7,461,9],[458,1,458,3],[458,5,458,6],[458,7,458,9],[459,1,459,3],[459,5,459,6],[459,7,459,9],[462,1,462,9],[463,2,463,5],[463,6,463,9],[464,2,465,5],[464,6,465,9],[466,2,467,2],[466,3,466,4],[466,5,471,5],[466,6,471,6],[466,7,466,8],[466,9,467,9],[467,1,473,1],[468,2,469,2],[468,3,468,4],[468,7,468,8],[468,9,469,9],[470,2,471,2],[470,3,470,4],[470,7,470,8],[470,9,471,9],[472,2,473,2],[472,3,472,4],[472,7,472,8],[472,9,473,9],[474,2,475,2],[474,3,474,4],[474,5,479,5],[474,6,479,6],[474,7,474,8],[474,9,475,9],[475,1,481,1],[476,2,477,2],[476,3,476,4],[476,7,476,8],[476,9,477,9],[478,2,479,2],[478,3,478,4],[478,7,478,8],[478,9,479,9],[480,2,481,2],[480,3,480,4],[480,7,480,8],[480,9,481,9],[154,1,154,9],[495,2,495,4],[495,7,495,9],[496,2,496,4],[496,7,496,9],[483,1,489,1],[484,2,485,2],[484,3,484,4],[484,7,484,8],[484,9,485,9],[486,2,487,2],[486,3,486,4],[486,7,486,8],[486,9,487,9],[488,2,489,2],[482,2,483,2],[482,3,482,4],[482,5,487,5],[482,6,487,6],[482,7,482,8],[482,9,483,9],[488,3,488,4],[488,7,488,8],[488,9,489,9]]}
[]
[null,"2019 Bowls NSW State Pennants"]
[null,"Grade 2-7  Results Form"]
[null,"Wagga & District Bowling Assn."]
[null,"ONLY ONE result form is required for each match"]
[null,"On completion of the match BOTH Side Managers should ensure that all details on the form are correct,sign it, and have the Host Club forward to the District Secretary by scanning & emailing to wdba@bigpond.com."]
[]
[null,"Date",null,null,{"$f":"'PENNANT TEAMS'!$B$4","v":"2019-02-02"},"Round",null,{"$f":"'PENNANT TEAMS'!$B$5","v":1}]
[null,"Grade",null,null,{"$f":"'PENNANT TEAMS'!$A$8","v":0},"Venue",null,{"$f":"'PENNANT TEAMS'!$G$7","v":"CLUB NAME"}]
[null,null,null,null,null,"Section",null,{"$f":"'PENNANT TEAMS'!$D$14","v":0}]
[null,"Toss",null,null,null,"Mat 1st end"]
[]
[null,null,"HOME SIDE",null,null,null,"AWAY SIDE"]
[null,null,{"$f":"IF('PENNANT TEAMS'!$B$7=\"home\",'PENNANT TEAMS'!$D$3,IF('PENNANT TEAMS'!$B$7=\"away\",'PENNANT TEAMS'!$D$7,\"\"))","v":"CLUB NAME"},null,null,null,{"$f":"IF('PENNANT TEAMS'!$B$7=\"home\",'PENNANT TEAMS'!$D$7,IF('PENNANT TEAMS'!$B$7=\"away\",'PENNANT TEAMS'!$D$3,\"\"))","v":"CLUB NAME"}]
[]
[null,"Rink","L",{"$f":"IF('PENNANT TEAMS'!$B$7=\"home\",'PENNANT TEAMS'!$B$8,\"\")","v":""},null,null,null,{"$f":"IF('PENNANT TEAMS'!$B$7=\"away\",'PENNANT TEAMS'!$B$8,\"\")","v":0},null,"L"]
[null,null,null,"ID",{"$f":"IF('PENNANT TEAMS'!$B$7=\"HOME\",'PENNANT TEAMS'!$B$9,\"\")","v":""},null,null,"ID",{"$f":"IF('PENNANT TEAMS'!$B$7=\"away\",'PENNANT TEAMS'!$B$9,\"\")","v":""}]
[null,null,2,{"$f":"IF('PENNANT TEAMS'!$B$7=\"home\",'PENNANT TEAMS'!$C$8,\"\")","v":""},null,null,null,{"$f":"IF('PENNANT TEAMS'!$B$7=\"away\",'PENNANT TEAMS'!$C$8,\"\")","v":0},null,2]
[null,null,null,"ID",{"$f":"IF('PENNANT TEAMS'!$B$7=\"HOME\",'PENNANT TEAMS'!$C$9,\"\")","v":""},null,null,"ID",{"$f":"IF('PENNANT TEAMS'!$B$7=\"away\",'PENNANT TEAMS'!$C$9,\"\")","v":""}]
[null,null,3,{"$f":"IF('PENNANT TEAMS'!$B$7=\"home\",'PENNANT TEAMS'!$D$8,\"\")","v":""},null,null,null,{"$f":"IF('PENNANT TEAMS'!$B$7=\"away\",'PENNANT TEAMS'!$D$8,\"\")","v":0},null,3]
[null,null,null,"ID",{"$f":"IF('PENNANT TEAMS'!$B$7=\"home\",'PENNANT TEAMS'!$D$9,\"\")","v":""},null,null,"ID",{"$f":"IF('PENNANT TEAMS'!$B$7=\"away\",'PENNANT TEAMS'!$D$9,\"\")","v":""}]
[null,null,"S",{"$f":"IF('PENNANT TEAMS'!$B$7=\"home\",'PENNANT TEAMS'!$E$8,\"\")","v":""},null,null,null,{"$f":"IF('PENNANT TEAMS'!$B$7=\"away\",'PENNANT TEAMS'!$E$8,\"\")","v":0},null,"S"]
[null,null,null,"ID",{"$f":"IF('PENNANT TEAMS'!$B$7=\"HOME\",'PENNANT TEAMS'!$E$9,\"\")","v":""},"Ends Won","Ends Won","ID",{"$f":"IF('PENNANT TEAMS'!$B$7=\"away\",'PENNANT TEAMS'!$E$9,\"\")","v":""}]
[null,"Rink","L",{"$f":"IF('PENNANT TEAMS'!$B$7=\"home\",'PENNANT TEAMS'!$B$10,\"\")","v":""},null,null,null,{"$f":"IF('PENNANT TEAMS'!$B$7=\"away\",'PENNANT TEAMS'!$B$10,\"\")","v":0},null,"L"]
[null,null,null,"ID",{"$f":"IF('PENNANT TEAMS'!$B$7=\"HOME\",'PENNANT TEAMS'!$B$11,\"\")","v":""},null,null,"ID",{"$f":"IF('PENNANT TEAMS'!$B$7=\"away\",'PENNANT TEAMS'!$B$11,\"\")","v":""}]
[null,null,2,{"$f":"IF('PENNANT TEAMS'!$B$7=\"home\",'PENNANT TEAMS'!$C$10,\"\")","v":""},null,null,null,{"$f":"IF('PENNANT TEAMS'!$B$7=\"away\",'PENNANT TEAMS'!$C$10,\"\")","v":0},null,2]
[null,null,null,"ID",{"$f":"IF('PENNANT TEAMS'!$B$7=\"HOME\",'PENNANT TEAMS'!$C$11,\"\")","v":""},null,null,"ID",{"$f":"IF('PENNANT TEAMS'!$B$7=\"away\",'PENNANT TEAMS'!$C$11,\"\")","v":""}]
[null,null,3,{"$f":"IF('PENNANT TEAMS'!$B$7=\"home\",'PENNANT TEAMS'!$D$10,\"\")","v":""},null,null,null,{"$f":"IF('PENNANT TEAMS'!$B$7=\"away\",'PENNANT TEAMS'!$D$10,\"\")","v":0},null,3]
[null,null,null,"ID",{"$f":"IF('PENNANT TEAMS'!$B$7=\"HOME\",'PENNANT TEAMS'!$D$11,\"\")","v":""},null,null,"ID",{"$f":"IF('PENNANT TEAMS'!$B$7=\"away\",'PENNANT TEAMS'!$D$11,\"\")","v":""}]
[null,null,"S",{"$f":"IF('PENNANT TEAMS'!$B$7=\"home\",'PENNANT TEAMS'!$E$10,\"\")","v":""},null,null,null,{"$f":"IF('PENNANT TEAMS'!$B$7=\"away\",'PENNANT TEAMS'!$E$10,\"\")","v":0},null,"S"]
[null,null,null,"ID",{"$f":"IF('PENNANT TEAMS'!$B$7=\"home\",'PENNANT TEAMS'!$E$11,\"\")","v":""},"Ends Won","Ends Won","ID",{"$f":"IF('PENNANT TEAMS'!$B$7=\"away\",'PENNANT TEAMS'!$E$11,\"\")","v":""}]
[null,"Rink","L",{"$f":"IF('PENNANT TEAMS'!$B$7=\"home\",'PENNANT TEAMS'!$B$12,\"\")","v":""},null,null,null,{"$f":"IF('PENNANT TEAMS'!$B$7=\"away\",'PENNANT TEAMS'!$B$12,\"\")","v":0},null,"L"]
[null,null,null,"ID",{"$f":"IF('PENNANT TEAMS'!$B$7=\"home\",'PENNANT TEAMS'!$B$13,\"\")","v":""},null,null,"ID",{"$f":"IF('PENNANT TEAMS'!$B$7=\"away\",'PENNANT TEAMS'!$B$13,\"\")","v":""}]
[null,null,2,{"$f":"IF('PENNANT TEAMS'!$B$7=\"home\",'PENNANT TEAMS'!$C$12,\"\")","v":""},null,null,null,{"$f":"IF('PENNANT TEAMS'!$B$7=\"away\",'PENNANT TEAMS'!$C$12,\"\")","v":0},null,2]
[null,null,null,"ID",{"$f":"IF('PENNANT TEAMS'!$B$7=\"HOME\",'PENNANT TEAMS'!$C$13,\"\")","v":""},null,null,"ID",{"$f":"IF('PENNANT TEAMS'!$B$7=\"away\",'PENNANT TEAMS'!$C$13,\"\")","v":""}]
[null,null,3,{"$f":"IF('PENNANT TEAMS'!$B$7=\"home\",'PENNANT TEAMS'!$D$12,\"\")","v":""},null,null,null,{"$f":"IF('PENNANT TEAMS'!$B$7=\"away\",'PENNANT TEAMS'!$D$12,\"\")","v":0},null,3]
[null,null,null,"ID",{"$f":"IF('PENNANT TEAMS'!$B$7=\"HOME\",'PENNANT TEAMS'!$D$13,\"\")","v":""},null,null,"ID",{"$f":"IF('PENNANT TEAMS'!$B$7=\"AWAY\",'PENNANT TEAMS'!$D$13,\"\")","v":""}]
[null,null,"S",{"$f":"IF('PENNANT TEAMS'!$B$7=\"home\",'PENNANT TEAMS'!$E$12,\"\")","v":""},null,null,null,{"$f":"IF('PENNANT TEAMS'!$B$7=\"away\",'PENNANT TEAMS'!$E$12,\"\")","v":0},null,"S"]
[null,null,null,"ID",{"$f":"IF('PENNANT TEAMS'!$B$7=\"HOME\",'PENNANT TEAMS'!$E$13,\"\")","v":""},"Ends Won","Ends Won","ID",{"$f":"IF('PENNANT TEAMS'!$B$7=\"away\",'PENNANT TEAMS'!$E$13,\"\")","v":""}]
[null,null,null,null,"Total Shots"]
[null,null,null,null,"Ends Won",null,null,null,"Win = 7 points: Draw = 3.5"]
[null,null,null,null,"Rinks Won",null,null,null,"1 point per winning rink"]
[null,null,null,null,"Win Points",null,null,null,"Total points max 10"]
[null,null,null,null,"Total Points"]
[null,null,{"$f":"IF('PENNANT TEAMS'!$B$7=\"home\",'PENNANT TEAMS'!$A$12,\"\")","v":""},null,null,null,null,""]
[null,null,"Manager Name",null,null,null,null,"Manager Name"]
[]
[]
[]
[null,"2019 Bowls NSW State Pennants"]
[null,"Grade 2-7  Results Form"]
[null,"Wagga & District Bowling Assn."]
[null,"ONLY ONE result form is required for each match"]
[null,"On completion of the match BOTH Side Managers should ensure that all details on the form are correct,sign it, and have the Host Club forward to the District Secretary by scanning & emailing to wdba@bigpond.com."]
[]
[null,"Date",null,null,{"$f":"'PENNANT TEAMS'!$B$4","v":"2019-02-02"},"Round",null,{"$f":"'PENNANT TEAMS'!$B$5","v":1}]
[null,"Grade",null,null,{"$f":"'PENNANT TEAMS'!$A$17","v":0},"Venue",null,{"$f":"'PENNANT TEAMS'!$G$16","v":"CLUB NAME"}]
[null,"Section",null,null,{"$f":"'PENNANT TEAMS'!$D$23","v":0}]
[null,"Toss",null,null,null,"Mat 1st end"]
[]
[null,null,"HOME SIDE",null,null,null,"AWAY SIDE"]
[null,null,{"$f":"IF('PENNANT TEAMS'!$B$16=\"home\",'PENNANT TEAMS'!$D$3,IF('PENNANT TEAMS'!$B$16=\"away\",'PENNANT TEAMS'!$D$16,\"\"))","v":"CLUB NAME"},null,null,null,{"$f":"IF('PENNANT TEAMS'!$B$16=\"home\",'PENNANT TEAMS'!$D$16,IF('PENNANT TEAMS'!$B$16=\"away\",'PENNANT TEAMS'!$D$3,\"\"))","v":"CLUB NAME"}]
[]
[null,"Rink","L",{"$f":"IF('PENNANT TEAMS'!$B$16=\"home\",'PENNANT TEAMS'!$B$17,\"\")","v":""},null,null,null,{"$f":"IF('PENNANT TEAMS'!$B$16=\"away\",'PENNANT TEAMS'!$B$17,\"\")","v":0},null,"L"]
[null,null,null,"ID",{"$f":"IF('PENNANT TEAMS'!$B$16=\"HOME\",'PENNANT TEAMS'!$B$18,\"\")","v":""},null,null,"ID",{"$f":"IF('PENNANT TEAMS'!$B$16=\"away\",'PENNANT TEAMS'!$B$18,\"\")","v":""}]
[null,null,2,{"$f":"IF('PENNANT TEAMS'!$B$16=\"home\",'PENNANT TEAMS'!$C$17,\"\")","v":""},null,null,null,{"$f":"IF('PENNANT TEAMS'!$B$16=\"away\",'PENNANT TEAMS'!$C$17,\"\")","v":0},null,2]
[null,null,null,"ID",{"$f":"IF('PENNANT TEAMS'!$B$16=\"HOME\",'PENNANT TEAMS'!$C$18,\"\")","v":""},null,null,"ID",{"$f":"IF('PENNANT TEAMS'!$B$16=\"away\",'PENNANT TEAMS'!$C$18,\"\")","v":""}]
[null,null,3,{"$f":"IF('PENNANT TEAMS'!$B$16=\"home\",'PENNANT TEAMS'!$D$17,\"\")","v":""},null,null,null,{"$f":"IF('PENNANT TEAMS'!$B$16=\"away\",'PENNANT TEAMS'!$D$17,\"\")","v":0},null,3]
[null,null,null,"ID",{"$f":"IF('PENNANT TEAMS'!$B$16=\"HOME\",'PENNANT TEAMS'!$D$18,\"\")","v":""},null,null,"ID",{"$f":"IF('PENNANT TEAMS'!$B$16=\"away\",'PENNANT TEAMS'!$D$18,\"\")","v":""}]
[null,null,"S",{"$f":"IF('PENNANT TEAMS'!$B$16=\"home\",'PENNANT TEAMS'!$E$17,\"\")","v":""},null,null,null,{"$f":"IF('PENNANT TEAMS'!$B$16=\"away\",'PENNANT TEAMS'!$E$17,\"\")","v":0},null,"S"]
[null,null,null,"ID",{"$f":"IF('PENNANT TEAMS'!$B$16=\"HOME\",'PENNANT TEAMS'!$E$18,\"\")","v":""},"Ends Won","Ends Won","ID",{"$f":"IF('PENNANT TEAMS'!$B$16=\"AWAY\",'PENNANT TEAMS'!$E$18,\"\")","v":""}]
[null,"Rink","L",{"$f":"IF('PENNANT TEAMS'!$B$16=\"home\",'PENNANT TEAMS'!$B$19,\"\")","v":""},null,null,null,{"$f":"IF('PENNANT TEAMS'!$B$16=\"away\",'PENNANT TEAMS'!$B$19,\"\")","v":0},null,"L"]
[null,null,null,"ID",{"$f":"IF('PENNANT TEAMS'!$B$16=\"HOME\",'PENNANT TEAMS'!$B$20,\"\")","v":""},null,null,"ID",{"$f":"IF('PENNANT TEAMS'!$B$16=\"away\",'PENNANT TEAMS'!$B$20,\"\")","v":""}]
[null,null,2,{"$f":"IF('PENNANT TEAMS'!$B$16=\"home\",'PENNANT TEAMS'!$C$19,\"\")","v":""},null,null,null,{"$f":"IF('PENNANT TEAMS'!$B$16=\"away\",'PENNANT TEAMS'!$C$19,\"\")","v":0},null,2]
[null,null,null,"ID",{"$f":"IF('PENNANT TEAMS'!$B$16=\"HOME\",'PENNANT TEAMS'!$C$20,\"\")","v":""},null,null,"ID",{"$f":"IF('PENNANT TEAMS'!$B$16=\"away\",'PENNANT TEAMS'!$C$20,\"\")","v":""}]
[null,null,3,{"$f":"IF('PENNANT TEAMS'!$B$16=\"home\",'PENNANT TEAMS'!$D$19,\"\")","v":""},null,null,null,{"$f":"IF('PENNANT TEAMS'!$B$16=\"away\",'PENNANT TEAMS'!$D$19,\"\")","v":0},null,3]
[null,null,null,"ID",{"$f":"IF('PENNANT TEAMS'!$B$16=\"HOME\",'PENNANT TEAMS'!$D$20,\"\")","v":""},null,null,"ID",{"$f":"IF('PENNANT TEAMS'!$B$16=\"away\",'PENNANT TEAMS'!$D$20,\"\")","v":""}]
[null,null,"S",{"$f":"IF('PENNANT TEAMS'!$B$16=\"home\",'PENNANT TEAMS'!$E$19,\"\")","v":""},null,null,null,{"$f":"IF('PENNANT TEAMS'!$B$16=\"away\",'PENNANT TEAMS'!$E$19,\"\")","v":0},null,"S"]
[null,null,null,"ID",{"$f":"IF('PENNANT TEAMS'!$B$16=\"HOME\",'PENNANT TEAMS'!$E$20,\"\")","v":""},"Ends Won","Ends Won","ID",{"$f":"IF('PENNANT TEAMS'!$B$16=\"away\",'PENNANT TEAMS'!$E$20,\"\")","v":""}]
[null,"Rink","L",{"$f":"IF('PENNANT TEAMS'!$B$16=\"home\",'PENNANT TEAMS'!$B$21,\"\")","v":""},null,null,null,{"$f":"IF('PENNANT TEAMS'!$B$16=\"away\",'PENNANT TEAMS'!$B$21,\"\")","v":0},null,"L"]
[null,null,null,"ID","",null,null,"ID",{"$f":"IF('PENNANT TEAMS'!$B$16=\"away\",'PENNANT TEAMS'!$B$22,\"\")","v":""}]
[null,null,2,{"$f":"IF('PENNANT TEAMS'!$B$16=\"home\",'PENNANT TEAMS'!$C$21,\"\")","v":""},null,null,null,{"$f":"IF('PENNANT TEAMS'!$B$16=\"away\",'PENNANT TEAMS'!$C$21,\"\")","v":0},null,2]
[null,null,null,"ID",{"$f":"IF('PENNANT TEAMS'!$B$16=\"HOME\",'PENNANT TEAMS'!$C$22,\"\")","v":""},null,null,"ID",{"$f":"IF('PENNANT TEAMS'!$B$16=\"away\",'PENNANT TEAMS'!$C$22,\"\")","v":""}]
[null,null,3,{"$f":"IF('PENNANT TEAMS'!$B$16=\"home\",'PENNANT TEAMS'!$D$21,\"\")","v":""},null,null,null,{"$f":"IF('PENNANT TEAMS'!$B$16=\"away\",'PENNANT TEAMS'!$D$21,\"\")","v":0},null,3]
[null,null,null,"ID",{"$f":"IF('PENNANT TEAMS'!$B$16=\"HOME\",'PENNANT TEAMS'!$D$22,\"\")","v":""},null,null,"ID",{"$f":"IF('PENNANT TEAMS'!$B$16=\"away\",'PENNANT TEAMS'!$D$22,\"\")","v":""}]
[null,null,"S",{"$f":"IF('PENNANT TEAMS'!$B$16=\"home\",'PENNANT TEAMS'!$E$21,\"\")","v":""},null,null,null,{"$f":"IF('PENNANT TEAMS'!$B$16=\"away\",'PENNANT TEAMS'!$E$21,\"\")","v":0},null,"S"]
[null,null,null,"ID",{"$f":"IF('PENNANT TEAMS'!$B$16=\"HOME\",'PENNANT TEAMS'!$E$22,\"\")","v":""},"Ends Won","Ends Won","ID",{"$f":"IF('PENNANT TEAMS'!$B$16=\"away\",'PENNANT TEAMS'!$E$22,\"\")","v":""}]
[null,null,null,null,"Total Shots"]
[null,null,null,null,"Ends Won",null,null,null,"Win = 7 points: Draw = 3.5"]
[null,null,null,null,"Rinks Won",null,null,null,"1 point per winning rink"]
[null,null,null,null,"Win Points",null,null,null,"Total points max 10"]
[null,null,null,null,"Total Points"]
[null,null,{"$f":"IF('PENNANT TEAMS'!$B$16=\"HOME\",'PENNANT TEAMS'!$A$21,\"\")","v":""},null,null,null,null,{"$f":"IF('PENNANT TEAMS'!$B$16=\"AWAY\",'PENNANT TEAMS'!$A$21,\"\")","v":0}]
[null,null,"Manager Name",null,null,null,null,"Manager Name"]
[]
[]
[]
[]
[]
[]
[null,"2019 Bowls NSW State Pennants"]
[null,"Grade 2-7  Results Form"]
[null,"Wagga & District Bowling Assn."]
[null,"ONLY ONE result form is required for each match"]
[null,"On completion of the match BOTH Side Managers should ensure that all details on the form are correct,sign it, and have the Host Club forward to the District Secretary by scanning & emailing to wdba@bigpond.com."]
[]
[null,"Date",null,null,{"$f":"'PENNANT TEAMS'!$B$4","v":"2019-02-02"},"Round",null,{"$f":"'PENNANT TEAMS'!$B$5","v":1}]
[null,"Grade",null,null,{"$f":"'PENNANT TEAMS'!$A$26","v":0},"Venue",null,{"$f":"'PENNANT TEAMS'!$G$25","v":"CLUB NAME"}]
[null,"Section",null,null,{"$f":"'PENNANT TEAMS'!$D$32","v":0}]
[null,"Toss",null,null,null,"Mat 1st end"]
[]
[null,null,"HOME SIDE",null,null,null,"AWAY SIDE"]
[null,null,{"$f":"IF('PENNANT TEAMS'!$B$25=\"home\",'PENNANT TEAMS'!$D$3,IF('PENNANT TEAMS'!$B$25=\"away\",'PENNANT TEAMS'!$D$25,\"\"))","v":"CLUB NAME"},null,null,null,{"$f":"IF('PENNANT TEAMS'!$B$25=\"home\",'PENNANT TEAMS'!$D$25,IF('PENNANT TEAMS'!$B$25=\"away\",'PENNANT TEAMS'!$D$3,\"\"))","v":0}]
[]
[null,"Rink","L",{"$f":"IF('PENNANT TEAMS'!$B$25=\"home\",'PENNANT TEAMS'!$B$26,\"\")","v":0},null,null,null,{"$f":"IF('PENNANT TEAMS'!$B$25=\"away\",'PENNANT TEAMS'!$B$26,\"\")","v":""},null,"L"]
[null,null,null,"ID",{"$f":"IF('PENNANT TEAMS'!$B$25=\"HOME\",'PENNANT TEAMS'!$B$27,\"\")","v":""},null,null,"ID",{"$f":"IF('PENNANT TEAMS'!$B$25=\"away\",'PENNANT TEAMS'!$B$27,\"\")","v":""}]
[null,null,2,{"$f":"IF('PENNANT TEAMS'!$B$25=\"home\",'PENNANT TEAMS'!$C$26,\"\")","v":0},null,null,null,{"$f":"IF('PENNANT TEAMS'!$B$25=\"away\",'PENNANT TEAMS'!$C$26,\"\")","v":""},null,2]
[null,null,null,"ID",{"$f":"IF('PENNANT TEAMS'!$B$25=\"HOME\",'PENNANT TEAMS'!$C$27,\"\")","v":""},null,null,"ID",{"$f":"IF('PENNANT TEAMS'!$B$25=\"away\",'PENNANT TEAMS'!$C$27,\"\")","v":""}]
[null,null,3,{"$f":"IF('PENNANT TEAMS'!$B$25=\"home\",'PENNANT TEAMS'!$D$26,\"\")","v":0},null,null,null,{"$f":"IF('PENNANT TEAMS'!$B$25=\"away\",'PENNANT TEAMS'!$D$26,\"\")","v":""},null,3]
[null,null,null,"ID",{"$f":"IF('PENNANT TEAMS'!$B$25=\"HOME\",'PENNANT TEAMS'!$D$27,\"\")","v":""},null,null,"ID",{"$f":"IF('PENNANT TEAMS'!$B$25=\"away\",'PENNANT TEAMS'!$D$27,\"\")","v":""}]
[null,null,"S",{"$f":"IF('PENNANT TEAMS'!$B$25=\"home\",'PENNANT TEAMS'!$E$26,\"\")","v":0},null,null,null,{"$f":"IF('PENNANT TEAMS'!$B$25=\"away\",'PENNANT TEAMS'!$E$26,\"\")","v":""},null,"S"]
[null,null,null,"ID",{"$f":"IF('PENNANT TEAMS'!$B$25=\"HOME\",'PENNANT TEAMS'!$E$27,\"\")","v":""},"Ends Won","Ends Won","ID",{"$f":"IF('PENNANT TEAMS'!$B$25=\"away\",'PENNANT TEAMS'!$E$27,\"\")","v":""}]
[null,"Rink","L",{"$f":"IF('PENNANT TEAMS'!$B$25=\"home\",'PENNANT TEAMS'!$B$28,\"\")","v":0},null,null,null,{"$f":"IF('PENNANT TEAMS'!$B$25=\"away\",'PENNANT TEAMS'!$B$28,\"\")","v":""},null,"L"]
[null,null,null,"ID",{"$f":"IF('PENNANT TEAMS'!$B$25=\"HOME\",'PENNANT TEAMS'!$B$29,\"\")","v":""},null,null,"ID",{"$f":"IF('PENNANT TEAMS'!$B$25=\"away\",'PENNANT TEAMS'!$B$29,\"\")","v":""}]
[null,null,2,{"$f":"IF('PENNANT TEAMS'!$B$25=\"home\",'PENNANT TEAMS'!$C$28,\"\")","v":0},null,null,null,{"$f":"IF('PENNANT TEAMS'!$B$25=\"away\",'PENNANT TEAMS'!$C$28,\"\")","v":""},null,2]
[null,null,null,"ID",{"$f":"IF('PENNANT TEAMS'!$B$25=\"HOME\",'PENNANT TEAMS'!$C$29,\"\")","v":""},null,null,"ID",{"$f":"IF('PENNANT TEAMS'!$B$25=\"away\",'PENNANT TEAMS'!$C$29,\"\")","v":""}]
[null,null,3,{"$f":"IF('PENNANT TEAMS'!$B$25=\"home\",'PENNANT TEAMS'!$D$28,\"\")","v":0},null,null,null,{"$f":"IF('PENNANT TEAMS'!$B$25=\"away\",'PENNANT TEAMS'!$D$28,\"\")","v":""},null,3]
[null,null,null,"ID",{"$f":"IF('PENNANT TEAMS'!$B$25=\"HOME\",'PENNANT TEAMS'!$D$29,\"\")","v":""},null,null,"ID",{"$f":"IF('PENNANT TEAMS'!$B$25=\"away\",'PENNANT TEAMS'!$D$29,\"\")","v":""}]
[null,null,"S",{"$f":"IF('PENNANT TEAMS'!$B$25=\"home\",'PENNANT TEAMS'!$E$28,\"\")","v":0},null,null,null,{"$f":"IF('PENNANT TEAMS'!$B$25=\"away\",'PENNANT TEAMS'!$E$28,\"\")","v":""},null,"S"]
[null,null,null,"ID",{"$f":"IF('PENNANT TEAMS'!$B$25=\"HOME\",'PENNANT TEAMS'!$E$29,\"\")","v":""},"Ends Won","Ends Won","ID",{"$f":"IF('PENNANT TEAMS'!$B$25=\"away\",'PENNANT TEAMS'!$E$29,\"\")","v":""}]
[null,"Rink","L",{"$f":"IF('PENNANT TEAMS'!$B$25=\"home\",'PENNANT TEAMS'!$B$30,\"\")","v":0},null,null,null,{"$f":"IF('PENNANT TEAMS'!$B$25=\"away\",'PENNANT TEAMS'!$B$30,\"\")","v":""},null,"L"]
[null,null,null,"ID",{"$f":"IF('PENNANT TEAMS'!$B$25=\"HOME\",'PENNANT TEAMS'!$B$31,\"\")","v":""},null,null,"ID",{"$f":"IF('PENNANT TEAMS'!$B$25=\"away\",'PENNANT TEAMS'!$B$31,\"\")","v":""}]
[null,null,2,{"$f":"IF('PENNANT TEAMS'!$B$25=\"home\",'PENNANT TEAMS'!$C$30,\"\")","v":0},null,null,null,{"$f":"IF('PENNANT TEAMS'!$B$25=\"away\",'PENNANT TEAMS'!$C$30,\"\")","v":""},null,2]
[null,null,null,"ID",{"$f":"IF('PENNANT TEAMS'!$B$25=\"HOME\",'PENNANT TEAMS'!$C$31,\"\")","v":""},null,null,"ID",{"$f":"IF('PENNANT TEAMS'!$B$25=\"away\",'PENNANT TEAMS'!$C$31,\"\")","v":""}]
[null,null,3,{"$f":"IF('PENNANT TEAMS'!$B$25=\"home\",'PENNANT TEAMS'!$D$30,\"\")","v":0},null,null,null,{"$f":"IF('PENNANT TEAMS'!$B$25=\"away\",'PENNANT TEAMS'!$D$30,\"\")","v":""},null,3]
[null,null,null,"ID",{"$f":"IF('PENNANT TEAMS'!$B$25=\"HOME\",'PENNANT TEAMS'!$D$31,\"\")","v":""},null,null,"ID",{"$f":"IF('PENNANT TEAMS'!$B$25=\"away\",'PENNANT TEAMS'!$D$31,\"\")","v":""}]
[null,null,"S",{"$f":"IF('PENNANT TEAMS'!$B$25=\"home\",'PENNANT TEAMS'!$E$30,\"\")","v":0},null,null,null,{"$f":"IF('PENNANT TEAMS'!$B$25=\"away\",'PENNANT TEAMS'!$E$30,\"\")","v":""},null,"S"]
[null,null,null,"ID",{"$f":"IF('PENNANT TEAMS'!$B$25=\"HOME\",'PENNANT TEAMS'!$E$31,\"\")","v":""},"Ends Won","Ends Won","ID",{"$f":"IF('PENNANT TEAMS'!$B$25=\"away\",'PENNANT TEAMS'!$E$31,\"\")","v":""}]
[null,null,null,null,"Total Shots"]
[null,null,null,null,"Ends Won",null,null,null,"Win = 7 points: Draw = 3.5"]
[null,null,null,null,"Rinks Won",null,null,null,"1 point per winning rink"]
[null,null,null,null,"Win Points",null,null,null,"Total points max 10"]
[null,null,null,null,"Total Points"]
[null,null,{"$f":"IF('PENNANT TEAMS'!$B$25=\"HOME\",'PENNANT TEAMS'!$A$30,\"\")","v":0},null,null,null,null,{"$f":"IF('PENNANT TEAMS'!$B$25=\"AWAY\",'PENNANT TEAMS'!$A$30,\"\")","v":""}]
[null,null,"Manager Name",null,null,null,null,"Manager Name"]
[]
[]
[]
[]
[]
[]
[null,"2019 Bowls NSW State Pennants"]
[null,"Grade 2-7  Results Form"]
[null,"Wagga & District Bowling Assn."]
[null,"ONLY ONE result form is required for each match"]
[null,"On completion of the match BOTH Side Managers should ensure that all details on the form are correct,sign it, and have the Host Club forward to the District Secretary by scanning & emailing to wdba@bigpond.com."]
[]
[]
[null,"Date",null,null,{"$f":"'PENNANT TEAMS'!$B$4","v":"2019-02-02"},"Round",null,{"$f":"'PENNANT TEAMS'!$B$5","v":1}]
[null,"Grade",null,null,{"$f":"'PENNANT TEAMS'!$A$35","v":0},"Venue",null,{"$f":"'PENNANT TEAMS'!$G$34","v":"CLUB NAME"}]
[null,"Section",null,null,{"$f":"'PENNANT TEAMS'!$D$41","v":0}]
[null,"Toss",null,null,null,"Mat 1st end"]
[]
[null,null,"HOME SIDE",null,null,null,"AWAY SIDE"]
[null,null,{"$f":"IF('PENNANT TEAMS'!$B$34=\"home\",'PENNANT TEAMS'!$D$3,IF('PENNANT TEAMS'!$B$34=\"away\",'PENNANT TEAMS'!$D$34,\"\"))","v":"CLUB NAME"},null,null,null,{"$f":"IF('PENNANT TEAMS'!$B$34=\"home\",'PENNANT TEAMS'!$D$34,IF('PENNANT TEAMS'!$B$34=\"away\",'PENNANT TEAMS'!$D$3,\"\"))","v":0}]
[]
[null,"Rink","L",{"$f":"IF('PENNANT TEAMS'!$B$34=\"home\",'PENNANT TEAMS'!$B$35,\"\")","v":0},null,null,null,{"$f":"IF('PENNANT TEAMS'!$B$34=\"away\",'PENNANT TEAMS'!$B$35,\"\")","v":""},null,"L"]
[null,null,null,"ID",{"$f":"IF('PENNANT TEAMS'!$B$34=\"HOME\",'PENNANT TEAMS'!$B$36,\"\")","v":""},null,null,"ID",{"$f":"IF('PENNANT TEAMS'!$B$34=\"away\",'PENNANT TEAMS'!$B$36,\"\")","v":""}]
[null,null,2,{"$f":"IF('PENNANT TEAMS'!$B$34=\"home\",'PENNANT TEAMS'!$C$35,\"\")","v":0},null,null,null,{"$f":"IF('PENNANT TEAMS'!$B$34=\"away\",'PENNANT TEAMS'!$C$35,\"\")","v":""},null,2]
[null,null,null,"ID",{"$f":"IF('PENNANT TEAMS'!$B$34=\"HOME\",'PENNANT TEAMS'!$C$36,\"\")","v":""},null,null,"ID",{"$f":"IF('PENNANT TEAMS'!$B$34=\"away\",'PENNANT TEAMS'!$C$36,\"\")","v":""}]
[null,null,3,{"$f":"IF('PENNANT TEAMS'!$B$34=\"home\",'PENNANT TEAMS'!$D$35,\"\")","v":0},null,null,null,{"$f":"IF('PENNANT TEAMS'!$B$34=\"away\",'PENNANT TEAMS'!$D$35,\"\")","v":""},null,3]
[null,null,null,"ID","",null,null,"ID",{"$f":"IF('PENNANT TEAMS'!$B$34=\"away\",'PENNANT TEAMS'!$D$36,\"\")","v":""}]
[null,null,"S",{"$f":"IF('PENNANT TEAMS'!$B$34=\"home\",'PENNANT TEAMS'!$E$35,\"\")","v":0},null,null,null,{"$f":"IF('PENNANT TEAMS'!$B$34=\"away\",'PENNANT TEAMS'!$E$35,\"\")","v":""},null,"S"]
[null,null,null,"ID",{"$f":"IF('PENNANT TEAMS'!$B$34=\"HOME\",'PENNANT TEAMS'!$E$36,\"\")","v":""},"Ends Won","Ends Won","ID",{"$f":"IF('PENNANT TEAMS'!$B$34=\"away\",'PENNANT TEAMS'!$E$36,\"\")","v":""}]
[null,"Rink","L",{"$f":"IF('PENNANT TEAMS'!$B$34=\"home\",'PENNANT TEAMS'!$B$37,\"\")","v":0},null,null,null,{"$f":"IF('PENNANT TEAMS'!$B$34=\"away\",'PENNANT TEAMS'!$B$37,\"\")","v":""},null,"L"]
[null,null,null,"ID",{"$f":"IF('PENNANT TEAMS'!$B$34=\"HOME\",'PENNANT TEAMS'!$B$38,\"\")","v":""},null,null,"ID",{"$f":"IF('PENNANT TEAMS'!$B$34=\"away\",'PENNANT TEAMS'!$B$38,\"\")","v":""}]
[null,null,2,{"$f":"IF('PENNANT TEAMS'!$B$34=\"home\",'PENNANT TEAMS'!$C$37,\"\")","v":0},null,null,null,{"$f":"IF('PENNANT TEAMS'!$B$34=\"away\",'PENNANT TEAMS'!$C$37,\"\")","v":""},null,2]
[null,null,null,"ID",{"$f":"IF('PENNANT TEAMS'!$B$34=\"HOME\",'PENNANT TEAMS'!$C$38,\"\")","v":""},null,null,"ID",{"$f":"IF('PENNANT TEAMS'!$B$34=\"away\",'PENNANT TEAMS'!$C$38,\"\")","v":""}]
[null,null,3,{"$f":"IF('PENNANT TEAMS'!$B$34=\"home\",'PENNANT TEAMS'!$D$37,\"\")","v":0},null,null,null,{"$f":"IF('PENNANT TEAMS'!$B$34=\"away\",'PENNANT TEAMS'!$D$37,\"\")","v":""},null,3]
[null,null,null,"ID",{"$f":"IF('PENNANT TEAMS'!$B$34=\"HOME\",'PENNANT TEAMS'!$D$38,\"\")","v":""},null,null,"ID",{"$f":"IF('PENNANT TEAMS'!$B$34=\"away\",'PENNANT TEAMS'!$D$38,\"\")","v":""}]
[null,null,"S",{"$f":"IF('PENNANT TEAMS'!$B$34=\"home\",'PENNANT TEAMS'!$E$37,\"\")","v":0},null,null,null,{"$f":"IF('PENNANT TEAMS'!$B$34=\"away\",'PENNANT TEAMS'!$E$37,\"\")","v":""},null,"S"]
[null,null,null,"ID",{"$f":"IF('PENNANT TEAMS'!$B$34=\"HOME\",'PENNANT TEAMS'!$E$38,\"\")","v":""},"Ends Won","Ends Won","ID",{"$f":"IF('PENNANT TEAMS'!$B$34=\"away\",'PENNANT TEAMS'!$E$38,\"\")","v":""}]
[null,"Rink","L",{"$f":"IF('PENNANT TEAMS'!$B$34=\"home\",'PENNANT TEAMS'!$B$39,\"\")","v":0},null,null,null,{"$f":"IF('PENNANT TEAMS'!$B$34=\"away\",'PENNANT TEAMS'!$B$39,\"\")","v":""},null,"L"]
[null,null,null,"ID",{"$f":"IF('PENNANT TEAMS'!$B$34=\"HOME\",'PENNANT TEAMS'!$B$40,\"\")","v":""},null,null,"ID",{"$f":"IF('PENNANT TEAMS'!$B$34=\"away\",'PENNANT TEAMS'!$B$40,\"\")","v":""}]
[null,null,2,{"$f":"IF('PENNANT TEAMS'!$B$34=\"home\",'PENNANT TEAMS'!$C$39,\"\")","v":0},null,null,null,{"$f":"IF('PENNANT TEAMS'!$B$34=\"away\",'PENNANT TEAMS'!$C$39,\"\")","v":""},null,2]
[null,null,null,"ID",{"$f":"IF('PENNANT TEAMS'!$B$34=\"HOME\",'PENNANT TEAMS'!$C$40,\"\")","v":""},null,null,"ID",{"$f":"IF('PENNANT TEAMS'!$B$34=\"away\",'PENNANT TEAMS'!$C$40,\"\")","v":""}]
[null,null,3,{"$f":"IF('PENNANT TEAMS'!$B$34=\"home\",'PENNANT TEAMS'!$D$39,\"\")","v":0},null,null,null,{"$f":"IF('PENNANT TEAMS'!$B$34=\"away\",'PENNANT TEAMS'!$D$39,\"\")","v":""},null,3]
[null,null,null,"ID",{"$f":"IF('PENNANT TEAMS'!$B$34=\"HOME\",'PENNANT TEAMS'!$D$40,\"\")","v":""},null,null,"ID",{"$f":"IF('PENNANT TEAMS'!$B$34=\"away\",'PENNANT TEAMS'!$D$40,\"\")","v":""}]
[null,null,"S",{"$f":"IF('PENNANT TEAMS'!$B$34=\"home\",'PENNANT TEAMS'!$E$39,\"\")","v":0},null,null,null,{"$f":"IF('PENNANT TEAMS'!$B$34=\"away\",'PENNANT TEAMS'!$E$39,\"\")","v":""},null,"S"]
[null,null,null,"ID",{"$f":"IF('PENNANT TEAMS'!$B$34=\"HOME\",'PENNANT TEAMS'!$E$40,\"\")","v":""},"Ends Won","Ends Won","ID",{"$f":"IF('PENNANT TEAMS'!$B$34=\"away\",'PENNANT TEAMS'!$E$40,\"\")","v":""}]
[null,null,null,null,"Total Shots"]
[null,null,null,null,"Ends Won",null,null,null,"Win = 7 points: Draw = 3.5"]
[null,null,null,null,"Rinks Won",null,null,null,"1 point per winning rink"]
[null,null,null,null,"Win Points",null,null,null,"Total points max 10"]
[null,null,null,null,"Total Points"]
[null,null,{"$f":"IF('PENNANT TEAMS'!$B$34=\"HOME\",'PENNANT TEAMS'!$A$39,\"\")","v":0},null,null,null,null,{"$f":"IF('PENNANT TEAMS'!$B$34=\"AWAY\",'PENNANT TEAMS'!$A$39,\"\")","v":""}]
[null,null,"Manager Name",null,null,null,null,"Manager Name"]
[]
[]
[]
[]
[]
[]
[null,"2019 Bowls NSW State Pennants"]
[null,"Grade 2-7  Results Form"]
[null,"Wagga & District Bowling Assn."]
[null,"ONLY ONE result form is required for each match"]
[null,"On completion of the match BOTH Side Managers should ensure that all details on the form are correct,sign it, and have the Host Club forward to the District Secretary by scanning & emailing to wdba@bigpond.com."]
[]
[null,"Date",null,null,{"$f":"'PENNANT TEAMS'!$B$4","v":"2019-02-02"},"Round",null,{"$f":"'PENNANT TEAMS'!$B$5","v":1}]
[null,"Grade",null,null,{"$f":"'PENNANT TEAMS'!$A$44","v":0},"Venue",null,{"$f":"'PENNANT TEAMS'!$G$43","v":"CLUB NAME"}]
[null,"Section",null,null,{"$f":"'PENNANT TEAMS'!$D$50","v":0}]
[null,"Toss",null,null,null,"Mat 1st end"]
[]
[null,null,"HOME SIDE",null,null,null,"AWAY SIDE"]
[null,null,{"$f":"IF('PENNANT TEAMS'!$B$43=\"home\",'PENNANT TEAMS'!$D$3,IF('PENNANT TEAMS'!$B$43=\"away\",'PENNANT TEAMS'!$D$43,\"\"))","v":"CLUB NAME"},null,null,null,{"$f":"IF('PENNANT TEAMS'!$B$43=\"home\",'PENNANT TEAMS'!$D$43,IF('PENNANT TEAMS'!$B$43=\"away\",'PENNANT TEAMS'!$D$3,\"\"))","v":0}]
[]
[null,"Rink","L",{"$f":"IF('PENNANT TEAMS'!$B$43=\"home\",'PENNANT TEAMS'!$B$44,\"\")","v":0},null,null,null,{"$f":"IF('PENNANT TEAMS'!$B$43=\"away\",'PENNANT TEAMS'!$B$44,\"\")","v":""},null,"L"]
[null,null,null,"ID",{"$f":"IF('PENNANT TEAMS'!$B$43=\"HOME\",'PENNANT TEAMS'!$B$45,\"\")","v":""},null,null,"ID",{"$f":"IF('PENNANT TEAMS'!$B$43=\"away\",'PENNANT TEAMS'!$B$45,\"\")","v":""}]
[null,null,2,{"$f":"IF('PENNANT TEAMS'!$B$43=\"home\",'PENNANT TEAMS'!$C$44,\"\")","v":0},null,null,null,{"$f":"IF('PENNANT TEAMS'!$B$43=\"away\",'PENNANT TEAMS'!$C$44,\"\")","v":""},null,2]
[null,null,null,"ID",{"$f":"IF('PENNANT TEAMS'!$B$43=\"HOME\",'PENNANT TEAMS'!$C$45,\"\")","v":""},null,null,"ID",{"$f":"IF('PENNANT TEAMS'!$B$43=\"away\",'PENNANT TEAMS'!$C$45,\"\")","v":""}]
[null,null,3,{"$f":"IF('PENNANT TEAMS'!$B$43=\"home\",'PENNANT TEAMS'!$D$44,\"\")","v":0},null,null,null,{"$f":"IF('PENNANT TEAMS'!$B$43=\"away\",'PENNANT TEAMS'!$D$44,\"\")","v":""},null,3]
[null,null,null,"ID",{"$f":"IF('PENNANT TEAMS'!$B$43=\"HOME\",'PENNANT TEAMS'!$D$45,\"\")","v":""},null,null,"ID",{"$f":"IF('PENNANT TEAMS'!$B$43=\"away\",'PENNANT TEAMS'!$D$45,\"\")","v":""}]
[null,null,"S",{"$f":"IF('PENNANT TEAMS'!$B$43=\"home\",'PENNANT TEAMS'!$E$44,\"\")","v":0},null,null,null,{"$f":"IF('PENNANT TEAMS'!$B$43=\"away\",'PENNANT TEAMS'!$E$44,\"\")","v":""},null,"S"]
[null,null,null,"ID",{"$f":"IF('PENNANT TEAMS'!$B$43=\"HOME\",'PENNANT TEAMS'!$E$45,\"\")","v":""},"Ends Won","Ends Won","ID",{"$f":"IF('PENNANT TEAMS'!$B$43=\"away\",'PENNANT TEAMS'!$E$45,\"\")","v":""}]
[null,"Rink","L",{"$f":"IF('PENNANT TEAMS'!$B$43=\"home\",'PENNANT TEAMS'!$B$46,\"\")","v":0},null,null,null,{"$f":"IF('PENNANT TEAMS'!$B$43=\"away\",'PENNANT TEAMS'!$B$46,\"\")","v":""},null,"L"]
[null,null,null,"ID",{"$f":"IF('PENNANT TEAMS'!$B$43=\"HOME\",'PENNANT TEAMS'!$C$47,\"\")","v":""},null,null,"ID",{"$f":"IF('PENNANT TEAMS'!$B$43=\"away\",'PENNANT TEAMS'!$B$47,\"\")","v":""}]
[null,null,2,{"$f":"IF('PENNANT TEAMS'!$B$43=\"home\",'PENNANT TEAMS'!$C$46,\"\")","v":0},null,null,null,{"$f":"IF('PENNANT TEAMS'!$B$43=\"away\",'PENNANT TEAMS'!$C$46,\"\")","v":""},null,2]
[null,null,null,"ID",{"$f":"IF('PENNANT TEAMS'!$B$43=\"HOME\",'PENNANT TEAMS'!$C$47,\"\")","v":""},null,null,"ID",{"$f":"IF('PENNANT TEAMS'!$B$43=\"AWAY\",'PENNANT TEAMS'!$C$47,\"\")","v":""}]
[null,null,3,{"$f":"IF('PENNANT TEAMS'!$B$43=\"home\",'PENNANT TEAMS'!$D$46,\"\")","v":0},null,null,null,{"$f":"IF('PENNANT TEAMS'!$B$43=\"away\",'PENNANT TEAMS'!$D$46,\"\")","v":""},null,3]
[null,null,null,"ID",{"$f":"IF('PENNANT TEAMS'!$B$43=\"HOME\",'PENNANT TEAMS'!$D$47,\"\")","v":""},null,null,"ID",{"$f":"IF('PENNANT TEAMS'!$B$43=\"AWAY\",'PENNANT TEAMS'!$D$47,\"\")","v":""}]
[null,null,"S",{"$f":"IF('PENNANT TEAMS'!$B$43=\"home\",'PENNANT TEAMS'!$E$46,\"\")","v":0},null,null,null,{"$f":"IF('PENNANT TEAMS'!$B$43=\"away\",'PENNANT TEAMS'!$E$46,\"\")","v":""},null,"S"]
[null,null,null,"ID",{"$f":"IF('PENNANT TEAMS'!$B$43=\"HOME\",'PENNANT TEAMS'!$E$47,\"\")","v":""},"Ends Won","Ends Won","ID",{"$f":"IF('PENNANT TEAMS'!$B$43=\"AWAY\",'PENNANT TEAMS'!$E$47,\"\")","v":""}]
[null,"Rink","L",{"$f":"IF('PENNANT TEAMS'!$B$43=\"home\",'PENNANT TEAMS'!$B$48,\"\")","v":0},null,null,null,{"$f":"IF('PENNANT TEAMS'!$B$43=\"away\",'PENNANT TEAMS'!$B$48,\"\")","v":""},null,"L"]
[null,null,null,"ID",{"$f":"IF('PENNANT TEAMS'!$B$43=\"HOME\",'PENNANT TEAMS'!$B$49,\"\")","v":""},null,null,"ID",{"$f":"IF('PENNANT TEAMS'!$B$43=\"AWAY\",'PENNANT TEAMS'!$B$49,\"\")","v":""}]
[null,null,2,{"$f":"IF('PENNANT TEAMS'!$B$43=\"home\",'PENNANT TEAMS'!$C$48,\"\")","v":0},null,null,null,{"$f":"IF('PENNANT TEAMS'!$B$43=\"away\",'PENNANT TEAMS'!$C$48,\"\")","v":""},null,2]
[null,null,null,"ID",{"$f":"IF('PENNANT TEAMS'!$B$43=\"HOME\",'PENNANT TEAMS'!$C$49,\"\")","v":""},null,null,"ID",{"$f":"IF('PENNANT TEAMS'!$B$43=\"AWAY\",'PENNANT TEAMS'!$C$49,\"\")","v":""}]
[null,null,3,{"$f":"IF('PENNANT TEAMS'!$B$43=\"home\",'PENNANT TEAMS'!$D$48,\"\")","v":0},null,null,null,{"$f":"IF('PENNANT TEAMS'!$B$43=\"away\",'PENNANT TEAMS'!$D$48,\"\")","v":""},null,3]
[null,null,null,"ID",{"$f":"IF('PENNANT TEAMS'!$B$43=\"HOME\",'PENNANT TEAMS'!$D$49,\"\")","v":""},null,null,"ID",{"$f":"IF('PENNANT TEAMS'!$B$43=\"AWAY\",'PENNANT TEAMS'!$D$49,\"\")","v":""}]
[null,null,"S",{"$f":"IF('PENNANT TEAMS'!$B$43=\"home\",'PENNANT TEAMS'!$E$48,\"\")","v":0},null,null,null,{"$f":"IF('PENNANT TEAMS'!$B$43=\"away\",'PENNANT TEAMS'!$E$48,\"\")","v":""},null,"S"]
[null,null,null,"ID",{"$f":"IF('PENNANT TEAMS'!$B$43=\"HOME\",'PENNANT TEAMS'!$E$49,\"\")","v":""},"Ends Won","Ends Won","ID"]
[null,null,null,null,"Total Shots"]
[null,null,null,null,"Ends Won",null,null,null,"Win = 7 points: Draw = 3.5"]
[null,null,null,null,"Rinks Won",null,null,null,"1 point per winning rink"]
[null,null,null,null,"Win Points",null,null,null,"Total points max 10"]
[null,null,null,null,"Total Points"]
[null,null,{"$f":"IF('PENNANT TEAMS'!$B$43=\"HOME\",'PENNANT TEAMS'!$A$48,\"\")","v":0},null,null,null,null,{"$f":"IF('PENNANT TEAMS'!$B$43=\"AWAY\",'PENNANT TEAMS'!$A$48,\"\")","v":""}]
[null,null,"Manager Name",null,null,null,null,"Manager Name"]
[]
[]
[]
[]
[]
[]
[]
[]
[null,"2019 Bowls NSW State Pennants"]
[null,"Grade 2-7  Results Form"]
[null,"Wagga & District Bowling Assn."]
[null,"ONLY ONE result form is required for each match"]
[null,"On completion of the match BOTH Side Managers should ensure that all details on the form are correct,sign it, and have the Host Club forward to the District Secretary by scanning & emailing to wdba@bigpond.com."]
[]
[null,"Date",null,null,{"$f":"'PENNANT TEAMS'!$B$4","v":"2019-02-02"},"Round",null,{"$f":"'PENNANT TEAMS'!$B$5","v":1}]
[null,"Grade",null,null,{"$f":"'PENNANT TEAMS'!$A$53","v":0},"Venue",null,{"$f":"'PENNANT TEAMS'!$G$52","v":"CLUB NAME"}]
[null,"Section",null,null,{"$f":"'PENNANT TEAMS'!$D$59","v":0}]
[null,"Toss",null,null,null,"Mat 1st end"]
[]
[null,null,"HOME SIDE",null,null,null,"AWAY SIDE"]
[null,null,{"$f":"IF('PENNANT TEAMS'!$B$52=\"home\",'PENNANT TEAMS'!$D$3,IF('PENNANT TEAMS'!$B$52=\"away\",'PENNANT TEAMS'!$D$52,\"\"))","v":"CLUB NAME"},null,null,null,{"$f":"IF('PENNANT TEAMS'!$B$52=\"home\",'PENNANT TEAMS'!$D$52,IF('PENNANT TEAMS'!$B$52=\"away\",'PENNANT TEAMS'!$D$3,\"\"))","v":0}]
[]
[null,"Rink","L",{"$f":"IF('PENNANT TEAMS'!$B$52=\"home\",'PENNANT TEAMS'!$B$53,\"\")","v":0},null,null,null,{"$f":"IF('PENNANT TEAMS'!$B$52=\"AWAY\",'PENNANT TEAMS'!$B$53,\"\")","v":""},null,"L"]
[null,null,null,"ID",{"$f":"IF('PENNANT TEAMS'!$B$52=\"HOME\",'PENNANT TEAMS'!$B$54,\"\")","v":""},null,null,"ID",{"$f":"IF('PENNANT TEAMS'!$B$52=\"AWAY\",'PENNANT TEAMS'!$B$54,\"\")","v":""}]
[null,null,2,{"$f":"IF('PENNANT TEAMS'!$B$52=\"home\",'PENNANT TEAMS'!$C$53,\"\")","v":0},null,null,null,{"$f":"IF('PENNANT TEAMS'!$B$52=\"AWAY\",'PENNANT TEAMS'!$C$53,\"\")","v":""},null,2]
[null,null,null,"ID",{"$f":"IF('PENNANT TEAMS'!$B$52=\"HOME\",'PENNANT TEAMS'!$C$54,\"\")","v":""},null,null,"ID",{"$f":"IF('PENNANT TEAMS'!$B$52=\"AWAY\",'PENNANT TEAMS'!$C$54,\"\")","v":""}]
[null,null,3,{"$f":"IF('PENNANT TEAMS'!$B$52=\"home\",'PENNANT TEAMS'!$D$53,\"\")","v":0},null,null,null,{"$f":"IF('PENNANT TEAMS'!$B$52=\"AWAY\",'PENNANT TEAMS'!$D$53,\"\")","v":""},null,3]
[null,null,null,"ID",{"$f":"IF('PENNANT TEAMS'!$B$52=\"HOME\",'PENNANT TEAMS'!$D$54,\"\")","v":""},null,null,"ID",{"$f":"IF('PENNANT TEAMS'!$B$52=\"AWAY\",'PENNANT TEAMS'!$D$54,\"\")","v":""}]
[null,null,"S",{"$f":"IF('PENNANT TEAMS'!$B$52=\"home\",'PENNANT TEAMS'!$E$53,\"\")","v":0},null,null,null,{"$f":"IF('PENNANT TEAMS'!$B$52=\"AWAY\",'PENNANT TEAMS'!$E$53,\"\")","v":""},null,"S"]
[null,null,null,"ID",{"$f":"IF('PENNANT TEAMS'!$B$52=\"HOME\",'PENNANT TEAMS'!$E$54,\"\")","v":""},"Ends Won","Ends Won","ID",{"$f":"IF('PENNANT TEAMS'!$B$52=\"AWAY\",'PENNANT TEAMS'!$E$54,\"\")","v":""}]
[null,"Rink","L",{"$f":"IF('PENNANT TEAMS'!$B$52=\"home\",'PENNANT TEAMS'!$B$55,\"\")","v":0},null,null,null,{"$f":"IF('PENNANT TEAMS'!$B$52=\"AWAY\",'PENNANT TEAMS'!$B$55,\"\")","v":""},null,"L"]
[null,null,null,"ID",{"$f":"IF('PENNANT TEAMS'!$B$52=\"HOME\",'PENNANT TEAMS'!$B$56,\"\")","v":""},null,null,"ID",{"$f":"IF('PENNANT TEAMS'!$B$52=\"AWAY\",'PENNANT TEAMS'!$B$56,\"\")","v":""}]
[null,null,2,{"$f":"IF('PENNANT TEAMS'!$B$52=\"home\",'PENNANT TEAMS'!$C$55,\"\")","v":0},null,null,null,{"$f":"IF('PENNANT TEAMS'!$B$52=\"AWAY\",'PENNANT TEAMS'!$C$55,\"\")","v":""},null,2]
[null,null,null,"ID",{"$f":"IF('PENNANT TEAMS'!$B$52=\"HOME\",'PENNANT TEAMS'!$C$56,\"\")","v":""},null,null,"ID",{"$f":"IF('PENNANT TEAMS'!$B$52=\"AWAY\",'PENNANT TEAMS'!$C$56,\"\")","v":""}]
[null,null,3,{"$f":"IF('PENNANT TEAMS'!$B$52=\"home\",'PENNANT TEAMS'!$D$55,\"\")","v":0},null,null,null,{"$f":"IF('PENNANT TEAMS'!$B$52=\"AWAY\",'PENNANT TEAMS'!$D$55,\"\")","v":""},null,3]
[null,null,null,"ID",{"$f":"IF('PENNANT TEAMS'!$B$52=\"HOME\",'PENNANT TEAMS'!$D$56,\"\")","v":""},null,null,"ID",{"$f":"IF('PENNANT TEAMS'!$B$52=\"AWAY\",'PENNANT TEAMS'!$D$56,\"\")","v":""}]
[null,null,"S",{"$f":"IF('PENNANT TEAMS'!$B$52=\"home\",'PENNANT TEAMS'!$E$55,\"\")","v":0},null,null,null,{"$f":"IF('PENNANT TEAMS'!$B$52=\"AWAY\",'PENNANT TEAMS'!$E$55,\"\")","v":""},null,"S"]
[null,null,null,"ID",{"$f":"IF('PENNANT TEAMS'!$B$52=\"HOME\",'PENNANT TEAMS'!$E$56,\"\")","v":""},"Ends Won","Ends Won","ID",{"$f":"IF('PENNANT TEAMS'!$B$52=\"AWAY\",'PENNANT TEAMS'!$E$56,\"\")","v":""}]
[null,"Rink","L",{"$f":"IF('PENNANT TEAMS'!$B$52=\"home\",'PENNANT TEAMS'!$B$57,\"\")","v":0},null,null,null,{"$f":"IF('PENNANT TEAMS'!$B$52=\"AWAY\",'PENNANT TEAMS'!$B$57,\"\")","v":""},null,"L"]
[null,null,null,"ID",{"$f":"IF('PENNANT TEAMS'!$B$52=\"HOME\",'PENNANT TEAMS'!$B$58,\"\")","v":""},null,null,"ID",{"$f":"IF('PENNANT TEAMS'!$B$52=\"AWAY\",'PENNANT TEAMS'!$B$58,\"\")","v":""}]
[null,null,2,{"$f":"IF('PENNANT TEAMS'!$B$52=\"home\",'PENNANT TEAMS'!$C$57,\"\")","v":0},null,null,null,{"$f":"IF('PENNANT TEAMS'!$B$52=\"AWAY\",'PENNANT TEAMS'!$C$57,\"\")","v":""},null,2]
[null,null,null,"ID",{"$f":"IF('PENNANT TEAMS'!$B$52=\"HOME\",'PENNANT TEAMS'!$C$58,\"\")","v":""},null,null,"ID",{"$f":"IF('PENNANT TEAMS'!$B$52=\"AWAY\",'PENNANT TEAMS'!$C$58,\"\")","v":""}]
[null,null,3,{"$f":"IF('PENNANT TEAMS'!$B$52=\"home\",'PENNANT TEAMS'!$D$57,\"\")","v":0},null,null,null,{"$f":"IF('PENNANT TEAMS'!$B$52=\"AWAY\",'PENNANT TEAMS'!$D$57,\"\")","v":""},null,3]
[null,null,null,"ID",{"$f":"IF('PENNANT TEAMS'!$B$52=\"HOME\",'PENNANT TEAMS'!$D$58,\"\")","v":""},null,null,"ID",{"$f":"IF('PENNANT TEAMS'!$B$52=\"AWAY\",'PENNANT TEAMS'!$D$58,\"\")","v":""}]
[null,null,"S",{"$f":"IF('PENNANT TEAMS'!$B$52=\"home\",'PENNANT TEAMS'!$E$57,\"\")","v":0},null,null,null,{"$f":"IF('PENNANT TEAMS'!$B$52=\"AWAY\",'PENNANT TEAMS'!$E$57,\"\")","v":""},null,"S"]
[null,null,null,"ID",{"$f":"IF('PENNANT TEAMS'!$B$52=\"HOME\",'PENNANT TEAMS'!$E$58,\"\")","v":""},"Ends Won","Ends Won","ID",{"$f":"IF('PENNANT TEAMS'!$B$52=\"AWAY\",'PENNANT TEAMS'!$E$58,\"\")","v":""}]
[null,null,null,null,"Total Shots"]
[null,null,null,null,"Ends Won",null,null,null,"Win = 7 points: Draw = 3.5"]
[null,null,null,null,"Rinks Won",null,null,null,"1 point per winning rink"]
[null,null,null,null,"Win Points",null,null,null,"Total points max 10"]
[null,null,null,null,"Total Points"]
[null,null,{"$f":"IF('PENNANT TEAMS'!$B$52=\"HOME\",'PENNANT TEAMS'!$A$57,\"\")","v":0},null,null,null,null,{"$f":"IF('PENNANT TEAMS'!$B$52=\"AWAY\",'PENNANT TEAMS'!$A$57,\"\")","v":""}]
[null,null,"Manager Name",null,null,null,null,"Manager Name"]
[]
[]
[]
[]
[null,"2019 Bowls NSW State Pennants"]
[null,"Grade 2-7  Results Form"]
[null,"Wagga & District Bowling Assn."]
[null,"ONLY ONE result form is required for each match"]
[null,"On completion of the match BOTH Side Managers should ensure that all details on the form are correct,sign it, and have the Host Club forward to the District Secretary by scanning & emailing to wdba@bigpond.com."]
[]
[null,"Date",null,null,{"$f":"'PENNANT TEAMS'!$B$4","v":"2019-02-02"},"Round",null,{"$f":"'PENNANT TEAMS'!$B$5","v":1}]
[null,"Grade",null,null,{"$f":"'PENNANT TEAMS'!$A$62","v":0},"Venue",null,{"$f":"'PENNANT TEAMS'!$G$61","v":"CLUB NAME"}]
[null,"Section",null,null,{"$f":"'PENNANT TEAMS'!$D$68","v":0}]
[null,"Toss",null,null,null,"Mat 1st end"]
[]
[null,null,"HOME SIDE",null,null,null,"AWAY SIDE"]
[null,null,{"$f":"IF('PENNANT TEAMS'!$B$61=\"home\",'PENNANT TEAMS'!$D$3,IF('PENNANT TEAMS'!$B$61=\"away\",'PENNANT TEAMS'!$D$61,\"\"))","v":"CLUB NAME"},null,null,null,{"$f":"IF('PENNANT TEAMS'!$B$61=\"home\",'PENNANT TEAMS'!$D$61,IF('PENNANT TEAMS'!$B$61=\"away\",'PENNANT TEAMS'!$D$3,\"\"))","v":0}]
[]
[null,"Rink","L",{"$f":"IF('PENNANT TEAMS'!$B$61=\"home\",'PENNANT TEAMS'!$B$62,\"\")","v":0},null,null,null,{"$f":"IF('PENNANT TEAMS'!$B$61=\"away\",'PENNANT TEAMS'!$B$62,\"\")","v":""},null,"L"]
[null,null,null,"ID",{"$f":"IF('PENNANT TEAMS'!$B$61=\"HOME\",'PENNANT TEAMS'!$B$63,\"\")","v":""},null,null,"ID",{"$f":"IF('PENNANT TEAMS'!$B$61=\"away\",'PENNANT TEAMS'!$B$63,\"\")","v":""}]
[null,null,2,{"$f":"IF('PENNANT TEAMS'!$B$61=\"home\",'PENNANT TEAMS'!$C$62,\"\")","v":0},null,null,null,{"$f":"IF('PENNANT TEAMS'!$B$61=\"away\",'PENNANT TEAMS'!$C$62,\"\")","v":""},null,2]
[null,null,null,"ID",{"$f":"IF('PENNANT TEAMS'!$B$61=\"HOME\",'PENNANT TEAMS'!$C$63,\"\")","v":""},null,null,"ID",{"$f":"IF('PENNANT TEAMS'!$B$61=\"away\",'PENNANT TEAMS'!$C$63,\"\")","v":""}]
[null,null,3,{"$f":"IF('PENNANT TEAMS'!$B$61=\"home\",'PENNANT TEAMS'!$D$62,\"\")","v":0},null,null,null,{"$f":"IF('PENNANT TEAMS'!$B$61=\"away\",'PENNANT TEAMS'!$D$62,\"\")","v":""},null,3]
[null,null,null,"ID",{"$f":"IF('PENNANT TEAMS'!$B$61=\"HOME\",'PENNANT TEAMS'!$D$63,\"\")","v":""},null,null,"ID",{"$f":"IF('PENNANT TEAMS'!$B$61=\"away\",'PENNANT TEAMS'!$D$63,\"\")","v":""}]
[null,null,"S",{"$f":"IF('PENNANT TEAMS'!$B$61=\"home\",'PENNANT TEAMS'!$E$62,\"\")","v":0},null,null,null,{"$f":"IF('PENNANT TEAMS'!$B$61=\"away\",'PENNANT TEAMS'!$E$62,\"\")","v":""},null,"S"]
[null,null,null,"ID",{"$f":"IF('PENNANT TEAMS'!$B$61=\"HOME\",'PENNANT TEAMS'!$E$63,\"\")","v":""},"Ends Won","Ends Won","ID",{"$f":"IF('PENNANT TEAMS'!$B$61=\"away\",'PENNANT TEAMS'!$E$63,\"\")","v":""}]
[null,"Rink","L",{"$f":"IF('PENNANT TEAMS'!$B$61=\"home\",'PENNANT TEAMS'!$B$64,\"\")","v":0},null,null,null,{"$f":"IF('PENNANT TEAMS'!$B$61=\"away\",'PENNANT TEAMS'!$B$64,\"\")","v":""},null,"L"]
[null,null,null,"ID",{"$f":"IF('PENNANT TEAMS'!$B$61=\"HOME\",'PENNANT TEAMS'!$B$65,\"\")","v":""},null,null,"ID",{"$f":"IF('PENNANT TEAMS'!$B$61=\"away\",'PENNANT TEAMS'!$B$65,\"\")","v":""}]
[null,null,2,{"$f":"IF('PENNANT TEAMS'!$B$61=\"home\",'PENNANT TEAMS'!$C$64,\"\")","v":0},null,null,null,{"$f":"IF('PENNANT TEAMS'!$B$61=\"away\",'PENNANT TEAMS'!$C$64,\"\")","v":""},null,2]
[null,null,null,"ID",{"$f":"IF('PENNANT TEAMS'!$B$61=\"HOME\",'PENNANT TEAMS'!$C$65,\"\")","v":""},null,null,"ID",{"$f":"IF('PENNANT TEAMS'!$B$61=\"away\",'PENNANT TEAMS'!$C$65,\"\")","v":""}]
[null,null,3,{"$f":"IF('PENNANT TEAMS'!$B$61=\"home\",'PENNANT TEAMS'!$D$64,\"\")","v":0},null,null,null,{"$f":"IF('PENNANT TEAMS'!$B$61=\"away\",'PENNANT TEAMS'!$D$64,\"\")","v":""},null,3]
[null,null,null,"ID",{"$f":"IF('PENNANT TEAMS'!$B$61=\"HOME\",'PENNANT TEAMS'!$D$65,\"\")","v":""},null,null,"ID",{"$f":"IF('PENNANT TEAMS'!$B$61=\"away\",'PENNANT TEAMS'!$D$65,\"\")","v":""}]
[null,null,"S",{"$f":"IF('PENNANT TEAMS'!$B$61=\"home\",'PENNANT TEAMS'!$E$64,\"\")","v":0},null,null,null,{"$f":"IF('PENNANT TEAMS'!$B$61=\"away\",'PENNANT TEAMS'!$E$64,\"\")","v":""},null,"S"]
[null,null,null,"ID",{"$f":"IF('PENNANT TEAMS'!$B$61=\"HOME\",'PENNANT TEAMS'!$E$65,\"\")","v":""},"Ends Won","Ends Won","ID",{"$f":"IF('PENNANT TEAMS'!$B$61=\"away\",'PENNANT TEAMS'!$E$65,\"\")","v":""}]
[null,"Rink","L",{"$f":"IF('PENNANT TEAMS'!$B$61=\"home\",'PENNANT TEAMS'!$B$66,\"\")","v":0},null,null,null,{"$f":"IF('PENNANT TEAMS'!$B$61=\"away\",'PENNANT TEAMS'!$B$66,\"\")","v":""},null,"L"]
[null,null,null,"ID",{"$f":"IF('PENNANT TEAMS'!$B$61=\"HOME\",'PENNANT TEAMS'!$B$67,\"\")","v":""},null,null,"ID",{"$f":"IF('PENNANT TEAMS'!$B$61=\"away\",'PENNANT TEAMS'!$B$67,\"\")","v":""}]
[null,null,2,{"$f":"IF('PENNANT TEAMS'!$B$61=\"home\",'PENNANT TEAMS'!$C$66,\"\")","v":0},null,null,null,{"$f":"IF('PENNANT TEAMS'!$B$61=\"away\",'PENNANT TEAMS'!$C$66,\"\")","v":""},null,2]
[null,null,null,"ID",{"$f":"IF('PENNANT TEAMS'!$B$61=\"HOME\",'PENNANT TEAMS'!$C$67,\"\")","v":""},null,null,"ID",{"$f":"IF('PENNANT TEAMS'!$B$61=\"away\",'PENNANT TEAMS'!$C$67,\"\")","v":""}]
[null,null,3,{"$f":"IF('PENNANT TEAMS'!$B$61=\"home\",'PENNANT TEAMS'!$D$66,\"\")","v":0},null,null,null,{"$f":"IF('PENNANT TEAMS'!$B$61=\"away\",'PENNANT TEAMS'!$D$66,\"\")","v":""},null,3]
[null,null,null,"ID",{"$f":"IF('PENNANT TEAMS'!$B$61=\"HOME\",'PENNANT TEAMS'!$D$67,\"\")","v":""},null,null,"ID",{"$f":"IF('PENNANT TEAMS'!$B$61=\"away\",'PENNANT TEAMS'!$D$67,\"\")","v":""}]
[null,null,"S",{"$f":"IF('PENNANT TEAMS'!$B$61=\"home\",'PENNANT TEAMS'!$E$66,\"\")","v":0},null,null,null,{"$f":"IF('PENNANT TEAMS'!$B$61=\"away\",'PENNANT TEAMS'!$E$66,\"\")","v":""},null,"S"]
[null,null,null,"ID",{"$f":"IF('PENNANT TEAMS'!$B$61=\"HOME\",'PENNANT TEAMS'!$E$67,\"\")","v":""},"Ends Won","Ends Won","ID",{"$f":"IF('PENNANT TEAMS'!$B$61=\"away\",'PENNANT TEAMS'!$E$67,\"\")","v":""}]
[null,null,null,null,"Total Shots"]
[null,null,null,null,"Ends Won",null,null,null,"Win = 7 points: Draw = 3.5"]
[null,null,null,null,"Rinks Won",null,null,null,"1 point per winning rink"]
[null,null,null,null,"Win Points",null,null,null,"Total points max 10"]
[null,null,null,null,"Total Points"]
[null,null,{"$f":"IF('PENNANT TEAMS'!$B$61=\"HOME\",'PENNANT TEAMS'!$A$66,\"\")","v":0},null,null,null,null,{"$f":"IF('PENNANT TEAMS'!$B$61=\"AWAY\",'PENNANT TEAMS'!$A$66,\"\")","v":""}]
[null,null,"Manager Name",null,null,null,null,"Manager Name"]
[]
[]
[]
[]
[null,"2017 Bowls NSW State Pennants"]
[null,"Grades 2-7 Results Form"]
[]
[null,"One result form is required for each match"]
[null,"On completion of the match Side Managers should ensure that all details on the form are correct, sign it and forward to the Chairman of Zone 15 Match Committee by FAX on  4311 2663 at completion of match."]
[]
[null,"Date",null,null,{"$f":"'PENNANT TEAMS'!$B$4","v":"2019-02-02"},"Round",null,{"$f":"'PENNANT TEAMS'!$B$5","v":1}]
[null,"Grade",null,null,{"$f":"'PENNANT TEAMS'!$A$71","v":0},"Venue",null,{"$f":"'PENNANT TEAMS'!$G$70","v":"CLUB NAME"}]
[null,"Section",null,null,{"$f":"'PENNANT TEAMS'!$D$77","v":0}]
[null,"Toss",null,null,null,"Mat 1st end"]
[]
[null,null,"HOME SIDE",null,null,null,"AWAY SIDE"]
[null,null,{"$f":"IF('PENNANT TEAMS'!$B$70=\"home\",'PENNANT TEAMS'!$D$3,IF('PENNANT TEAMS'!$B$70=\"away\",'PENNANT TEAMS'!$D$70,\"\"))","v":"CLUB NAME"},null,null,null,{"$f":"IF('PENNANT TEAMS'!$B$70=\"home\",'PENNANT TEAMS'!$D$70,IF('PENNANT TEAMS'!$B$70=\"away\",'PENNANT TEAMS'!$D$3,\"\"))","v":0}]
[]
[null,"Rink","L",{"$f":"IF('PENNANT TEAMS'!$B$70=\"home\",'PENNANT TEAMS'!$B$71,\"\")","v":0},null,null,null,{"$f":"IF('PENNANT TEAMS'!$B$70=\"away\",'PENNANT TEAMS'!$B$71,\"\")","v":""},null,"L"]
[null,null,null,"ID",{"$f":"IF('PENNANT TEAMS'!$B$70=\"HOME\",'PENNANT TEAMS'!$B$72,\"\")","v":""},null,null,{"$f":"IF('PENNANT TEAMS'!$B$70=\"away\",'PENNANT TEAMS'!$B$72,\"\")","v":""},"ID"]
[null,null,2,{"$f":"IF('PENNANT TEAMS'!$B$70=\"home\",'PENNANT TEAMS'!$C$71,\"\")","v":0},null,null,null,{"$f":"IF('PENNANT TEAMS'!$B$70=\"away\",'PENNANT TEAMS'!$C$71,\"\")","v":""},null,2]
[null,null,null,"ID",{"$f":"IF('PENNANT TEAMS'!$B$70=\"HOME\",'PENNANT TEAMS'!$C$72,\"\")","v":""},null,null,{"$f":"IF('PENNANT TEAMS'!$B$70=\"away\",'PENNANT TEAMS'!$C$72,\"\")","v":""},"ID"]
[null,null,3,{"$f":"IF('PENNANT TEAMS'!$B$70=\"home\",'PENNANT TEAMS'!$D$71,\"\")","v":0},null,null,null,{"$f":"IF('PENNANT TEAMS'!$B$70=\"away\",'PENNANT TEAMS'!$D$71,\"\")","v":""},null,3]
[null,null,null,"ID",{"$f":"IF('PENNANT TEAMS'!$B$70=\"HOME\",'PENNANT TEAMS'!$D$72,\"\")","v":""},null,null,{"$f":"IF('PENNANT TEAMS'!$B$70=\"away\",'PENNANT TEAMS'!$D$72,\"\")","v":""},"ID"]
[null,null,"S",{"$f":"IF('PENNANT TEAMS'!$B$70=\"home\",'PENNANT TEAMS'!$E$71,\"\")","v":0},null,null,null,{"$f":"IF('PENNANT TEAMS'!$B$70=\"away\",'PENNANT TEAMS'!$E$71,\"\")","v":""},null,"S"]
[null,null,null,"ID",{"$f":"IF('PENNANT TEAMS'!$B$70=\"HOME\",'PENNANT TEAMS'!$E$72,\"\")","v":""},"Ends Won","Ends Won",{"$f":"IF('PENNANT TEAMS'!$B$70=\"away\",'PENNANT TEAMS'!$E$72,\"\")","v":""},"ID"]
[null,"Rink","L",{"$f":"IF('PENNANT TEAMS'!$B$70=\"home\",'PENNANT TEAMS'!$B$73,\"\")","v":0},null,null,null,{"$f":"IF('PENNANT TEAMS'!$B$70=\"away\",'PENNANT TEAMS'!$B$73,\"\")","v":""},null,"L"]
[null,null,null,"ID",{"$f":"IF('PENNANT TEAMS'!$B$70=\"HOME\",'PENNANT TEAMS'!$B$74,\"\")","v":""},null,null,{"$f":"IF('PENNANT TEAMS'!$B$70=\"away\",'PENNANT TEAMS'!$B$74,\"\")","v":""},"ID"]
[null,null,2,{"$f":"IF('PENNANT TEAMS'!$B$70=\"home\",'PENNANT TEAMS'!$C$73,\"\")","v":0},null,null,null,{"$f":"IF('PENNANT TEAMS'!$B$70=\"away\",'PENNANT TEAMS'!$C$73,\"\")","v":""},null,2]
[null,null,null,"ID",{"$f":"IF('PENNANT TEAMS'!$B$70=\"HOME\",'PENNANT TEAMS'!$C$74,\"\")","v":""},null,null,{"$f":"IF('PENNANT TEAMS'!$B$70=\"away\",'PENNANT TEAMS'!$C$74,\"\")","v":""},"ID"]
[null,null,3,{"$f":"IF('PENNANT TEAMS'!$B$70=\"home\",'PENNANT TEAMS'!$D$73,\"\")","v":0},null,null,null,{"$f":"IF('PENNANT TEAMS'!$B$70=\"away\",'PENNANT TEAMS'!$D$73,\"\")","v":""},null,3]
[null,null,null,"ID",{"$f":"IF('PENNANT TEAMS'!$B$70=\"HOME\",'PENNANT TEAMS'!$D$74,\"\")","v":""},null,null,{"$f":"IF('PENNANT TEAMS'!$B$70=\"away\",'PENNANT TEAMS'!$D$74,\"\")","v":""},"ID"]
[null,null,"S",{"$f":"IF('PENNANT TEAMS'!$B$70=\"home\",'PENNANT TEAMS'!$E$73,\"\")","v":0},null,null,null,{"$f":"IF('PENNANT TEAMS'!$B$70=\"away\",'PENNANT TEAMS'!$E$73,\"\")","v":""},null,"S"]
[null,null,null,"ID",{"$f":"IF('PENNANT TEAMS'!$B$70=\"HOME\",'PENNANT TEAMS'!$E$74,\"\")","v":""},"Ends Won","Ends Won",{"$f":"IF('PENNANT TEAMS'!$B$70=\"away\",'PENNANT TEAMS'!$E$74,\"\")","v":""},"ID"]
[null,"Rink","L",{"$f":"IF('PENNANT TEAMS'!$B$70=\"home\",'PENNANT TEAMS'!$B$75,\"\")","v":0},null,null,null,{"$f":"IF('PENNANT TEAMS'!$B$70=\"away\",'PENNANT TEAMS'!$B$75,\"\")","v":""},null,"L"]
[null,null,null,"ID",{"$f":"IF('PENNANT TEAMS'!$B$70=\"HOME\",'PENNANT TEAMS'!$B$76,\"\")","v":""},null,null,{"$f":"IF('PENNANT TEAMS'!$B$70=\"away\",'PENNANT TEAMS'!$B$76,\"\")","v":""},"ID"]
[null,null,2,{"$f":"IF('PENNANT TEAMS'!$B$70=\"home\",'PENNANT TEAMS'!$C$75,\"\")","v":0},null,null,null,{"$f":"IF('PENNANT TEAMS'!$B$70=\"away\",'PENNANT TEAMS'!$C$75,\"\")","v":""},null,2]
[null,null,null,"ID",{"$f":"IF('PENNANT TEAMS'!$B$70=\"HOME\",'PENNANT TEAMS'!$C$76,\"\")","v":""},null,null,{"$f":"IF('PENNANT TEAMS'!$B$70=\"away\",'PENNANT TEAMS'!$C$76,\"\")","v":""},"ID"]
[null,null,3,{"$f":"IF('PENNANT TEAMS'!$B$70=\"home\",'PENNANT TEAMS'!$D$75,\"\")","v":0},null,null,null,{"$f":"IF('PENNANT TEAMS'!$B$70=\"away\",'PENNANT TEAMS'!$D$75,\"\")","v":""},null,3]
[null,null,null,"ID",{"$f":"IF('PENNANT TEAMS'!$B$70=\"HOME\",'PENNANT TEAMS'!$D$76,\"\")","v":""},null,null,{"$f":"IF('PENNANT TEAMS'!$B$70=\"away\",'PENNANT TEAMS'!$D$76,\"\")","v":""},"ID"]
[null,null,"S",{"$f":"IF('PENNANT TEAMS'!$B$70=\"home\",'PENNANT TEAMS'!$E$75,\"\")","v":0},null,null,null,{"$f":"IF('PENNANT TEAMS'!$B$70=\"away\",'PENNANT TEAMS'!$E$75,\"\")","v":""},null,"S"]
[null,null,null,"ID",{"$f":"IF('PENNANT TEAMS'!$B$70=\"HOME\",'PENNANT TEAMS'!$E$76,\"\")","v":""},"Ends Won","Ends Won",{"$f":"IF('PENNANT TEAMS'!$B$70=\"away\",'PENNANT TEAMS'!$E$76,\"\")","v":""},"ID"]
[null,null,null,null,"Total Shots"]
[null,null,null,null,"Ends Won"]
[null,null,null,null,"Rinks Won"]
[null,null,null,null,"Win Points"]
[null,null,null,null,"Total Points"]
[null,null,{"$f":"IF('PENNANT TEAMS'!$B$70=\"HOME\",'PENNANT TEAMS'!$A$75,\"\")","v":0},null,null,null,null,{"$f":"IF('PENNANT TEAMS'!$B$70=\"AWAY\",'PENNANT TEAMS'!$A$75,\"\")","v":""}]
[null,null,"Manager Name",null,null,null,null,"Manager Name"]
[]
[]
[]
[]
[null,"2017 Bowls NSW State Pennants"]
[null,"Grades 2-7 Results Form"]
[]
[null,"One result form is required for each match"]
[null,"On completion of the match Side Managers should ensure that all details on the form are correct, sign it and forward to the Chairman of Zone 15 Match Committee by FAX on  4311 2663 at completion of match."]
[]
[null,"Date",null,null,{"$f":"'PENNANT TEAMS'!$B$4","v":"2019-02-02"},"Round",null,{"$f":"'PENNANT TEAMS'!$B$5","v":1}]
[null,"Grade",null,null,{"$f":"'PENNANT TEAMS'!$A$80","v":0},"Venue",null,{"$f":"'PENNANT TEAMS'!$G$79","v":"CLUB NAME"}]
[null,"Section",null,null,{"$f":"'PENNANT TEAMS'!$D$86","v":0}]
[null,"Toss",null,null,null,"Mat 1st end"]
[]
[null,null,"HOME SIDE",null,null,null,"AWAY SIDE"]
[null,null,{"$f":"IF('PENNANT TEAMS'!$B$79=\"home\",'PENNANT TEAMS'!$D$3,IF('PENNANT TEAMS'!$B$79=\"away\",'PENNANT TEAMS'!$D$79,\"\"))","v":"CLUB NAME"},null,null,null,{"$f":"IF('PENNANT TEAMS'!$B$79=\"home\",'PENNANT TEAMS'!$D$79,IF('PENNANT TEAMS'!$B$79=\"away\",'PENNANT TEAMS'!$D$3,\"\"))","v":0}]
[]
[null,"Rink","L",{"$f":"IF('PENNANT TEAMS'!$B$79=\"home\",'PENNANT TEAMS'!$B$80,\"\")","v":0},null,null,null,{"$f":"IF('PENNANT TEAMS'!$B$79=\"away\",'PENNANT TEAMS'!$B$80,\"\")","v":""},null,"L"]
[null,null,null,"ID",{"$f":"IF('PENNANT TEAMS'!$B$79=\"HOME\",'PENNANT TEAMS'!$B$81,\"\")","v":""},null,null,{"$f":"IF('PENNANT TEAMS'!$B$79=\"away\",'PENNANT TEAMS'!$B$81,\"\")","v":""},"ID"]
[null,null,2,{"$f":"IF('PENNANT TEAMS'!$B$79=\"home\",'PENNANT TEAMS'!$C$80,\"\")","v":0},null,null,null,{"$f":"IF('PENNANT TEAMS'!$B$79=\"away\",'PENNANT TEAMS'!$C$80,\"\")","v":""},null,2]
[null,null,null,"ID",{"$f":"IF('PENNANT TEAMS'!$B$79=\"HOME\",'PENNANT TEAMS'!$C$81,\"\")","v":""},null,null,{"$f":"IF('PENNANT TEAMS'!$B$79=\"away\",'PENNANT TEAMS'!$C$81,\"\")","v":""},"ID"]
[null,null,3,{"$f":"IF('PENNANT TEAMS'!$B$79=\"home\",'PENNANT TEAMS'!$D$80,\"\")","v":0},null,null,null,{"$f":"IF('PENNANT TEAMS'!$B$79=\"away\",'PENNANT TEAMS'!$D$80,\"\")","v":""},null,3]
[null,null,null,"ID",{"$f":"IF('PENNANT TEAMS'!$B$79=\"HOME\",'PENNANT TEAMS'!$D$81,\"\")","v":""},null,null,{"$f":"IF('PENNANT TEAMS'!$B$79=\"away\",'PENNANT TEAMS'!$D$81,\"\")","v":""},"ID"]
[null,null,"S",{"$f":"IF('PENNANT TEAMS'!$B$79=\"home\",'PENNANT TEAMS'!$E$80,\"\")","v":0},null,null,null,{"$f":"IF('PENNANT TEAMS'!$B$79=\"away\",'PENNANT TEAMS'!$E$80,\"\")","v":""},null,"S"]
[null,null,null,"ID",{"$f":"IF('PENNANT TEAMS'!$B$79=\"HOME\",'PENNANT TEAMS'!$E$81,\"\")","v":""},"Ends Won","Ends Won",{"$f":"IF('PENNANT TEAMS'!$B$79=\"away\",'PENNANT TEAMS'!$E$81,\"\")","v":""},"ID"]
[null,"Rink","L",{"$f":"IF('PENNANT TEAMS'!$B$79=\"home\",'PENNANT TEAMS'!$B$82,\"\")","v":0},null,null,null,{"$f":"IF('PENNANT TEAMS'!$B$79=\"away\",'PENNANT TEAMS'!$B$82,\"\")","v":""},null,"L"]
[null,null,null,"ID",{"$f":"IF('PENNANT TEAMS'!$B$79=\"HOME\",'PENNANT TEAMS'!$B$83,\"\")","v":""},null,null,{"$f":"IF('PENNANT TEAMS'!$B$79=\"away\",'PENNANT TEAMS'!$B$83,\"\")","v":""},"ID"]
[null,null,2,{"$f":"IF('PENNANT TEAMS'!$B$79=\"home\",'PENNANT TEAMS'!$C$82,\"\")","v":0},null,null,null,{"$f":"IF('PENNANT TEAMS'!$B$79=\"away\",'PENNANT TEAMS'!$C$82,\"\")","v":""},null,2]
[null,null,null,"ID",{"$f":"IF('PENNANT TEAMS'!$B$79=\"HOME\",'PENNANT TEAMS'!$C$83,\"\")","v":""},null,null,{"$f":"IF('PENNANT TEAMS'!$B$79=\"away\",'PENNANT TEAMS'!$C$83,\"\")","v":""},"ID"]
[null,null,3,{"$f":"IF('PENNANT TEAMS'!$B$79=\"home\",'PENNANT TEAMS'!$D$82,\"\")","v":0},null,null,null,{"$f":"IF('PENNANT TEAMS'!$B$79=\"away\",'PENNANT TEAMS'!$D$82,\"\")","v":""},null,3]
[null,null,null,"ID",{"$f":"IF('PENNANT TEAMS'!$B$79=\"HOME\",'PENNANT TEAMS'!$D$83,\"\")","v":""},null,null,{"$f":"IF('PENNANT TEAMS'!$B$79=\"away\",'PENNANT TEAMS'!$D$83,\"\")","v":""},"ID"]
[null,null,"S",{"$f":"IF('PENNANT TEAMS'!$B$79=\"home\",'PENNANT TEAMS'!$E$82,\"\")","v":0},null,null,null,{"$f":"IF('PENNANT TEAMS'!$B$79=\"away\",'PENNANT TEAMS'!$E$82,\"\")","v":""},null,"S"]
[null,null,null,"ID",{"$f":"IF('PENNANT TEAMS'!$B$79=\"HOME\",'PENNANT TEAMS'!$E$83,\"\")","v":""},"Ends Won","Ends Won",{"$f":"IF('PENNANT TEAMS'!$B$79=\"away\",'PENNANT TEAMS'!$E$83,\"\")","v":""},"ID"]
[null,"Rink","L",{"$f":"IF('PENNANT TEAMS'!$B$79=\"home\",'PENNANT TEAMS'!$B$84,\"\")","v":0},null,null,null,{"$f":"IF('PENNANT TEAMS'!$B$79=\"away\",'PENNANT TEAMS'!$B$84,\"\")","v":""},null,"L"]
[null,null,null,"ID",{"$f":"IF('PENNANT TEAMS'!$B$79=\"HOME\",'PENNANT TEAMS'!$B$85,\"\")","v":""},null,null,{"$f":"IF('PENNANT TEAMS'!$B$79=\"away\",'PENNANT TEAMS'!$B$85,\"\")","v":""},"ID"]
[null,null,2,{"$f":"IF('PENNANT TEAMS'!$B$79=\"home\",'PENNANT TEAMS'!$C$84,\"\")","v":0},null,null,null,{"$f":"IF('PENNANT TEAMS'!$B$79=\"away\",'PENNANT TEAMS'!$C$84,\"\")","v":""},null,2]
[null,null,null,"ID",{"$f":"IF('PENNANT TEAMS'!$B$79=\"HOME\",'PENNANT TEAMS'!$C$85,\"\")","v":""},null,null,{"$f":"IF('PENNANT TEAMS'!$B$79=\"away\",'PENNANT TEAMS'!$C$85,\"\")","v":""},"ID"]
[null,null,3,{"$f":"IF('PENNANT TEAMS'!$B$79=\"home\",'PENNANT TEAMS'!$D$84,\"\")","v":0},null,null,null,{"$f":"IF('PENNANT TEAMS'!$B$79=\"away\",'PENNANT TEAMS'!$D$84,\"\")","v":""},null,3]
[null,null,null,"ID",{"$f":"IF('PENNANT TEAMS'!$B$79=\"HOME\",'PENNANT TEAMS'!$D$85,\"\")","v":""},null,null,{"$f":"IF('PENNANT TEAMS'!$B$79=\"away\",'PENNANT TEAMS'!$D$85,\"\")","v":""},"ID"]
[null,null,"S",{"$f":"IF('PENNANT TEAMS'!$B$79=\"home\",'PENNANT TEAMS'!$E$84,\"\")","v":0},null,null,null,{"$f":"IF('PENNANT TEAMS'!$B$79=\"away\",'PENNANT TEAMS'!$E$84,\"\")","v":""},null,"S"]
[null,null,null,"ID",{"$f":"IF('PENNANT TEAMS'!$B$79=\"HOME\",'PENNANT TEAMS'!$E$85,\"\")","v":""},"Ends Won","Ends Won",{"$f":"IF('PENNANT TEAMS'!$B$79=\"away\",'PENNANT TEAMS'!$E$85,\"\")","v":""},"ID"]
[null,null,null,null,"Total Shots"]
[null,null,null,null,"Ends Won"]
[null,null,null,null,"Rinks Won"]
[null,null,null,null,"Win Points"]
[null,null,null,null,"Total Points"]
[null,null,{"$f":"IF('PENNANT TEAMS'!$B$79=\"HOME\",'PENNANT TEAMS'!$A$84,\"\")","v":0},null,null,null,null,{"$f":"IF('PENNANT TEAMS'!$B$79=\"AWAY\",'PENNANT TEAMS'!$A$84,\"\")","v":""}]
[null,null,"Manager Name",null,null,null,null,"Manager Name"]
[]
[]
[]
[]
[null,"2017 Bowls NSW State Pennants"]
[null,"Grades 2-7 Results Form"]
[]
[null,"One result form is required for each match"]
[null,"On completion of the match Side Managers should ensure that all details on the form are correct, sign it and forward to the Chairman of Zone 15 Match Committee by FAX on  4311 2663 at completion of match."]
[]
[null,"Date",null,null,{"$f":"'PENNANT TEAMS'!$B$4","v":"2019-02-02"},"Round",null,{"$f":"'PENNANT TEAMS'!$B$5","v":1}]
[null,"Grade",null,null,{"$f":"'PENNANT TEAMS'!$A$89","v":0},"Venue",null,{"$f":"'PENNANT TEAMS'!$G$88","v":"CLUB NAME"}]
[null,"Section",null,null,{"$f":"'PENNANT TEAMS'!$D$95","v":0}]
[null,"Toss",null,null,null,"Mat 1st end"]
[]
[null,null,"HOME SIDE",null,null,null,"AWAY SIDE"]
[null,null,{"$f":"IF('PENNANT TEAMS'!$B$88=\"home\",'PENNANT TEAMS'!$D$3,IF('PENNANT TEAMS'!$B$88=\"away\",'PENNANT TEAMS'!$D$88,\"\"))","v":"CLUB NAME"},null,null,null,{"$f":"IF('PENNANT TEAMS'!$B$88=\"home\",'PENNANT TEAMS'!$D$88,IF('PENNANT TEAMS'!$B$88=\"away\",'PENNANT TEAMS'!$D$3,\"\"))","v":0}]
[]
[null,"Rink","L",{"$f":"IF('PENNANT TEAMS'!$B$88=\"home\",'PENNANT TEAMS'!$B$89,\"\")","v":0},null,null,null,{"$f":"IF('PENNANT TEAMS'!$B$88=\"away\",'PENNANT TEAMS'!$B$89,\"\")","v":""},null,"L"]
[null,null,null,"ID","",null,null,{"$f":"IF('PENNANT TEAMS'!$B$88=\"away\",'PENNANT TEAMS'!$B$90,\"\")","v":""},"ID"]
[null,null,2,{"$f":"IF('PENNANT TEAMS'!$B$88=\"home\",'PENNANT TEAMS'!$C$89,\"\")","v":0},null,null,null,{"$f":"IF('PENNANT TEAMS'!$B$88=\"away\",'PENNANT TEAMS'!$C$89,\"\")","v":""},null,2]
[null,null,null,"ID",{"$f":"IF('PENNANT TEAMS'!$B$88=\"HOME\",'PENNANT TEAMS'!$C$90,\"\")","v":""},null,null,{"$f":"IF('PENNANT TEAMS'!$B$88=\"away\",'PENNANT TEAMS'!$C$90,\"\")","v":""},"ID"]
[null,null,3,{"$f":"IF('PENNANT TEAMS'!$B$88=\"home\",'PENNANT TEAMS'!$D$89,\"\")","v":0},null,null,null,{"$f":"IF('PENNANT TEAMS'!$B$88=\"away\",'PENNANT TEAMS'!$D$89,\"\")","v":""},null,3]
[null,null,null,"ID",{"$f":"IF('PENNANT TEAMS'!$B$88=\"HOME\",'PENNANT TEAMS'!$D$90,\"\")","v":""},null,null,{"$f":"IF('PENNANT TEAMS'!$B$88=\"away\",'PENNANT TEAMS'!$D$90,\"\")","v":""},"ID"]
[null,null,"S",{"$f":"IF('PENNANT TEAMS'!$B$88=\"home\",'PENNANT TEAMS'!$E$89,\"\")","v":0},null,null,null,{"$f":"IF('PENNANT TEAMS'!$B$88=\"away\",'PENNANT TEAMS'!$E$89,\"\")","v":""},null,"S"]
[null,null,null,"ID",{"$f":"IF('PENNANT TEAMS'!$B$88=\"HOME\",'PENNANT TEAMS'!$E$90,\"\")","v":""},"Ends Won","Ends Won",{"$f":"IF('PENNANT TEAMS'!$B$88=\"away\",'PENNANT TEAMS'!$E$90,\"\")","v":""},"ID"]
[null,"Rink","L",{"$f":"IF('PENNANT TEAMS'!$B$88=\"home\",'PENNANT TEAMS'!$B$91,\"\")","v":0},null,null,null,{"$f":"IF('PENNANT TEAMS'!$B$88=\"away\",'PENNANT TEAMS'!$B$91,\"\")","v":""},null,"L"]
[null,null,null,"ID",{"$f":"IF('PENNANT TEAMS'!$B$88=\"HOME\",'PENNANT TEAMS'!$B$92,\"\")","v":""},null,null,{"$f":"IF('PENNANT TEAMS'!$B$88=\"away\",'PENNANT TEAMS'!$B$92,\"\")","v":""},"ID"]
[null,null,2,{"$f":"IF('PENNANT TEAMS'!$B$88=\"home\",'PENNANT TEAMS'!$C$91,\"\")","v":0},null,null,null,{"$f":"IF('PENNANT TEAMS'!$B$88=\"away\",'PENNANT TEAMS'!$C$91,\"\")","v":""},null,2]
[null,null,null,"ID",{"$f":"IF('PENNANT TEAMS'!$B$88=\"HOME\",'PENNANT TEAMS'!$C$92,\"\")","v":""},null,null,{"$f":"IF('PENNANT TEAMS'!$B$88=\"away\",'PENNANT TEAMS'!$C$92,\"\")","v":""},"ID"]
[null,null,3,{"$f":"IF('PENNANT TEAMS'!$B$88=\"home\",'PENNANT TEAMS'!$D$91,\"\")","v":0},null,null,null,{"$f":"IF('PENNANT TEAMS'!$B$88=\"away\",'PENNANT TEAMS'!$D$91,\"\")","v":""},null,3]
[null,null,null,"ID",{"$f":"IF('PENNANT TEAMS'!$B$88=\"HOME\",'PENNANT TEAMS'!$D$92,\"\")","v":""},null,null,{"$f":"IF('PENNANT TEAMS'!$B$88=\"away\",'PENNANT TEAMS'!$D$92,\"\")","v":""},"ID"]
[null,null,"S",{"$f":"IF('PENNANT TEAMS'!$B$88=\"home\",'PENNANT TEAMS'!$E$91,\"\")","v":0},null,null,null,{"$f":"IF('PENNANT TEAMS'!$B$88=\"away\",'PENNANT TEAMS'!$E$91,\"\")","v":""},null,"S"]
[null,null,null,"ID",{"$f":"IF('PENNANT TEAMS'!$B$88=\"HOME\",'PENNANT TEAMS'!$E$92,\"\")","v":""},"Ends Won","Ends Won",{"$f":"IF('PENNANT TEAMS'!$B$88=\"away\",'PENNANT TEAMS'!$E$92,\"\")","v":""},"ID"]
[null,"Rink","L",{"$f":"IF('PENNANT TEAMS'!$B$88=\"home\",'PENNANT TEAMS'!$B$93,\"\")","v":0},null,null,null,{"$f":"IF('PENNANT TEAMS'!$B$88=\"away\",'PENNANT TEAMS'!$B$93,\"\")","v":""},null,"L"]
[null,null,null,"ID",{"$f":"IF('PENNANT TEAMS'!$B$88=\"HOME\",'PENNANT TEAMS'!$B$94,\"\")","v":""},null,null,{"$f":"IF('PENNANT TEAMS'!$B$88=\"away\",'PENNANT TEAMS'!$B$94,\"\")","v":""},"ID"]
[null,null,2,{"$f":"IF('PENNANT TEAMS'!$B$88=\"home\",'PENNANT TEAMS'!$C$93,\"\")","v":0},null,null,null,{"$f":"IF('PENNANT TEAMS'!$B$88=\"away\",'PENNANT TEAMS'!$C$93,\"\")","v":""},null,2]
[null,null,null,"ID",{"$f":"IF('PENNANT TEAMS'!$B$88=\"HOME\",'PENNANT TEAMS'!$C$94,\"\")","v":""},null,null,{"$f":"IF('PENNANT TEAMS'!$B$88=\"away\",'PENNANT TEAMS'!$C$94,\"\")","v":""},"ID"]
[null,null,3,{"$f":"IF('PENNANT TEAMS'!$B$88=\"home\",'PENNANT TEAMS'!$D$93,\"\")","v":0},null,null,null,{"$f":"IF('PENNANT TEAMS'!$B$88=\"away\",'PENNANT TEAMS'!$D$93,\"\")","v":""},null,3]
[null,null,null,"ID",{"$f":"IF('PENNANT TEAMS'!$B$88=\"HOME\",'PENNANT TEAMS'!$D$94,\"\")","v":""},null,null,{"$f":"IF('PENNANT TEAMS'!$B$88=\"away\",'PENNANT TEAMS'!$D$94,\"\")","v":""},"ID"]
[null,null,"S",{"$f":"IF('PENNANT TEAMS'!$B$88=\"home\",'PENNANT TEAMS'!$E$93,\"\")","v":0},null,null,null,{"$f":"IF('PENNANT TEAMS'!$B$88=\"away\",'PENNANT TEAMS'!$E$93,\"\")","v":""},null,"S"]
[null,null,null,"ID",{"$f":"IF('PENNANT TEAMS'!$B$88=\"HOME\",'PENNANT TEAMS'!$E$94,\"\")","v":""},"Ends Won","Ends Won",{"$f":"IF('PENNANT TEAMS'!$B$88=\"away\",'PENNANT TEAMS'!$E$94,\"\")","v":""},"ID"]
[null,null,null,null,"Total Shots"]
[null,null,null,null,"Ends Won"]
[null,null,null,null,"Rinks Won"]
[null,null,null,null,"Win Points"]
[null,null,null,null,"Total Points"]
[null,null,{"$f":"IF('PENNANT TEAMS'!$B$88=\"HOME\",'PENNANT TEAMS'!$A$93,\"\")","v":0},null,null,null,null,{"$f":"IF('PENNANT TEAMS'!$B$88=\"AWAY\",'PENNANT TEAMS'!$A$93,\"\")","v":""}]
[null,null,"Manager Name",null,null,null,null,"Manager Name"]

{"sheet":"Card Stickers","index":4,"n_rows":42,"n_cols":4,"rows_kept":42,"cut":false,"hidden":false,"merged":[]}
[{"$f":"'PENNANT TEAMS'!$A$8","v":0},{"$f":"'PENNANT TEAMS'!$A$8","v":0},{"$f":"'PENNANT TEAMS'!$A$8","v":0},{"$f":"'PENNANT TEAMS'!$A$8","v":0}]
[{"$f":"'PENNANT TEAMS'!$B$8","v":0},{"$f":"'PENNANT TEAMS'!$B$8","v":0},{"$f":"'PENNANT TEAMS'!$B$8","v":0},{"$f":"'PENNANT TEAMS'!$B$8","v":0}]
[{"$f":"'PENNANT TEAMS'!$C$8","v":0},{"$f":"'PENNANT TEAMS'!$C$8","v":0},{"$f":"'PENNANT TEAMS'!$C$8","v":0},{"$f":"'PENNANT TEAMS'!$C$8","v":0}]
[{"$f":"'PENNANT TEAMS'!$D$8","v":0},{"$f":"'PENNANT TEAMS'!$D$8","v":0},{"$f":"'PENNANT TEAMS'!$D$8","v":0},{"$f":"'PENNANT TEAMS'!$D$8","v":0}]
[{"$f":"'PENNANT TEAMS'!$E$8","v":0},{"$f":"'PENNANT TEAMS'!$E$8","v":0},{"$f":"'PENNANT TEAMS'!$E$8","v":0},{"$f":"'PENNANT TEAMS'!$E$8","v":0}]
[{"$f":"'PENNANT TEAMS'!$B$10","v":0},{"$f":"'PENNANT TEAMS'!$B$10","v":0},{"$f":"'PENNANT TEAMS'!$B$10","v":0},{"$f":"'PENNANT TEAMS'!$B$10","v":0}]
[{"$f":"'PENNANT TEAMS'!$C$10","v":0},{"$f":"'PENNANT TEAMS'!$C$10","v":0},{"$f":"'PENNANT TEAMS'!$C$10","v":0},{"$f":"'PENNANT TEAMS'!$C$10","v":0}]
[{"$f":"'PENNANT TEAMS'!$D$10","v":0},{"$f":"'PENNANT TEAMS'!$D$10","v":0},{"$f":"'PENNANT TEAMS'!$D$10","v":0},{"$f":"'PENNANT TEAMS'!$D$10","v":0}]
[{"$f":"'PENNANT TEAMS'!$E$10","v":0},{"$f":"'PENNANT TEAMS'!$E$10","v":0},{"$f":"'PENNANT TEAMS'!$E$10","v":0},{"$f":"'PENNANT TEAMS'!$E$10","v":0}]
[{"$f":"'PENNANT TEAMS'!$B$12","v":0},{"$f":"'PENNANT TEAMS'!$B$12","v":0},{"$f":"'PENNANT TEAMS'!$B$12","v":0},{"$f":"'PENNANT TEAMS'!$B$12","v":0}]
[{"$f":"'PENNANT TEAMS'!$C$12","v":0},{"$f":"'PENNANT TEAMS'!$C$12","v":0},{"$f":"'PENNANT TEAMS'!$C$12","v":0},{"$f":"'PENNANT TEAMS'!$C$12","v":0}]
[{"$f":"'PENNANT TEAMS'!$D$12","v":0},{"$f":"'PENNANT TEAMS'!$D$12","v":0},{"$f":"'PENNANT TEAMS'!$D$12","v":0},{"$f":"'PENNANT TEAMS'!$D$12","v":0}]
[{"$f":"'PENNANT TEAMS'!$E$12","v":0},{"$f":"'PENNANT TEAMS'!$E$12","v":0},{"$f":"'PENNANT TEAMS'!$E$12","v":0},{"$f":"'PENNANT TEAMS'!$E$12","v":0}]
[]
[]
[]
[{"$f":"'PENNANT TEAMS'!$A$8","v":0},{"$f":"'PENNANT TEAMS'!$A$8","v":0},{"$f":"'PENNANT TEAMS'!$A$8","v":0},{"$f":"'PENNANT TEAMS'!$A$8","v":0}]
[{"$f":"'PENNANT TEAMS'!$B$8","v":0},{"$f":"'PENNANT TEAMS'!$B$8","v":0},{"$f":"'PENNANT TEAMS'!$B$8","v":0},{"$f":"'PENNANT TEAMS'!$B$8","v":0}]
[{"$f":"'PENNANT TEAMS'!$C$8","v":0},{"$f":"'PENNANT TEAMS'!$C$8","v":0},{"$f":"'PENNANT TEAMS'!$C$8","v":0},{"$f":"'PENNANT TEAMS'!$C$8","v":0}]
[{"$f":"'PENNANT TEAMS'!$D$8","v":0},{"$f":"'PENNANT TEAMS'!$D$8","v":0},{"$f":"'PENNANT TEAMS'!$D$8","v":0},{"$f":"'PENNANT TEAMS'!$D$8","v":0}]
[{"$f":"'PENNANT TEAMS'!$E$8","v":0},{"$f":"'PENNANT TEAMS'!$E$8","v":0},{"$f":"'PENNANT TEAMS'!$E$8","v":0},{"$f":"'PENNANT TEAMS'!$E$8","v":0}]
[{"$f":"'PENNANT TEAMS'!$B$10","v":0},{"$f":"'PENNANT TEAMS'!$B$10","v":0},{"$f":"'PENNANT TEAMS'!$B$10","v":0},{"$f":"'PENNANT TEAMS'!$B$10","v":0}]
[{"$f":"'PENNANT TEAMS'!$C$10","v":0},{"$f":"'PENNANT TEAMS'!$C$10","v":0},{"$f":"'PENNANT TEAMS'!$C$10","v":0},{"$f":"'PENNANT TEAMS'!$C$10","v":0}]
[{"$f":"'PENNANT TEAMS'!$D$10","v":0},{"$f":"'PENNANT TEAMS'!$D$10","v":0},{"$f":"'PENNANT TEAMS'!$D$10","v":0},{"$f":"'PENNANT TEAMS'!$D$10","v":0}]
[{"$f":"'PENNANT TEAMS'!$E$10","v":0},{"$f":"'PENNANT TEAMS'!$E$10","v":0},{"$f":"'PENNANT TEAMS'!$E$10","v":0},{"$f":"'PENNANT TEAMS'!$E$10","v":0}]
[{"$f":"'PENNANT TEAMS'!$B$12","v":0},{"$f":"'PENNANT TEAMS'!$B$12","v":0},{"$f":"'PENNANT TEAMS'!$B$12","v":0},{"$f":"'PENNANT TEAMS'!$B$12","v":0}]
[{"$f":"'PENNANT TEAMS'!$C$12","v":0},{"$f":"'PENNANT TEAMS'!$C$12","v":0},{"$f":"'PENNANT TEAMS'!$C$12","v":0},{"$f":"'PENNANT TEAMS'!$C$12","v":0}]
[{"$f":"'PENNANT TEAMS'!$D$12","v":0},{"$f":"'PENNANT TEAMS'!$D$12","v":0},{"$f":"'PENNANT TEAMS'!$D$12","v":0},{"$f":"'PENNANT TEAMS'!$D$12","v":0}]
[{"$f":"'PENNANT TEAMS'!$E$12","v":0},{"$f":"'PENNANT TEAMS'!$E$12","v":0},{"$f":"'PENNANT TEAMS'!$E$12","v":0},{"$f":"'PENNANT TEAMS'!$E$12","v":0}]
[{"$f":"'PENNANT TEAMS'!$A$80","v":0},{"$f":"'PENNANT TEAMS'!$A$89","v":0}]
[{"$f":"'PENNANT TEAMS'!$B$80","v":0},{"$f":"'PENNANT TEAMS'!$B$89","v":0}]
[{"$f":"'PENNANT TEAMS'!$C$80","v":0},{"$f":"'PENNANT TEAMS'!$C$89","v":0}]
[{"$f":"'PENNANT TEAMS'!$D$80","v":0},{"$f":"'PENNANT TEAMS'!$D$89","v":0}]
[{"$f":"'PENNANT TEAMS'!$E$80","v":0},{"$f":"'PENNANT TEAMS'!$E$89","v":0}]
[{"$f":"'PENNANT TEAMS'!$B$82","v":0},{"$f":"'PENNANT TEAMS'!$B$91","v":0}]
[{"$f":"'PENNANT TEAMS'!$C$82","v":0},{"$f":"'PENNANT TEAMS'!$C$91","v":0}]
[{"$f":"'PENNANT TEAMS'!$D$82","v":0},{"$f":"'PENNANT TEAMS'!$D$91","v":0}]
[{"$f":"'PENNANT TEAMS'!$E$82","v":0},{"$f":"'PENNANT TEAMS'!$E$91","v":0}]
[{"$f":"'PENNANT TEAMS'!$B$84","v":0},{"$f":"'PENNANT TEAMS'!$B$93","v":0}]
[{"$f":"'PENNANT TEAMS'!$C$84","v":0},{"$f":"'PENNANT TEAMS'!$C$93","v":0}]
[{"$f":"'PENNANT TEAMS'!$D$84","v":0},{"$f":"'PENNANT TEAMS'!$D$93","v":0}]
[{"$f":"'PENNANT TEAMS'!$E$84","v":0},{"$f":"'PENNANT TEAMS'!$E$93","v":0}]

{"sheet":"Result Stickers","index":5,"n_rows":79,"n_cols":4,"rows_kept":79,"cut":false,"hidden":false,"merged":[]}
[{"$f":"'PENNANT TEAMS'!$A$8","v":0},{"$f":"'PENNANT TEAMS'!$A$8","v":0},{"$f":"'PENNANT TEAMS'!$A$8","v":0},{"$f":"'PENNANT TEAMS'!$A$8","v":0}]
[{"$f":"'PENNANT TEAMS'!$B$8","v":0},{"$f":"'PENNANT TEAMS'!$B$8","v":0},{"$f":"'PENNANT TEAMS'!$B$8","v":0},{"$f":"'PENNANT TEAMS'!$B$8","v":0}]
[{"$f":"'PENNANT TEAMS'!$B$9","v":""},{"$f":"'PENNANT TEAMS'!$B$9","v":""},{"$f":"'PENNANT TEAMS'!$B$9","v":""},{"$f":"'PENNANT TEAMS'!$B$9","v":""}]
[{"$f":"'PENNANT TEAMS'!$C$8","v":0},{"$f":"'PENNANT TEAMS'!$C$8","v":0},{"$f":"'PENNANT TEAMS'!$C$8","v":0},{"$f":"'PENNANT TEAMS'!$C$8","v":0}]
[{"$f":"'PENNANT TEAMS'!$C$9","v":""},{"$f":"'PENNANT TEAMS'!$C$9","v":""},{"$f":"'PENNANT TEAMS'!$C$9","v":""},{"$f":"'PENNANT TEAMS'!$C$9","v":""}]
[{"$f":"'PENNANT TEAMS'!$D$8","v":0},{"$f":"'PENNANT TEAMS'!$D$8","v":0},{"$f":"'PENNANT TEAMS'!$D$8","v":0},{"$f":"'PENNANT TEAMS'!$D$8","v":0}]
[{"$f":"'PENNANT TEAMS'!$D$9","v":""},{"$f":"'PENNANT TEAMS'!$D$9","v":""},{"$f":"'PENNANT TEAMS'!$D$9","v":""},{"$f":"'PENNANT TEAMS'!$D$9","v":""}]
[{"$f":"'PENNANT TEAMS'!$E$8","v":0},{"$f":"'PENNANT TEAMS'!$E$8","v":0},{"$f":"'PENNANT TEAMS'!$E$8","v":0},{"$f":"'PENNANT TEAMS'!$E$8","v":0}]
[{"$f":"'PENNANT TEAMS'!$E$9","v":""},{"$f":"'PENNANT TEAMS'!$E$9","v":""},{"$f":"'PENNANT TEAMS'!$E$9","v":""},{"$f":"'PENNANT TEAMS'!$E$9","v":""}]
[{"$f":"'PENNANT TEAMS'!$B$10","v":0},{"$f":"'PENNANT TEAMS'!$B$10","v":0},{"$f":"'PENNANT TEAMS'!$B$10","v":0},{"$f":"'PENNANT TEAMS'!$B$10","v":0}]
[{"$f":"'PENNANT TEAMS'!$B$11","v":""},{"$f":"'PENNANT TEAMS'!$B$11","v":""},{"$f":"'PENNANT TEAMS'!$B$11","v":""},{"$f":"'PENNANT TEAMS'!$B$11","v":""}]
[{"$f":"'PENNANT TEAMS'!$C$10","v":0},{"$f":"'PENNANT TEAMS'!$C$10","v":0},{"$f":"'PENNANT TEAMS'!$C$10","v":0},{"$f":"'PENNANT TEAMS'!$C$10","v":0}]
[{"$f":"'PENNANT TEAMS'!$C$11","v":""},{"$f":"'PENNANT TEAMS'!$C$11","v":""},{"$f":"'PENNANT TEAMS'!$C$11","v":""},{"$f":"'PENNANT TEAMS'!$C$11","v":""}]
[{"$f":"'PENNANT TEAMS'!$D$10","v":0},{"$f":"'PENNANT TEAMS'!$D$10","v":0},{"$f":"'PENNANT TEAMS'!$D$10","v":0},{"$f":"'PENNANT TEAMS'!$D$10","v":0}]
[{"$f":"'PENNANT TEAMS'!$D$11","v":""},{"$f":"'PENNANT TEAMS'!$D$11","v":""},{"$f":"'PENNANT TEAMS'!$D$11","v":""},{"$f":"'PENNANT TEAMS'!$D$11","v":""}]
[{"$f":"'PENNANT TEAMS'!$E$10","v":0},{"$f":"'PENNANT TEAMS'!$E$10","v":0},{"$f":"'PENNANT TEAMS'!$E$10","v":0},{"$f":"'PENNANT TEAMS'!$E$10","v":0}]
[{"$f":"'PENNANT TEAMS'!$E$11","v":""},{"$f":"'PENNANT TEAMS'!$E$11","v":""},{"$f":"'PENNANT TEAMS'!$E$11","v":""},{"$f":"'PENNANT TEAMS'!$E$11","v":""}]
[{"$f":"'PENNANT TEAMS'!$B$12","v":0},{"$f":"'PENNANT TEAMS'!$B$12","v":0},{"$f":"'PENNANT TEAMS'!$B$12","v":0},{"$f":"'PENNANT TEAMS'!$B$12","v":0}]
[{"$f":"'PENNANT TEAMS'!$C$13","v":""},{"$f":"'PENNANT TEAMS'!$C$13","v":""},{"$f":"'PENNANT TEAMS'!$C$13","v":""},{"$f":"'PENNANT TEAMS'!$C$13","v":""}]
[{"$f":"'PENNANT TEAMS'!$C$12","v":0},{"$f":"'PENNANT TEAMS'!$C$12","v":0},{"$f":"'PENNANT TEAMS'!$C$12","v":0},{"$f":"'PENNANT TEAMS'!$C$12","v":0}]
[{"$f":"'PENNANT TEAMS'!$D$13","v":""},{"$f":"'PENNANT TEAMS'!$D$13","v":""},{"$f":"'PENNANT TEAMS'!$D$13","v":""},{"$f":"'PENNANT TEAMS'!$D$13","v":""}]
[{"$f":"'PENNANT TEAMS'!$D$12","v":0},{"$f":"'PENNANT TEAMS'!$D$12","v":0},{"$f":"'PENNANT TEAMS'!$D$12","v":0},{"$f":"'PENNANT TEAMS'!$D$12","v":0}]
[{"$f":"'PENNANT TEAMS'!$D$13","v":""},{"$f":"'PENNANT TEAMS'!$D$13","v":""},{"$f":"'PENNANT TEAMS'!$D$13","v":""},{"$f":"'PENNANT TEAMS'!$D$13","v":""}]
[{"$f":"'PENNANT TEAMS'!$E$12","v":0},{"$f":"'PENNANT TEAMS'!$E$12","v":0},{"$f":"'PENNANT TEAMS'!$E$12","v":0},{"$f":"'PENNANT TEAMS'!$E$12","v":0}]
[{"$f":"'PENNANT TEAMS'!$E$13","v":""},{"$f":"'PENNANT TEAMS'!$E$13","v":""},{"$f":"'PENNANT TEAMS'!$E$13","v":""},{"$f":"'PENNANT TEAMS'!$E$13","v":""}]
[]
[]
[]
[]
[{"$f":"'PENNANT TEAMS'!$A$8","v":0},{"$f":"'PENNANT TEAMS'!$A$8","v":0},{"$f":"'PENNANT TEAMS'!$A$8","v":0},{"$f":"'PENNANT TEAMS'!$A$8","v":0}]
[{"$f":"'PENNANT TEAMS'!$B$8","v":0},{"$f":"'PENNANT TEAMS'!$B$8","v":0},{"$f":"'PENNANT TEAMS'!$B$8","v":0},{"$f":"'PENNANT TEAMS'!$B$8","v":0}]
[{"$f":"'PENNANT TEAMS'!$B$9","v":""},{"$f":"'PENNANT TEAMS'!$B$9","v":""},{"$f":"'PENNANT TEAMS'!$B$9","v":""},{"$f":"'PENNANT TEAMS'!$B$9","v":""}]
[{"$f":"'PENNANT TEAMS'!$C$8","v":0},{"$f":"'PENNANT TEAMS'!$C$8","v":0},{"$f":"'PENNANT TEAMS'!$C$8","v":0},{"$f":"'PENNANT TEAMS'!$C$8","v":0}]
[{"$f":"'PENNANT TEAMS'!$C$9","v":""},{"$f":"'PENNANT TEAMS'!$C$9","v":""},{"$f":"'PENNANT TEAMS'!$C$9","v":""},{"$f":"'PENNANT TEAMS'!$C$9","v":""}]
[{"$f":"'PENNANT TEAMS'!$D$8","v":0},{"$f":"'PENNANT TEAMS'!$D$8","v":0},{"$f":"'PENNANT TEAMS'!$D$8","v":0},{"$f":"'PENNANT TEAMS'!$D$8","v":0}]
[{"$f":"'PENNANT TEAMS'!$D$9","v":""},{"$f":"'PENNANT TEAMS'!$D$9","v":""},{"$f":"'PENNANT TEAMS'!$D$9","v":""},{"$f":"'PENNANT TEAMS'!$D$9","v":""}]
[{"$f":"'PENNANT TEAMS'!$E$8","v":0},{"$f":"'PENNANT TEAMS'!$E$8","v":0},{"$f":"'PENNANT TEAMS'!$E$8","v":0},{"$f":"'PENNANT TEAMS'!$E$8","v":0}]
[{"$f":"'PENNANT TEAMS'!$E$9","v":""},{"$f":"'PENNANT TEAMS'!$E$9","v":""},{"$f":"'PENNANT TEAMS'!$E$9","v":""},{"$f":"'PENNANT TEAMS'!$E$9","v":""}]
[{"$f":"'PENNANT TEAMS'!$B$10","v":0},{"$f":"'PENNANT TEAMS'!$B$10","v":0},{"$f":"'PENNANT TEAMS'!$B$10","v":0},{"$f":"'PENNANT TEAMS'!$B$10","v":0}]
[{"$f":"'PENNANT TEAMS'!$B$11","v":""},{"$f":"'PENNANT TEAMS'!$B$11","v":""},{"$f":"'PENNANT TEAMS'!$B$11","v":""},{"$f":"'PENNANT TEAMS'!$B$11","v":""}]
[{"$f":"'PENNANT TEAMS'!$C$10","v":0},{"$f":"'PENNANT TEAMS'!$C$10","v":0},{"$f":"'PENNANT TEAMS'!$C$10","v":0},{"$f":"'PENNANT TEAMS'!$C$10","v":0}]
[{"$f":"'PENNANT TEAMS'!$C$11","v":""},{"$f":"'PENNANT TEAMS'!$C$11","v":""},{"$f":"'PENNANT TEAMS'!$C$11","v":""},{"$f":"'PENNANT TEAMS'!$C$11","v":""}]
[{"$f":"'PENNANT TEAMS'!$D$10","v":0},{"$f":"'PENNANT TEAMS'!$D$10","v":0},{"$f":"'PENNANT TEAMS'!$D$10","v":0},{"$f":"'PENNANT TEAMS'!$D$10","v":0}]
[{"$f":"'PENNANT TEAMS'!$D$11","v":""},{"$f":"'PENNANT TEAMS'!$D$11","v":""},{"$f":"'PENNANT TEAMS'!$D$11","v":""},{"$f":"'PENNANT TEAMS'!$D$11","v":""}]
[{"$f":"'PENNANT TEAMS'!$E$10","v":0},{"$f":"'PENNANT TEAMS'!$E$10","v":0},{"$f":"'PENNANT TEAMS'!$E$10","v":0},{"$f":"'PENNANT TEAMS'!$E$10","v":0}]
[{"$f":"'PENNANT TEAMS'!$E$11","v":""},{"$f":"'PENNANT TEAMS'!$E$11","v":""},{"$f":"'PENNANT TEAMS'!$E$11","v":""},{"$f":"'PENNANT TEAMS'!$E$11","v":""}]
[{"$f":"'PENNANT TEAMS'!$B$12","v":0},{"$f":"'PENNANT TEAMS'!$B$12","v":0},{"$f":"'PENNANT TEAMS'!$B$12","v":0},{"$f":"'PENNANT TEAMS'!$B$12","v":0}]
[{"$f":"'PENNANT TEAMS'!$C$13","v":""},{"$f":"'PENNANT TEAMS'!$C$13","v":""},{"$f":"'PENNANT TEAMS'!$C$13","v":""},{"$f":"'PENNANT TEAMS'!$C$13","v":""}]
[{"$f":"'PENNANT TEAMS'!$C$12","v":0},{"$f":"'PENNANT TEAMS'!$C$12","v":0},{"$f":"'PENNANT TEAMS'!$C$12","v":0},{"$f":"'PENNANT TEAMS'!$C$12","v":0}]
[{"$f":"'PENNANT TEAMS'!$D$13","v":""},{"$f":"'PENNANT TEAMS'!$D$13","v":""},{"$f":"'PENNANT TEAMS'!$D$13","v":""},{"$f":"'PENNANT TEAMS'!$D$13","v":""}]
[{"$f":"'PENNANT TEAMS'!$D$12","v":0},{"$f":"'PENNANT TEAMS'!$D$12","v":0},{"$f":"'PENNANT TEAMS'!$D$12","v":0},{"$f":"'PENNANT TEAMS'!$D$12","v":0}]
[{"$f":"'PENNANT TEAMS'!$D$13","v":""},{"$f":"'PENNANT TEAMS'!$D$13","v":""},{"$f":"'PENNANT TEAMS'!$D$13","v":""},{"$f":"'PENNANT TEAMS'!$D$13","v":""}]
[{"$f":"'PENNANT TEAMS'!$E$12","v":0},{"$f":"'PENNANT TEAMS'!$E$12","v":0},{"$f":"'PENNANT TEAMS'!$E$12","v":0},{"$f":"'PENNANT TEAMS'!$E$12","v":0}]
[{"$f":"'PENNANT TEAMS'!$E$13","v":""},{"$f":"'PENNANT TEAMS'!$E$13","v":""},{"$f":"'PENNANT TEAMS'!$E$13","v":""},{"$f":"'PENNANT TEAMS'!$E$13","v":""}]
[{"$f":"'PENNANT TEAMS'!$A$8","v":0},{"$f":"'PENNANT TEAMS'!$A$8","v":0},{"$f":"'PENNANT TEAMS'!$A$8","v":0},{"$f":"'PENNANT TEAMS'!$A$8","v":0}]
[{"$f":"'PENNANT TEAMS'!$B$8","v":0},{"$f":"'PENNANT TEAMS'!$B$8","v":0},{"$f":"'PENNANT TEAMS'!$B$8","v":0},{"$f":"'PENNANT TEAMS'!$B$8","v":0}]
[{"$f":"'PENNANT TEAMS'!$B$9","v":""},{"$f":"'PENNANT TEAMS'!$B$9","v":""},{"$f":"'PENNANT TEAMS'!$B$9","v":""},{"$f":"'PENNANT TEAMS'!$B$9","v":""}]
[{"$f":"'PENNANT TEAMS'!$C$8","v":0},{"$f":"'PENNANT TEAMS'!$C$8","v":0},{"$f":"'PENNANT TEAMS'!$C$8","v":0},{"$f":"'PENNANT TEAMS'!$C$8","v":0}]
[{"$f":"'PENNANT TEAMS'!$C$9","v":""},{"$f":"'PENNANT TEAMS'!$C$9","v":""},{"$f":"'PENNANT TEAMS'!$C$9","v":""},{"$f":"'PENNANT TEAMS'!$C$9","v":""}]
[{"$f":"'PENNANT TEAMS'!$D$8","v":0},{"$f":"'PENNANT TEAMS'!$D$8","v":0},{"$f":"'PENNANT TEAMS'!$D$8","v":0},{"$f":"'PENNANT TEAMS'!$D$8","v":0}]
[{"$f":"'PENNANT TEAMS'!$D$9","v":""},{"$f":"'PENNANT TEAMS'!$D$9","v":""},{"$f":"'PENNANT TEAMS'!$D$9","v":""},{"$f":"'PENNANT TEAMS'!$D$9","v":""}]
[{"$f":"'PENNANT TEAMS'!$E$8","v":0},{"$f":"'PENNANT TEAMS'!$E$8","v":0},{"$f":"'PENNANT TEAMS'!$E$8","v":0},{"$f":"'PENNANT TEAMS'!$E$8","v":0}]
[{"$f":"'PENNANT TEAMS'!$E$9","v":""},{"$f":"'PENNANT TEAMS'!$E$9","v":""},{"$f":"'PENNANT TEAMS'!$E$9","v":""},{"$f":"'PENNANT TEAMS'!$E$9","v":""}]
[{"$f":"'PENNANT TEAMS'!$B$10","v":0},{"$f":"'PENNANT TEAMS'!$B$10","v":0},{"$f":"'PENNANT TEAMS'!$B$10","v":0},{"$f":"'PENNANT TEAMS'!$B$10","v":0}]
[{"$f":"'PENNANT TEAMS'!$B$11","v":""},{"$f":"'PENNANT TEAMS'!$B$11","v":""},{"$f":"'PENNANT TEAMS'!$B$11","v":""},{"$f":"'PENNANT TEAMS'!$B$11","v":""}]
[{"$f":"'PENNANT TEAMS'!$C$10","v":0},{"$f":"'PENNANT TEAMS'!$C$10","v":0},{"$f":"'PENNANT TEAMS'!$C$10","v":0},{"$f":"'PENNANT TEAMS'!$C$10","v":0}]
[{"$f":"'PENNANT TEAMS'!$C$11","v":""},{"$f":"'PENNANT TEAMS'!$C$11","v":""},{"$f":"'PENNANT TEAMS'!$C$11","v":""},{"$f":"'PENNANT TEAMS'!$C$11","v":""}]
[{"$f":"'PENNANT TEAMS'!$D$10","v":0},{"$f":"'PENNANT TEAMS'!$D$10","v":0},{"$f":"'PENNANT TEAMS'!$D$10","v":0},{"$f":"'PENNANT TEAMS'!$D$10","v":0}]
[{"$f":"'PENNANT TEAMS'!$D$11","v":""},{"$f":"'PENNANT TEAMS'!$D$11","v":""},{"$f":"'PENNANT TEAMS'!$D$11","v":""},{"$f":"'PENNANT TEAMS'!$D$11","v":""}]
[{"$f":"'PENNANT TEAMS'!$E$10","v":0},{"$f":"'PENNANT TEAMS'!$E$10","v":0},{"$f":"'PENNANT TEAMS'!$E$10","v":0},{"$f":"'PENNANT TEAMS'!$E$10","v":0}]
[{"$f":"'PENNANT TEAMS'!$E$11","v":""},{"$f":"'PENNANT TEAMS'!$E$11","v":""},{"$f":"'PENNANT TEAMS'!$E$11","v":""},{"$f":"'PENNANT TEAMS'!$E$11","v":""}]
[{"$f":"'PENNANT TEAMS'!$B$12","v":0},{"$f":"'PENNANT TEAMS'!$B$12","v":0},{"$f":"'PENNANT TEAMS'!$B$12","v":0},{"$f":"'PENNANT TEAMS'!$B$12","v":0}]
[{"$f":"'PENNANT TEAMS'!$C$13","v":""},{"$f":"'PENNANT TEAMS'!$C$13","v":""},{"$f":"'PENNANT TEAMS'!$C$13","v":""},{"$f":"'PENNANT TEAMS'!$C$13","v":""}]
[{"$f":"'PENNANT TEAMS'!$C$12","v":0},{"$f":"'PENNANT TEAMS'!$C$12","v":0},{"$f":"'PENNANT TEAMS'!$C$12","v":0},{"$f":"'PENNANT TEAMS'!$C$12","v":0}]
[{"$f":"'PENNANT TEAMS'!$D$13","v":""},{"$f":"'PENNANT TEAMS'!$D$13","v":""},{"$f":"'PENNANT TEAMS'!$D$13","v":""},{"$f":"'PENNANT TEAMS'!$D$13","v":""}]
[{"$f":"'PENNANT TEAMS'!$D$12","v":0},{"$f":"'PENNANT TEAMS'!$D$12","v":0},{"$f":"'PENNANT TEAMS'!$D$12","v":0},{"$f":"'PENNANT TEAMS'!$D$12","v":0}]
[{"$f":"'PENNANT TEAMS'!$D$13","v":""},{"$f":"'PENNANT TEAMS'!$D$13","v":""},{"$f":"'PENNANT TEAMS'!$D$13","v":""},{"$f":"'PENNANT TEAMS'!$D$13","v":""}]
[{"$f":"'PENNANT TEAMS'!$E$12","v":0},{"$f":"'PENNANT TEAMS'!$E$12","v":0},{"$f":"'PENNANT TEAMS'!$E$12","v":0},{"$f":"'PENNANT TEAMS'!$E$12","v":0}]
[{"$f":"'PENNANT TEAMS'!$E$13","v":""},{"$f":"'PENNANT TEAMS'!$E$13","v":""},{"$f":"'PENNANT TEAMS'!$E$13","v":""},{"$f":"'PENNANT TEAMS'!$E$13","v":""}]

{"sheet":"Player List","index":6,"n_rows":143,"n_cols":30,"rows_kept":143,"cut":false,"hidden":false,"merged":[[19,1,19,6],[9,1,9,6],[11,1,11,6],[13,1,13,6],[0,2,0,6],[15,1,15,6],[17,1,17,6],[1,1,1,6],[3,1,3,6],[5,1,5,6],[7,1,7,6]]}
[null,{"$f":"'PENNANT TEAMS'!$B$5","v":1}]
[null,"CLICK HERE TO UPDATE ROUND 1 RECORDS"]
[]
[null,"CLICK HERE TO UPDATE ROUND 2 RECORDS"]
[]
[null,"CLICK HERE TO UPDATE ROUND 3 RECORDS"]
[]
[null,"CLICK HERE TO UPDATE ROUND 4 RECORDS"]
[]
[null,"CLICK HERE TO UPDATE ROUND 5 RECORDS"]
[]
[null,"CLICK HERE TO UPDATE ROUND 6 RECORDS"]
[]
[null,"CLICK HERE TO UPDATE ROUND 7 RECORDS"]
[]
[null,"CLICK HERE TO UPDATE ROUND 8 RECORDS"]
[]
[null,"CLICK HERE TO UPDATE ROUND 9 RECORDS"]
[]
[null,"CLICK HERE TO UPDATE ROUND 10 RECORDS"]
[]
[null,"ROUND 1",null,null,"ROUND 2",null,null,"ROUND 3",null,null,"ROUND 4",null,null,"ROUND 5",null,null,"ROUND 6",null,null,"ROUND 7",null,null,"ROUND 8",null,null,"ROUND 9",null,null,"ROUND 10"]
["Number","NAME","GRADE","Number","NAME","GRADE","Number","NAME","GRADE","Number","NAME","GRADE","Number","NAME","GRADE","Number","NAME","GRADE","Number","NAME","GRADE","Number","NAME","GRADE","Number","NAME","GRADE","Number","NAME","GRADE"]
[{"$f":"IF('PENNANT TEAMS'!$B$5=1,'PENNANT TEAMS'!$B$9,\"\")","v":""},{"$f":"IF('PENNANT TEAMS'!$B$5=1,'PENNANT TEAMS'!$B$8,\"\")","v":0},{"$f":"IF('PENNANT TEAMS'!$B$5=1,'PENNANT TEAMS'!$A$8,\"\")","v":0},{"$f":"IF('PENNANT TEAMS'!$B$5=2,'PENNANT TEAMS'!$B$9,\"\")","v":""},{"$f":"IF('PENNANT TEAMS'!$B$5=2,'PENNANT TEAMS'!$B$8,\"\")","v":""},{"$f":"IF('PENNANT TEAMS'!$B$5=2,'PENNANT TEAMS'!$A$8,\"\")","v":""},{"$f":"IF('PENNANT TEAMS'!$B$5=3,'PENNANT TEAMS'!$B$9,\"\")","v":""},{"$f":"IF('PENNANT TEAMS'!$B$5=3,'PENNANT TEAMS'!$B$8,\"\")","v":""},{"$f":"IF('PENNANT TEAMS'!$B$5=3,'PENNANT TEAMS'!$A$8,\"\")","v":""},{"$f":"IF('PENNANT TEAMS'!$B$5=4,'PENNANT TEAMS'!$B$9,\"\")","v":""},{"$f":"IF('PENNANT TEAMS'!$B$5=4,'PENNANT TEAMS'!$B$8,\"\")","v":""},{"$f":"IF('PENNANT TEAMS'!$B$5=4,'PENNANT TEAMS'!$A$8,\"\")","v":""},{"$f":"IF('PENNANT TEAMS'!$B$5=5,'PENNANT TEAMS'!$B$9,\"\")","v":""},{"$f":"IF('PENNANT TEAMS'!$B$5=5,'PENNANT TEAMS'!$B$8,\"\")","v":""},{"$f":"IF('PENNANT TEAMS'!$B$5=5,'PENNANT TEAMS'!$A$8,\"\")","v":""},{"$f":"IF('PENNANT TEAMS'!$B$5=6,'PENNANT TEAMS'!$B$9,\"\")","v":""},{"$f":"IF('PENNANT TEAMS'!$B$5=6,'PENNANT TEAMS'!$B$8,\"\")","v":""},{"$f":"IF('PENNANT TEAMS'!$B$5=6,'PENNANT TEAMS'!$A$8,\"\")","v":""},{"$f":"IF('PENNANT TEAMS'!$B$5=7,'PENNANT TEAMS'!$B$9,\"\")","v":""},{"$f":"IF('PENNANT TEAMS'!$B$5=7,'PENNANT TEAMS'!$B$8,\"\")","v":""},{"$f":"IF('PENNANT TEAMS'!$B$5=7,'PENNANT TEAMS'!$A$8,\"\")","v":""},{"$f":"IF('PENNANT TEAMS'!$B$5=8,'PENNANT TEAMS'!$B$9,\"\")","v":""},{"$f":"IF('PENNANT TEAMS'!$B$5=8,'PENNANT TEAMS'!$B$8,\"\")","v":""},{"$f":"IF('PENNANT TEAMS'!$B$5=8,'PENNANT TEAMS'!$A$8,\"\")","v":""},{"$f":"IF('PENNANT TEAMS'!$B$5=9,'PENNANT TEAMS'!$B$9,\"\")","v":""},{"$f":"IF('PENNANT TEAMS'!$B$5=9,'PENNANT TEAMS'!$B$8,\"\")","v":""},{"$f":"IF('PENNANT TEAMS'!$B$5=9,'PENNANT TEAMS'!$A$8,\"\")","v":""},{"$f":"IF('PENNANT TEAMS'!$B$5=10,'PENNANT TEAMS'!$B$9,\"\")","v":""},{"$f":"IF('PENNANT TEAMS'!$B$5=10,'PENNANT TEAMS'!$B$8,\"\")","v":""},{"$f":"IF('PENNANT TEAMS'!$B$5=10,'PENNANT TEAMS'!$A$8,\"\")","v":""}]
[{"$f":"IF('PENNANT TEAMS'!$B$5=1,'PENNANT TEAMS'!$C$9,\"\")","v":""},{"$f":"IF('PENNANT TEAMS'!$B$5=1,'PENNANT TEAMS'!$C$8,\"\")","v":0},{"$f":"IF('PENNANT TEAMS'!$B$5=1,'PENNANT TEAMS'!$A$8,\"\")","v":0},{"$f":"IF('PENNANT TEAMS'!$B$5=2,'PENNANT TEAMS'!$C$9,\"\")","v":""},{"$f":"IF('PENNANT TEAMS'!$B$5=2,'PENNANT TEAMS'!$C$8,\"\")","v":""},{"$f":"IF('PENNANT TEAMS'!$B$5=2,'PENNANT TEAMS'!$A$8,\"\")","v":""},{"$f":"IF('PENNANT TEAMS'!$B$5=3,'PENNANT TEAMS'!$C$9,\"\")","v":""},{"$f":"IF('PENNANT TEAMS'!$B$5=3,'PENNANT TEAMS'!$C$8,\"\")","v":""},{"$f":"IF('PENNANT TEAMS'!$B$5=3,'PENNANT TEAMS'!$A$8,\"\")","v":""},{"$f":"IF('PENNANT TEAMS'!$B$5=4,'PENNANT TEAMS'!$C$9,\"\")","v":""},{"$f":"IF('PENNANT TEAMS'!$B$5=4,'PENNANT TEAMS'!$C$8,\"\")","v":""},{"$f":"IF('PENNANT TEAMS'!$B$5=4,'PENNANT TEAMS'!$A$8,\"\")","v":""},{"$f":"IF('PENNANT TEAMS'!$B$5=5,'PENNANT TEAMS'!$C$9,\"\")","v":""},{"$f":"IF('PENNANT TEAMS'!$B$5=5,'PENNANT TEAMS'!$C$8,\"\")","v":""},{"$f":"IF('PENNANT TEAMS'!$B$5=5,'PENNANT TEAMS'!$A$8,\"\")","v":""},{"$f":"IF('PENNANT TEAMS'!$B$5=6,'PENNANT TEAMS'!$C$9,\"\")","v":""},{"$f":"IF('PENNANT TEAMS'!$B$5=6,'PENNANT TEAMS'!$C$8,\"\")","v":""},{"$f":"IF('PENNANT TEAMS'!$B$5=6,'PENNANT TEAMS'!$A$8,\"\")","v":""},{"$f":"IF('PENNANT TEAMS'!$B$5=7,'PENNANT TEAMS'!$C$9,\"\")","v":""},{"$f":"IF('PENNANT TEAMS'!$B$5=7,'PENNANT TEAMS'!$C$8,\"\")","v":""},{"$f":"IF('PENNANT TEAMS'!$B$5=7,'PENNANT TEAMS'!$A$8,\"\")","v":""},{"$f":"IF('PENNANT TEAMS'!$B$5=8,'PENNANT TEAMS'!$C$9,\"\")","v":""},{"$f":"IF('PENNANT TEAMS'!$B$5=8,'PENNANT TEAMS'!$C$8,\"\")","v":""},{"$f":"IF('PENNANT TEAMS'!$B$5=8,'PENNANT TEAMS'!$A$8,\"\")","v":""},{"$f":"IF('PENNANT TEAMS'!$B$5=9,'PENNANT TEAMS'!$C$9,\"\")","v":""},{"$f":"IF('PENNANT TEAMS'!$B$5=9,'PENNANT TEAMS'!$C$8,\"\")","v":""},{"$f":"IF('PENNANT TEAMS'!$B$5=9,'PENNANT TEAMS'!$A$8,\"\")","v":""},{"$f":"IF('PENNANT TEAMS'!$B$5=10,'PENNANT TEAMS'!$C$9,\"\")","v":""},{"$f":"IF('PENNANT TEAMS'!$B$5=10,'PENNANT TEAMS'!$C$8,\"\")","v":""},{"$f":"IF('PENNANT TEAMS'!$B$5=10,'PENNANT TEAMS'!$A$8,\"\")","v":""}]
[{"$f":"IF('PENNANT TEAMS'!$B$5=1,'PENNANT TEAMS'!$D$9,\"\")","v":""},{"$f":"IF('PENNANT TEAMS'!$B$5=1,'PENNANT TEAMS'!$D$8,\"\")","v":0},{"$f":"IF('PENNANT TEAMS'!$B$5=1,'PENNANT TEAMS'!$A$8,\"\")","v":0},{"$f":"IF('PENNANT TEAMS'!$B$5=2,'PENNANT TEAMS'!$D$9,\"\")","v":""},{"$f":"IF('PENNANT TEAMS'!$B$5=2,'PENNANT TEAMS'!$D$8,\"\")","v":""},{"$f":"IF('PENNANT TEAMS'!$B$5=2,'PENNANT TEAMS'!$A$8,\"\")","v":""},{"$f":"IF('PENNANT TEAMS'!$B$5=3,'PENNANT TEAMS'!$D$9,\"\")","v":""},{"$f":"IF('PENNANT TEAMS'!$B$5=3,'PENNANT TEAMS'!$D$8,\"\")","v":""},{"$f":"IF('PENNANT TEAMS'!$B$5=3,'PENNANT TEAMS'!$A$8,\"\")","v":""},{"$f":"IF('PENNANT TEAMS'!$B$5=4,'PENNANT TEAMS'!$D$9,\"\")","v":""},{"$f":"IF('PENNANT TEAMS'!$B$5=4,'PENNANT TEAMS'!$D$8,\"\")","v":""},{"$f":"IF('PENNANT TEAMS'!$B$5=4,'PENNANT TEAMS'!$A$8,\"\")","v":""},{"$f":"IF('PENNANT TEAMS'!$B$5=5,'PENNANT TEAMS'!$D$9,\"\")","v":""},{"$f":"IF('PENNANT TEAMS'!$B$5=5,'PENNANT TEAMS'!$D$8,\"\")","v":""},{"$f":"IF('PENNANT TEAMS'!$B$5=5,'PENNANT TEAMS'!$A$8,\"\")","v":""},{"$f":"IF('PENNANT TEAMS'!$B$5=6,'PENNANT TEAMS'!$D$9,\"\")","v":""},{"$f":"IF('PENNANT TEAMS'!$B$5=6,'PENNANT TEAMS'!$D$8,\"\")","v":""},{"$f":"IF('PENNANT TEAMS'!$B$5=6,'PENNANT TEAMS'!$A$8,\"\")","v":""},{"$f":"IF('PENNANT TEAMS'!$B$5=7,'PENNANT TEAMS'!$D$9,\"\")","v":""},{"$f":"IF('PENNANT TEAMS'!$B$5=7,'PENNANT TEAMS'!$D$8,\"\")","v":""},{"$f":"IF('PENNANT TEAMS'!$B$5=7,'PENNANT TEAMS'!$A$8,\"\")","v":""},{"$f":"IF('PENNANT TEAMS'!$B$5=8,'PENNANT TEAMS'!$D$9,\"\")","v":""},{"$f":"IF('PENNANT TEAMS'!$B$5=8,'PENNANT TEAMS'!$D$8,\"\")","v":""},{"$f":"IF('PENNANT TEAMS'!$B$5=8,'PENNANT TEAMS'!$A$8,\"\")","v":""},{"$f":"IF('PENNANT TEAMS'!$B$5=9,'PENNANT TEAMS'!$D$9,\"\")","v":""},{"$f":"IF('PENNANT TEAMS'!$B$5=9,'PENNANT TEAMS'!$D$8,\"\")","v":""},{"$f":"IF('PENNANT TEAMS'!$B$5=9,'PENNANT TEAMS'!$A$8,\"\")","v":""},{"$f":"IF('PENNANT TEAMS'!$B$5=10,'PENNANT TEAMS'!$D$9,\"\")","v":""},{"$f":"IF('PENNANT TEAMS'!$B$5=10,'PENNANT TEAMS'!$D$8,\"\")","v":""},{"$f":"IF('PENNANT TEAMS'!$B$5=10,'PENNANT TEAMS'!$A$8,\"\")","v":""}]
[{"$f":"IF('PENNANT TEAMS'!$B$5=1,'PENNANT TEAMS'!$E$9,\"\")","v":""},{"$f":"IF('PENNANT TEAMS'!$B$5=1,'PENNANT TEAMS'!$E$8,\"\")","v":0},{"$f":"IF('PENNANT TEAMS'!$B$5=1,'PENNANT TEAMS'!$A$8,\"\")","v":0},{"$f":"IF('PENNANT TEAMS'!$B$5=2,'PENNANT TEAMS'!$E$9,\"\")","v":""},{"$f":"IF('PENNANT TEAMS'!$B$5=2,'PENNANT TEAMS'!$E$8,\"\")","v":""},{"$f":"IF('PENNANT TEAMS'!$B$5=2,'PENNANT TEAMS'!$A$8,\"\")","v":""},{"$f":"IF('PENNANT TEAMS'!$B$5=3,'PENNANT TEAMS'!$E$9,\"\")","v":""},{"$f":"IF('PENNANT TEAMS'!$B$5=3,'PENNANT TEAMS'!$E$8,\"\")","v":""},{"$f":"IF('PENNANT TEAMS'!$B$5=3,'PENNANT TEAMS'!$A$8,\"\")","v":""},{"$f":"IF('PENNANT TEAMS'!$B$5=4,'PENNANT TEAMS'!$E$9,\"\")","v":""},{"$f":"IF('PENNANT TEAMS'!$B$5=4,'PENNANT TEAMS'!$E$8,\"\")","v":""},{"$f":"IF('PENNANT TEAMS'!$B$5=4,'PENNANT TEAMS'!$A$8,\"\")","v":""},{"$f":"IF('PENNANT TEAMS'!$B$5=5,'PENNANT TEAMS'!$E$9,\"\")","v":""},{"$f":"IF('PENNANT TEAMS'!$B$5=5,'PENNANT TEAMS'!$E$8,\"\")","v":""},{"$f":"IF('PENNANT TEAMS'!$B$5=5,'PENNANT TEAMS'!$A$8,\"\")","v":""},{"$f":"IF('PENNANT TEAMS'!$B$5=6,'PENNANT TEAMS'!$E$9,\"\")","v":""},{"$f":"IF('PENNANT TEAMS'!$B$5=6,'PENNANT TEAMS'!$E$8,\"\")","v":""},{"$f":"IF('PENNANT TEAMS'!$B$5=6,'PENNANT TEAMS'!$A$8,\"\")","v":""},{"$f":"IF('PENNANT TEAMS'!$B$5=7,'PENNANT TEAMS'!$E$9,\"\")","v":""},{"$f":"IF('PENNANT TEAMS'!$B$5=7,'PENNANT TEAMS'!$E$8,\"\")","v":""},{"$f":"IF('PENNANT TEAMS'!$B$5=7,'PENNANT TEAMS'!$A$8,\"\")","v":""},{"$f":"IF('PENNANT TEAMS'!$B$5=8,'PENNANT TEAMS'!$E$9,\"\")","v":""},{"$f":"IF('PENNANT TEAMS'!$B$5=8,'PENNANT TEAMS'!$E$8,\"\")","v":""},{"$f":"IF('PENNANT TEAMS'!$B$5=8,'PENNANT TEAMS'!$A$8,\"\")","v":""},{"$f":"IF('PENNANT TEAMS'!$B$5=9,'PENNANT TEAMS'!$E$9,\"\")","v":""},{"$f":"IF('PENNANT TEAMS'!$B$5=9,'PENNANT TEAMS'!$E$8,\"\")","v":""},{"$f":"IF('PENNANT TEAMS'!$B$5=9,'PENNANT TEAMS'!$A$8,\"\")","v":""},{"$f":"IF('PENNANT TEAMS'!$B$5=10,'PENNANT TEAMS'!$E$9,\"\")","v":""},{"$f":"IF('PENNANT TEAMS'!$B$5=10,'PENNANT TEAMS'!$E$8,\"\")","v":""},{"$f":"IF('PENNANT TEAMS'!$B$5=10,'PENNANT TEAMS'!$A$8,\"\")","v":""}]
[{"$f":"IF('PENNANT TEAMS'!$B$5=1,'PENNANT TEAMS'!$B$11,\"\")","v":""},{"$f":"IF('PENNANT TEAMS'!$B$5=1,'PENNANT TEAMS'!$B$10,\"\")","v":0},{"$f":"IF('PENNANT TEAMS'!$B$5=1,'PENNANT TEAMS'!$A$8,\"\")","v":0},{"$f":"IF('PENNANT TEAMS'!$B$5=2,'PENNANT TEAMS'!$B$11,\"\")","v":""},{"$f":"IF('PENNANT TEAMS'!$B$5=2,'PENNANT TEAMS'!$B$10,\"\")","v":""},{"$f":"IF('PENNANT TEAMS'!$B$5=2,'PENNANT TEAMS'!$A$8,\"\")","v":""},{"$f":"IF('PENNANT TEAMS'!$B$5=3,'PENNANT TEAMS'!$B$11,\"\")","v":""},{"$f":"IF('PENNANT TEAMS'!$B$5=3,'PENNANT TEAMS'!$B$10,\"\")","v":""},{"$f":"IF('PENNANT TEAMS'!$B$5=3,'PENNANT TEAMS'!$A$8,\"\")","v":""},{"$f":"IF('PENNANT TEAMS'!$B$5=4,'PENNANT TEAMS'!$B$11,\"\")","v":""},{"$f":"IF('PENNANT TEAMS'!$B$5=4,'PENNANT TEAMS'!$B$10,\"\")","v":""},{"$f":"IF('PENNANT TEAMS'!$B$5=4,'PENNANT TEAMS'!$A$8,\"\")","v":""},{"$f":"IF('PENNANT TEAMS'!$B$5=5,'PENNANT TEAMS'!$B$11,\"\")","v":""},{"$f":"IF('PENNANT TEAMS'!$B$5=5,'PENNANT TEAMS'!$B$10,\"\")","v":""},{"$f":"IF('PENNANT TEAMS'!$B$5=5,'PENNANT TEAMS'!$A$8,\"\")","v":""},{"$f":"IF('PENNANT TEAMS'!$B$5=6,'PENNANT TEAMS'!$B$11,\"\")","v":""},{"$f":"IF('PENNANT TEAMS'!$B$5=6,'PENNANT TEAMS'!$B$10,\"\")","v":""},{"$f":"IF('PENNANT TEAMS'!$B$5=6,'PENNANT TEAMS'!$A$8,\"\")","v":""},{"$f":"IF('PENNANT TEAMS'!$B$5=7,'PENNANT TEAMS'!$B$11,\"\")","v":""},{"$f":"IF('PENNANT TEAMS'!$B$5=7,'PENNANT TEAMS'!$B$10,\"\")","v":""},{"$f":"IF('PENNANT TEAMS'!$B$5=7,'PENNANT TEAMS'!$A$8,\"\")","v":""},{"$f":"IF('PENNANT TEAMS'!$B$5=8,'PENNANT TEAMS'!$B$11,\"\")","v":""},{"$f":"IF('PENNANT TEAMS'!$B$5=8,'PENNANT TEAMS'!$B$10,\"\")","v":""},{"$f":"IF('PENNANT TEAMS'!$B$5=8,'PENNANT TEAMS'!$A$8,\"\")","v":""},{"$f":"IF('PENNANT TEAMS'!$B$5=9,'PENNANT TEAMS'!$B$11,\"\")","v":""},{"$f":"IF('PENNANT TEAMS'!$B$5=9,'PENNANT TEAMS'!$B$10,\"\")","v":""},{"$f":"IF('PENNANT TEAMS'!$B$5=9,'PENNANT TEAMS'!$A$8,\"\")","v":""},{"$f":"IF('PENNANT TEAMS'!$B$5=10,'PENNANT TEAMS'!$B$11,\"\")","v":""},{"$f":"IF('PENNANT TEAMS'!$B$5=10,'PENNANT TEAMS'!$B$10,\"\")","v":""},{"$f":"IF('PENNANT TEAMS'!$B$5=10,'PENNANT TEAMS'!$A$8,\"\")","v":""}]
[{"$f":"IF('PENNANT TEAMS'!$B$5=1,'PENNANT TEAMS'!$C$11,\"\")","v":""},{"$f":"IF('PENNANT TEAMS'!$B$5=1,'PENNANT TEAMS'!$C$10,\"\")","v":0},{"$f":"IF('PENNANT TEAMS'!$B$5=1,'PENNANT TEAMS'!$A$8,\"\")","v":0},{"$f":"IF('PENNANT TEAMS'!$B$5=2,'PENNANT TEAMS'!$C$11,\"\")","v":""},{"$f":"IF('PENNANT TEAMS'!$B$5=2,'PENNANT TEAMS'!$C$10,\"\")","v":""},{"$f":"IF('PENNANT TEAMS'!$B$5=2,'PENNANT TEAMS'!$A$8,\"\")","v":""},{"$f":"IF('PENNANT TEAMS'!$B$5=3,'PENNANT TEAMS'!$C$11,\"\")","v":""},{"$f":"IF('PENNANT TEAMS'!$B$5=3,'PENNANT TEAMS'!$C$10,\"\")","v":""},{"$f":"IF('PENNANT TEAMS'!$B$5=3,'PENNANT TEAMS'!$A$8,\"\")","v":""},{"$f":"IF('PENNANT TEAMS'!$B$5=4,'PENNANT TEAMS'!$C$11,\"\")","v":""},{"$f":"IF('PENNANT TEAMS'!$B$5=4,'PENNANT TEAMS'!$C$10,\"\")","v":""},{"$f":"IF('PENNANT TEAMS'!$B$5=4,'PENNANT TEAMS'!$A$8,\"\")","v":""},{"$f":"IF('PENNANT TEAMS'!$B$5=5,'PENNANT TEAMS'!$C$11,\"\")","v":""},{"$f":"IF('PENNANT TEAMS'!$B$5=5,'PENNANT TEAMS'!$C$10,\"\")","v":""},{"$f":"IF('PENNANT TEAMS'!$B$5=5,'PENNANT TEAMS'!$A$8,\"\")","v":""},{"$f":"IF('PENNANT TEAMS'!$B$5=6,'PENNANT TEAMS'!$C$11,\"\")","v":""},{"$f":"IF('PENNANT TEAMS'!$B$5=6,'PENNANT TEAMS'!$C$10,\"\")","v":""},{"$f":"IF('PENNANT TEAMS'!$B$5=6,'PENNANT TEAMS'!$A$8,\"\")","v":""},{"$f":"IF('PENNANT TEAMS'!$B$5=7,'PENNANT TEAMS'!$C$11,\"\")","v":""},{"$f":"IF('PENNANT TEAMS'!$B$5=7,'PENNANT TEAMS'!$C$10,\"\")","v":""},{"$f":"IF('PENNANT TEAMS'!$B$5=7,'PENNANT TEAMS'!$A$8,\"\")","v":""},{"$f":"IF('PENNANT TEAMS'!$B$5=8,'PENNANT TEAMS'!$C$11,\"\")","v":""},{"$f":"IF('PENNANT TEAMS'!$B$5=8,'PENNANT TEAMS'!$C$10,\"\")","v":""},{"$f":"IF('PENNANT TEAMS'!$B$5=8,'PENNANT TEAMS'!$A$8,\"\")","v":""},{"$f":"IF('PENNANT TEAMS'!$B$5=9,'PENNANT TEAMS'!$C$11,\"\")","v":""},{"$f":"IF('PENNANT TEAMS'!$B$5=9,'PENNANT TEAMS'!$C$10,\"\")","v":""},{"$f":"IF('PENNANT TEAMS'!$B$5=9,'PENNANT TEAMS'!$A$8,\"\")","v":""},{"$f":"IF('PENNANT TEAMS'!$B$5=10,'PENNANT TEAMS'!$C$11,\"\")","v":""},{"$f":"IF('PENNANT TEAMS'!$B$5=10,'PENNANT TEAMS'!$C$10,\"\")","v":""},{"$f":"IF('PENNANT TEAMS'!$B$5=10,'PENNANT TEAMS'!$A$8,\"\")","v":""}]
[{"$f":"IF('PENNANT TEAMS'!$B$5=1,'PENNANT TEAMS'!$D$11,\"\")","v":""},{"$f":"IF('PENNANT TEAMS'!$B$5=1,'PENNANT TEAMS'!$D$10,\"\")","v":0},{"$f":"IF('PENNANT TEAMS'!$B$5=1,'PENNANT TEAMS'!$A$8,\"\")","v":0},{"$f":"IF('PENNANT TEAMS'!$B$5=2,'PENNANT TEAMS'!$D$11,\"\")","v":""},{"$f":"IF('PENNANT TEAMS'!$B$5=2,'PENNANT TEAMS'!$D$10,\"\")","v":""},{"$f":"IF('PENNANT TEAMS'!$B$5=2,'PENNANT TEAMS'!$A$8,\"\")","v":""},{"$f":"IF('PENNANT TEAMS'!$B$5=3,'PENNANT TEAMS'!$D$11,\"\")","v":""},{"$f":"IF('PENNANT TEAMS'!$B$5=3,'PENNANT TEAMS'!$D$10,\"\")","v":""},{"$f":"IF('PENNANT TEAMS'!$B$5=3,'PENNANT TEAMS'!$A$8,\"\")","v":""},{"$f":"IF('PENNANT TEAMS'!$B$5=4,'PENNANT TEAMS'!$D$11,\"\")","v":""},{"$f":"IF('PENNANT TEAMS'!$B$5=4,'PENNANT TEAMS'!$D$10,\"\")","v":""},{"$f":"IF('PENNANT TEAMS'!$B$5=4,'PENNANT TEAMS'!$A$8,\"\")","v":""},{"$f":"IF('PENNANT TEAMS'!$B$5=5,'PENNANT TEAMS'!$D$11,\"\")","v":""},{"$f":"IF('PENNANT TEAMS'!$B$5=5,'PENNANT TEAMS'!$D$10,\"\")","v":""},{"$f":"IF('PENNANT TEAMS'!$B$5=5,'PENNANT TEAMS'!$A$8,\"\")","v":""},{"$f":"IF('PENNANT TEAMS'!$B$5=6,'PENNANT TEAMS'!$D$11,\"\")","v":""},{"$f":"IF('PENNANT TEAMS'!$B$5=6,'PENNANT TEAMS'!$D$10,\"\")","v":""},{"$f":"IF('PENNANT TEAMS'!$B$5=6,'PENNANT TEAMS'!$A$8,\"\")","v":""},{"$f":"IF('PENNANT TEAMS'!$B$5=7,'PENNANT TEAMS'!$D$11,\"\")","v":""},{"$f":"IF('PENNANT TEAMS'!$B$5=7,'PENNANT TEAMS'!$D$10,\"\")","v":""},{"$f":"IF('PENNANT TEAMS'!$B$5=7,'PENNANT TEAMS'!$A$8,\"\")","v":""},{"$f":"IF('PENNANT TEAMS'!$B$5=8,'PENNANT TEAMS'!$D$11,\"\")","v":""},{"$f":"IF('PENNANT TEAMS'!$B$5=8,'PENNANT TEAMS'!$D$10,\"\")","v":""},{"$f":"IF('PENNANT TEAMS'!$B$5=8,'PENNANT TEAMS'!$A$8,\"\")","v":""},{"$f":"IF('PENNANT TEAMS'!$B$5=9,'PENNANT TEAMS'!$D$11,\"\")","v":""},{"$f":"IF('PENNANT TEAMS'!$B$5=9,'PENNANT TEAMS'!$D$10,\"\")","v":""},{"$f":"IF('PENNANT TEAMS'!$B$5=9,'PENNANT TEAMS'!$A$8,\"\")","v":""},{"$f":"IF('PENNANT TEAMS'!$B$5=10,'PENNANT TEAMS'!$D$11,\"\")","v":""},{"$f":"IF('PENNANT TEAMS'!$B$5=10,'PENNANT TEAMS'!$D$10,\"\")","v":""},{"$f":"IF('PENNANT TEAMS'!$B$5=10,'PENNANT TEAMS'!$A$8,\"\")","v":""}]
[{"$f":"IF('PENNANT TEAMS'!$B$5=1,'PENNANT TEAMS'!$E$11,\"\")","v":""},{"$f":"IF('PENNANT TEAMS'!$B$5=1,'PENNANT TEAMS'!$E$10,\"\")","v":0},{"$f":"IF('PENNANT TEAMS'!$B$5=1,'PENNANT TEAMS'!$A$8,\"\")","v":0},{"$f":"IF('PENNANT TEAMS'!$B$5=2,'PENNANT TEAMS'!$E$11,\"\")","v":""},{"$f":"IF('PENNANT TEAMS'!$B$5=2,'PENNANT TEAMS'!$E$10,\"\")","v":""},{"$f":"IF('PENNANT TEAMS'!$B$5=2,'PENNANT TEAMS'!$A$8,\"\")","v":""},{"$f":"IF('PENNANT TEAMS'!$B$5=3,'PENNANT TEAMS'!$E$11,\"\")","v":""},{"$f":"IF('PENNANT TEAMS'!$B$5=3,'PENNANT TEAMS'!$E$10,\"\")","v":""},{"$f":"IF('PENNANT TEAMS'!$B$5=3,'PENNANT TEAMS'!$A$8,\"\")","v":""},{"$f":"IF('PENNANT TEAMS'!$B$5=4,'PENNANT TEAMS'!$E$11,\"\")","v":""},{"$f":"IF('PENNANT TEAMS'!$B$5=4,'PENNANT TEAMS'!$E$10,\"\")","v":""},{"$f":"IF('PENNANT TEAMS'!$B$5=4,'PENNANT TEAMS'!$A$8,\"\")","v":""},{"$f":"IF('PENNANT TEAMS'!$B$5=5,'PENNANT TEAMS'!$E$11,\"\")","v":""},{"$f":"IF('PENNANT TEAMS'!$B$5=5,'PENNANT TEAMS'!$E$10,\"\")","v":""},{"$f":"IF('PENNANT TEAMS'!$B$5=5,'PENNANT TEAMS'!$A$8,\"\")","v":""},{"$f":"IF('PENNANT TEAMS'!$B$5=6,'PENNANT TEAMS'!$E$11,\"\")","v":""},{"$f":"IF('PENNANT TEAMS'!$B$5=6,'PENNANT TEAMS'!$E$10,\"\")","v":""},{"$f":"IF('PENNANT TEAMS'!$B$5=6,'PENNANT TEAMS'!$A$8,\"\")","v":""},{"$f":"IF('PENNANT TEAMS'!$B$5=7,'PENNANT TEAMS'!$E$11,\"\")","v":""},{"$f":"IF('PENNANT TEAMS'!$B$5=7,'PENNANT TEAMS'!$E$10,\"\")","v":""},{"$f":"IF('PENNANT TEAMS'!$B$5=7,'PENNANT TEAMS'!$A$8,\"\")","v":""},{"$f":"IF('PENNANT TEAMS'!$B$5=8,'PENNANT TEAMS'!$E$11,\"\")","v":""},{"$f":"IF('PENNANT TEAMS'!$B$5=8,'PENNANT TEAMS'!$E$10,\"\")","v":""},{"$f":"IF('PENNANT TEAMS'!$B$5=8,'PENNANT TEAMS'!$A$8,\"\")","v":""},{"$f":"IF('PENNANT TEAMS'!$B$5=9,'PENNANT TEAMS'!$E$11,\"\")","v":""},{"$f":"IF('PENNANT TEAMS'!$B$5=9,'PENNANT TEAMS'!$E$10,\"\")","v":""},{"$f":"IF('PENNANT TEAMS'!$B$5=9,'PENNANT TEAMS'!$A$8,\"\")","v":""},{"$f":"IF('PENNANT TEAMS'!$B$5=10,'PENNANT TEAMS'!$E$11,\"\")","v":""},{"$f":"IF('PENNANT TEAMS'!$B$5=10,'PENNANT TEAMS'!$E$10,\"\")","v":""},{"$f":"IF('PENNANT TEAMS'!$B$5=10,'PENNANT TEAMS'!$A$8,\"\")","v":""}]
[{"$f":"IF('PENNANT TEAMS'!$B$5=1,'PENNANT TEAMS'!$B$13,\"\")","v":""},{"$f":"IF('PENNANT TEAMS'!$B$5=1,'PENNANT TEAMS'!$B$12,\"\")","v":0},{"$f":"IF('PENNANT TEAMS'!$B$5=1,'PENNANT TEAMS'!$A$8,\"\")","v":0},{"$f":"IF('PENNANT TEAMS'!$B$5=2,'PENNANT TEAMS'!$B$13,\"\")","v":""},{"$f":"IF('PENNANT TEAMS'!$B$5=2,'PENNANT TEAMS'!$B$12,\"\")","v":""},{"$f":"IF('PENNANT TEAMS'!$B$5=2,'PENNANT TEAMS'!$A$8,\"\")","v":""},{"$f":"IF('PENNANT TEAMS'!$B$5=3,'PENNANT TEAMS'!$B$13,\"\")","v":""},{"$f":"IF('PENNANT TEAMS'!$B$5=3,'PENNANT TEAMS'!$B$12,\"\")","v":""},{"$f":"IF('PENNANT TEAMS'!$B$5=3,'PENNANT TEAMS'!$A$8,\"\")","v":""},{"$f":"IF('PENNANT TEAMS'!$B$5=4,'PENNANT TEAMS'!$B$13,\"\")","v":""},{"$f":"IF('PENNANT TEAMS'!$B$5=4,'PENNANT TEAMS'!$B$12,\"\")","v":""},{"$f":"IF('PENNANT TEAMS'!$B$5=4,'PENNANT TEAMS'!$A$8,\"\")","v":""},{"$f":"IF('PENNANT TEAMS'!$B$5=5,'PENNANT TEAMS'!$B$13,\"\")","v":""},{"$f":"IF('PENNANT TEAMS'!$B$5=5,'PENNANT TEAMS'!$B$12,\"\")","v":""},{"$f":"IF('PENNANT TEAMS'!$B$5=5,'PENNANT TEAMS'!$A$8,\"\")","v":""},{"$f":"IF('PENNANT TEAMS'!$B$5=6,'PENNANT TEAMS'!$B$13,\"\")","v":""},{"$f":"IF('PENNANT TEAMS'!$B$5=6,'PENNANT TEAMS'!$B$12,\"\")","v":""},{"$f":"IF('PENNANT TEAMS'!$B$5=6,'PENNANT TEAMS'!$A$8,\"\")","v":""},{"$f":"IF('PENNANT TEAMS'!$B$5=7,'PENNANT TEAMS'!$B$13,\"\")","v":""},{"$f":"IF('PENNANT TEAMS'!$B$5=7,'PENNANT TEAMS'!$B$12,\"\")","v":""},{"$f":"IF('PENNANT TEAMS'!$B$5=7,'PENNANT TEAMS'!$A$8,\"\")","v":""},{"$f":"IF('PENNANT TEAMS'!$B$5=8,'PENNANT TEAMS'!$B$13,\"\")","v":""},{"$f":"IF('PENNANT TEAMS'!$B$5=8,'PENNANT TEAMS'!$B$12,\"\")","v":""},{"$f":"IF('PENNANT TEAMS'!$B$5=8,'PENNANT TEAMS'!$A$8,\"\")","v":""},{"$f":"IF('PENNANT TEAMS'!$B$5=9,'PENNANT TEAMS'!$B$13,\"\")","v":""},{"$f":"IF('PENNANT TEAMS'!$B$5=9,'PENNANT TEAMS'!$B$12,\"\")","v":""},{"$f":"IF('PENNANT TEAMS'!$B$5=9,'PENNANT TEAMS'!$A$8,\"\")","v":""},{"$f":"IF('PENNANT TEAMS'!$B$5=10,'PENNANT TEAMS'!$B$13,\"\")","v":""},{"$f":"IF('PENNANT TEAMS'!$B$5=10,'PENNANT TEAMS'!$B$12,\"\")","v":""},{"$f":"IF('PENNANT TEAMS'!$B$5=10,'PENNANT TEAMS'!$A$8,\"\")","v":""}]
[{"$f":"IF('PENNANT TEAMS'!$B$5=1,'PENNANT TEAMS'!$C$13,\"\")","v":""},{"$f":"IF('PENNANT TEAMS'!$B$5=1,'PENNANT TEAMS'!$C$12,\"\")","v":0},{"$f":"IF('PENNANT TEAMS'!$B$5=1,'PENNANT TEAMS'!$A$8,\"\")","v":0},{"$f":"IF('PENNANT TEAMS'!$B$5=2,'PENNANT TEAMS'!$C$13,\"\")","v":""},{"$f":"IF('PENNANT TEAMS'!$B$5=2,'PENNANT TEAMS'!$C$12,\"\")","v":""},{"$f":"IF('PENNANT TEAMS'!$B$5=2,'PENNANT TEAMS'!$A$8,\"\")","v":""},{"$f":"IF('PENNANT TEAMS'!$B$5=3,'PENNANT TEAMS'!$C$13,\"\")","v":""},{"$f":"IF('PENNANT TEAMS'!$B$5=3,'PENNANT TEAMS'!$C$12,\"\")","v":""},{"$f":"IF('PENNANT TEAMS'!$B$5=3,'PENNANT TEAMS'!$A$8,\"\")","v":""},{"$f":"IF('PENNANT TEAMS'!$B$5=4,'PENNANT TEAMS'!$C$13,\"\")","v":""},{"$f":"IF('PENNANT TEAMS'!$B$5=4,'PENNANT TEAMS'!$C$12,\"\")","v":""},{"$f":"IF('PENNANT TEAMS'!$B$5=4,'PENNANT TEAMS'!$A$8,\"\")","v":""},{"$f":"IF('PENNANT TEAMS'!$B$5=5,'PENNANT TEAMS'!$C$13,\"\")","v":""},{"$f":"IF('PENNANT TEAMS'!$B$5=5,'PENNANT TEAMS'!$C$12,\"\")","v":""},{"$f":"IF('PENNANT TEAMS'!$B$5=5,'PENNANT TEAMS'!$A$8,\"\")","v":""},{"$f":"IF('PENNANT TEAMS'!$B$5=6,'PENNANT TEAMS'!$C$13,\"\")","v":""},{"$f":"IF('PENNANT TEAMS'!$B$5=6,'PENNANT TEAMS'!$C$12,\"\")","v":""},{"$f":"IF('PENNANT TEAMS'!$B$5=6,'PENNANT TEAMS'!$A$8,\"\")","v":""},{"$f":"IF('PENNANT TEAMS'!$B$5=7,'PENNANT TEAMS'!$C$13,\"\")","v":""},{"$f":"IF('PENNANT TEAMS'!$B$5=7,'PENNANT TEAMS'!$C$12,\"\")","v":""},{"$f":"IF('PENNANT TEAMS'!$B$5=7,'PENNANT TEAMS'!$A$8,\"\")","v":""},{"$f":"IF('PENNANT TEAMS'!$B$5=8,'PENNANT TEAMS'!$C$13,\"\")","v":""},{"$f":"IF('PENNANT TEAMS'!$B$5=8,'PENNANT TEAMS'!$C$12,\"\")","v":""},{"$f":"IF('PENNANT TEAMS'!$B$5=8,'PENNANT TEAMS'!$A$8,\"\")","v":""},{"$f":"IF('PENNANT TEAMS'!$B$5=9,'PENNANT TEAMS'!$C$13,\"\")","v":""},{"$f":"IF('PENNANT TEAMS'!$B$5=9,'PENNANT TEAMS'!$C$12,\"\")","v":""},{"$f":"IF('PENNANT TEAMS'!$B$5=9,'PENNANT TEAMS'!$A$8,\"\")","v":""},{"$f":"IF('PENNANT TEAMS'!$B$5=10,'PENNANT TEAMS'!$C$13,\"\")","v":""},{"$f":"IF('PENNANT TEAMS'!$B$5=10,'PENNANT TEAMS'!$C$12,\"\")","v":""},{"$f":"IF('PENNANT TEAMS'!$B$5=10,'PENNANT TEAMS'!$A$8,\"\")","v":""}]
[{"$f":"IF('PENNANT TEAMS'!$B$5=1,'PENNANT TEAMS'!$D$13,\"\")","v":""},{"$f":"IF('PENNANT TEAMS'!$B$5=1,'PENNANT TEAMS'!$D$12,\"\")","v":0},{"$f":"IF('PENNANT TEAMS'!$B$5=1,'PENNANT TEAMS'!$A$8,\"\")","v":0},{"$f":"IF('PENNANT TEAMS'!$B$5=2,'PENNANT TEAMS'!$D$13,\"\")","v":""},{"$f":"IF('PENNANT TEAMS'!$B$5=2,'PENNANT TEAMS'!$D$12,\"\")","v":""},{"$f":"IF('PENNANT TEAMS'!$B$5=2,'PENNANT TEAMS'!$A$8,\"\")","v":""},{"$f":"IF('PENNANT TEAMS'!$B$5=3,'PENNANT TEAMS'!$D$13,\"\")","v":""},{"$f":"IF('PENNANT TEAMS'!$B$5=3,'PENNANT TEAMS'!$D$12,\"\")","v":""},{"$f":"IF('PENNANT TEAMS'!$B$5=3,'PENNANT TEAMS'!$A$8,\"\")","v":""},{"$f":"IF('PENNANT TEAMS'!$B$5=4,'PENNANT TEAMS'!$D$13,\"\")","v":""},{"$f":"IF('PENNANT TEAMS'!$B$5=4,'PENNANT TEAMS'!$D$12,\"\")","v":""},{"$f":"IF('PENNANT TEAMS'!$B$5=4,'PENNANT TEAMS'!$A$8,\"\")","v":""},{"$f":"IF('PENNANT TEAMS'!$B$5=5,'PENNANT TEAMS'!$D$13,\"\")","v":""},{"$f":"IF('PENNANT TEAMS'!$B$5=5,'PENNANT TEAMS'!$D$12,\"\")","v":""},{"$f":"IF('PENNANT TEAMS'!$B$5=5,'PENNANT TEAMS'!$A$8,\"\")","v":""},{"$f":"IF('PENNANT TEAMS'!$B$5=6,'PENNANT TEAMS'!$D$13,\"\")","v":""},{"$f":"IF('PENNANT TEAMS'!$B$5=6,'PENNANT TEAMS'!$D$12,\"\")","v":""},{"$f":"IF('PENNANT TEAMS'!$B$5=6,'PENNANT TEAMS'!$A$8,\"\")","v":""},{"$f":"IF('PENNANT TEAMS'!$B$5=7,'PENNANT TEAMS'!$D$13,\"\")","v":""},{"$f":"IF('PENNANT TEAMS'!$B$5=7,'PENNANT TEAMS'!$D$12,\"\")","v":""},{"$f":"IF('PENNANT TEAMS'!$B$5=7,'PENNANT TEAMS'!$A$8,\"\")","v":""},{"$f":"IF('PENNANT TEAMS'!$B$5=8,'PENNANT TEAMS'!$D$13,\"\")","v":""},{"$f":"IF('PENNANT TEAMS'!$B$5=8,'PENNANT TEAMS'!$D$12,\"\")","v":""},{"$f":"IF('PENNANT TEAMS'!$B$5=8,'PENNANT TEAMS'!$A$8,\"\")","v":""},{"$f":"IF('PENNANT TEAMS'!$B$5=9,'PENNANT TEAMS'!$D$13,\"\")","v":""},{"$f":"IF('PENNANT TEAMS'!$B$5=9,'PENNANT TEAMS'!$D$12,\"\")","v":""},{"$f":"IF('PENNANT TEAMS'!$B$5=9,'PENNANT TEAMS'!$A$8,\"\")","v":""},{"$f":"IF('PENNANT TEAMS'!$B$5=10,'PENNANT TEAMS'!$D$13,\"\")","v":""},{"$f":"IF('PENNANT TEAMS'!$B$5=10,'PENNANT TEAMS'!$D$12,\"\")","v":""},{"$f":"IF('PENNANT TEAMS'!$B$5=10,'PENNANT TEAMS'!$A$8,\"\")","v":""}]
[{"$f":"IF('PENNANT TEAMS'!$B$5=1,'PENNANT TEAMS'!$E$13,\"\")","v":""},{"$f":"IF('PENNANT TEAMS'!$B$5=1,'PENNANT TEAMS'!$E$12,\"\")","v":0},{"$f":"IF('PENNANT TEAMS'!$B$5=1,'PENNANT TEAMS'!$A$8,\"\")","v":0},{"$f":"IF('PENNANT TEAMS'!$B$5=2,'PENNANT TEAMS'!$E$13,\"\")","v":""},{"$f":"IF('PENNANT TEAMS'!$B$5=2,'PENNANT TEAMS'!$E$12,\"\")","v":""},{"$f":"IF('PENNANT TEAMS'!$B$5=2,'PENNANT TEAMS'!$A$8,\"\")","v":""},{"$f":"IF('PENNANT TEAMS'!$B$5=3,'PENNANT TEAMS'!$E$13,\"\")","v":""},{"$f":"IF('PENNANT TEAMS'!$B$5=3,'PENNANT TEAMS'!$E$12,\"\")","v":""},{"$f":"IF('PENNANT TEAMS'!$B$5=3,'PENNANT TEAMS'!$A$8,\"\")","v":""},{"$f":"IF('PENNANT TEAMS'!$B$5=4,'PENNANT TEAMS'!$E$13,\"\")","v":""},{"$f":"IF('PENNANT TEAMS'!$B$5=4,'PENNANT TEAMS'!$E$12,\"\")","v":""},{"$f":"IF('PENNANT TEAMS'!$B$5=4,'PENNANT TEAMS'!$A$8,\"\")","v":""},{"$f":"IF('PENNANT TEAMS'!$B$5=5,'PENNANT TEAMS'!$E$13,\"\")","v":""},{"$f":"IF('PENNANT TEAMS'!$B$5=5,'PENNANT TEAMS'!$E$12,\"\")","v":""},{"$f":"IF('PENNANT TEAMS'!$B$5=5,'PENNANT TEAMS'!$A$8,\"\")","v":""},{"$f":"IF('PENNANT TEAMS'!$B$5=6,'PENNANT TEAMS'!$E$13,\"\")","v":""},{"$f":"IF('PENNANT TEAMS'!$B$5=6,'PENNANT TEAMS'!$E$12,\"\")","v":""},{"$f":"IF('PENNANT TEAMS'!$B$5=6,'PENNANT TEAMS'!$A$8,\"\")","v":""},{"$f":"IF('PENNANT TEAMS'!$B$5=7,'PENNANT TEAMS'!$E$13,\"\")","v":""},{"$f":"IF('PENNANT TEAMS'!$B$5=7,'PENNANT TEAMS'!$E$12,\"\")","v":""},{"$f":"IF('PENNANT TEAMS'!$B$5=7,'PENNANT TEAMS'!$A$8,\"\")","v":""},{"$f":"IF('PENNANT TEAMS'!$B$5=8,'PENNANT TEAMS'!$E$13,\"\")","v":""},{"$f":"IF('PENNANT TEAMS'!$B$5=8,'PENNANT TEAMS'!$E$12,\"\")","v":""},{"$f":"IF('PENNANT TEAMS'!$B$5=8,'PENNANT TEAMS'!$A$8,\"\")","v":""},{"$f":"IF('PENNANT TEAMS'!$B$5=9,'PENNANT TEAMS'!$E$13,\"\")","v":""},{"$f":"IF('PENNANT TEAMS'!$B$5=9,'PENNANT TEAMS'!$E$12,\"\")","v":""},{"$f":"IF('PENNANT TEAMS'!$B$5=9,'PENNANT TEAMS'!$A$8,\"\")","v":""},{"$f":"IF('PENNANT TEAMS'!$B$5=10,'PENNANT TEAMS'!$E$13,\"\")","v":""},{"$f":"IF('PENNANT TEAMS'!$B$5=10,'PENNANT TEAMS'!$E$12,\"\")","v":""},{"$f":"IF('PENNANT TEAMS'!$B$5=10,'PENNANT TEAMS'!$A$8,\"\")","v":""}]
[{"$f":"IF('PENNANT TEAMS'!$B$5=1,'PENNANT TEAMS'!$B$18,\"\")","v":""},{"$f":"IF('PENNANT TEAMS'!$B$5=1,'PENNANT TEAMS'!$B$17,\"\")","v":0},{"$f":"IF('PENNANT TEAMS'!$B$5=1,'PENNANT TEAMS'!$A$17,\"\")","v":0},{"$f":"IF('PENNANT TEAMS'!$B$5=2,'PENNANT TEAMS'!$B$18,\"\")","v":""},{"$f":"IF('PENNANT TEAMS'!$B$5=2,'PENNANT TEAMS'!$B$17,\"\")","v":""},{"$f":"IF('PENNANT TEAMS'!$B$5=2,'PENNANT TEAMS'!$A$17,\"\")","v":""},{"$f":"IF('PENNANT TEAMS'!$B$5=3,'PENNANT TEAMS'!$B$18,\"\")","v":""},{"$f":"IF('PENNANT TEAMS'!$B$5=3,'PENNANT TEAMS'!$B$17,\"\")","v":""},{"$f":"IF('PENNANT TEAMS'!$B$5=3,'PENNANT TEAMS'!$A$17,\"\")","v":""},{"$f":"IF('PENNANT TEAMS'!$B$5=4,'PENNANT TEAMS'!$B$18,\"\")","v":""},{"$f":"IF('PENNANT TEAMS'!$B$5=4,'PENNANT TEAMS'!$B$17,\"\")","v":""},{"$f":"IF('PENNANT TEAMS'!$B$5=4,'PENNANT TEAMS'!$A$17,\"\")","v":""},{"$f":"IF('PENNANT TEAMS'!$B$5=5,'PENNANT TEAMS'!$B$18,\"\")","v":""},{"$f":"IF('PENNANT TEAMS'!$B$5=5,'PENNANT TEAMS'!$B$17,\"\")","v":""},{"$f":"IF('PENNANT TEAMS'!$B$5=5,'PENNANT TEAMS'!$A$17,\"\")","v":""},{"$f":"IF('PENNANT TEAMS'!$B$5=6,'PENNANT TEAMS'!$B$18,\"\")","v":""},{"$f":"IF('PENNANT TEAMS'!$B$5=6,'PENNANT TEAMS'!$B$17,\"\")","v":""},{"$f":"IF('PENNANT TEAMS'!$B$5=6,'PENNANT TEAMS'!$A$17,\"\")","v":""},{"$f":"IF('PENNANT TEAMS'!$B$5=7,'PENNANT TEAMS'!$B$18,\"\")","v":""},{"$f":"IF('PENNANT TEAMS'!$B$5=7,'PENNANT TEAMS'!$B$17,\"\")","v":""},{"$f":"IF('PENNANT TEAMS'!$B$5=7,'PENNANT TEAMS'!$A$17,\"\")","v":""},{"$f":"IF('PENNANT TEAMS'!$B$5=8,'PENNANT TEAMS'!$B$18,\"\")","v":""},{"$f":"IF('PENNANT TEAMS'!$B$5=8,'PENNANT TEAMS'!$B$17,\"\")","v":""},{"$f":"IF('PENNANT TEAMS'!$B$5=8,'PENNANT TEAMS'!$A$17,\"\")","v":""},{"$f":"IF('PENNANT TEAMS'!$B$5=9,'PENNANT TEAMS'!$B$18,\"\")","v":""},{"$f":"IF('PENNANT TEAMS'!$B$5=9,'PENNANT TEAMS'!$B$17,\"\")","v":""},{"$f":"IF('PENNANT TEAMS'!$B$5=9,'PENNANT TEAMS'!$A$17,\"\")","v":""},{"$f":"IF('PENNANT TEAMS'!$B$5=10,'PENNANT TEAMS'!$B$18,\"\")","v":""},{"$f":"IF('PENNANT TEAMS'!$B$5=10,'PENNANT TEAMS'!$B$17,\"\")","v":""},{"$f":"IF('PENNANT TEAMS'!$B$5=10,'PENNANT TEAMS'!$A$17,\"\")","v":""}]
[{"$f":"IF('PENNANT TEAMS'!$B$5=1,'PENNANT TEAMS'!$C$18,\"\")","v":""},{"$f":"IF('PENNANT TEAMS'!$B$5=1,'PENNANT TEAMS'!$C$17,\"\")","v":0},{"$f":"IF('PENNANT TEAMS'!$B$5=1,'PENNANT TEAMS'!$A$17,\"\")","v":0},{"$f":"IF('PENNANT TEAMS'!$B$5=2,'PENNANT TEAMS'!$C$18,\"\")","v":""},{"$f":"IF('PENNANT TEAMS'!$B$5=2,'PENNANT TEAMS'!$C$17,\"\")","v":""},{"$f":"IF('PENNANT TEAMS'!$B$5=2,'PENNANT TEAMS'!$A$17,\"\")","v":""},{"$f":"IF('PENNANT TEAMS'!$B$5=3,'PENNANT TEAMS'!$C$18,\"\")","v":""},{"$f":"IF('PENNANT TEAMS'!$B$5=3,'PENNANT TEAMS'!$C$17,\"\")","v":""},{"$f":"IF('PENNANT TEAMS'!$B$5=3,'PENNANT TEAMS'!$A$17,\"\")","v":""},{"$f":"IF('PENNANT TEAMS'!$B$5=4,'PENNANT TEAMS'!$C$18,\"\")","v":""},{"$f":"IF('PENNANT TEAMS'!$B$5=4,'PENNANT TEAMS'!$C$17,\"\")","v":""},{"$f":"IF('PENNANT TEAMS'!$B$5=4,'PENNANT TEAMS'!$A$17,\"\")","v":""},{"$f":"IF('PENNANT TEAMS'!$B$5=5,'PENNANT TEAMS'!$C$18,\"\")","v":""},{"$f":"IF('PENNANT TEAMS'!$B$5=5,'PENNANT TEAMS'!$C$17,\"\")","v":""},{"$f":"IF('PENNANT TEAMS'!$B$5=5,'PENNANT TEAMS'!$A$17,\"\")","v":""},{"$f":"IF('PENNANT TEAMS'!$B$5=6,'PENNANT TEAMS'!$C$18,\"\")","v":""},{"$f":"IF('PENNANT TEAMS'!$B$5=6,'PENNANT TEAMS'!$C$17,\"\")","v":""},{"$f":"IF('PENNANT TEAMS'!$B$5=6,'PENNANT TEAMS'!$A$17,\"\")","v":""},{"$f":"IF('PENNANT TEAMS'!$B$5=7,'PENNANT TEAMS'!$C$18,\"\")","v":""},{"$f":"IF('PENNANT TEAMS'!$B$5=7,'PENNANT TEAMS'!$C$17,\"\")","v":""},{"$f":"IF('PENNANT TEAMS'!$B$5=7,'PENNANT TEAMS'!$A$17,\"\")","v":""},{"$f":"IF('PENNANT TEAMS'!$B$5=8,'PENNANT TEAMS'!$C$18,\"\")","v":""},{"$f":"IF('PENNANT TEAMS'!$B$5=8,'PENNANT TEAMS'!$C$17,\"\")","v":""},{"$f":"IF('PENNANT TEAMS'!$B$5=8,'PENNANT TEAMS'!$A$17,\"\")","v":""},{"$f":"IF('PENNANT TEAMS'!$B$5=9,'PENNANT TEAMS'!$C$18,\"\")","v":""},{"$f":"IF('PENNANT TEAMS'!$B$5=9,'PENNANT TEAMS'!$C$17,\"\")","v":""},{"$f":"IF('PENNANT TEAMS'!$B$5=9,'PENNANT TEAMS'!$A$17,\"\")","v":""},{"$f":"IF('PENNANT TEAMS'!$B$5=10,'PENNANT TEAMS'!$C$18,\"\")","v":""},{"$f":"IF('PENNANT TEAMS'!$B$5=10,'PENNANT TEAMS'!$C$17,\"\")","v":""},{"$f":"IF('PENNANT TEAMS'!$B$5=10,'PENNANT TEAMS'!$A$17,\"\")","v":""}]
[{"$f":"IF('PENNANT TEAMS'!$B$5=1,'PENNANT TEAMS'!$D$18,\"\")","v":""},{"$f":"IF('PENNANT TEAMS'!$B$5=1,'PENNANT TEAMS'!$D$17,\"\")","v":0},{"$f":"IF('PENNANT TEAMS'!$B$5=1,'PENNANT TEAMS'!$A$17,\"\")","v":0},{"$f":"IF('PENNANT TEAMS'!$B$5=2,'PENNANT TEAMS'!$D$18,\"\")","v":""},{"$f":"IF('PENNANT TEAMS'!$B$5=2,'PENNANT TEAMS'!$D$17,\"\")","v":""},{"$f":"IF('PENNANT TEAMS'!$B$5=2,'PENNANT TEAMS'!$A$17,\"\")","v":""},{"$f":"IF('PENNANT TEAMS'!$B$5=3,'PENNANT TEAMS'!$D$18,\"\")","v":""},{"$f":"IF('PENNANT TEAMS'!$B$5=3,'PENNANT TEAMS'!$D$17,\"\")","v":""},{"$f":"IF('PENNANT TEAMS'!$B$5=3,'PENNANT TEAMS'!$A$17,\"\")","v":""},{"$f":"IF('PENNANT TEAMS'!$B$5=4,'PENNANT TEAMS'!$D$18,\"\")","v":""},{"$f":"IF('PENNANT TEAMS'!$B$5=4,'PENNANT TEAMS'!$D$17,\"\")","v":""},{"$f":"IF('PENNANT TEAMS'!$B$5=4,'PENNANT TEAMS'!$A$17,\"\")","v":""},{"$f":"IF('PENNANT TEAMS'!$B$5=5,'PENNANT TEAMS'!$D$18,\"\")","v":""},{"$f":"IF('PENNANT TEAMS'!$B$5=5,'PENNANT TEAMS'!$D$17,\"\")","v":""},{"$f":"IF('PENNANT TEAMS'!$B$5=5,'PENNANT TEAMS'!$A$17,\"\")","v":""},{"$f":"IF('PENNANT TEAMS'!$B$5=6,'PENNANT TEAMS'!$D$18,\"\")","v":""},{"$f":"IF('PENNANT TEAMS'!$B$5=6,'PENNANT TEAMS'!$D$17,\"\")","v":""},{"$f":"IF('PENNANT TEAMS'!$B$5=6,'PENNANT TEAMS'!$A$17,\"\")","v":""},{"$f":"IF('PENNANT TEAMS'!$B$5=7,'PENNANT TEAMS'!$D$18,\"\")","v":""},{"$f":"IF('PENNANT TEAMS'!$B$5=7,'PENNANT TEAMS'!$D$17,\"\")","v":""},{"$f":"IF('PENNANT TEAMS'!$B$5=7,'PENNANT TEAMS'!$A$17,\"\")","v":""},{"$f":"IF('PENNANT TEAMS'!$B$5=8,'PENNANT TEAMS'!$D$18,\"\")","v":""},{"$f":"IF('PENNANT TEAMS'!$B$5=8,'PENNANT TEAMS'!$D$17,\"\")","v":""},{"$f":"IF('PENNANT TEAMS'!$B$5=8,'PENNANT TEAMS'!$A$17,\"\")","v":""},{"$f":"IF('PENNANT TEAMS'!$B$5=9,'PENNANT TEAMS'!$D$18,\"\")","v":""},{"$f":"IF('PENNANT TEAMS'!$B$5=9,'PENNANT TEAMS'!$D$17,\"\")","v":""},{"$f":"IF('PENNANT TEAMS'!$B$5=9,'PENNANT TEAMS'!$A$17,\"\")","v":""},{"$f":"IF('PENNANT TEAMS'!$B$5=10,'PENNANT TEAMS'!$D$18,\"\")","v":""},{"$f":"IF('PENNANT TEAMS'!$B$5=10,'PENNANT TEAMS'!$D$17,\"\")","v":""},{"$f":"IF('PENNANT TEAMS'!$B$5=10,'PENNANT TEAMS'!$A$17,\"\")","v":""}]
[{"$f":"IF('PENNANT TEAMS'!$B$5=1,'PENNANT TEAMS'!$E$18,\"\")","v":""},{"$f":"IF('PENNANT TEAMS'!$B$5=1,'PENNANT TEAMS'!$E$17,\"\")","v":0},{"$f":"IF('PENNANT TEAMS'!$B$5=1,'PENNANT TEAMS'!$A$17,\"\")","v":0},{"$f":"IF('PENNANT TEAMS'!$B$5=2,'PENNANT TEAMS'!$E$18,\"\")","v":""},{"$f":"IF('PENNANT TEAMS'!$B$5=2,'PENNANT TEAMS'!$E$17,\"\")","v":""},{"$f":"IF('PENNANT TEAMS'!$B$5=2,'PENNANT TEAMS'!$A$17,\"\")","v":""},{"$f":"IF('PENNANT TEAMS'!$B$5=3,'PENNANT TEAMS'!$E$18,\"\")","v":""},{"$f":"IF('PENNANT TEAMS'!$B$5=3,'PENNANT TEAMS'!$E$17,\"\")","v":""},{"$f":"IF('PENNANT TEAMS'!$B$5=3,'PENNANT TEAMS'!$A$17,\"\")","v":""},{"$f":"IF('PENNANT TEAMS'!$B$5=4,'PENNANT TEAMS'!$E$18,\"\")","v":""},{"$f":"IF('PENNANT TEAMS'!$B$5=4,'PENNANT TEAMS'!$E$17,\"\")","v":""},{"$f":"IF('PENNANT TEAMS'!$B$5=4,'PENNANT TEAMS'!$A$17,\"\")","v":""},{"$f":"IF('PENNANT TEAMS'!$B$5=5,'PENNANT TEAMS'!$E$18,\"\")","v":""},{"$f":"IF('PENNANT TEAMS'!$B$5=5,'PENNANT TEAMS'!$E$17,\"\")","v":""},{"$f":"IF('PENNANT TEAMS'!$B$5=5,'PENNANT TEAMS'!$A$17,\"\")","v":""},{"$f":"IF('PENNANT TEAMS'!$B$5=6,'PENNANT TEAMS'!$E$18,\"\")","v":""},{"$f":"IF('PENNANT TEAMS'!$B$5=6,'PENNANT TEAMS'!$E$17,\"\")","v":""},{"$f":"IF('PENNANT TEAMS'!$B$5=6,'PENNANT TEAMS'!$A$17,\"\")","v":""},{"$f":"IF('PENNANT TEAMS'!$B$5=7,'PENNANT TEAMS'!$E$18,\"\")","v":""},{"$f":"IF('PENNANT TEAMS'!$B$5=7,'PENNANT TEAMS'!$E$17,\"\")","v":""},{"$f":"IF('PENNANT TEAMS'!$B$5=7,'PENNANT TEAMS'!$A$17,\"\")","v":""},{"$f":"IF('PENNANT TEAMS'!$B$5=8,'PENNANT TEAMS'!$E$18,\"\")","v":""},{"$f":"IF('PENNANT TEAMS'!$B$5=8,'PENNANT TEAMS'!$E$17,\"\")","v":""},{"$f":"IF('PENNANT TEAMS'!$B$5=8,'PENNANT TEAMS'!$A$17,\"\")","v":""},{"$f":"IF('PENNANT TEAMS'!$B$5=9,'PENNANT TEAMS'!$E$18,\"\")","v":""},{"$f":"IF('PENNANT TEAMS'!$B$5=9,'PENNANT TEAMS'!$E$17,\"\")","v":""},{"$f":"IF('PENNANT TEAMS'!$B$5=9,'PENNANT TEAMS'!$A$17,\"\")","v":""},{"$f":"IF('PENNANT TEAMS'!$B$5=10,'PENNANT TEAMS'!$E$18,\"\")","v":""},{"$f":"IF('PENNANT TEAMS'!$B$5=10,'PENNANT TEAMS'!$E$17,\"\")","v":""},{"$f":"IF('PENNANT TEAMS'!$B$5=10,'PENNANT TEAMS'!$A$17,\"\")","v":""}]
[{"$f":"IF('PENNANT TEAMS'!$B$5=1,'PENNANT TEAMS'!$B$20,\"\")","v":""},{"$f":"IF('PENNANT TEAMS'!$B$5=1,'PENNANT TEAMS'!$B$19,\"\")","v":0},{"$f":"IF('PENNANT TEAMS'!$B$5=1,'PENNANT TEAMS'!$A$17,\"\")","v":0},{"$f":"IF('PENNANT TEAMS'!$B$5=2,'PENNANT TEAMS'!$B$20,\"\")","v":""},{"$f":"IF('PENNANT TEAMS'!$B$5=2,'PENNANT TEAMS'!$B$19,\"\")","v":""},{"$f":"IF('PENNANT TEAMS'!$B$5=2,'PENNANT TEAMS'!$A$17,\"\")","v":""},{"$f":"IF('PENNANT TEAMS'!$B$5=3,'PENNANT TEAMS'!$B$20,\"\")","v":""},{"$f":"IF('PENNANT TEAMS'!$B$5=3,'PENNANT TEAMS'!$B$19,\"\")","v":""},{"$f":"IF('PENNANT TEAMS'!$B$5=3,'PENNANT TEAMS'!$A$17,\"\")","v":""},{"$f":"IF('PENNANT TEAMS'!$B$5=4,'PENNANT TEAMS'!$B$20,\"\")","v":""},{"$f":"IF('PENNANT TEAMS'!$B$5=4,'PENNANT TEAMS'!$B$19,\"\")","v":""},{"$f":"IF('PENNANT TEAMS'!$B$5=4,'PENNANT TEAMS'!$A$17,\"\")","v":""},{"$f":"IF('PENNANT TEAMS'!$B$5=5,'PENNANT TEAMS'!$B$20,\"\")","v":""},{"$f":"IF('PENNANT TEAMS'!$B$5=5,'PENNANT TEAMS'!$B$19,\"\")","v":""},{"$f":"IF('PENNANT TEAMS'!$B$5=5,'PENNANT TEAMS'!$A$17,\"\")","v":""},{"$f":"IF('PENNANT TEAMS'!$B$5=6,'PENNANT TEAMS'!$B$20,\"\")","v":""},{"$f":"IF('PENNANT TEAMS'!$B$5=6,'PENNANT TEAMS'!$B$19,\"\")","v":""},{"$f":"IF('PENNANT TEAMS'!$B$5=6,'PENNANT TEAMS'!$A$17,\"\")","v":""},{"$f":"IF('PENNANT TEAMS'!$B$5=7,'PENNANT TEAMS'!$B$20,\"\")","v":""},{"$f":"IF('PENNANT TEAMS'!$B$5=7,'PENNANT TEAMS'!$B$19,\"\")","v":""},{"$f":"IF('PENNANT TEAMS'!$B$5=7,'PENNANT TEAMS'!$A$17,\"\")","v":""},{"$f":"IF('PENNANT TEAMS'!$B$5=8,'PENNANT TEAMS'!$B$20,\"\")","v":""},{"$f":"IF('PENNANT TEAMS'!$B$5=8,'PENNANT TEAMS'!$B$19,\"\")","v":""},{"$f":"IF('PENNANT TEAMS'!$B$5=8,'PENNANT TEAMS'!$A$17,\"\")","v":""},{"$f":"IF('PENNANT TEAMS'!$B$5=9,'PENNANT TEAMS'!$B$20,\"\")","v":""},{"$f":"IF('PENNANT TEAMS'!$B$5=9,'PENNANT TEAMS'!$B$19,\"\")","v":""},{"$f":"IF('PENNANT TEAMS'!$B$5=9,'PENNANT TEAMS'!$A$17,\"\")","v":""},{"$f":"IF('PENNANT TEAMS'!$B$5=10,'PENNANT TEAMS'!$B$20,\"\")","v":""},{"$f":"IF('PENNANT TEAMS'!$B$5=10,'PENNANT TEAMS'!$B$19,\"\")","v":""},{"$f":"IF('PENNANT TEAMS'!$B$5=10,'PENNANT TEAMS'!$A$17,\"\")","v":""}]
[{"$f":"IF('PENNANT TEAMS'!$B$5=1,'PENNANT TEAMS'!$C$20,\"\")","v":""},{"$f":"IF('PENNANT TEAMS'!$B$5=1,'PENNANT TEAMS'!$C$19,\"\")","v":0},{"$f":"IF('PENNANT TEAMS'!$B$5=1,'PENNANT TEAMS'!$A$17,\"\")","v":0},{"$f":"IF('PENNANT TEAMS'!$B$5=2,'PENNANT TEAMS'!$C$20,\"\")","v":""},{"$f":"IF('PENNANT TEAMS'!$B$5=2,'PENNANT TEAMS'!$C$19,\"\")","v":""},{"$f":"IF('PENNANT TEAMS'!$B$5=2,'PENNANT TEAMS'!$A$17,\"\")","v":""},{"$f":"IF('PENNANT TEAMS'!$B$5=3,'PENNANT TEAMS'!$C$20,\"\")","v":""},{"$f":"IF('PENNANT TEAMS'!$B$5=3,'PENNANT TEAMS'!$C$19,\"\")","v":""},{"$f":"IF('PENNANT TEAMS'!$B$5=3,'PENNANT TEAMS'!$A$17,\"\")","v":""},{"$f":"IF('PENNANT TEAMS'!$B$5=4,'PENNANT TEAMS'!$C$20,\"\")","v":""},{"$f":"IF('PENNANT TEAMS'!$B$5=4,'PENNANT TEAMS'!$C$19,\"\")","v":""},{"$f":"IF('PENNANT TEAMS'!$B$5=4,'PENNANT TEAMS'!$A$17,\"\")","v":""},{"$f":"IF('PENNANT TEAMS'!$B$5=5,'PENNANT TEAMS'!$C$20,\"\")","v":""},{"$f":"IF('PENNANT TEAMS'!$B$5=5,'PENNANT TEAMS'!$C$19,\"\")","v":""},{"$f":"IF('PENNANT TEAMS'!$B$5=5,'PENNANT TEAMS'!$A$17,\"\")","v":""},{"$f":"IF('PENNANT TEAMS'!$B$5=6,'PENNANT TEAMS'!$C$20,\"\")","v":""},{"$f":"IF('PENNANT TEAMS'!$B$5=6,'PENNANT TEAMS'!$C$19,\"\")","v":""},{"$f":"IF('PENNANT TEAMS'!$B$5=6,'PENNANT TEAMS'!$A$17,\"\")","v":""},{"$f":"IF('PENNANT TEAMS'!$B$5=7,'PENNANT TEAMS'!$C$20,\"\")","v":""},{"$f":"IF('PENNANT TEAMS'!$B$5=7,'PENNANT TEAMS'!$C$19,\"\")","v":""},{"$f":"IF('PENNANT TEAMS'!$B$5=7,'PENNANT TEAMS'!$A$17,\"\")","v":""},{"$f":"IF('PENNANT TEAMS'!$B$5=8,'PENNANT TEAMS'!$C$20,\"\")","v":""},{"$f":"IF('PENNANT TEAMS'!$B$5=8,'PENNANT TEAMS'!$C$19,\"\")","v":""},{"$f":"IF('PENNANT TEAMS'!$B$5=8,'PENNANT TEAMS'!$A$17,\"\")","v":""},{"$f":"IF('PENNANT TEAMS'!$B$5=9,'PENNANT TEAMS'!$C$20,\"\")","v":""},{"$f":"IF('PENNANT TEAMS'!$B$5=9,'PENNANT TEAMS'!$C$19,\"\")","v":""},{"$f":"IF('PENNANT TEAMS'!$B$5=9,'PENNANT TEAMS'!$A$17,\"\")","v":""},{"$f":"IF('PENNANT TEAMS'!$B$5=10,'PENNANT TEAMS'!$C$20,\"\")","v":""},{"$f":"IF('PENNANT TEAMS'!$B$5=10,'PENNANT TEAMS'!$C$19,\"\")","v":""},{"$f":"IF('PENNANT TEAMS'!$B$5=10,'PENNANT TEAMS'!$A$17,\"\")","v":""}]
[{"$f":"IF('PENNANT TEAMS'!$B$5=1,'PENNANT TEAMS'!$D$20,\"\")","v":""},{"$f":"IF('PENNANT TEAMS'!$B$5=1,'PENNANT TEAMS'!$D$19,\"\")","v":0},{"$f":"IF('PENNANT TEAMS'!$B$5=1,'PENNANT TEAMS'!$A$17,\"\")","v":0},{"$f":"IF('PENNANT TEAMS'!$B$5=2,'PENNANT TEAMS'!$D$20,\"\")","v":""},{"$f":"IF('PENNANT TEAMS'!$B$5=2,'PENNANT TEAMS'!$D$19,\"\")","v":""},{"$f":"IF('PENNANT TEAMS'!$B$5=2,'PENNANT TEAMS'!$A$17,\"\")","v":""},{"$f":"IF('PENNANT TEAMS'!$B$5=3,'PENNANT TEAMS'!$D$20,\"\")","v":""},{"$f":"IF('PENNANT TEAMS'!$B$5=3,'PENNANT TEAMS'!$D$19,\"\")","v":""},{"$f":"IF('PENNANT TEAMS'!$B$5=3,'PENNANT TEAMS'!$A$17,\"\")","v":""},{"$f":"IF('PENNANT TEAMS'!$B$5=4,'PENNANT TEAMS'!$D$20,\"\")","v":""},{"$f":"IF('PENNANT TEAMS'!$B$5=4,'PENNANT TEAMS'!$D$19,\"\")","v":""},{"$f":"IF('PENNANT TEAMS'!$B$5=4,'PENNANT TEAMS'!$A$17,\"\")","v":""},{"$f":"IF('PENNANT TEAMS'!$B$5=5,'PENNANT TEAMS'!$D$20,\"\")","v":""},{"$f":"IF('PENNANT TEAMS'!$B$5=5,'PENNANT TEAMS'!$D$19,\"\")","v":""},{"$f":"IF('PENNANT TEAMS'!$B$5=5,'PENNANT TEAMS'!$A$17,\"\")","v":""},{"$f":"IF('PENNANT TEAMS'!$B$5=6,'PENNANT TEAMS'!$D$20,\"\")","v":""},{"$f":"IF('PENNANT TEAMS'!$B$5=6,'PENNANT TEAMS'!$D$19,\"\")","v":""},{"$f":"IF('PENNANT TEAMS'!$B$5=6,'PENNANT TEAMS'!$A$17,\"\")","v":""},{"$f":"IF('PENNANT TEAMS'!$B$5=7,'PENNANT TEAMS'!$D$20,\"\")","v":""},{"$f":"IF('PENNANT TEAMS'!$B$5=7,'PENNANT TEAMS'!$D$19,\"\")","v":""},{"$f":"IF('PENNANT TEAMS'!$B$5=7,'PENNANT TEAMS'!$A$17,\"\")","v":""},{"$f":"IF('PENNANT TEAMS'!$B$5=8,'PENNANT TEAMS'!$D$20,\"\")","v":""},{"$f":"IF('PENNANT TEAMS'!$B$5=8,'PENNANT TEAMS'!$D$19,\"\")","v":""},{"$f":"IF('PENNANT TEAMS'!$B$5=8,'PENNANT TEAMS'!$A$17,\"\")","v":""},{"$f":"IF('PENNANT TEAMS'!$B$5=9,'PENNANT TEAMS'!$D$20,\"\")","v":""},{"$f":"IF('PENNANT TEAMS'!$B$5=9,'PENNANT TEAMS'!$D$19,\"\")","v":""},{"$f":"IF('PENNANT TEAMS'!$B$5=9,'PENNANT TEAMS'!$A$17,\"\")","v":""},{"$f":"IF('PENNANT TEAMS'!$B$5=10,'PENNANT TEAMS'!$D$20,\"\")","v":""},{"$f":"IF('PENNANT TEAMS'!$B$5=10,'PENNANT TEAMS'!$D$19,\"\")","v":""},{"$f":"IF('PENNANT TEAMS'!$B$5=10,'PENNANT TEAMS'!$A$17,\"\")","v":""}]
[{"$f":"IF('PENNANT TEAMS'!$B$5=1,'PENNANT TEAMS'!$E$20,\"\")","v":""},{"$f":"IF('PENNANT TEAMS'!$B$5=1,'PENNANT TEAMS'!$E$19,\"\")","v":0},{"$f":"IF('PENNANT TEAMS'!$B$5=1,'PENNANT TEAMS'!$A$17,\"\")","v":0},{"$f":"IF('PENNANT TEAMS'!$B$5=2,'PENNANT TEAMS'!$E$20,\"\")","v":""},{"$f":"IF('PENNANT TEAMS'!$B$5=2,'PENNANT TEAMS'!$E$19,\"\")","v":""},{"$f":"IF('PENNANT TEAMS'!$B$5=2,'PENNANT TEAMS'!$A$17,\"\")","v":""},{"$f":"IF('PENNANT TEAMS'!$B$5=3,'PENNANT TEAMS'!$E$20,\"\")","v":""},{"$f":"IF('PENNANT TEAMS'!$B$5=3,'PENNANT TEAMS'!$E$19,\"\")","v":""},{"$f":"IF('PENNANT TEAMS'!$B$5=3,'PENNANT TEAMS'!$A$17,\"\")","v":""},{"$f":"IF('PENNANT TEAMS'!$B$5=4,'PENNANT TEAMS'!$E$20,\"\")","v":""},{"$f":"IF('PENNANT TEAMS'!$B$5=4,'PENNANT TEAMS'!$E$19,\"\")","v":""},{"$f":"IF('PENNANT TEAMS'!$B$5=4,'PENNANT TEAMS'!$A$17,\"\")","v":""},{"$f":"IF('PENNANT TEAMS'!$B$5=5,'PENNANT TEAMS'!$E$20,\"\")","v":""},{"$f":"IF('PENNANT TEAMS'!$B$5=5,'PENNANT TEAMS'!$E$19,\"\")","v":""},{"$f":"IF('PENNANT TEAMS'!$B$5=5,'PENNANT TEAMS'!$A$17,\"\")","v":""},{"$f":"IF('PENNANT TEAMS'!$B$5=6,'PENNANT TEAMS'!$E$20,\"\")","v":""},{"$f":"IF('PENNANT TEAMS'!$B$5=6,'PENNANT TEAMS'!$E$19,\"\")","v":""},{"$f":"IF('PENNANT TEAMS'!$B$5=6,'PENNANT TEAMS'!$A$17,\"\")","v":""},{"$f":"IF('PENNANT TEAMS'!$B$5=7,'PENNANT TEAMS'!$E$20,\"\")","v":""},{"$f":"IF('PENNANT TEAMS'!$B$5=7,'PENNANT TEAMS'!$E$19,\"\")","v":""},{"$f":"IF('PENNANT TEAMS'!$B$5=7,'PENNANT TEAMS'!$A$17,\"\")","v":""},{"$f":"IF('PENNANT TEAMS'!$B$5=8,'PENNANT TEAMS'!$E$20,\"\")","v":""},{"$f":"IF('PENNANT TEAMS'!$B$5=8,'PENNANT TEAMS'!$E$19,\"\")","v":""},{"$f":"IF('PENNANT TEAMS'!$B$5=8,'PENNANT TEAMS'!$A$17,\"\")","v":""},{"$f":"IF('PENNANT TEAMS'!$B$5=9,'PENNANT TEAMS'!$E$20,\"\")","v":""},{"$f":"IF('PENNANT TEAMS'!$B$5=9,'PENNANT TEAMS'!$E$19,\"\")","v":""},{"$f":"IF('PENNANT TEAMS'!$B$5=9,'PENNANT TEAMS'!$A$17,\"\")","v":""},{"$f":"IF('PENNANT TEAMS'!$B$5=10,'PENNANT TEAMS'!$E$20,\"\")","v":""},{"$f":"IF('PENNANT TEAMS'!$B$5=10,'PENNANT TEAMS'!$E$19,\"\")","v":""},{"$f":"IF('PENNANT TEAMS'!$B$5=10,'PENNANT TEAMS'!$A$17,\"\")","v":""}]
[{"$f":"IF('PENNANT TEAMS'!$B$5=1,'PENNANT TEAMS'!$B$22,\"\")","v":""},{"$f":"IF('PENNANT TEAMS'!$B$5=1,'PENNANT TEAMS'!$B$21,\"\")","v":0},{"$f":"IF('PENNANT TEAMS'!$B$5=1,'PENNANT TEAMS'!$A$17,\"\")","v":0},{"$f":"IF('PENNANT TEAMS'!$B$5=2,'PENNANT TEAMS'!$B$22,\"\")","v":""},{"$f":"IF('PENNANT TEAMS'!$B$5=2,'PENNANT TEAMS'!$B$21,\"\")","v":""},{"$f":"IF('PENNANT TEAMS'!$B$5=2,'PENNANT TEAMS'!$A$17,\"\")","v":""},{"$f":"IF('PENNANT TEAMS'!$B$5=3,'PENNANT TEAMS'!$B$22,\"\")","v":""},{"$f":"IF('PENNANT TEAMS'!$B$5=3,'PENNANT TEAMS'!$B$21,\"\")","v":""},{"$f":"IF('PENNANT TEAMS'!$B$5=3,'PENNANT TEAMS'!$A$17,\"\")","v":""},{"$f":"IF('PENNANT TEAMS'!$B$5=4,'PENNANT TEAMS'!$B$22,\"\")","v":""},{"$f":"IF('PENNANT TEAMS'!$B$5=4,'PENNANT TEAMS'!$B$21,\"\")","v":""},{"$f":"IF('PENNANT TEAMS'!$B$5=4,'PENNANT TEAMS'!$A$17,\"\")","v":""},{"$f":"IF('PENNANT TEAMS'!$B$5=5,'PENNANT TEAMS'!$B$22,\"\")","v":""},{"$f":"IF('PENNANT TEAMS'!$B$5=5,'PENNANT TEAMS'!$B$21,\"\")","v":""},{"$f":"IF('PENNANT TEAMS'!$B$5=5,'PENNANT TEAMS'!$A$17,\"\")","v":""},{"$f":"IF('PENNANT TEAMS'!$B$5=6,'PENNANT TEAMS'!$B$22,\"\")","v":""},{"$f":"IF('PENNANT TEAMS'!$B$5=6,'PENNANT TEAMS'!$B$21,\"\")","v":""},{"$f":"IF('PENNANT TEAMS'!$B$5=6,'PENNANT TEAMS'!$A$17,\"\")","v":""},{"$f":"IF('PENNANT TEAMS'!$B$5=7,'PENNANT TEAMS'!$B$22,\"\")","v":""},{"$f":"IF('PENNANT TEAMS'!$B$5=7,'PENNANT TEAMS'!$B$21,\"\")","v":""},{"$f":"IF('PENNANT TEAMS'!$B$5=7,'PENNANT TEAMS'!$A$17,\"\")","v":""},{"$f":"IF('PENNANT TEAMS'!$B$5=8,'PENNANT TEAMS'!$B$22,\"\")","v":""},{"$f":"IF('PENNANT TEAMS'!$B$5=8,'PENNANT TEAMS'!$B$21,\"\")","v":""},{"$f":"IF('PENNANT TEAMS'!$B$5=8,'PENNANT TEAMS'!$A$17,\"\")","v":""},{"$f":"IF('PENNANT TEAMS'!$B$5=9,'PENNANT TEAMS'!$B$22,\"\")","v":""},{"$f":"IF('PENNANT TEAMS'!$B$5=9,'PENNANT TEAMS'!$B$21,\"\")","v":""},{"$f":"IF('PENNANT TEAMS'!$B$5=9,'PENNANT TEAMS'!$A$17,\"\")","v":""},{"$f":"IF('PENNANT TEAMS'!$B$5=10,'PENNANT TEAMS'!$B$22,\"\")","v":""},{"$f":"IF('PENNANT TEAMS'!$B$5=10,'PENNANT TEAMS'!$B$21,\"\")","v":""},{"$f":"IF('PENNANT TEAMS'!$B$5=10,'PENNANT TEAMS'!$A$17,\"\")","v":""}]
[{"$f":"IF('PENNANT TEAMS'!$B$5=1,'PENNANT TEAMS'!$C$22,\"\")","v":""},{"$f":"IF('PENNANT TEAMS'!$B$5=1,'PENNANT TEAMS'!$C$21,\"\")","v":0},{"$f":"IF('PENNANT TEAMS'!$B$5=1,'PENNANT TEAMS'!$A$17,\"\")","v":0},{"$f":"IF('PENNANT TEAMS'!$B$5=2,'PENNANT TEAMS'!$C$22,\"\")","v":""},{"$f":"IF('PENNANT TEAMS'!$B$5=2,'PENNANT TEAMS'!$C$21,\"\")","v":""},{"$f":"IF('PENNANT TEAMS'!$B$5=2,'PENNANT TEAMS'!$A$17,\"\")","v":""},{"$f":"IF('PENNANT TEAMS'!$B$5=3,'PENNANT TEAMS'!$C$22,\"\")","v":""},{"$f":"IF('PENNANT TEAMS'!$B$5=3,'PENNANT TEAMS'!$C$21,\"\")","v":""},{"$f":"IF('PENNANT TEAMS'!$B$5=3,'PENNANT TEAMS'!$A$17,\"\")","v":""},{"$f":"IF('PENNANT TEAMS'!$B$5=4,'PENNANT TEAMS'!$C$22,\"\")","v":""},{"$f":"IF('PENNANT TEAMS'!$B$5=4,'PENNANT TEAMS'!$C$21,\"\")","v":""},{"$f":"IF('PENNANT TEAMS'!$B$5=4,'PENNANT TEAMS'!$A$17,\"\")","v":""},{"$f":"IF('PENNANT TEAMS'!$B$5=5,'PENNANT TEAMS'!$C$22,\"\")","v":""},{"$f":"IF('PENNANT TEAMS'!$B$5=5,'PENNANT TEAMS'!$C$21,\"\")","v":""},{"$f":"IF('PENNANT TEAMS'!$B$5=5,'PENNANT TEAMS'!$A$17,\"\")","v":""},{"$f":"IF('PENNANT TEAMS'!$B$5=6,'PENNANT TEAMS'!$C$22,\"\")","v":""},{"$f":"IF('PENNANT TEAMS'!$B$5=6,'PENNANT TEAMS'!$C$21,\"\")","v":""},{"$f":"IF('PENNANT TEAMS'!$B$5=6,'PENNANT TEAMS'!$A$17,\"\")","v":""},{"$f":"IF('PENNANT TEAMS'!$B$5=7,'PENNANT TEAMS'!$C$22,\"\")","v":""},{"$f":"IF('PENNANT TEAMS'!$B$5=7,'PENNANT TEAMS'!$C$21,\"\")","v":""},{"$f":"IF('PENNANT TEAMS'!$B$5=7,'PENNANT TEAMS'!$A$17,\"\")","v":""},{"$f":"IF('PENNANT TEAMS'!$B$5=8,'PENNANT TEAMS'!$C$22,\"\")","v":""},{"$f":"IF('PENNANT TEAMS'!$B$5=8,'PENNANT TEAMS'!$C$21,\"\")","v":""},{"$f":"IF('PENNANT TEAMS'!$B$5=8,'PENNANT TEAMS'!$A$17,\"\")","v":""},{"$f":"IF('PENNANT TEAMS'!$B$5=9,'PENNANT TEAMS'!$C$22,\"\")","v":""},{"$f":"IF('PENNANT TEAMS'!$B$5=9,'PENNANT TEAMS'!$C$21,\"\")","v":""},{"$f":"IF('PENNANT TEAMS'!$B$5=9,'PENNANT TEAMS'!$A$17,\"\")","v":""},{"$f":"IF('PENNANT TEAMS'!$B$5=10,'PENNANT TEAMS'!$C$22,\"\")","v":""},{"$f":"IF('PENNANT TEAMS'!$B$5=10,'PENNANT TEAMS'!$C$21,\"\")","v":""},{"$f":"IF('PENNANT TEAMS'!$B$5=10,'PENNANT TEAMS'!$A$17,\"\")","v":""}]
[{"$f":"IF('PENNANT TEAMS'!$B$5=1,'PENNANT TEAMS'!$D$22,\"\")","v":""},{"$f":"IF('PENNANT TEAMS'!$B$5=1,'PENNANT TEAMS'!$D$21,\"\")","v":0},{"$f":"IF('PENNANT TEAMS'!$B$5=1,'PENNANT TEAMS'!$A$17,\"\")","v":0},{"$f":"IF('PENNANT TEAMS'!$B$5=2,'PENNANT TEAMS'!$D$22,\"\")","v":""},{"$f":"IF('PENNANT TEAMS'!$B$5=2,'PENNANT TEAMS'!$D$21,\"\")","v":""},{"$f":"IF('PENNANT TEAMS'!$B$5=2,'PENNANT TEAMS'!$A$17,\"\")","v":""},{"$f":"IF('PENNANT TEAMS'!$B$5=3,'PENNANT TEAMS'!$D$22,\"\")","v":""},{"$f":"IF('PENNANT TEAMS'!$B$5=3,'PENNANT TEAMS'!$D$21,\"\")","v":""},{"$f":"IF('PENNANT TEAMS'!$B$5=3,'PENNANT TEAMS'!$A$17,\"\")","v":""},{"$f":"IF('PENNANT TEAMS'!$B$5=4,'PENNANT TEAMS'!$D$22,\"\")","v":""},{"$f":"IF('PENNANT TEAMS'!$B$5=4,'PENNANT TEAMS'!$D$21,\"\")","v":""},{"$f":"IF('PENNANT TEAMS'!$B$5=4,'PENNANT TEAMS'!$A$17,\"\")","v":""},{"$f":"IF('PENNANT TEAMS'!$B$5=5,'PENNANT TEAMS'!$D$22,\"\")","v":""},{"$f":"IF('PENNANT TEAMS'!$B$5=5,'PENNANT TEAMS'!$D$21,\"\")","v":""},{"$f":"IF('PENNANT TEAMS'!$B$5=5,'PENNANT TEAMS'!$A$17,\"\")","v":""},{"$f":"IF('PENNANT TEAMS'!$B$5=6,'PENNANT TEAMS'!$D$22,\"\")","v":""},{"$f":"IF('PENNANT TEAMS'!$B$5=6,'PENNANT TEAMS'!$D$21,\"\")","v":""},{"$f":"IF('PENNANT TEAMS'!$B$5=6,'PENNANT TEAMS'!$A$17,\"\")","v":""},{"$f":"IF('PENNANT TEAMS'!$B$5=7,'PENNANT TEAMS'!$D$22,\"\")","v":""},{"$f":"IF('PENNANT TEAMS'!$B$5=7,'PENNANT TEAMS'!$D$21,\"\")","v":""},{"$f":"IF('PENNANT TEAMS'!$B$5=7,'PENNANT TEAMS'!$A$17,\"\")","v":""},{"$f":"IF('PENNANT TEAMS'!$B$5=8,'PENNANT TEAMS'!$D$22,\"\")","v":""},{"$f":"IF('PENNANT TEAMS'!$B$5=8,'PENNANT TEAMS'!$D$21,\"\")","v":""},{"$f":"IF('PENNANT TEAMS'!$B$5=8,'PENNANT TEAMS'!$A$17,\"\")","v":""},{"$f":"IF('PENNANT TEAMS'!$B$5=9,'PENNANT TEAMS'!$D$22,\"\")","v":""},{"$f":"IF('PENNANT TEAMS'!$B$5=9,'PENNANT TEAMS'!$D$21,\"\")","v":""},{"$f":"IF('PENNANT TEAMS'!$B$5=9,'PENNANT TEAMS'!$A$17,\"\")","v":""},{"$f":"IF('PENNANT TEAMS'!$B$5=10,'PENNANT TEAMS'!$D$22,\"\")","v":""},{"$f":"IF('PENNANT TEAMS'!$B$5=10,'PENNANT TEAMS'!$D$21,\"\")","v":""},{"$f":"IF('PENNANT TEAMS'!$B$5=10,'PENNANT TEAMS'!$A$17,\"\")","v":""}]
[{"$f":"IF('PENNANT TEAMS'!$B$5=1,'PENNANT TEAMS'!$E$22,\"\")","v":""},{"$f":"IF('PENNANT TEAMS'!$B$5=1,'PENNANT TEAMS'!$E$21,\"\")","v":0},{"$f":"IF('PENNANT TEAMS'!$B$5=1,'PENNANT TEAMS'!$A$17,\"\")","v":0},{"$f":"IF('PENNANT TEAMS'!$B$5=2,'PENNANT TEAMS'!$E$22,\"\")","v":""},{"$f":"IF('PENNANT TEAMS'!$B$5=2,'PENNANT TEAMS'!$E$21,\"\")","v":""},{"$f":"IF('PENNANT TEAMS'!$B$5=2,'PENNANT TEAMS'!$A$17,\"\")","v":""},{"$f":"IF('PENNANT TEAMS'!$B$5=3,'PENNANT TEAMS'!$E$22,\"\")","v":""},{"$f":"IF('PENNANT TEAMS'!$B$5=3,'PENNANT TEAMS'!$E$21,\"\")","v":""},{"$f":"IF('PENNANT TEAMS'!$B$5=3,'PENNANT TEAMS'!$A$17,\"\")","v":""},{"$f":"IF('PENNANT TEAMS'!$B$5=4,'PENNANT TEAMS'!$E$22,\"\")","v":""},{"$f":"IF('PENNANT TEAMS'!$B$5=4,'PENNANT TEAMS'!$E$21,\"\")","v":""},{"$f":"IF('PENNANT TEAMS'!$B$5=4,'PENNANT TEAMS'!$A$17,\"\")","v":""},{"$f":"IF('PENNANT TEAMS'!$B$5=5,'PENNANT TEAMS'!$E$22,\"\")","v":""},{"$f":"IF('PENNANT TEAMS'!$B$5=5,'PENNANT TEAMS'!$E$21,\"\")","v":""},{"$f":"IF('PENNANT TEAMS'!$B$5=5,'PENNANT TEAMS'!$A$17,\"\")","v":""},{"$f":"IF('PENNANT TEAMS'!$B$5=6,'PENNANT TEAMS'!$E$22,\"\")","v":""},{"$f":"IF('PENNANT TEAMS'!$B$5=6,'PENNANT TEAMS'!$E$21,\"\")","v":""},{"$f":"IF('PENNANT TEAMS'!$B$5=6,'PENNANT TEAMS'!$A$17,\"\")","v":""},{"$f":"IF('PENNANT TEAMS'!$B$5=7,'PENNANT TEAMS'!$E$22,\"\")","v":""},{"$f":"IF('PENNANT TEAMS'!$B$5=7,'PENNANT TEAMS'!$E$21,\"\")","v":""},{"$f":"IF('PENNANT TEAMS'!$B$5=7,'PENNANT TEAMS'!$A$17,\"\")","v":""},{"$f":"IF('PENNANT TEAMS'!$B$5=8,'PENNANT TEAMS'!$E$22,\"\")","v":""},{"$f":"IF('PENNANT TEAMS'!$B$5=8,'PENNANT TEAMS'!$E$21,\"\")","v":""},{"$f":"IF('PENNANT TEAMS'!$B$5=8,'PENNANT TEAMS'!$A$17,\"\")","v":""},{"$f":"IF('PENNANT TEAMS'!$B$5=9,'PENNANT TEAMS'!$E$22,\"\")","v":""},{"$f":"IF('PENNANT TEAMS'!$B$5=9,'PENNANT TEAMS'!$E$21,\"\")","v":""},{"$f":"IF('PENNANT TEAMS'!$B$5=9,'PENNANT TEAMS'!$A$17,\"\")","v":""},{"$f":"IF('PENNANT TEAMS'!$B$5=10,'PENNANT TEAMS'!$E$22,\"\")","v":""},{"$f":"IF('PENNANT TEAMS'!$B$5=10,'PENNANT TEAMS'!$E$21,\"\")","v":""},{"$f":"IF('PENNANT TEAMS'!$B$5=10,'PENNANT TEAMS'!$A$17,\"\")","v":""}]
[{"$f":"IF('PENNANT TEAMS'!$B$5=1,'PENNANT TEAMS'!$B$27,\"\")","v":""},{"$f":"IF('PENNANT TEAMS'!$B$5=1,'PENNANT TEAMS'!$B$26,\"\")","v":0},{"$f":"IF('PENNANT TEAMS'!$B$5=1,'PENNANT TEAMS'!$A$26,\"\")","v":0},{"$f":"IF('PENNANT TEAMS'!$B$5=2,'PENNANT TEAMS'!$B$27,\"\")","v":""},{"$f":"IF('PENNANT TEAMS'!$B$5=2,'PENNANT TEAMS'!$B$26,\"\")","v":""},{"$f":"IF('PENNANT TEAMS'!$B$5=2,'PENNANT TEAMS'!$A$26,\"\")","v":""},{"$f":"IF('PENNANT TEAMS'!$B$5=3,'PENNANT TEAMS'!$B$27,\"\")","v":""},{"$f":"IF('PENNANT TEAMS'!$B$5=3,'PENNANT TEAMS'!$B$26,\"\")","v":""},{"$f":"IF('PENNANT TEAMS'!$B$5=3,'PENNANT TEAMS'!$A$26,\"\")","v":""},{"$f":"IF('PENNANT TEAMS'!$B$5=4,'PENNANT TEAMS'!$B$27,\"\")","v":""},{"$f":"IF('PENNANT TEAMS'!$B$5=4,'PENNANT TEAMS'!$B$26,\"\")","v":""},{"$f":"IF('PENNANT TEAMS'!$B$5=4,'PENNANT TEAMS'!$A$26,\"\")","v":""},{"$f":"IF('PENNANT TEAMS'!$B$5=5,'PENNANT TEAMS'!$B$27,\"\")","v":""},{"$f":"IF('PENNANT TEAMS'!$B$5=5,'PENNANT TEAMS'!$B$26,\"\")","v":""},{"$f":"IF('PENNANT TEAMS'!$B$5=5,'PENNANT TEAMS'!$A$26,\"\")","v":""},{"$f":"IF('PENNANT TEAMS'!$B$5=6,'PENNANT TEAMS'!$B$27,\"\")","v":""},{"$f":"IF('PENNANT TEAMS'!$B$5=6,'PENNANT TEAMS'!$B$26,\"\")","v":""},{"$f":"IF('PENNANT TEAMS'!$B$5=6,'PENNANT TEAMS'!$A$26,\"\")","v":""},{"$f":"IF('PENNANT TEAMS'!$B$5=7,'PENNANT TEAMS'!$B$27,\"\")","v":""},{"$f":"IF('PENNANT TEAMS'!$B$5=7,'PENNANT TEAMS'!$B$26,\"\")","v":""},{"$f":"IF('PENNANT TEAMS'!$B$5=7,'PENNANT TEAMS'!$A$26,\"\")","v":""},{"$f":"IF('PENNANT TEAMS'!$B$5=8,'PENNANT TEAMS'!$B$27,\"\")","v":""},{"$f":"IF('PENNANT TEAMS'!$B$5=8,'PENNANT TEAMS'!$B$26,\"\")","v":""},{"$f":"IF('PENNANT TEAMS'!$B$5=8,'PENNANT TEAMS'!$A$26,\"\")","v":""},{"$f":"IF('PENNANT TEAMS'!$B$5=9,'PENNANT TEAMS'!$B$27,\"\")","v":""},{"$f":"IF('PENNANT TEAMS'!$B$5=9,'PENNANT TEAMS'!$B$26,\"\")","v":""},{"$f":"IF('PENNANT TEAMS'!$B$5=9,'PENNANT TEAMS'!$A$26,\"\")","v":""},{"$f":"IF('PENNANT TEAMS'!$B$5=10,'PENNANT TEAMS'!$B$27,\"\")","v":""},{"$f":"IF('PENNANT TEAMS'!$B$5=10,'PENNANT TEAMS'!$B$26,\"\")","v":""},{"$f":"IF('PENNANT TEAMS'!$B$5=10,'PENNANT TEAMS'!$A$26,\"\")","v":""}]
[{"$f":"IF('PENNANT TEAMS'!$B$5=1,'PENNANT TEAMS'!$C$27,\"\")","v":""},{"$f":"IF('PENNANT TEAMS'!$B$5=1,'PENNANT TEAMS'!$C$26,\"\")","v":0},{"$f":"IF('PENNANT TEAMS'!$B$5=1,'PENNANT TEAMS'!$A$26,\"\")","v":0},{"$f":"IF('PENNANT TEAMS'!$B$5=2,'PENNANT TEAMS'!$C$27,\"\")","v":""},{"$f":"IF('PENNANT TEAMS'!$B$5=2,'PENNANT TEAMS'!$C$26,\"\")","v":""},{"$f":"IF('PENNANT TEAMS'!$B$5=2,'PENNANT TEAMS'!$A$26,\"\")","v":""},{"$f":"IF('PENNANT TEAMS'!$B$5=3,'PENNANT TEAMS'!$C$27,\"\")","v":""},{"$f":"IF('PENNANT TEAMS'!$B$5=3,'PENNANT TEAMS'!$C$26,\"\")","v":""},{"$f":"IF('PENNANT TEAMS'!$B$5=3,'PENNANT TEAMS'!$A$26,\"\")","v":""},{"$f":"IF('PENNANT TEAMS'!$B$5=4,'PENNANT TEAMS'!$C$27,\"\")","v":""},{"$f":"IF('PENNANT TEAMS'!$B$5=4,'PENNANT TEAMS'!$C$26,\"\")","v":""},{"$f":"IF('PENNANT TEAMS'!$B$5=4,'PENNANT TEAMS'!$A$26,\"\")","v":""},{"$f":"IF('PENNANT TEAMS'!$B$5=5,'PENNANT TEAMS'!$C$27,\"\")","v":""},{"$f":"IF('PENNANT TEAMS'!$B$5=5,'PENNANT TEAMS'!$C$26,\"\")","v":""},{"$f":"IF('PENNANT TEAMS'!$B$5=5,'PENNANT TEAMS'!$A$26,\"\")","v":""},{"$f":"IF('PENNANT TEAMS'!$B$5=6,'PENNANT TEAMS'!$C$27,\"\")","v":""},{"$f":"IF('PENNANT TEAMS'!$B$5=6,'PENNANT TEAMS'!$C$26,\"\")","v":""},{"$f":"IF('PENNANT TEAMS'!$B$5=6,'PENNANT TEAMS'!$A$26,\"\")","v":""},{"$f":"IF('PENNANT TEAMS'!$B$5=7,'PENNANT TEAMS'!$C$27,\"\")","v":""},{"$f":"IF('PENNANT TEAMS'!$B$5=7,'PENNANT TEAMS'!$C$26,\"\")","v":""},{"$f":"IF('PENNANT TEAMS'!$B$5=7,'PENNANT TEAMS'!$A$26,\"\")","v":""},{"$f":"IF('PENNANT TEAMS'!$B$5=8,'PENNANT TEAMS'!$C$27,\"\")","v":""},{"$f":"IF('PENNANT TEAMS'!$B$5=8,'PENNANT TEAMS'!$C$26,\"\")","v":""},{"$f":"IF('PENNANT TEAMS'!$B$5=8,'PENNANT TEAMS'!$A$26,\"\")","v":""},{"$f":"IF('PENNANT TEAMS'!$B$5=9,'PENNANT TEAMS'!$C$27,\"\")","v":""},{"$f":"IF('PENNANT TEAMS'!$B$5=9,'PENNANT TEAMS'!$C$26,\"\")","v":""},{"$f":"IF('PENNANT TEAMS'!$B$5=9,'PENNANT TEAMS'!$A$26,\"\")","v":""},{"$f":"IF('PENNANT TEAMS'!$B$5=10,'PENNANT TEAMS'!$C$27,\"\")","v":""},{"$f":"IF('PENNANT TEAMS'!$B$5=10,'PENNANT TEAMS'!$C$26,\"\")","v":""},{"$f":"IF('PENNANT TEAMS'!$B$5=10,'PENNANT TEAMS'!$A$26,\"\")","v":""}]
[{"$f":"IF('PENNANT TEAMS'!$B$5=1,'PENNANT TEAMS'!$D$27,\"\")","v":""},{"$f":"IF('PENNANT TEAMS'!$B$5=1,'PENNANT TEAMS'!$D$26,\"\")","v":0},{"$f":"IF('PENNANT TEAMS'!$B$5=1,'PENNANT TEAMS'!$A$26,\"\")","v":0},{"$f":"IF('PENNANT TEAMS'!$B$5=2,'PENNANT TEAMS'!$D$27,\"\")","v":""},{"$f":"IF('PENNANT TEAMS'!$B$5=2,'PENNANT TEAMS'!$D$26,\"\")","v":""},{"$f":"IF('PENNANT TEAMS'!$B$5=2,'PENNANT TEAMS'!$A$26,\"\")","v":""},{"$f":"IF('PENNANT TEAMS'!$B$5=3,'PENNANT TEAMS'!$D$27,\"\")","v":""},{"$f":"IF('PENNANT TEAMS'!$B$5=3,'PENNANT TEAMS'!$D$26,\"\")","v":""},{"$f":"IF('PENNANT TEAMS'!$B$5=3,'PENNANT TEAMS'!$A$26,\"\")","v":""},{"$f":"IF('PENNANT TEAMS'!$B$5=4,'PENNANT TEAMS'!$D$27,\"\")","v":""},{"$f":"IF('PENNANT TEAMS'!$B$5=4,'PENNANT TEAMS'!$D$26,\"\")","v":""},{"$f":"IF('PENNANT TEAMS'!$B$5=4,'PENNANT TEAMS'!$A$26,\"\")","v":""},{"$f":"IF('PENNANT TEAMS'!$B$5=5,'PENNANT TEAMS'!$D$27,\"\")","v":""},{"$f":"IF('PENNANT TEAMS'!$B$5=5,'PENNANT TEAMS'!$D$26,\"\")","v":""},{"$f":"IF('PENNANT TEAMS'!$B$5=5,'PENNANT TEAMS'!$A$26,\"\")","v":""},{"$f":"IF('PENNANT TEAMS'!$B$5=6,'PENNANT TEAMS'!$D$27,\"\")","v":""},{"$f":"IF('PENNANT TEAMS'!$B$5=6,'PENNANT TEAMS'!$D$26,\"\")","v":""},{"$f":"IF('PENNANT TEAMS'!$B$5=6,'PENNANT TEAMS'!$A$26,\"\")","v":""},{"$f":"IF('PENNANT TEAMS'!$B$5=7,'PENNANT TEAMS'!$D$27,\"\")","v":""},{"$f":"IF('PENNANT TEAMS'!$B$5=7,'PENNANT TEAMS'!$D$26,\"\")","v":""},{"$f":"IF('PENNANT TEAMS'!$B$5=7,'PENNANT TEAMS'!$A$26,\"\")","v":""},{"$f":"IF('PENNANT TEAMS'!$B$5=8,'PENNANT TEAMS'!$D$27,\"\")","v":""},{"$f":"IF('PENNANT TEAMS'!$B$5=8,'PENNANT TEAMS'!$D$26,\"\")","v":""},{"$f":"IF('PENNANT TEAMS'!$B$5=8,'PENNANT TEAMS'!$A$26,\"\")","v":""},{"$f":"IF('PENNANT TEAMS'!$B$5=9,'PENNANT TEAMS'!$D$27,\"\")","v":""},{"$f":"IF('PENNANT TEAMS'!$B$5=9,'PENNANT TEAMS'!$D$26,\"\")","v":""},{"$f":"IF('PENNANT TEAMS'!$B$5=9,'PENNANT TEAMS'!$A$26,\"\")","v":""},{"$f":"IF('PENNANT TEAMS'!$B$5=10,'PENNANT TEAMS'!$D$27,\"\")","v":""},{"$f":"IF('PENNANT TEAMS'!$B$5=10,'PENNANT TEAMS'!$D$26,\"\")","v":""},{"$f":"IF('PENNANT TEAMS'!$B$5=10,'PENNANT TEAMS'!$A$26,\"\")","v":""}]
[{"$f":"IF('PENNANT TEAMS'!$B$5=1,'PENNANT TEAMS'!$E$27,\"\")","v":""},{"$f":"IF('PENNANT TEAMS'!$B$5=1,'PENNANT TEAMS'!$E$26,\"\")","v":0},{"$f":"IF('PENNANT TEAMS'!$B$5=1,'PENNANT TEAMS'!$A$26,\"\")","v":0},{"$f":"IF('PENNANT TEAMS'!$B$5=2,'PENNANT TEAMS'!$E$27,\"\")","v":""},{"$f":"IF('PENNANT TEAMS'!$B$5=2,'PENNANT TEAMS'!$E$26,\"\")","v":""},{"$f":"IF('PENNANT TEAMS'!$B$5=2,'PENNANT TEAMS'!$A$26,\"\")","v":""},{"$f":"IF('PENNANT TEAMS'!$B$5=3,'PENNANT TEAMS'!$E$27,\"\")","v":""},{"$f":"IF('PENNANT TEAMS'!$B$5=3,'PENNANT TEAMS'!$E$26,\"\")","v":""},{"$f":"IF('PENNANT TEAMS'!$B$5=3,'PENNANT TEAMS'!$A$26,\"\")","v":""},{"$f":"IF('PENNANT TEAMS'!$B$5=4,'PENNANT TEAMS'!$E$27,\"\")","v":""},{"$f":"IF('PENNANT TEAMS'!$B$5=4,'PENNANT TEAMS'!$E$26,\"\")","v":""},{"$f":"IF('PENNANT TEAMS'!$B$5=4,'PENNANT TEAMS'!$A$26,\"\")","v":""},{"$f":"IF('PENNANT TEAMS'!$B$5=5,'PENNANT TEAMS'!$E$27,\"\")","v":""},{"$f":"IF('PENNANT TEAMS'!$B$5=5,'PENNANT TEAMS'!$E$26,\"\")","v":""},{"$f":"IF('PENNANT TEAMS'!$B$5=5,'PENNANT TEAMS'!$A$26,\"\")","v":""},{"$f":"IF('PENNANT TEAMS'!$B$5=6,'PENNANT TEAMS'!$E$27,\"\")","v":""},{"$f":"IF('PENNANT TEAMS'!$B$5=6,'PENNANT TEAMS'!$E$26,\"\")","v":""},{"$f":"IF('PENNANT TEAMS'!$B$5=6,'PENNANT TEAMS'!$A$26,\"\")","v":""},{"$f":"IF('PENNANT TEAMS'!$B$5=7,'PENNANT TEAMS'!$E$27,\"\")","v":""},{"$f":"IF('PENNANT TEAMS'!$B$5=7,'PENNANT TEAMS'!$E$26,\"\")","v":""},{"$f":"IF('PENNANT TEAMS'!$B$5=7,'PENNANT TEAMS'!$A$26,\"\")","v":""},{"$f":"IF('PENNANT TEAMS'!$B$5=8,'PENNANT TEAMS'!$E$27,\"\")","v":""},{"$f":"IF('PENNANT TEAMS'!$B$5=8,'PENNANT TEAMS'!$E$26,\"\")","v":""},{"$f":"IF('PENNANT TEAMS'!$B$5=8,'PENNANT TEAMS'!$A$26,\"\")","v":""},{"$f":"IF('PENNANT TEAMS'!$B$5=9,'PENNANT TEAMS'!$E$27,\"\")","v":""},{"$f":"IF('PENNANT TEAMS'!$B$5=9,'PENNANT TEAMS'!$E$26,\"\")","v":""},{"$f":"IF('PENNANT TEAMS'!$B$5=9,'PENNANT TEAMS'!$A$26,\"\")","v":""},{"$f":"IF('PENNANT TEAMS'!$B$5=10,'PENNANT TEAMS'!$E$27,\"\")","v":""},{"$f":"IF('PENNANT TEAMS'!$B$5=10,'PENNANT TEAMS'!$E$26,\"\")","v":""},{"$f":"IF('PENNANT TEAMS'!$B$5=10,'PENNANT TEAMS'!$A$26,\"\")","v":""}]
[{"$f":"IF('PENNANT TEAMS'!$B$5=1,'PENNANT TEAMS'!$B$29,\"\")","v":""},{"$f":"IF('PENNANT TEAMS'!$B$5=1,'PENNANT TEAMS'!$B$28,\"\")","v":0},{"$f":"IF('PENNANT TEAMS'!$B$5=1,'PENNANT TEAMS'!$A$26,\"\")","v":0},{"$f":"IF('PENNANT TEAMS'!$B$5=2,'PENNANT TEAMS'!$B$29,\"\")","v":""},{"$f":"IF('PENNANT TEAMS'!$B$5=2,'PENNANT TEAMS'!$B$28,\"\")","v":""},{"$f":"IF('PENNANT TEAMS'!$B$5=2,'PENNANT TEAMS'!$A$26,\"\")","v":""},{"$f":"IF('PENNANT TEAMS'!$B$5=3,'PENNANT TEAMS'!$B$29,\"\")","v":""},{"$f":"IF('PENNANT TEAMS'!$B$5=3,'PENNANT TEAMS'!$B$28,\"\")","v":""},{"$f":"IF('PENNANT TEAMS'!$B$5=3,'PENNANT TEAMS'!$A$26,\"\")","v":""},{"$f":"IF('PENNANT TEAMS'!$B$5=4,'PENNANT TEAMS'!$B$29,\"\")","v":""},{"$f":"IF('PENNANT TEAMS'!$B$5=4,'PENNANT TEAMS'!$B$28,\"\")","v":""},{"$f":"IF('PENNANT TEAMS'!$B$5=4,'PENNANT TEAMS'!$A$26,\"\")","v":""},{"$f":"IF('PENNANT TEAMS'!$B$5=5,'PENNANT TEAMS'!$B$29,\"\")","v":""},{"$f":"IF('PENNANT TEAMS'!$B$5=5,'PENNANT TEAMS'!$B$28,\"\")","v":""},{"$f":"IF('PENNANT TEAMS'!$B$5=5,'PENNANT TEAMS'!$A$26,\"\")","v":""},{"$f":"IF('PENNANT TEAMS'!$B$5=6,'PENNANT TEAMS'!$B$29,\"\")","v":""},{"$f":"IF('PENNANT TEAMS'!$B$5=6,'PENNANT TEAMS'!$B$28,\"\")","v":""},{"$f":"IF('PENNANT TEAMS'!$B$5=6,'PENNANT TEAMS'!$A$26,\"\")","v":""},{"$f":"IF('PENNANT TEAMS'!$B$5=7,'PENNANT TEAMS'!$B$29,\"\")","v":""},{"$f":"IF('PENNANT TEAMS'!$B$5=7,'PENNANT TEAMS'!$B$28,\"\")","v":""},{"$f":"IF('PENNANT TEAMS'!$B$5=7,'PENNANT TEAMS'!$A$26,\"\")","v":""},{"$f":"IF('PENNANT TEAMS'!$B$5=8,'PENNANT TEAMS'!$B$29,\"\")","v":""},{"$f":"IF('PENNANT TEAMS'!$B$5=8,'PENNANT TEAMS'!$B$28,\"\")","v":""},{"$f":"IF('PENNANT TEAMS'!$B$5=8,'PENNANT TEAMS'!$A$26,\"\")","v":""},{"$f":"IF('PENNANT TEAMS'!$B$5=9,'PENNANT TEAMS'!$B$29,\"\")","v":""},{"$f":"IF('PENNANT TEAMS'!$B$5=9,'PENNANT TEAMS'!$B$28,\"\")","v":""},{"$f":"IF('PENNANT TEAMS'!$B$5=9,'PENNANT TEAMS'!$A$26,\"\")","v":""},{"$f":"IF('PENNANT TEAMS'!$B$5=10,'PENNANT TEAMS'!$B$29,\"\")","v":""},{"$f":"IF('PENNANT TEAMS'!$B$5=10,'PENNANT TEAMS'!$B$28,\"\")","v":""},{"$f":"IF('PENNANT TEAMS'!$B$5=10,'PENNANT TEAMS'!$A$26,\"\")","v":""}]
[{"$f":"IF('PENNANT TEAMS'!$B$5=1,'PENNANT TEAMS'!$C$29,\"\")","v":""},{"$f":"IF('PENNANT TEAMS'!$B$5=1,'PENNANT TEAMS'!$C$28,\"\")","v":0},{"$f":"IF('PENNANT TEAMS'!$B$5=1,'PENNANT TEAMS'!$A$26,\"\")","v":0},{"$f":"IF('PENNANT TEAMS'!$B$5=2,'PENNANT TEAMS'!$C$29,\"\")","v":""},{"$f":"IF('PENNANT TEAMS'!$B$5=2,'PENNANT TEAMS'!$C$28,\"\")","v":""},{"$f":"IF('PENNANT TEAMS'!$B$5=2,'PENNANT TEAMS'!$A$26,\"\")","v":""},{"$f":"IF('PENNANT TEAMS'!$B$5=3,'PENNANT TEAMS'!$C$29,\"\")","v":""},{"$f":"IF('PENNANT TEAMS'!$B$5=3,'PENNANT TEAMS'!$C$28,\"\")","v":""},{"$f":"IF('PENNANT TEAMS'!$B$5=3,'PENNANT TEAMS'!$A$26,\"\")","v":""},{"$f":"IF('PENNANT TEAMS'!$B$5=4,'PENNANT TEAMS'!$C$29,\"\")","v":""},{"$f":"IF('PENNANT TEAMS'!$B$5=4,'PENNANT TEAMS'!$C$28,\"\")","v":""},{"$f":"IF('PENNANT TEAMS'!$B$5=4,'PENNANT TEAMS'!$A$26,\"\")","v":""},{"$f":"IF('PENNANT TEAMS'!$B$5=5,'PENNANT TEAMS'!$C$29,\"\")","v":""},{"$f":"IF('PENNANT TEAMS'!$B$5=5,'PENNANT TEAMS'!$C$28,\"\")","v":""},{"$f":"IF('PENNANT TEAMS'!$B$5=5,'PENNANT TEAMS'!$A$26,\"\")","v":""},{"$f":"IF('PENNANT TEAMS'!$B$5=6,'PENNANT TEAMS'!$C$29,\"\")","v":""},{"$f":"IF('PENNANT TEAMS'!$B$5=6,'PENNANT TEAMS'!$C$28,\"\")","v":""},{"$f":"IF('PENNANT TEAMS'!$B$5=6,'PENNANT TEAMS'!$A$26,\"\")","v":""},{"$f":"IF('PENNANT TEAMS'!$B$5=7,'PENNANT TEAMS'!$C$29,\"\")","v":""},{"$f":"IF('PENNANT TEAMS'!$B$5=7,'PENNANT TEAMS'!$C$28,\"\")","v":""},{"$f":"IF('PENNANT TEAMS'!$B$5=7,'PENNANT TEAMS'!$A$26,\"\")","v":""},{"$f":"IF('PENNANT TEAMS'!$B$5=8,'PENNANT TEAMS'!$C$29,\"\")","v":""},{"$f":"IF('PENNANT TEAMS'!$B$5=8,'PENNANT TEAMS'!$C$28,\"\")","v":""},{"$f":"IF('PENNANT TEAMS'!$B$5=8,'PENNANT TEAMS'!$A$26,\"\")","v":""},{"$f":"IF('PENNANT TEAMS'!$B$5=9,'PENNANT TEAMS'!$C$29,\"\")","v":""},{"$f":"IF('PENNANT TEAMS'!$B$5=9,'PENNANT TEAMS'!$C$28,\"\")","v":""},{"$f":"IF('PENNANT TEAMS'!$B$5=9,'PENNANT TEAMS'!$A$26,\"\")","v":""},{"$f":"IF('PENNANT TEAMS'!$B$5=10,'PENNANT TEAMS'!$C$29,\"\")","v":""},{"$f":"IF('PENNANT TEAMS'!$B$5=10,'PENNANT TEAMS'!$C$28,\"\")","v":""},{"$f":"IF('PENNANT TEAMS'!$B$5=10,'PENNANT TEAMS'!$A$26,\"\")","v":""}]
[{"$f":"IF('PENNANT TEAMS'!$B$5=1,'PENNANT TEAMS'!$D$29,\"\")","v":""},{"$f":"IF('PENNANT TEAMS'!$B$5=1,'PENNANT TEAMS'!$D$28,\"\")","v":0},{"$f":"IF('PENNANT TEAMS'!$B$5=1,'PENNANT TEAMS'!$A$26,\"\")","v":0},{"$f":"IF('PENNANT TEAMS'!$B$5=2,'PENNANT TEAMS'!$D$29,\"\")","v":""},{"$f":"IF('PENNANT TEAMS'!$B$5=2,'PENNANT TEAMS'!$D$28,\"\")","v":""},{"$f":"IF('PENNANT TEAMS'!$B$5=2,'PENNANT TEAMS'!$A$26,\"\")","v":""},{"$f":"IF('PENNANT TEAMS'!$B$5=3,'PENNANT TEAMS'!$D$29,\"\")","v":""},{"$f":"IF('PENNANT TEAMS'!$B$5=3,'PENNANT TEAMS'!$D$28,\"\")","v":""},{"$f":"IF('PENNANT TEAMS'!$B$5=3,'PENNANT TEAMS'!$A$26,\"\")","v":""},{"$f":"IF('PENNANT TEAMS'!$B$5=4,'PENNANT TEAMS'!$D$29,\"\")","v":""},{"$f":"IF('PENNANT TEAMS'!$B$5=4,'PENNANT TEAMS'!$D$28,\"\")","v":""},{"$f":"IF('PENNANT TEAMS'!$B$5=4,'PENNANT TEAMS'!$A$26,\"\")","v":""},{"$f":"IF('PENNANT TEAMS'!$B$5=5,'PENNANT TEAMS'!$D$29,\"\")","v":""},{"$f":"IF('PENNANT TEAMS'!$B$5=5,'PENNANT TEAMS'!$D$28,\"\")","v":""},{"$f":"IF('PENNANT TEAMS'!$B$5=5,'PENNANT TEAMS'!$A$26,\"\")","v":""},{"$f":"IF('PENNANT TEAMS'!$B$5=6,'PENNANT TEAMS'!$D$29,\"\")","v":""},{"$f":"IF('PENNANT TEAMS'!$B$5=6,'PENNANT TEAMS'!$D$28,\"\")","v":""},{"$f":"IF('PENNANT TEAMS'!$B$5=6,'PENNANT TEAMS'!$A$26,\"\")","v":""},{"$f":"IF('PENNANT TEAMS'!$B$5=7,'PENNANT TEAMS'!$D$29,\"\")","v":""},{"$f":"IF('PENNANT TEAMS'!$B$5=7,'PENNANT TEAMS'!$D$28,\"\")","v":""},{"$f":"IF('PENNANT TEAMS'!$B$5=7,'PENNANT TEAMS'!$A$26,\"\")","v":""},{"$f":"IF('PENNANT TEAMS'!$B$5=8,'PENNANT TEAMS'!$D$29,\"\")","v":""},{"$f":"IF('PENNANT TEAMS'!$B$5=8,'PENNANT TEAMS'!$D$28,\"\")","v":""},{"$f":"IF('PENNANT TEAMS'!$B$5=8,'PENNANT TEAMS'!$A$26,\"\")","v":""},{"$f":"IF('PENNANT TEAMS'!$B$5=9,'PENNANT TEAMS'!$D$29,\"\")","v":""},{"$f":"IF('PENNANT TEAMS'!$B$5=9,'PENNANT TEAMS'!$D$28,\"\")","v":""},{"$f":"IF('PENNANT TEAMS'!$B$5=9,'PENNANT TEAMS'!$A$26,\"\")","v":""},{"$f":"IF('PENNANT TEAMS'!$B$5=10,'PENNANT TEAMS'!$D$29,\"\")","v":""},{"$f":"IF('PENNANT TEAMS'!$B$5=10,'PENNANT TEAMS'!$D$28,\"\")","v":""},{"$f":"IF('PENNANT TEAMS'!$B$5=10,'PENNANT TEAMS'!$A$26,\"\")","v":""}]
[{"$f":"IF('PENNANT TEAMS'!$B$5=1,'PENNANT TEAMS'!$E$29,\"\")","v":""},{"$f":"IF('PENNANT TEAMS'!$B$5=1,'PENNANT TEAMS'!$E$28,\"\")","v":0},{"$f":"IF('PENNANT TEAMS'!$B$5=1,'PENNANT TEAMS'!$A$26,\"\")","v":0},{"$f":"IF('PENNANT TEAMS'!$B$5=2,'PENNANT TEAMS'!$E$29,\"\")","v":""},{"$f":"IF('PENNANT TEAMS'!$B$5=2,'PENNANT TEAMS'!$E$28,\"\")","v":""},{"$f":"IF('PENNANT TEAMS'!$B$5=2,'PENNANT TEAMS'!$A$26,\"\")","v":""},{"$f":"IF('PENNANT TEAMS'!$B$5=3,'PENNANT TEAMS'!$E$29,\"\")","v":""},{"$f":"IF('PENNANT TEAMS'!$B$5=3,'PENNANT TEAMS'!$E$28,\"\")","v":""},{"$f":"IF('PENNANT TEAMS'!$B$5=3,'PENNANT TEAMS'!$A$26,\"\")","v":""},{"$f":"IF('PENNANT TEAMS'!$B$5=4,'PENNANT TEAMS'!$E$29,\"\")","v":""},{"$f":"IF('PENNANT TEAMS'!$B$5=4,'PENNANT TEAMS'!$E$28,\"\")","v":""},{"$f":"IF('PENNANT TEAMS'!$B$5=4,'PENNANT TEAMS'!$A$26,\"\")","v":""},{"$f":"IF('PENNANT TEAMS'!$B$5=5,'PENNANT TEAMS'!$E$29,\"\")","v":""},{"$f":"IF('PENNANT TEAMS'!$B$5=5,'PENNANT TEAMS'!$E$28,\"\")","v":""},{"$f":"IF('PENNANT TEAMS'!$B$5=5,'PENNANT TEAMS'!$A$26,\"\")","v":""},{"$f":"IF('PENNANT TEAMS'!$B$5=6,'PENNANT TEAMS'!$E$29,\"\")","v":""},{"$f":"IF('PENNANT TEAMS'!$B$5=6,'PENNANT TEAMS'!$E$28,\"\")","v":""},{"$f":"IF('PENNANT TEAMS'!$B$5=6,'PENNANT TEAMS'!$A$26,\"\")","v":""},{"$f":"IF('PENNANT TEAMS'!$B$5=7,'PENNANT TEAMS'!$E$29,\"\")","v":""},{"$f":"IF('PENNANT TEAMS'!$B$5=7,'PENNANT TEAMS'!$E$28,\"\")","v":""},{"$f":"IF('PENNANT TEAMS'!$B$5=7,'PENNANT TEAMS'!$A$26,\"\")","v":""},{"$f":"IF('PENNANT TEAMS'!$B$5=8,'PENNANT TEAMS'!$E$29,\"\")","v":""},{"$f":"IF('PENNANT TEAMS'!$B$5=8,'PENNANT TEAMS'!$E$28,\"\")","v":""},{"$f":"IF('PENNANT TEAMS'!$B$5=8,'PENNANT TEAMS'!$A$26,\"\")","v":""},{"$f":"IF('PENNANT TEAMS'!$B$5=9,'PENNANT TEAMS'!$E$29,\"\")","v":""},{"$f":"IF('PENNANT TEAMS'!$B$5=9,'PENNANT TEAMS'!$E$28,\"\")","v":""},{"$f":"IF('PENNANT TEAMS'!$B$5=9,'PENNANT TEAMS'!$A$26,\"\")","v":""},{"$f":"IF('PENNANT TEAMS'!$B$5=10,'PENNANT TEAMS'!$E$29,\"\")","v":""},{"$f":"IF('PENNANT TEAMS'!$B$5=10,'PENNANT TEAMS'!$E$28,\"\")","v":""},{"$f":"IF('PENNANT TEAMS'!$B$5=10,'PENNANT TEAMS'!$A$26,\"\")","v":""}]
[{"$f":"IF('PENNANT TEAMS'!$B$5=1,'PENNANT TEAMS'!$B$31,\"\")","v":""},{"$f":"IF('PENNANT TEAMS'!$B$5=1,'PENNANT TEAMS'!$B$30,\"\")","v":0},{"$f":"IF('PENNANT TEAMS'!$B$5=1,'PENNANT TEAMS'!$A$26,\"\")","v":0},{"$f":"IF('PENNANT TEAMS'!$B$5=2,'PENNANT TEAMS'!$B$31,\"\")","v":""},{"$f":"IF('PENNANT TEAMS'!$B$5=2,'PENNANT TEAMS'!$B$30,\"\")","v":""},{"$f":"IF('PENNANT TEAMS'!$B$5=2,'PENNANT TEAMS'!$A$26,\"\")","v":""},{"$f":"IF('PENNANT TEAMS'!$B$5=3,'PENNANT TEAMS'!$B$31,\"\")","v":""},{"$f":"IF('PENNANT TEAMS'!$B$5=3,'PENNANT TEAMS'!$B$30,\"\")","v":""},{"$f":"IF('PENNANT TEAMS'!$B$5=3,'PENNANT TEAMS'!$A$26,\"\")","v":""},{"$f":"IF('PENNANT TEAMS'!$B$5=4,'PENNANT TEAMS'!$B$31,\"\")","v":""},{"$f":"IF('PENNANT TEAMS'!$B$5=4,'PENNANT TEAMS'!$B$30,\"\")","v":""},{"$f":"IF('PENNANT TEAMS'!$B$5=4,'PENNANT TEAMS'!$A$26,\"\")","v":""},{"$f":"IF('PENNANT TEAMS'!$B$5=5,'PENNANT TEAMS'!$B$31,\"\")","v":""},{"$f":"IF('PENNANT TEAMS'!$B$5=5,'PENNANT TEAMS'!$B$30,\"\")","v":""},{"$f":"IF('PENNANT TEAMS'!$B$5=5,'PENNANT TEAMS'!$A$26,\"\")","v":""},{"$f":"IF('PENNANT TEAMS'!$B$5=6,'PENNANT TEAMS'!$B$31,\"\")","v":""},{"$f":"IF('PENNANT TEAMS'!$B$5=6,'PENNANT TEAMS'!$B$30,\"\")","v":""},{"$f":"IF('PENNANT TEAMS'!$B$5=6,'PENNANT TEAMS'!$A$26,\"\")","v":""},{"$f":"IF('PENNANT TEAMS'!$B$5=7,'PENNANT TEAMS'!$B$31,\"\")","v":""},{"$f":"IF('PENNANT TEAMS'!$B$5=7,'PENNANT TEAMS'!$B$30,\"\")","v":""},{"$f":"IF('PENNANT TEAMS'!$B$5=7,'PENNANT TEAMS'!$A$26,\"\")","v":""},{"$f":"IF('PENNANT TEAMS'!$B$5=8,'PENNANT TEAMS'!$B$31,\"\")","v":""},{"$f":"IF('PENNANT TEAMS'!$B$5=8,'PENNANT TEAMS'!$B$30,\"\")","v":""},{"$f":"IF('PENNANT TEAMS'!$B$5=8,'PENNANT TEAMS'!$A$26,\"\")","v":""},{"$f":"IF('PENNANT TEAMS'!$B$5=9,'PENNANT TEAMS'!$B$31,\"\")","v":""},{"$f":"IF('PENNANT TEAMS'!$B$5=9,'PENNANT TEAMS'!$B$30,\"\")","v":""},{"$f":"IF('PENNANT TEAMS'!$B$5=9,'PENNANT TEAMS'!$A$26,\"\")","v":""},{"$f":"IF('PENNANT TEAMS'!$B$5=10,'PENNANT TEAMS'!$B$31,\"\")","v":""},{"$f":"IF('PENNANT TEAMS'!$B$5=10,'PENNANT TEAMS'!$B$30,\"\")","v":""},{"$f":"IF('PENNANT TEAMS'!$B$5=10,'PENNANT TEAMS'!$A$26,\"\")","v":""}]
[{"$f":"IF('PENNANT TEAMS'!$B$5=1,'PENNANT TEAMS'!$C$31,\"\")","v":""},{"$f":"IF('PENNANT TEAMS'!$B$5=1,'PENNANT TEAMS'!$C$30,\"\")","v":0},{"$f":"IF('PENNANT TEAMS'!$B$5=1,'PENNANT TEAMS'!$A$26,\"\")","v":0},{"$f":"IF('PENNANT TEAMS'!$B$5=2,'PENNANT TEAMS'!$C$31,\"\")","v":""},{"$f":"IF('PENNANT TEAMS'!$B$5=2,'PENNANT TEAMS'!$C$30,\"\")","v":""},{"$f":"IF('PENNANT TEAMS'!$B$5=2,'PENNANT TEAMS'!$A$26,\"\")","v":""},{"$f":"IF('PENNANT TEAMS'!$B$5=3,'PENNANT TEAMS'!$C$31,\"\")","v":""},{"$f":"IF('PENNANT TEAMS'!$B$5=3,'PENNANT TEAMS'!$C$30,\"\")","v":""},{"$f":"IF('PENNANT TEAMS'!$B$5=3,'PENNANT TEAMS'!$A$26,\"\")","v":""},{"$f":"IF('PENNANT TEAMS'!$B$5=4,'PENNANT TEAMS'!$C$31,\"\")","v":""},{"$f":"IF('PENNANT TEAMS'!$B$5=4,'PENNANT TEAMS'!$C$30,\"\")","v":""},{"$f":"IF('PENNANT TEAMS'!$B$5=4,'PENNANT TEAMS'!$A$26,\"\")","v":""},{"$f":"IF('PENNANT TEAMS'!$B$5=5,'PENNANT TEAMS'!$C$31,\"\")","v":""},{"$f":"IF('PENNANT TEAMS'!$B$5=5,'PENNANT TEAMS'!$C$30,\"\")","v":""},{"$f":"IF('PENNANT TEAMS'!$B$5=5,'PENNANT TEAMS'!$A$26,\"\")","v":""},{"$f":"IF('PENNANT TEAMS'!$B$5=6,'PENNANT TEAMS'!$C$31,\"\")","v":""},{"$f":"IF('PENNANT TEAMS'!$B$5=6,'PENNANT TEAMS'!$C$30,\"\")","v":""},{"$f":"IF('PENNANT TEAMS'!$B$5=6,'PENNANT TEAMS'!$A$26,\"\")","v":""},{"$f":"IF('PENNANT TEAMS'!$B$5=7,'PENNANT TEAMS'!$C$31,\"\")","v":""},{"$f":"IF('PENNANT TEAMS'!$B$5=7,'PENNANT TEAMS'!$C$30,\"\")","v":""},{"$f":"IF('PENNANT TEAMS'!$B$5=7,'PENNANT TEAMS'!$A$26,\"\")","v":""},{"$f":"IF('PENNANT TEAMS'!$B$5=8,'PENNANT TEAMS'!$C$31,\"\")","v":""},{"$f":"IF('PENNANT TEAMS'!$B$5=8,'PENNANT TEAMS'!$C$30,\"\")","v":""},{"$f":"IF('PENNANT TEAMS'!$B$5=8,'PENNANT TEAMS'!$A$26,\"\")","v":""},{"$f":"IF('PENNANT TEAMS'!$B$5=9,'PENNANT TEAMS'!$C$31,\"\")","v":""},{"$f":"IF('PENNANT TEAMS'!$B$5=9,'PENNANT TEAMS'!$C$30,\"\")","v":""},{"$f":"IF('PENNANT TEAMS'!$B$5=9,'PENNANT TEAMS'!$A$26,\"\")","v":""},{"$f":"IF('PENNANT TEAMS'!$B$5=10,'PENNANT TEAMS'!$C$31,\"\")","v":""},{"$f":"IF('PENNANT TEAMS'!$B$5=10,'PENNANT TEAMS'!$C$30,\"\")","v":""},{"$f":"IF('PENNANT TEAMS'!$B$5=10,'PENNANT TEAMS'!$A$26,\"\")","v":""}]
[{"$f":"IF('PENNANT TEAMS'!$B$5=1,'PENNANT TEAMS'!$D$31,\"\")","v":""},{"$f":"IF('PENNANT TEAMS'!$B$5=1,'PENNANT TEAMS'!$D$30,\"\")","v":0},{"$f":"IF('PENNANT TEAMS'!$B$5=1,'PENNANT TEAMS'!$A$26,\"\")","v":0},{"$f":"IF('PENNANT TEAMS'!$B$5=2,'PENNANT TEAMS'!$D$31,\"\")","v":""},{"$f":"IF('PENNANT TEAMS'!$B$5=2,'PENNANT TEAMS'!$D$30,\"\")","v":""},{"$f":"IF('PENNANT TEAMS'!$B$5=2,'PENNANT TEAMS'!$A$26,\"\")","v":""},{"$f":"IF('PENNANT TEAMS'!$B$5=3,'PENNANT TEAMS'!$D$31,\"\")","v":""},{"$f":"IF('PENNANT TEAMS'!$B$5=3,'PENNANT TEAMS'!$D$30,\"\")","v":""},{"$f":"IF('PENNANT TEAMS'!$B$5=3,'PENNANT TEAMS'!$A$26,\"\")","v":""},{"$f":"IF('PENNANT TEAMS'!$B$5=4,'PENNANT TEAMS'!$D$31,\"\")","v":""},{"$f":"IF('PENNANT TEAMS'!$B$5=4,'PENNANT TEAMS'!$D$30,\"\")","v":""},{"$f":"IF('PENNANT TEAMS'!$B$5=4,'PENNANT TEAMS'!$A$26,\"\")","v":""},{"$f":"IF('PENNANT TEAMS'!$B$5=5,'PENNANT TEAMS'!$D$31,\"\")","v":""},{"$f":"IF('PENNANT TEAMS'!$B$5=5,'PENNANT TEAMS'!$D$30,\"\")","v":""},{"$f":"IF('PENNANT TEAMS'!$B$5=5,'PENNANT TEAMS'!$A$26,\"\")","v":""},{"$f":"IF('PENNANT TEAMS'!$B$5=6,'PENNANT TEAMS'!$D$31,\"\")","v":""},{"$f":"IF('PENNANT TEAMS'!$B$5=6,'PENNANT TEAMS'!$D$30,\"\")","v":""},{"$f":"IF('PENNANT TEAMS'!$B$5=6,'PENNANT TEAMS'!$A$26,\"\")","v":""},{"$f":"IF('PENNANT TEAMS'!$B$5=7,'PENNANT TEAMS'!$D$31,\"\")","v":""},{"$f":"IF('PENNANT TEAMS'!$B$5=7,'PENNANT TEAMS'!$D$30,\"\")","v":""},{"$f":"IF('PENNANT TEAMS'!$B$5=7,'PENNANT TEAMS'!$A$26,\"\")","v":""},{"$f":"IF('PENNANT TEAMS'!$B$5=8,'PENNANT TEAMS'!$D$31,\"\")","v":""},{"$f":"IF('PENNANT TEAMS'!$B$5=8,'PENNANT TEAMS'!$D$30,\"\")","v":""},{"$f":"IF('PENNANT TEAMS'!$B$5=8,'PENNANT TEAMS'!$A$26,\"\")","v":""},{"$f":"IF('PENNANT TEAMS'!$B$5=9,'PENNANT TEAMS'!$D$31,\"\")","v":""},{"$f":"IF('PENNANT TEAMS'!$B$5=9,'PENNANT TEAMS'!$D$30,\"\")","v":""},{"$f":"IF('PENNANT TEAMS'!$B$5=9,'PENNANT TEAMS'!$A$26,\"\")","v":""},{"$f":"IF('PENNANT TEAMS'!$B$5=10,'PENNANT TEAMS'!$D$31,\"\")","v":""},{"$f":"IF('PENNANT TEAMS'!$B$5=10,'PENNANT TEAMS'!$D$30,\"\")","v":""},{"$f":"IF('PENNANT TEAMS'!$B$5=10,'PENNANT TEAMS'!$A$26,\"\")","v":""}]
[{"$f":"IF('PENNANT TEAMS'!$B$5=1,'PENNANT TEAMS'!$E$31,\"\")","v":""},{"$f":"IF('PENNANT TEAMS'!$B$5=1,'PENNANT TEAMS'!$E$30,\"\")","v":0},{"$f":"IF('PENNANT TEAMS'!$B$5=1,'PENNANT TEAMS'!$A$26,\"\")","v":0},{"$f":"IF('PENNANT TEAMS'!$B$5=2,'PENNANT TEAMS'!$E$31,\"\")","v":""},{"$f":"IF('PENNANT TEAMS'!$B$5=2,'PENNANT TEAMS'!$E$30,\"\")","v":""},{"$f":"IF('PENNANT TEAMS'!$B$5=2,'PENNANT TEAMS'!$A$26,\"\")","v":""},{"$f":"IF('PENNANT TEAMS'!$B$5=3,'PENNANT TEAMS'!$E$31,\"\")","v":""},{"$f":"IF('PENNANT TEAMS'!$B$5=3,'PENNANT TEAMS'!$E$30,\"\")","v":""},{"$f":"IF('PENNANT TEAMS'!$B$5=3,'PENNANT TEAMS'!$A$26,\"\")","v":""},{"$f":"IF('PENNANT TEAMS'!$B$5=4,'PENNANT TEAMS'!$E$31,\"\")","v":""},{"$f":"IF('PENNANT TEAMS'!$B$5=4,'PENNANT TEAMS'!$E$30,\"\")","v":""},{"$f":"IF('PENNANT TEAMS'!$B$5=4,'PENNANT TEAMS'!$A$26,\"\")","v":""},{"$f":"IF('PENNANT TEAMS'!$B$5=5,'PENNANT TEAMS'!$E$31,\"\")","v":""},{"$f":"IF('PENNANT TEAMS'!$B$5=5,'PENNANT TEAMS'!$E$30,\"\")","v":""},{"$f":"IF('PENNANT TEAMS'!$B$5=5,'PENNANT TEAMS'!$A$26,\"\")","v":""},{"$f":"IF('PENNANT TEAMS'!$B$5=6,'PENNANT TEAMS'!$E$31,\"\")","v":""},{"$f":"IF('PENNANT TEAMS'!$B$5=6,'PENNANT TEAMS'!$E$30,\"\")","v":""},{"$f":"IF('PENNANT TEAMS'!$B$5=6,'PENNANT TEAMS'!$A$26,\"\")","v":""},{"$f":"IF('PENNANT TEAMS'!$B$5=7,'PENNANT TEAMS'!$E$31,\"\")","v":""},{"$f":"IF('PENNANT TEAMS'!$B$5=7,'PENNANT TEAMS'!$E$30,\"\")","v":""},{"$f":"IF('PENNANT TEAMS'!$B$5=7,'PENNANT TEAMS'!$A$26,\"\")","v":""},{"$f":"IF('PENNANT TEAMS'!$B$5=8,'PENNANT TEAMS'!$E$31,\"\")","v":""},{"$f":"IF('PENNANT TEAMS'!$B$5=8,'PENNANT TEAMS'!$E$30,\"\")","v":""},{"$f":"IF('PENNANT TEAMS'!$B$5=8,'PENNANT TEAMS'!$A$26,\"\")","v":""},{"$f":"IF('PENNANT TEAMS'!$B$5=9,'PENNANT TEAMS'!$E$31,\"\")","v":""},{"$f":"IF('PENNANT TEAMS'!$B$5=9,'PENNANT TEAMS'!$E$30,\"\")","v":""},{"$f":"IF('PENNANT TEAMS'!$B$5=9,'PENNANT TEAMS'!$A$26,\"\")","v":""},{"$f":"IF('PENNANT TEAMS'!$B$5=10,'PENNANT TEAMS'!$E$31,\"\")","v":""},{"$f":"IF('PENNANT TEAMS'!$B$5=10,'PENNANT TEAMS'!$E$30,\"\")","v":""},{"$f":"IF('PENNANT TEAMS'!$B$5=10,'PENNANT TEAMS'!$A$26,\"\")","v":""}]
[{"$f":"IF('PENNANT TEAMS'!$B$5=1,'PENNANT TEAMS'!$B$36,\"\")","v":""},{"$f":"IF('PENNANT TEAMS'!$B$5=1,'PENNANT TEAMS'!$B$35,\"\")","v":0},{"$f":"IF('PENNANT TEAMS'!$B$5=1,'PENNANT TEAMS'!$A$35,\"\")","v":0},{"$f":"IF('PENNANT TEAMS'!$B$5=2,'PENNANT TEAMS'!$B$36,\"\")","v":""},{"$f":"IF('PENNANT TEAMS'!$B$5=2,'PENNANT TEAMS'!$B$35,\"\")","v":""},{"$f":"IF('PENNANT TEAMS'!$B$5=2,'PENNANT TEAMS'!$A$35,\"\")","v":""},{"$f":"IF('PENNANT TEAMS'!$B$5=3,'PENNANT TEAMS'!$B$36,\"\")","v":""},{"$f":"IF('PENNANT TEAMS'!$B$5=3,'PENNANT TEAMS'!$B$35,\"\")","v":""},{"$f":"IF('PENNANT TEAMS'!$B$5=3,'PENNANT TEAMS'!$A$35,\"\")","v":""},{"$f":"IF('PENNANT TEAMS'!$B$5=4,'PENNANT TEAMS'!$B$36,\"\")","v":""},{"$f":"IF('PENNANT TEAMS'!$B$5=4,'PENNANT TEAMS'!$B$35,\"\")","v":""},{"$f":"IF('PENNANT TEAMS'!$B$5=4,'PENNANT TEAMS'!$A$35,\"\")","v":""},{"$f":"IF('PENNANT TEAMS'!$B$5=5,'PENNANT TEAMS'!$B$36,\"\")","v":""},{"$f":"IF('PENNANT TEAMS'!$B$5=5,'PENNANT TEAMS'!$B$35,\"\")","v":""},{"$f":"IF('PENNANT TEAMS'!$B$5=5,'PENNANT TEAMS'!$A$35,\"\")","v":""},{"$f":"IF('PENNANT TEAMS'!$B$5=6,'PENNANT TEAMS'!$B$36,\"\")","v":""},{"$f":"IF('PENNANT TEAMS'!$B$5=6,'PENNANT TEAMS'!$B$35,\"\")","v":""},{"$f":"IF('PENNANT TEAMS'!$B$5=6,'PENNANT TEAMS'!$A$35,\"\")","v":""},{"$f":"IF('PENNANT TEAMS'!$B$5=7,'PENNANT TEAMS'!$B$36,\"\")","v":""},{"$f":"IF('PENNANT TEAMS'!$B$5=7,'PENNANT TEAMS'!$B$35,\"\")","v":""},{"$f":"IF('PENNANT TEAMS'!$B$5=7,'PENNANT TEAMS'!$A$35,\"\")","v":""},{"$f":"IF('PENNANT TEAMS'!$B$5=8,'PENNANT TEAMS'!$B$36,\"\")","v":""},{"$f":"IF('PENNANT TEAMS'!$B$5=8,'PENNANT TEAMS'!$B$35,\"\")","v":""},{"$f":"IF('PENNANT TEAMS'!$B$5=8,'PENNANT TEAMS'!$A$35,\"\")","v":""},{"$f":"IF('PENNANT TEAMS'!$B$5=9,'PENNANT TEAMS'!$B$36,\"\")","v":""},{"$f":"IF('PENNANT TEAMS'!$B$5=9,'PENNANT TEAMS'!$B$35,\"\")","v":""},{"$f":"IF('PENNANT TEAMS'!$B$5=9,'PENNANT TEAMS'!$A$35,\"\")","v":""},{"$f":"IF('PENNANT TEAMS'!$B$5=10,'PENNANT TEAMS'!$B$36,\"\")","v":""},{"$f":"IF('PENNANT TEAMS'!$B$5=10,'PENNANT TEAMS'!$B$35,\"\")","v":""},{"$f":"IF('PENNANT TEAMS'!$B$5=10,'PENNANT TEAMS'!$A$35,\"\")","v":""}]
[{"$f":"IF('PENNANT TEAMS'!$B$5=1,'PENNANT TEAMS'!$C$36,\"\")","v":""},{"$f":"IF('PENNANT TEAMS'!$B$5=1,'PENNANT TEAMS'!$C$35,\"\")","v":0},{"$f":"IF('PENNANT TEAMS'!$B$5=1,'PENNANT TEAMS'!$A$35,\"\")","v":0},{"$f":"IF('PENNANT TEAMS'!$B$5=2,'PENNANT TEAMS'!$C$36,\"\")","v":""},{"$f":"IF('PENNANT TEAMS'!$B$5=2,'PENNANT TEAMS'!$C$35,\"\")","v":""},{"$f":"IF('PENNANT TEAMS'!$B$5=2,'PENNANT TEAMS'!$A$35,\"\")","v":""},{"$f":"IF('PENNANT TEAMS'!$B$5=3,'PENNANT TEAMS'!$C$36,\"\")","v":""},{"$f":"IF('PENNANT TEAMS'!$B$5=3,'PENNANT TEAMS'!$C$35,\"\")","v":""},{"$f":"IF('PENNANT TEAMS'!$B$5=3,'PENNANT TEAMS'!$A$35,\"\")","v":""},{"$f":"IF('PENNANT TEAMS'!$B$5=4,'PENNANT TEAMS'!$C$36,\"\")","v":""},{"$f":"IF('PENNANT TEAMS'!$B$5=4,'PENNANT TEAMS'!$C$35,\"\")","v":""},{"$f":"IF('PENNANT TEAMS'!$B$5=4,'PENNANT TEAMS'!$A$35,\"\")","v":""},{"$f":"IF('PENNANT TEAMS'!$B$5=5,'PENNANT TEAMS'!$C$36,\"\")","v":""},{"$f":"IF('PENNANT TEAMS'!$B$5=5,'PENNANT TEAMS'!$C$35,\"\")","v":""},{"$f":"IF('PENNANT TEAMS'!$B$5=5,'PENNANT TEAMS'!$A$35,\"\")","v":""},{"$f":"IF('PENNANT TEAMS'!$B$5=6,'PENNANT TEAMS'!$C$36,\"\")","v":""},{"$f":"IF('PENNANT TEAMS'!$B$5=6,'PENNANT TEAMS'!$C$35,\"\")","v":""},{"$f":"IF('PENNANT TEAMS'!$B$5=6,'PENNANT TEAMS'!$A$35,\"\")","v":""},{"$f":"IF('PENNANT TEAMS'!$B$5=7,'PENNANT TEAMS'!$C$36,\"\")","v":""},{"$f":"IF('PENNANT TEAMS'!$B$5=7,'PENNANT TEAMS'!$C$35,\"\")","v":""},{"$f":"IF('PENNANT TEAMS'!$B$5=7,'PENNANT TEAMS'!$A$35,\"\")","v":""},{"$f":"IF('PENNANT TEAMS'!$B$5=8,'PENNANT TEAMS'!$C$36,\"\")","v":""},{"$f":"IF('PENNANT TEAMS'!$B$5=8,'PENNANT TEAMS'!$C$35,\"\")","v":""},{"$f":"IF('PENNANT TEAMS'!$B$5=8,'PENNANT TEAMS'!$A$35,\"\")","v":""},{"$f":"IF('PENNANT TEAMS'!$B$5=9,'PENNANT TEAMS'!$C$36,\"\")","v":""},{"$f":"IF('PENNANT TEAMS'!$B$5=9,'PENNANT TEAMS'!$C$35,\"\")","v":""},{"$f":"IF('PENNANT TEAMS'!$B$5=9,'PENNANT TEAMS'!$A$35,\"\")","v":""},{"$f":"IF('PENNANT TEAMS'!$B$5=10,'PENNANT TEAMS'!$C$36,\"\")","v":""},{"$f":"IF('PENNANT TEAMS'!$B$5=10,'PENNANT TEAMS'!$C$35,\"\")","v":""},{"$f":"IF('PENNANT TEAMS'!$B$5=10,'PENNANT TEAMS'!$A$35,\"\")","v":""}]
[{"$f":"IF('PENNANT TEAMS'!$B$5=1,'PENNANT TEAMS'!$D$36,\"\")","v":""},{"$f":"IF('PENNANT TEAMS'!$B$5=1,'PENNANT TEAMS'!$D$35,\"\")","v":0},{"$f":"IF('PENNANT TEAMS'!$B$5=1,'PENNANT TEAMS'!$A$35,\"\")","v":0},{"$f":"IF('PENNANT TEAMS'!$B$5=2,'PENNANT TEAMS'!$D$36,\"\")","v":""},{"$f":"IF('PENNANT TEAMS'!$B$5=2,'PENNANT TEAMS'!$D$35,\"\")","v":""},{"$f":"IF('PENNANT TEAMS'!$B$5=2,'PENNANT TEAMS'!$A$35,\"\")","v":""},{"$f":"IF('PENNANT TEAMS'!$B$5=3,'PENNANT TEAMS'!$D$36,\"\")","v":""},{"$f":"IF('PENNANT TEAMS'!$B$5=3,'PENNANT TEAMS'!$D$35,\"\")","v":""},{"$f":"IF('PENNANT TEAMS'!$B$5=3,'PENNANT TEAMS'!$A$35,\"\")","v":""},{"$f":"IF('PENNANT TEAMS'!$B$5=4,'PENNANT TEAMS'!$D$36,\"\")","v":""},{"$f":"IF('PENNANT TEAMS'!$B$5=4,'PENNANT TEAMS'!$D$35,\"\")","v":""},{"$f":"IF('PENNANT TEAMS'!$B$5=4,'PENNANT TEAMS'!$A$35,\"\")","v":""},{"$f":"IF('PENNANT TEAMS'!$B$5=5,'PENNANT TEAMS'!$D$36,\"\")","v":""},{"$f":"IF('PENNANT TEAMS'!$B$5=5,'PENNANT TEAMS'!$D$35,\"\")","v":""},{"$f":"IF('PENNANT TEAMS'!$B$5=5,'PENNANT TEAMS'!$A$35,\"\")","v":""},{"$f":"IF('PENNANT TEAMS'!$B$5=6,'PENNANT TEAMS'!$D$36,\"\")","v":""},{"$f":"IF('PENNANT TEAMS'!$B$5=6,'PENNANT TEAMS'!$D$35,\"\")","v":""},{"$f":"IF('PENNANT TEAMS'!$B$5=6,'PENNANT TEAMS'!$A$35,\"\")","v":""},{"$f":"IF('PENNANT TEAMS'!$B$5=7,'PENNANT TEAMS'!$D$36,\"\")","v":""},{"$f":"IF('PENNANT TEAMS'!$B$5=7,'PENNANT TEAMS'!$D$35,\"\")","v":""},{"$f":"IF('PENNANT TEAMS'!$B$5=7,'PENNANT TEAMS'!$A$35,\"\")","v":""},{"$f":"IF('PENNANT TEAMS'!$B$5=8,'PENNANT TEAMS'!$D$36,\"\")","v":""},{"$f":"IF('PENNANT TEAMS'!$B$5=8,'PENNANT TEAMS'!$D$35,\"\")","v":""},{"$f":"IF('PENNANT TEAMS'!$B$5=8,'PENNANT TEAMS'!$A$35,\"\")","v":""},{"$f":"IF('PENNANT TEAMS'!$B$5=9,'PENNANT TEAMS'!$D$36,\"\")","v":""},{"$f":"IF('PENNANT TEAMS'!$B$5=9,'PENNANT TEAMS'!$D$35,\"\")","v":""},{"$f":"IF('PENNANT TEAMS'!$B$5=9,'PENNANT TEAMS'!$A$35,\"\")","v":""},{"$f":"IF('PENNANT TEAMS'!$B$5=10,'PENNANT TEAMS'!$D$36,\"\")","v":""},{"$f":"IF('PENNANT TEAMS'!$B$5=10,'PENNANT TEAMS'!$D$35,\"\")","v":""},{"$f":"IF('PENNANT TEAMS'!$B$5=10,'PENNANT TEAMS'!$A$35,\"\")","v":""}]
[{"$f":"IF('PENNANT TEAMS'!$B$5=1,'PENNANT TEAMS'!$E$36,\"\")","v":""},{"$f":"IF('PENNANT TEAMS'!$B$5=1,'PENNANT TEAMS'!$E$35,\"\")","v":0},{"$f":"IF('PENNANT TEAMS'!$B$5=1,'PENNANT TEAMS'!$A$35,\"\")","v":0},{"$f":"IF('PENNANT TEAMS'!$B$5=2,'PENNANT TEAMS'!$E$36,\"\")","v":""},{"$f":"IF('PENNANT TEAMS'!$B$5=2,'PENNANT TEAMS'!$E$35,\"\")","v":""},{"$f":"IF('PENNANT TEAMS'!$B$5=2,'PENNANT TEAMS'!$A$35,\"\")","v":""},{"$f":"IF('PENNANT TEAMS'!$B$5=3,'PENNANT TEAMS'!$E$36,\"\")","v":""},{"$f":"IF('PENNANT TEAMS'!$B$5=3,'PENNANT TEAMS'!$E$35,\"\")","v":""},{"$f":"IF('PENNANT TEAMS'!$B$5=3,'PENNANT TEAMS'!$A$35,\"\")","v":""},{"$f":"IF('PENNANT TEAMS'!$B$5=4,'PENNANT TEAMS'!$E$36,\"\")","v":""},{"$f":"IF('PENNANT TEAMS'!$B$5=4,'PENNANT TEAMS'!$E$35,\"\")","v":""},{"$f":"IF('PENNANT TEAMS'!$B$5=4,'PENNANT TEAMS'!$A$35,\"\")","v":""},{"$f":"IF('PENNANT TEAMS'!$B$5=5,'PENNANT TEAMS'!$E$36,\"\")","v":""},{"$f":"IF('PENNANT TEAMS'!$B$5=5,'PENNANT TEAMS'!$E$35,\"\")","v":""},{"$f":"IF('PENNANT TEAMS'!$B$5=5,'PENNANT TEAMS'!$A$35,\"\")","v":""},{"$f":"IF('PENNANT TEAMS'!$B$5=6,'PENNANT TEAMS'!$E$36,\"\")","v":""},{"$f":"IF('PENNANT TEAMS'!$B$5=6,'PENNANT TEAMS'!$E$35,\"\")","v":""},{"$f":"IF('PENNANT TEAMS'!$B$5=6,'PENNANT TEAMS'!$A$35,\"\")","v":""},{"$f":"IF('PENNANT TEAMS'!$B$5=7,'PENNANT TEAMS'!$E$36,\"\")","v":""},{"$f":"IF('PENNANT TEAMS'!$B$5=7,'PENNANT TEAMS'!$E$35,\"\")","v":""},{"$f":"IF('PENNANT TEAMS'!$B$5=7,'PENNANT TEAMS'!$A$35,\"\")","v":""},{"$f":"IF('PENNANT TEAMS'!$B$5=8,'PENNANT TEAMS'!$E$36,\"\")","v":""},{"$f":"IF('PENNANT TEAMS'!$B$5=8,'PENNANT TEAMS'!$E$35,\"\")","v":""},{"$f":"IF('PENNANT TEAMS'!$B$5=8,'PENNANT TEAMS'!$A$35,\"\")","v":""},{"$f":"IF('PENNANT TEAMS'!$B$5=9,'PENNANT TEAMS'!$E$36,\"\")","v":""},{"$f":"IF('PENNANT TEAMS'!$B$5=9,'PENNANT TEAMS'!$E$35,\"\")","v":""},{"$f":"IF('PENNANT TEAMS'!$B$5=9,'PENNANT TEAMS'!$A$35,\"\")","v":""},{"$f":"IF('PENNANT TEAMS'!$B$5=10,'PENNANT TEAMS'!$E$36,\"\")","v":""},{"$f":"IF('PENNANT TEAMS'!$B$5=10,'PENNANT TEAMS'!$E$35,\"\")","v":""},{"$f":"IF('PENNANT TEAMS'!$B$5=10,'PENNANT TEAMS'!$A$35,\"\")","v":""}]
[{"$f":"IF('PENNANT TEAMS'!$B$5=1,'PENNANT TEAMS'!$B$38,\"\")","v":""},{"$f":"IF('PENNANT TEAMS'!$B$5=1,'PENNANT TEAMS'!$B$37,\"\")","v":0},{"$f":"IF('PENNANT TEAMS'!$B$5=1,'PENNANT TEAMS'!$A$35,\"\")","v":0},{"$f":"IF('PENNANT TEAMS'!$B$5=2,'PENNANT TEAMS'!$B$38,\"\")","v":""},{"$f":"IF('PENNANT TEAMS'!$B$5=2,'PENNANT TEAMS'!$B$37,\"\")","v":""},{"$f":"IF('PENNANT TEAMS'!$B$5=2,'PENNANT TEAMS'!$A$35,\"\")","v":""},{"$f":"IF('PENNANT TEAMS'!$B$5=3,'PENNANT TEAMS'!$B$38,\"\")","v":""},{"$f":"IF('PENNANT TEAMS'!$B$5=3,'PENNANT TEAMS'!$B$37,\"\")","v":""},{"$f":"IF('PENNANT TEAMS'!$B$5=3,'PENNANT TEAMS'!$A$35,\"\")","v":""},{"$f":"IF('PENNANT TEAMS'!$B$5=4,'PENNANT TEAMS'!$B$38,\"\")","v":""},{"$f":"IF('PENNANT TEAMS'!$B$5=4,'PENNANT TEAMS'!$B$37,\"\")","v":""},{"$f":"IF('PENNANT TEAMS'!$B$5=4,'PENNANT TEAMS'!$A$35,\"\")","v":""},{"$f":"IF('PENNANT TEAMS'!$B$5=5,'PENNANT TEAMS'!$B$38,\"\")","v":""},{"$f":"IF('PENNANT TEAMS'!$B$5=5,'PENNANT TEAMS'!$B$37,\"\")","v":""},{"$f":"IF('PENNANT TEAMS'!$B$5=5,'PENNANT TEAMS'!$A$35,\"\")","v":""},{"$f":"IF('PENNANT TEAMS'!$B$5=6,'PENNANT TEAMS'!$B$38,\"\")","v":""},{"$f":"IF('PENNANT TEAMS'!$B$5=6,'PENNANT TEAMS'!$B$37,\"\")","v":""},{"$f":"IF('PENNANT TEAMS'!$B$5=6,'PENNANT TEAMS'!$A$35,\"\")","v":""},{"$f":"IF('PENNANT TEAMS'!$B$5=7,'PENNANT TEAMS'!$B$38,\"\")","v":""},{"$f":"IF('PENNANT TEAMS'!$B$5=7,'PENNANT TEAMS'!$B$37,\"\")","v":""},{"$f":"IF('PENNANT TEAMS'!$B$5=7,'PENNANT TEAMS'!$A$35,\"\")","v":""},{"$f":"IF('PENNANT TEAMS'!$B$5=8,'PENNANT TEAMS'!$B$38,\"\")","v":""},{"$f":"IF('PENNANT TEAMS'!$B$5=8,'PENNANT TEAMS'!$B$37,\"\")","v":""},{"$f":"IF('PENNANT TEAMS'!$B$5=8,'PENNANT TEAMS'!$A$35,\"\")","v":""},{"$f":"IF('PENNANT TEAMS'!$B$5=9,'PENNANT TEAMS'!$B$38,\"\")","v":""},{"$f":"IF('PENNANT TEAMS'!$B$5=9,'PENNANT TEAMS'!$B$37,\"\")","v":""},{"$f":"IF('PENNANT TEAMS'!$B$5=9,'PENNANT TEAMS'!$A$35,\"\")","v":""},{"$f":"IF('PENNANT TEAMS'!$B$5=10,'PENNANT TEAMS'!$B$38,\"\")","v":""},{"$f":"IF('PENNANT TEAMS'!$B$5=10,'PENNANT TEAMS'!$B$37,\"\")","v":""},{"$f":"IF('PENNANT TEAMS'!$B$5=10,'PENNANT TEAMS'!$A$35,\"\")","v":""}]
[{"$f":"IF('PENNANT TEAMS'!$B$5=1,'PENNANT TEAMS'!$C$38,\"\")","v":""},{"$f":"IF('PENNANT TEAMS'!$B$5=1,'PENNANT TEAMS'!$C$37,\"\")","v":0},{"$f":"IF('PENNANT TEAMS'!$B$5=1,'PENNANT TEAMS'!$A$35,\"\")","v":0},{"$f":"IF('PENNANT TEAMS'!$B$5=2,'PENNANT TEAMS'!$C$38,\"\")","v":""},{"$f":"IF('PENNANT TEAMS'!$B$5=2,'PENNANT TEAMS'!$C$37,\"\")","v":""},{"$f":"IF('PENNANT TEAMS'!$B$5=2,'PENNANT TEAMS'!$A$35,\"\")","v":""},{"$f":"IF('PENNANT TEAMS'!$B$5=3,'PENNANT TEAMS'!$C$38,\"\")","v":""},{"$f":"IF('PENNANT TEAMS'!$B$5=3,'PENNANT TEAMS'!$C$37,\"\")","v":""},{"$f":"IF('PENNANT TEAMS'!$B$5=3,'PENNANT TEAMS'!$A$35,\"\")","v":""},{"$f":"IF('PENNANT TEAMS'!$B$5=4,'PENNANT TEAMS'!$C$38,\"\")","v":""},{"$f":"IF('PENNANT TEAMS'!$B$5=4,'PENNANT TEAMS'!$C$37,\"\")","v":""},{"$f":"IF('PENNANT TEAMS'!$B$5=4,'PENNANT TEAMS'!$A$35,\"\")","v":""},{"$f":"IF('PENNANT TEAMS'!$B$5=5,'PENNANT TEAMS'!$C$38,\"\")","v":""},{"$f":"IF('PENNANT TEAMS'!$B$5=5,'PENNANT TEAMS'!$C$37,\"\")","v":""},{"$f":"IF('PENNANT TEAMS'!$B$5=5,'PENNANT TEAMS'!$A$35,\"\")","v":""},{"$f":"IF('PENNANT TEAMS'!$B$5=6,'PENNANT TEAMS'!$C$38,\"\")","v":""},{"$f":"IF('PENNANT TEAMS'!$B$5=6,'PENNANT TEAMS'!$C$37,\"\")","v":""},{"$f":"IF('PENNANT TEAMS'!$B$5=6,'PENNANT TEAMS'!$A$35,\"\")","v":""},{"$f":"IF('PENNANT TEAMS'!$B$5=7,'PENNANT TEAMS'!$C$38,\"\")","v":""},{"$f":"IF('PENNANT TEAMS'!$B$5=7,'PENNANT TEAMS'!$C$37,\"\")","v":""},{"$f":"IF('PENNANT TEAMS'!$B$5=7,'PENNANT TEAMS'!$A$35,\"\")","v":""},{"$f":"IF('PENNANT TEAMS'!$B$5=8,'PENNANT TEAMS'!$C$38,\"\")","v":""},{"$f":"IF('PENNANT TEAMS'!$B$5=8,'PENNANT TEAMS'!$C$37,\"\")","v":""},{"$f":"IF('PENNANT TEAMS'!$B$5=8,'PENNANT TEAMS'!$A$35,\"\")","v":""},{"$f":"IF('PENNANT TEAMS'!$B$5=9,'PENNANT TEAMS'!$C$38,\"\")","v":""},{"$f":"IF('PENNANT TEAMS'!$B$5=9,'PENNANT TEAMS'!$C$37,\"\")","v":""},{"$f":"IF('PENNANT TEAMS'!$B$5=9,'PENNANT TEAMS'!$A$35,\"\")","v":""},{"$f":"IF('PENNANT TEAMS'!$B$5=10,'PENNANT TEAMS'!$C$38,\"\")","v":""},{"$f":"IF('PENNANT TEAMS'!$B$5=10,'PENNANT TEAMS'!$C$37,\"\")","v":""},{"$f":"IF('PENNANT TEAMS'!$B$5=10,'PENNANT TEAMS'!$A$35,\"\")","v":""}]
[{"$f":"IF('PENNANT TEAMS'!$B$5=1,'PENNANT TEAMS'!$D$38,\"\")","v":""},{"$f":"IF('PENNANT TEAMS'!$B$5=1,'PENNANT TEAMS'!$D$37,\"\")","v":0},{"$f":"IF('PENNANT TEAMS'!$B$5=1,'PENNANT TEAMS'!$A$35,\"\")","v":0},{"$f":"IF('PENNANT TEAMS'!$B$5=2,'PENNANT TEAMS'!$D$38,\"\")","v":""},{"$f":"IF('PENNANT TEAMS'!$B$5=2,'PENNANT TEAMS'!$D$37,\"\")","v":""},{"$f":"IF('PENNANT TEAMS'!$B$5=2,'PENNANT TEAMS'!$A$35,\"\")","v":""},{"$f":"IF('PENNANT TEAMS'!$B$5=3,'PENNANT TEAMS'!$D$38,\"\")","v":""},{"$f":"IF('PENNANT TEAMS'!$B$5=3,'PENNANT TEAMS'!$D$37,\"\")","v":""},{"$f":"IF('PENNANT TEAMS'!$B$5=3,'PENNANT TEAMS'!$A$35,\"\")","v":""},{"$f":"IF('PENNANT TEAMS'!$B$5=4,'PENNANT TEAMS'!$D$38,\"\")","v":""},{"$f":"IF('PENNANT TEAMS'!$B$5=4,'PENNANT TEAMS'!$D$37,\"\")","v":""},{"$f":"IF('PENNANT TEAMS'!$B$5=4,'PENNANT TEAMS'!$A$35,\"\")","v":""},{"$f":"IF('PENNANT TEAMS'!$B$5=5,'PENNANT TEAMS'!$D$38,\"\")","v":""},{"$f":"IF('PENNANT TEAMS'!$B$5=5,'PENNANT TEAMS'!$D$37,\"\")","v":""},{"$f":"IF('PENNANT TEAMS'!$B$5=5,'PENNANT TEAMS'!$A$35,\"\")","v":""},{"$f":"IF('PENNANT TEAMS'!$B$5=6,'PENNANT TEAMS'!$D$38,\"\")","v":""},{"$f":"IF('PENNANT TEAMS'!$B$5=6,'PENNANT TEAMS'!$D$37,\"\")","v":""},{"$f":"IF('PENNANT TEAMS'!$B$5=6,'PENNANT TEAMS'!$A$35,\"\")","v":""},{"$f":"IF('PENNANT TEAMS'!$B$5=7,'PENNANT TEAMS'!$D$38,\"\")","v":""},{"$f":"IF('PENNANT TEAMS'!$B$5=7,'PENNANT TEAMS'!$D$37,\"\")","v":""},{"$f":"IF('PENNANT TEAMS'!$B$5=7,'PENNANT TEAMS'!$A$35,\"\")","v":""},{"$f":"IF('PENNANT TEAMS'!$B$5=8,'PENNANT TEAMS'!$D$38,\"\")","v":""},{"$f":"IF('PENNANT TEAMS'!$B$5=8,'PENNANT TEAMS'!$D$37,\"\")","v":""},{"$f":"IF('PENNANT TEAMS'!$B$5=8,'PENNANT TEAMS'!$A$35,\"\")","v":""},{"$f":"IF('PENNANT TEAMS'!$B$5=9,'PENNANT TEAMS'!$D$38,\"\")","v":""},{"$f":"IF('PENNANT TEAMS'!$B$5=9,'PENNANT TEAMS'!$D$37,\"\")","v":""},{"$f":"IF('PENNANT TEAMS'!$B$5=9,'PENNANT TEAMS'!$A$35,\"\")","v":""},{"$f":"IF('PENNANT TEAMS'!$B$5=10,'PENNANT TEAMS'!$D$38,\"\")","v":""},{"$f":"IF('PENNANT TEAMS'!$B$5=10,'PENNANT TEAMS'!$D$37,\"\")","v":""},{"$f":"IF('PENNANT TEAMS'!$B$5=10,'PENNANT TEAMS'!$A$35,\"\")","v":""}]
[{"$f":"IF('PENNANT TEAMS'!$B$5=1,'PENNANT TEAMS'!$E$38,\"\")","v":""},{"$f":"IF('PENNANT TEAMS'!$B$5=1,'PENNANT TEAMS'!$E$37,\"\")","v":0},{"$f":"IF('PENNANT TEAMS'!$B$5=1,'PENNANT TEAMS'!$A$35,\"\")","v":0},{"$f":"IF('PENNANT TEAMS'!$B$5=2,'PENNANT TEAMS'!$E$38,\"\")","v":""},{"$f":"IF('PENNANT TEAMS'!$B$5=2,'PENNANT TEAMS'!$E$37,\"\")","v":""},{"$f":"IF('PENNANT TEAMS'!$B$5=2,'PENNANT TEAMS'!$A$35,\"\")","v":""},{"$f":"IF('PENNANT TEAMS'!$B$5=3,'PENNANT TEAMS'!$E$38,\"\")","v":""},{"$f":"IF('PENNANT TEAMS'!$B$5=3,'PENNANT TEAMS'!$E$37,\"\")","v":""},{"$f":"IF('PENNANT TEAMS'!$B$5=3,'PENNANT TEAMS'!$A$35,\"\")","v":""},{"$f":"IF('PENNANT TEAMS'!$B$5=4,'PENNANT TEAMS'!$E$38,\"\")","v":""},{"$f":"IF('PENNANT TEAMS'!$B$5=4,'PENNANT TEAMS'!$E$37,\"\")","v":""},{"$f":"IF('PENNANT TEAMS'!$B$5=4,'PENNANT TEAMS'!$A$35,\"\")","v":""},{"$f":"IF('PENNANT TEAMS'!$B$5=5,'PENNANT TEAMS'!$E$38,\"\")","v":""},{"$f":"IF('PENNANT TEAMS'!$B$5=5,'PENNANT TEAMS'!$E$37,\"\")","v":""},{"$f":"IF('PENNANT TEAMS'!$B$5=5,'PENNANT TEAMS'!$A$35,\"\")","v":""},{"$f":"IF('PENNANT TEAMS'!$B$5=6,'PENNANT TEAMS'!$E$38,\"\")","v":""},{"$f":"IF('PENNANT TEAMS'!$B$5=6,'PENNANT TEAMS'!$E$37,\"\")","v":""},{"$f":"IF('PENNANT TEAMS'!$B$5=6,'PENNANT TEAMS'!$A$35,\"\")","v":""},{"$f":"IF('PENNANT TEAMS'!$B$5=7,'PENNANT TEAMS'!$E$38,\"\")","v":""},{"$f":"IF('PENNANT TEAMS'!$B$5=7,'PENNANT TEAMS'!$E$37,\"\")","v":""},{"$f":"IF('PENNANT TEAMS'!$B$5=7,'PENNANT TEAMS'!$A$35,\"\")","v":""},{"$f":"IF('PENNANT TEAMS'!$B$5=8,'PENNANT TEAMS'!$E$38,\"\")","v":""},{"$f":"IF('PENNANT TEAMS'!$B$5=8,'PENNANT TEAMS'!$E$37,\"\")","v":""},{"$f":"IF('PENNANT TEAMS'!$B$5=8,'PENNANT TEAMS'!$A$35,\"\")","v":""},{"$f":"IF('PENNANT TEAMS'!$B$5=9,'PENNANT TEAMS'!$E$38,\"\")","v":""},{"$f":"IF('PENNANT TEAMS'!$B$5=9,'PENNANT TEAMS'!$E$37,\"\")","v":""},{"$f":"IF('PENNANT TEAMS'!$B$5=9,'PENNANT TEAMS'!$A$35,\"\")","v":""},{"$f":"IF('PENNANT TEAMS'!$B$5=10,'PENNANT TEAMS'!$E$38,\"\")","v":""},{"$f":"IF('PENNANT TEAMS'!$B$5=10,'PENNANT TEAMS'!$E$37,\"\")","v":""},{"$f":"IF('PENNANT TEAMS'!$B$5=10,'PENNANT TEAMS'!$A$35,\"\")","v":""}]
[{"$f":"IF('PENNANT TEAMS'!$B$5=1,'PENNANT TEAMS'!$B$40,\"\")","v":""},{"$f":"IF('PENNANT TEAMS'!$B$5=1,'PENNANT TEAMS'!$B$39,\"\")","v":0},{"$f":"IF('PENNANT TEAMS'!$B$5=1,'PENNANT TEAMS'!$A$35,\"\")","v":0},{"$f":"IF('PENNANT TEAMS'!$B$5=2,'PENNANT TEAMS'!$B$40,\"\")","v":""},{"$f":"IF('PENNANT TEAMS'!$B$5=2,'PENNANT TEAMS'!$B$39,\"\")","v":""},{"$f":"IF('PENNANT TEAMS'!$B$5=2,'PENNANT TEAMS'!$A$35,\"\")","v":""},{"$f":"IF('PENNANT TEAMS'!$B$5=3,'PENNANT TEAMS'!$B$40,\"\")","v":""},{"$f":"IF('PENNANT TEAMS'!$B$5=3,'PENNANT TEAMS'!$B$39,\"\")","v":""},{"$f":"IF('PENNANT TEAMS'!$B$5=3,'PENNANT TEAMS'!$A$35,\"\")","v":""},{"$f":"IF('PENNANT TEAMS'!$B$5=4,'PENNANT TEAMS'!$B$40,\"\")","v":""},{"$f":"IF('PENNANT TEAMS'!$B$5=4,'PENNANT TEAMS'!$B$39,\"\")","v":""},{"$f":"IF('PENNANT TEAMS'!$B$5=4,'PENNANT TEAMS'!$A$35,\"\")","v":""},{"$f":"IF('PENNANT TEAMS'!$B$5=5,'PENNANT TEAMS'!$B$40,\"\")","v":""},{"$f":"IF('PENNANT TEAMS'!$B$5=5,'PENNANT TEAMS'!$B$39,\"\")","v":""},{"$f":"IF('PENNANT TEAMS'!$B$5=5,'PENNANT TEAMS'!$A$35,\"\")","v":""},{"$f":"IF('PENNANT TEAMS'!$B$5=6,'PENNANT TEAMS'!$B$40,\"\")","v":""},{"$f":"IF('PENNANT TEAMS'!$B$5=6,'PENNANT TEAMS'!$B$39,\"\")","v":""},{"$f":"IF('PENNANT TEAMS'!$B$5=6,'PENNANT TEAMS'!$A$35,\"\")","v":""},{"$f":"IF('PENNANT TEAMS'!$B$5=7,'PENNANT TEAMS'!$B$40,\"\")","v":""},{"$f":"IF('PENNANT TEAMS'!$B$5=7,'PENNANT TEAMS'!$B$39,\"\")","v":""},{"$f":"IF('PENNANT TEAMS'!$B$5=7,'PENNANT TEAMS'!$A$35,\"\")","v":""},{"$f":"IF('PENNANT TEAMS'!$B$5=8,'PENNANT TEAMS'!$B$40,\"\")","v":""},{"$f":"IF('PENNANT TEAMS'!$B$5=8,'PENNANT TEAMS'!$B$39,\"\")","v":""},{"$f":"IF('PENNANT TEAMS'!$B$5=8,'PENNANT TEAMS'!$A$35,\"\")","v":""},{"$f":"IF('PENNANT TEAMS'!$B$5=9,'PENNANT TEAMS'!$B$40,\"\")","v":""},{"$f":"IF('PENNANT TEAMS'!$B$5=9,'PENNANT TEAMS'!$B$39,\"\")","v":""},{"$f":"IF('PENNANT TEAMS'!$B$5=9,'PENNANT TEAMS'!$A$35,\"\")","v":""},{"$f":"IF('PENNANT TEAMS'!$B$5=10,'PENNANT TEAMS'!$B$40,\"\")","v":""},{"$f":"IF('PENNANT TEAMS'!$B$5=10,'PENNANT TEAMS'!$B$39,\"\")","v":""},{"$f":"IF('PENNANT TEAMS'!$B$5=10,'PENNANT TEAMS'!$A$35,\"\")","v":""}]
[{"$f":"IF('PENNANT TEAMS'!$B$5=1,'PENNANT TEAMS'!$C$40,\"\")","v":""},{"$f":"IF('PENNANT TEAMS'!$B$5=1,'PENNANT TEAMS'!$C$39,\"\")","v":0},{"$f":"IF('PENNANT TEAMS'!$B$5=1,'PENNANT TEAMS'!$A$35,\"\")","v":0},{"$f":"IF('PENNANT TEAMS'!$B$5=2,'PENNANT TEAMS'!$C$40,\"\")","v":""},{"$f":"IF('PENNANT TEAMS'!$B$5=2,'PENNANT TEAMS'!$C$39,\"\")","v":""},{"$f":"IF('PENNANT TEAMS'!$B$5=2,'PENNANT TEAMS'!$A$35,\"\")","v":""},{"$f":"IF('PENNANT TEAMS'!$B$5=3,'PENNANT TEAMS'!$C$40,\"\")","v":""},{"$f":"IF('PENNANT TEAMS'!$B$5=3,'PENNANT TEAMS'!$C$39,\"\")","v":""},{"$f":"IF('PENNANT TEAMS'!$B$5=3,'PENNANT TEAMS'!$A$35,\"\")","v":""},{"$f":"IF('PENNANT TEAMS'!$B$5=4,'PENNANT TEAMS'!$C$40,\"\")","v":""},{"$f":"IF('PENNANT TEAMS'!$B$5=4,'PENNANT TEAMS'!$C$39,\"\")","v":""},{"$f":"IF('PENNANT TEAMS'!$B$5=4,'PENNANT TEAMS'!$A$35,\"\")","v":""},{"$f":"IF('PENNANT TEAMS'!$B$5=5,'PENNANT TEAMS'!$C$40,\"\")","v":""},{"$f":"IF('PENNANT TEAMS'!$B$5=5,'PENNANT TEAMS'!$C$39,\"\")","v":""},{"$f":"IF('PENNANT TEAMS'!$B$5=5,'PENNANT TEAMS'!$A$35,\"\")","v":""},{"$f":"IF('PENNANT TEAMS'!$B$5=6,'PENNANT TEAMS'!$C$40,\"\")","v":""},{"$f":"IF('PENNANT TEAMS'!$B$5=6,'PENNANT TEAMS'!$C$39,\"\")","v":""},{"$f":"IF('PENNANT TEAMS'!$B$5=6,'PENNANT TEAMS'!$A$35,\"\")","v":""},{"$f":"IF('PENNANT TEAMS'!$B$5=7,'PENNANT TEAMS'!$C$40,\"\")","v":""},{"$f":"IF('PENNANT TEAMS'!$B$5=7,'PENNANT TEAMS'!$C$39,\"\")","v":""},{"$f":"IF('PENNANT TEAMS'!$B$5=7,'PENNANT TEAMS'!$A$35,\"\")","v":""},{"$f":"IF('PENNANT TEAMS'!$B$5=8,'PENNANT TEAMS'!$C$40,\"\")","v":""},{"$f":"IF('PENNANT TEAMS'!$B$5=8,'PENNANT TEAMS'!$C$39,\"\")","v":""},{"$f":"IF('PENNANT TEAMS'!$B$5=8,'PENNANT TEAMS'!$A$35,\"\")","v":""},{"$f":"IF('PENNANT TEAMS'!$B$5=9,'PENNANT TEAMS'!$C$40,\"\")","v":""},{"$f":"IF('PENNANT TEAMS'!$B$5=9,'PENNANT TEAMS'!$C$39,\"\")","v":""},{"$f":"IF('PENNANT TEAMS'!$B$5=9,'PENNANT TEAMS'!$A$35,\"\")","v":""},{"$f":"IF('PENNANT TEAMS'!$B$5=10,'PENNANT TEAMS'!$C$40,\"\")","v":""},{"$f":"IF('PENNANT TEAMS'!$B$5=10,'PENNANT TEAMS'!$C$39,\"\")","v":""},{"$f":"IF('PENNANT TEAMS'!$B$5=10,'PENNANT TEAMS'!$A$35,\"\")","v":""}]
[{"$f":"IF('PENNANT TEAMS'!$B$5=1,'PENNANT TEAMS'!$D$40,\"\")","v":""},{"$f":"IF('PENNANT TEAMS'!$B$5=1,'PENNANT TEAMS'!$D$39,\"\")","v":0},{"$f":"IF('PENNANT TEAMS'!$B$5=1,'PENNANT TEAMS'!$A$35,\"\")","v":0},{"$f":"IF('PENNANT TEAMS'!$B$5=2,'PENNANT TEAMS'!$D$40,\"\")","v":""},{"$f":"IF('PENNANT TEAMS'!$B$5=2,'PENNANT TEAMS'!$D$39,\"\")","v":""},{"$f":"IF('PENNANT TEAMS'!$B$5=2,'PENNANT TEAMS'!$A$35,\"\")","v":""},{"$f":"IF('PENNANT TEAMS'!$B$5=3,'PENNANT TEAMS'!$D$40,\"\")","v":""},{"$f":"IF('PENNANT TEAMS'!$B$5=3,'PENNANT TEAMS'!$D$39,\"\")","v":""},{"$f":"IF('PENNANT TEAMS'!$B$5=3,'PENNANT TEAMS'!$A$35,\"\")","v":""},{"$f":"IF('PENNANT TEAMS'!$B$5=4,'PENNANT TEAMS'!$D$40,\"\")","v":""},{"$f":"IF('PENNANT TEAMS'!$B$5=4,'PENNANT TEAMS'!$D$39,\"\")","v":""},{"$f":"IF('PENNANT TEAMS'!$B$5=4,'PENNANT TEAMS'!$A$35,\"\")","v":""},{"$f":"IF('PENNANT TEAMS'!$B$5=5,'PENNANT TEAMS'!$D$40,\"\")","v":""},{"$f":"IF('PENNANT TEAMS'!$B$5=5,'PENNANT TEAMS'!$D$39,\"\")","v":""},{"$f":"IF('PENNANT TEAMS'!$B$5=5,'PENNANT TEAMS'!$A$35,\"\")","v":""},{"$f":"IF('PENNANT TEAMS'!$B$5=6,'PENNANT TEAMS'!$D$40,\"\")","v":""},{"$f":"IF('PENNANT TEAMS'!$B$5=6,'PENNANT TEAMS'!$D$39,\"\")","v":""},{"$f":"IF('PENNANT TEAMS'!$B$5=6,'PENNANT TEAMS'!$A$35,\"\")","v":""},{"$f":"IF('PENNANT TEAMS'!$B$5=7,'PENNANT TEAMS'!$D$40,\"\")","v":""},{"$f":"IF('PENNANT TEAMS'!$B$5=7,'PENNANT TEAMS'!$D$39,\"\")","v":""},{"$f":"IF('PENNANT TEAMS'!$B$5=7,'PENNANT TEAMS'!$A$35,\"\")","v":""},{"$f":"IF('PENNANT TEAMS'!$B$5=8,'PENNANT TEAMS'!$D$40,\"\")","v":""},{"$f":"IF('PENNANT TEAMS'!$B$5=8,'PENNANT TEAMS'!$D$39,\"\")","v":""},{"$f":"IF('PENNANT TEAMS'!$B$5=8,'PENNANT TEAMS'!$A$35,\"\")","v":""},{"$f":"IF('PENNANT TEAMS'!$B$5=9,'PENNANT TEAMS'!$D$40,\"\")","v":""},{"$f":"IF('PENNANT TEAMS'!$B$5=9,'PENNANT TEAMS'!$D$39,\"\")","v":""},{"$f":"IF('PENNANT TEAMS'!$B$5=9,'PENNANT TEAMS'!$A$35,\"\")","v":""},{"$f":"IF('PENNANT TEAMS'!$B$5=10,'PENNANT TEAMS'!$D$40,\"\")","v":""},{"$f":"IF('PENNANT TEAMS'!$B$5=10,'PENNANT TEAMS'!$D$39,\"\")","v":""},{"$f":"IF('PENNANT TEAMS'!$B$5=10,'PENNANT TEAMS'!$A$35,\"\")","v":""}]
[{"$f":"IF('PENNANT TEAMS'!$B$5=1,'PENNANT TEAMS'!$E$40,\"\")","v":""},{"$f":"IF('PENNANT TEAMS'!$B$5=1,'PENNANT TEAMS'!$E$39,\"\")","v":0},{"$f":"IF('PENNANT TEAMS'!$B$5=1,'PENNANT TEAMS'!$A$35,\"\")","v":0},{"$f":"IF('PENNANT TEAMS'!$B$5=2,'PENNANT TEAMS'!$E$40,\"\")","v":""},{"$f":"IF('PENNANT TEAMS'!$B$5=2,'PENNANT TEAMS'!$E$39,\"\")","v":""},{"$f":"IF('PENNANT TEAMS'!$B$5=2,'PENNANT TEAMS'!$A$35,\"\")","v":""},{"$f":"IF('PENNANT TEAMS'!$B$5=3,'PENNANT TEAMS'!$E$40,\"\")","v":""},{"$f":"IF('PENNANT TEAMS'!$B$5=3,'PENNANT TEAMS'!$E$39,\"\")","v":""},{"$f":"IF('PENNANT TEAMS'!$B$5=3,'PENNANT TEAMS'!$A$35,\"\")","v":""},{"$f":"IF('PENNANT TEAMS'!$B$5=4,'PENNANT TEAMS'!$E$40,\"\")","v":""},{"$f":"IF('PENNANT TEAMS'!$B$5=4,'PENNANT TEAMS'!$E$39,\"\")","v":""},{"$f":"IF('PENNANT TEAMS'!$B$5=4,'PENNANT TEAMS'!$A$35,\"\")","v":""},{"$f":"IF('PENNANT TEAMS'!$B$5=5,'PENNANT TEAMS'!$E$40,\"\")","v":""},{"$f":"IF('PENNANT TEAMS'!$B$5=5,'PENNANT TEAMS'!$E$39,\"\")","v":""},{"$f":"IF('PENNANT TEAMS'!$B$5=5,'PENNANT TEAMS'!$A$35,\"\")","v":""},{"$f":"IF('PENNANT TEAMS'!$B$5=6,'PENNANT TEAMS'!$E$40,\"\")","v":""},{"$f":"IF('PENNANT TEAMS'!$B$5=6,'PENNANT TEAMS'!$E$39,\"\")","v":""},{"$f":"IF('PENNANT TEAMS'!$B$5=6,'PENNANT TEAMS'!$A$35,\"\")","v":""},{"$f":"IF('PENNANT TEAMS'!$B$5=7,'PENNANT TEAMS'!$E$40,\"\")","v":""},{"$f":"IF('PENNANT TEAMS'!$B$5=7,'PENNANT TEAMS'!$E$39,\"\")","v":""},{"$f":"IF('PENNANT TEAMS'!$B$5=7,'PENNANT TEAMS'!$A$35,\"\")","v":""},{"$f":"IF('PENNANT TEAMS'!$B$5=8,'PENNANT TEAMS'!$E$40,\"\")","v":""},{"$f":"IF('PENNANT TEAMS'!$B$5=8,'PENNANT TEAMS'!$E$39,\"\")","v":""},{"$f":"IF('PENNANT TEAMS'!$B$5=8,'PENNANT TEAMS'!$A$35,\"\")","v":""},{"$f":"IF('PENNANT TEAMS'!$B$5=9,'PENNANT TEAMS'!$E$40,\"\")","v":""},{"$f":"IF('PENNANT TEAMS'!$B$5=9,'PENNANT TEAMS'!$E$39,\"\")","v":""},{"$f":"IF('PENNANT TEAMS'!$B$5=9,'PENNANT TEAMS'!$A$35,\"\")","v":""},{"$f":"IF('PENNANT TEAMS'!$B$5=10,'PENNANT TEAMS'!$E$40,\"\")","v":""},{"$f":"IF('PENNANT TEAMS'!$B$5=10,'PENNANT TEAMS'!$E$39,\"\")","v":""},{"$f":"IF('PENNANT TEAMS'!$B$5=10,'PENNANT TEAMS'!$A$35,\"\")","v":""}]
[{"$f":"IF('PENNANT TEAMS'!$B$5=1,'PENNANT TEAMS'!$B$45,\"\")","v":""},{"$f":"IF('PENNANT TEAMS'!$B$5=1,'PENNANT TEAMS'!$B$44,\"\")","v":0},{"$f":"IF('PENNANT TEAMS'!$B$5=1,'PENNANT TEAMS'!$A$44,\"\")","v":0},{"$f":"IF('PENNANT TEAMS'!$B$5=2,'PENNANT TEAMS'!$B$45,\"\")","v":""},{"$f":"IF('PENNANT TEAMS'!$B$5=2,'PENNANT TEAMS'!$B$44,\"\")","v":""},{"$f":"IF('PENNANT TEAMS'!$B$5=2,'PENNANT TEAMS'!$A$44,\"\")","v":""},{"$f":"IF('PENNANT TEAMS'!$B$5=3,'PENNANT TEAMS'!$B$45,\"\")","v":""},{"$f":"IF('PENNANT TEAMS'!$B$5=3,'PENNANT TEAMS'!$B$44,\"\")","v":""},{"$f":"IF('PENNANT TEAMS'!$B$5=3,'PENNANT TEAMS'!$A$44,\"\")","v":""},{"$f":"IF('PENNANT TEAMS'!$B$5=4,'PENNANT TEAMS'!$B$45,\"\")","v":""},{"$f":"IF('PENNANT TEAMS'!$B$5=4,'PENNANT TEAMS'!$B$44,\"\")","v":""},{"$f":"IF('PENNANT TEAMS'!$B$5=4,'PENNANT TEAMS'!$A$44,\"\")","v":""},{"$f":"IF('PENNANT TEAMS'!$B$5=5,'PENNANT TEAMS'!$B$45,\"\")","v":""},{"$f":"IF('PENNANT TEAMS'!$B$5=5,'PENNANT TEAMS'!$B$44,\"\")","v":""},{"$f":"IF('PENNANT TEAMS'!$B$5=5,'PENNANT TEAMS'!$A$44,\"\")","v":""},{"$f":"IF('PENNANT TEAMS'!$B$5=6,'PENNANT TEAMS'!$B$45,\"\")","v":""},{"$f":"IF('PENNANT TEAMS'!$B$5=6,'PENNANT TEAMS'!$B$44,\"\")","v":""},{"$f":"IF('PENNANT TEAMS'!$B$5=6,'PENNANT TEAMS'!$A$44,\"\")","v":""},{"$f":"IF('PENNANT TEAMS'!$B$5=7,'PENNANT TEAMS'!$B$45,\"\")","v":""},{"$f":"IF('PENNANT TEAMS'!$B$5=7,'PENNANT TEAMS'!$B$44,\"\")","v":""},{"$f":"IF('PENNANT TEAMS'!$B$5=7,'PENNANT TEAMS'!$A$44,\"\")","v":""},{"$f":"IF('PENNANT TEAMS'!$B$5=8,'PENNANT TEAMS'!$B$45,\"\")","v":""},{"$f":"IF('PENNANT TEAMS'!$B$5=8,'PENNANT TEAMS'!$B$44,\"\")","v":""},{"$f":"IF('PENNANT TEAMS'!$B$5=8,'PENNANT TEAMS'!$A$44,\"\")","v":""},{"$f":"IF('PENNANT TEAMS'!$B$5=9,'PENNANT TEAMS'!$B$45,\"\")","v":""},{"$f":"IF('PENNANT TEAMS'!$B$5=9,'PENNANT TEAMS'!$B$44,\"\")","v":""},{"$f":"IF('PENNANT TEAMS'!$B$5=9,'PENNANT TEAMS'!$A$44,\"\")","v":""},{"$f":"IF('PENNANT TEAMS'!$B$5=10,'PENNANT TEAMS'!$B$45,\"\")","v":""},{"$f":"IF('PENNANT TEAMS'!$B$5=10,'PENNANT TEAMS'!$B$44,\"\")","v":""},{"$f":"IF('PENNANT TEAMS'!$B$5=10,'PENNANT TEAMS'!$A$44,\"\")","v":""}]
[{"$f":"IF('PENNANT TEAMS'!$B$5=1,'PENNANT TEAMS'!$C$45,\"\")","v":""},{"$f":"IF('PENNANT TEAMS'!$B$5=1,'PENNANT TEAMS'!$C$44,\"\")","v":0},{"$f":"IF('PENNANT TEAMS'!$B$5=1,'PENNANT TEAMS'!$A$44,\"\")","v":0},{"$f":"IF('PENNANT TEAMS'!$B$5=2,'PENNANT TEAMS'!$C$45,\"\")","v":""},{"$f":"IF('PENNANT TEAMS'!$B$5=2,'PENNANT TEAMS'!$C$44,\"\")","v":""},{"$f":"IF('PENNANT TEAMS'!$B$5=2,'PENNANT TEAMS'!$A$44,\"\")","v":""},{"$f":"IF('PENNANT TEAMS'!$B$5=3,'PENNANT TEAMS'!$C$45,\"\")","v":""},{"$f":"IF('PENNANT TEAMS'!$B$5=3,'PENNANT TEAMS'!$C$44,\"\")","v":""},{"$f":"IF('PENNANT TEAMS'!$B$5=3,'PENNANT TEAMS'!$A$44,\"\")","v":""},{"$f":"IF('PENNANT TEAMS'!$B$5=4,'PENNANT TEAMS'!$C$45,\"\")","v":""},{"$f":"IF('PENNANT TEAMS'!$B$5=4,'PENNANT TEAMS'!$C$44,\"\")","v":""},{"$f":"IF('PENNANT TEAMS'!$B$5=4,'PENNANT TEAMS'!$A$44,\"\")","v":""},{"$f":"IF('PENNANT TEAMS'!$B$5=5,'PENNANT TEAMS'!$C$45,\"\")","v":""},{"$f":"IF('PENNANT TEAMS'!$B$5=5,'PENNANT TEAMS'!$C$44,\"\")","v":""},{"$f":"IF('PENNANT TEAMS'!$B$5=5,'PENNANT TEAMS'!$A$44,\"\")","v":""},{"$f":"IF('PENNANT TEAMS'!$B$5=6,'PENNANT TEAMS'!$C$45,\"\")","v":""},{"$f":"IF('PENNANT TEAMS'!$B$5=6,'PENNANT TEAMS'!$C$44,\"\")","v":""},{"$f":"IF('PENNANT TEAMS'!$B$5=6,'PENNANT TEAMS'!$A$44,\"\")","v":""},{"$f":"IF('PENNANT TEAMS'!$B$5=7,'PENNANT TEAMS'!$C$45,\"\")","v":""},{"$f":"IF('PENNANT TEAMS'!$B$5=7,'PENNANT TEAMS'!$C$44,\"\")","v":""},{"$f":"IF('PENNANT TEAMS'!$B$5=7,'PENNANT TEAMS'!$A$44,\"\")","v":""},{"$f":"IF('PENNANT TEAMS'!$B$5=8,'PENNANT TEAMS'!$C$45,\"\")","v":""},{"$f":"IF('PENNANT TEAMS'!$B$5=8,'PENNANT TEAMS'!$C$44,\"\")","v":""},{"$f":"IF('PENNANT TEAMS'!$B$5=8,'PENNANT TEAMS'!$A$44,\"\")","v":""},{"$f":"IF('PENNANT TEAMS'!$B$5=9,'PENNANT TEAMS'!$C$45,\"\")","v":""},{"$f":"IF('PENNANT TEAMS'!$B$5=9,'PENNANT TEAMS'!$C$44,\"\")","v":""},{"$f":"IF('PENNANT TEAMS'!$B$5=9,'PENNANT TEAMS'!$A$44,\"\")","v":""},{"$f":"IF('PENNANT TEAMS'!$B$5=10,'PENNANT TEAMS'!$C$45,\"\")","v":""},{"$f":"IF('PENNANT TEAMS'!$B$5=10,'PENNANT TEAMS'!$C$44,\"\")","v":""},{"$f":"IF('PENNANT TEAMS'!$B$5=10,'PENNANT TEAMS'!$A$44,\"\")","v":""}]
[{"$f":"IF('PENNANT TEAMS'!$B$5=1,'PENNANT TEAMS'!$D$45,\"\")","v":""},{"$f":"IF('PENNANT TEAMS'!$B$5=1,'PENNANT TEAMS'!$D$44,\"\")","v":0},{"$f":"IF('PENNANT TEAMS'!$B$5=1,'PENNANT TEAMS'!$A$44,\"\")","v":0},{"$f":"IF('PENNANT TEAMS'!$B$5=2,'PENNANT TEAMS'!$D$45,\"\")","v":""},{"$f":"IF('PENNANT TEAMS'!$B$5=2,'PENNANT TEAMS'!$D$44,\"\")","v":""},{"$f":"IF('PENNANT TEAMS'!$B$5=2,'PENNANT TEAMS'!$A$44,\"\")","v":""},{"$f":"IF('PENNANT TEAMS'!$B$5=3,'PENNANT TEAMS'!$D$45,\"\")","v":""},{"$f":"IF('PENNANT TEAMS'!$B$5=3,'PENNANT TEAMS'!$D$44,\"\")","v":""},{"$f":"IF('PENNANT TEAMS'!$B$5=3,'PENNANT TEAMS'!$A$44,\"\")","v":""},{"$f":"IF('PENNANT TEAMS'!$B$5=4,'PENNANT TEAMS'!$D$45,\"\")","v":""},{"$f":"IF('PENNANT TEAMS'!$B$5=4,'PENNANT TEAMS'!$D$44,\"\")","v":""},{"$f":"IF('PENNANT TEAMS'!$B$5=4,'PENNANT TEAMS'!$A$44,\"\")","v":""},{"$f":"IF('PENNANT TEAMS'!$B$5=5,'PENNANT TEAMS'!$D$45,\"\")","v":""},{"$f":"IF('PENNANT TEAMS'!$B$5=5,'PENNANT TEAMS'!$D$44,\"\")","v":""},{"$f":"IF('PENNANT TEAMS'!$B$5=5,'PENNANT TEAMS'!$A$44,\"\")","v":""},{"$f":"IF('PENNANT TEAMS'!$B$5=6,'PENNANT TEAMS'!$D$45,\"\")","v":""},{"$f":"IF('PENNANT TEAMS'!$B$5=6,'PENNANT TEAMS'!$D$44,\"\")","v":""},{"$f":"IF('PENNANT TEAMS'!$B$5=6,'PENNANT TEAMS'!$A$44,\"\")","v":""},{"$f":"IF('PENNANT TEAMS'!$B$5=7,'PENNANT TEAMS'!$D$45,\"\")","v":""},{"$f":"IF('PENNANT TEAMS'!$B$5=7,'PENNANT TEAMS'!$D$44,\"\")","v":""},{"$f":"IF('PENNANT TEAMS'!$B$5=7,'PENNANT TEAMS'!$A$44,\"\")","v":""},{"$f":"IF('PENNANT TEAMS'!$B$5=8,'PENNANT TEAMS'!$D$45,\"\")","v":""},{"$f":"IF('PENNANT TEAMS'!$B$5=8,'PENNANT TEAMS'!$D$44,\"\")","v":""},{"$f":"IF('PENNANT TEAMS'!$B$5=8,'PENNANT TEAMS'!$A$44,\"\")","v":""},{"$f":"IF('PENNANT TEAMS'!$B$5=9,'PENNANT TEAMS'!$D$45,\"\")","v":""},{"$f":"IF('PENNANT TEAMS'!$B$5=9,'PENNANT TEAMS'!$D$44,\"\")","v":""},{"$f":"IF('PENNANT TEAMS'!$B$5=9,'PENNANT TEAMS'!$A$44,\"\")","v":""},{"$f":"IF('PENNANT TEAMS'!$B$5=10,'PENNANT TEAMS'!$D$45,\"\")","v":""},{"$f":"IF('PENNANT TEAMS'!$B$5=10,'PENNANT TEAMS'!$D$44,\"\")","v":""},{"$f":"IF('PENNANT TEAMS'!$B$5=10,'PENNANT TEAMS'!$A$44,\"\")","v":""}]
[{"$f":"IF('PENNANT TEAMS'!$B$5=1,'PENNANT TEAMS'!$E$45,\"\")","v":""},{"$f":"IF('PENNANT TEAMS'!$B$5=1,'PENNANT TEAMS'!$E$44,\"\")","v":0},{"$f":"IF('PENNANT TEAMS'!$B$5=1,'PENNANT TEAMS'!$A$44,\"\")","v":0},{"$f":"IF('PENNANT TEAMS'!$B$5=2,'PENNANT TEAMS'!$E$45,\"\")","v":""},{"$f":"IF('PENNANT TEAMS'!$B$5=2,'PENNANT TEAMS'!$E$44,\"\")","v":""},{"$f":"IF('PENNANT TEAMS'!$B$5=2,'PENNANT TEAMS'!$A$44,\"\")","v":""},{"$f":"IF('PENNANT TEAMS'!$B$5=3,'PENNANT TEAMS'!$E$45,\"\")","v":""},{"$f":"IF('PENNANT TEAMS'!$B$5=3,'PENNANT TEAMS'!$E$44,\"\")","v":""},{"$f":"IF('PENNANT TEAMS'!$B$5=3,'PENNANT TEAMS'!$A$44,\"\")","v":""},{"$f":"IF('PENNANT TEAMS'!$B$5=4,'PENNANT TEAMS'!$E$45,\"\")","v":""},{"$f":"IF('PENNANT TEAMS'!$B$5=4,'PENNANT TEAMS'!$E$44,\"\")","v":""},{"$f":"IF('PENNANT TEAMS'!$B$5=4,'PENNANT TEAMS'!$A$44,\"\")","v":""},{"$f":"IF('PENNANT TEAMS'!$B$5=5,'PENNANT TEAMS'!$E$45,\"\")","v":""},{"$f":"IF('PENNANT TEAMS'!$B$5=5,'PENNANT TEAMS'!$E$44,\"\")","v":""},{"$f":"IF('PENNANT TEAMS'!$B$5=5,'PENNANT TEAMS'!$A$44,\"\")","v":""},{"$f":"IF('PENNANT TEAMS'!$B$5=6,'PENNANT TEAMS'!$E$45,\"\")","v":""},{"$f":"IF('PENNANT TEAMS'!$B$5=6,'PENNANT TEAMS'!$E$44,\"\")","v":""},{"$f":"IF('PENNANT TEAMS'!$B$5=6,'PENNANT TEAMS'!$A$44,\"\")","v":""},{"$f":"IF('PENNANT TEAMS'!$B$5=7,'PENNANT TEAMS'!$E$45,\"\")","v":""},{"$f":"IF('PENNANT TEAMS'!$B$5=7,'PENNANT TEAMS'!$E$44,\"\")","v":""},{"$f":"IF('PENNANT TEAMS'!$B$5=7,'PENNANT TEAMS'!$A$44,\"\")","v":""},{"$f":"IF('PENNANT TEAMS'!$B$5=8,'PENNANT TEAMS'!$E$45,\"\")","v":""},{"$f":"IF('PENNANT TEAMS'!$B$5=8,'PENNANT TEAMS'!$E$44,\"\")","v":""},{"$f":"IF('PENNANT TEAMS'!$B$5=8,'PENNANT TEAMS'!$A$44,\"\")","v":""},{"$f":"IF('PENNANT TEAMS'!$B$5=9,'PENNANT TEAMS'!$E$45,\"\")","v":""},{"$f":"IF('PENNANT TEAMS'!$B$5=9,'PENNANT TEAMS'!$E$44,\"\")","v":""},{"$f":"IF('PENNANT TEAMS'!$B$5=9,'PENNANT TEAMS'!$A$44,\"\")","v":""},{"$f":"IF('PENNANT TEAMS'!$B$5=10,'PENNANT TEAMS'!$E$45,\"\")","v":""},{"$f":"IF('PENNANT TEAMS'!$B$5=10,'PENNANT TEAMS'!$E$44,\"\")","v":""},{"$f":"IF('PENNANT TEAMS'!$B$5=10,'PENNANT TEAMS'!$A$44,\"\")","v":""}]
[{"$f":"IF('PENNANT TEAMS'!$B$5=1,'PENNANT TEAMS'!$B$47,\"\")","v":""},{"$f":"IF('PENNANT TEAMS'!$B$5=1,'PENNANT TEAMS'!$B$46,\"\")","v":0},{"$f":"IF('PENNANT TEAMS'!$B$5=1,'PENNANT TEAMS'!$A$44,\"\")","v":0},{"$f":"IF('PENNANT TEAMS'!$B$5=2,'PENNANT TEAMS'!$B$47,\"\")","v":""},{"$f":"IF('PENNANT TEAMS'!$B$5=2,'PENNANT TEAMS'!$B$46,\"\")","v":""},{"$f":"IF('PENNANT TEAMS'!$B$5=2,'PENNANT TEAMS'!$A$44,\"\")","v":""},{"$f":"IF('PENNANT TEAMS'!$B$5=3,'PENNANT TEAMS'!$B$47,\"\")","v":""},{"$f":"IF('PENNANT TEAMS'!$B$5=3,'PENNANT TEAMS'!$B$46,\"\")","v":""},{"$f":"IF('PENNANT TEAMS'!$B$5=3,'PENNANT TEAMS'!$A$44,\"\")","v":""},{"$f":"IF('PENNANT TEAMS'!$B$5=4,'PENNANT TEAMS'!$B$47,\"\")","v":""},{"$f":"IF('PENNANT TEAMS'!$B$5=4,'PENNANT TEAMS'!$B$46,\"\")","v":""},{"$f":"IF('PENNANT TEAMS'!$B$5=4,'PENNANT TEAMS'!$A$44,\"\")","v":""},{"$f":"IF('PENNANT TEAMS'!$B$5=5,'PENNANT TEAMS'!$B$47,\"\")","v":""},{"$f":"IF('PENNANT TEAMS'!$B$5=5,'PENNANT TEAMS'!$B$46,\"\")","v":""},{"$f":"IF('PENNANT TEAMS'!$B$5=5,'PENNANT TEAMS'!$A$44,\"\")","v":""},{"$f":"IF('PENNANT TEAMS'!$B$5=6,'PENNANT TEAMS'!$B$47,\"\")","v":""},{"$f":"IF('PENNANT TEAMS'!$B$5=6,'PENNANT TEAMS'!$B$46,\"\")","v":""},{"$f":"IF('PENNANT TEAMS'!$B$5=6,'PENNANT TEAMS'!$A$44,\"\")","v":""},{"$f":"IF('PENNANT TEAMS'!$B$5=7,'PENNANT TEAMS'!$B$47,\"\")","v":""},{"$f":"IF('PENNANT TEAMS'!$B$5=7,'PENNANT TEAMS'!$B$46,\"\")","v":""},{"$f":"IF('PENNANT TEAMS'!$B$5=7,'PENNANT TEAMS'!$A$44,\"\")","v":""},{"$f":"IF('PENNANT TEAMS'!$B$5=8,'PENNANT TEAMS'!$B$47,\"\")","v":""},{"$f":"IF('PENNANT TEAMS'!$B$5=8,'PENNANT TEAMS'!$B$46,\"\")","v":""},{"$f":"IF('PENNANT TEAMS'!$B$5=8,'PENNANT TEAMS'!$A$44,\"\")","v":""},{"$f":"IF('PENNANT TEAMS'!$B$5=9,'PENNANT TEAMS'!$B$47,\"\")","v":""},{"$f":"IF('PENNANT TEAMS'!$B$5=9,'PENNANT TEAMS'!$B$46,\"\")","v":""},{"$f":"IF('PENNANT TEAMS'!$B$5=9,'PENNANT TEAMS'!$A$44,\"\")","v":""},{"$f":"IF('PENNANT TEAMS'!$B$5=10,'PENNANT TEAMS'!$B$47,\"\")","v":""},{"$f":"IF('PENNANT TEAMS'!$B$5=10,'PENNANT TEAMS'!$B$46,\"\")","v":""},{"$f":"IF('PENNANT TEAMS'!$B$5=10,'PENNANT TEAMS'!$A$44,\"\")","v":""}]
[{"$f":"IF('PENNANT TEAMS'!$B$5=1,'PENNANT TEAMS'!$C$47,\"\")","v":""},{"$f":"IF('PENNANT TEAMS'!$B$5=1,'PENNANT TEAMS'!$C$46,\"\")","v":0},{"$f":"IF('PENNANT TEAMS'!$B$5=1,'PENNANT TEAMS'!$A$44,\"\")","v":0},{"$f":"IF('PENNANT TEAMS'!$B$5=2,'PENNANT TEAMS'!$C$47,\"\")","v":""},{"$f":"IF('PENNANT TEAMS'!$B$5=2,'PENNANT TEAMS'!$C$46,\"\")","v":""},{"$f":"IF('PENNANT TEAMS'!$B$5=2,'PENNANT TEAMS'!$A$44,\"\")","v":""},{"$f":"IF('PENNANT TEAMS'!$B$5=3,'PENNANT TEAMS'!$C$47,\"\")","v":""},{"$f":"IF('PENNANT TEAMS'!$B$5=3,'PENNANT TEAMS'!$C$46,\"\")","v":""},{"$f":"IF('PENNANT TEAMS'!$B$5=3,'PENNANT TEAMS'!$A$44,\"\")","v":""},{"$f":"IF('PENNANT TEAMS'!$B$5=4,'PENNANT TEAMS'!$C$47,\"\")","v":""},{"$f":"IF('PENNANT TEAMS'!$B$5=4,'PENNANT TEAMS'!$C$46,\"\")","v":""},{"$f":"IF('PENNANT TEAMS'!$B$5=4,'PENNANT TEAMS'!$A$44,\"\")","v":""},{"$f":"IF('PENNANT TEAMS'!$B$5=5,'PENNANT TEAMS'!$C$47,\"\")","v":""},{"$f":"IF('PENNANT TEAMS'!$B$5=5,'PENNANT TEAMS'!$C$46,\"\")","v":""},{"$f":"IF('PENNANT TEAMS'!$B$5=5,'PENNANT TEAMS'!$A$44,\"\")","v":""},{"$f":"IF('PENNANT TEAMS'!$B$5=6,'PENNANT TEAMS'!$C$47,\"\")","v":""},{"$f":"IF('PENNANT TEAMS'!$B$5=6,'PENNANT TEAMS'!$C$46,\"\")","v":""},{"$f":"IF('PENNANT TEAMS'!$B$5=6,'PENNANT TEAMS'!$A$44,\"\")","v":""},{"$f":"IF('PENNANT TEAMS'!$B$5=7,'PENNANT TEAMS'!$C$47,\"\")","v":""},{"$f":"IF('PENNANT TEAMS'!$B$5=7,'PENNANT TEAMS'!$C$46,\"\")","v":""},{"$f":"IF('PENNANT TEAMS'!$B$5=7,'PENNANT TEAMS'!$A$44,\"\")","v":""},{"$f":"IF('PENNANT TEAMS'!$B$5=8,'PENNANT TEAMS'!$C$47,\"\")","v":""},{"$f":"IF('PENNANT TEAMS'!$B$5=8,'PENNANT TEAMS'!$C$46,\"\")","v":""},{"$f":"IF('PENNANT TEAMS'!$B$5=8,'PENNANT TEAMS'!$A$44,\"\")","v":""},{"$f":"IF('PENNANT TEAMS'!$B$5=9,'PENNANT TEAMS'!$C$47,\"\")","v":""},{"$f":"IF('PENNANT TEAMS'!$B$5=9,'PENNANT TEAMS'!$C$46,\"\")","v":""},{"$f":"IF('PENNANT TEAMS'!$B$5=9,'PENNANT TEAMS'!$A$44,\"\")","v":""},{"$f":"IF('PENNANT TEAMS'!$B$5=10,'PENNANT TEAMS'!$C$47,\"\")","v":""},{"$f":"IF('PENNANT TEAMS'!$B$5=10,'PENNANT TEAMS'!$C$46,\"\")","v":""},{"$f":"IF('PENNANT TEAMS'!$B$5=10,'PENNANT TEAMS'!$A$44,\"\")","v":""}]
[{"$f":"IF('PENNANT TEAMS'!$B$5=1,'PENNANT TEAMS'!$D$47,\"\")","v":""},{"$f":"IF('PENNANT TEAMS'!$B$5=1,'PENNANT TEAMS'!$D$46,\"\")","v":0},{"$f":"IF('PENNANT TEAMS'!$B$5=1,'PENNANT TEAMS'!$A$44,\"\")","v":0},{"$f":"IF('PENNANT TEAMS'!$B$5=2,'PENNANT TEAMS'!$D$47,\"\")","v":""},{"$f":"IF('PENNANT TEAMS'!$B$5=2,'PENNANT TEAMS'!$D$46,\"\")","v":""},{"$f":"IF('PENNANT TEAMS'!$B$5=2,'PENNANT TEAMS'!$A$44,\"\")","v":""},{"$f":"IF('PENNANT TEAMS'!$B$5=3,'PENNANT TEAMS'!$D$47,\"\")","v":""},{"$f":"IF('PENNANT TEAMS'!$B$5=3,'PENNANT TEAMS'!$D$46,\"\")","v":""},{"$f":"IF('PENNANT TEAMS'!$B$5=3,'PENNANT TEAMS'!$A$44,\"\")","v":""},{"$f":"IF('PENNANT TEAMS'!$B$5=4,'PENNANT TEAMS'!$D$47,\"\")","v":""},{"$f":"IF('PENNANT TEAMS'!$B$5=4,'PENNANT TEAMS'!$D$46,\"\")","v":""},{"$f":"IF('PENNANT TEAMS'!$B$5=4,'PENNANT TEAMS'!$A$44,\"\")","v":""},{"$f":"IF('PENNANT TEAMS'!$B$5=5,'PENNANT TEAMS'!$D$47,\"\")","v":""},{"$f":"IF('PENNANT TEAMS'!$B$5=5,'PENNANT TEAMS'!$D$46,\"\")","v":""},{"$f":"IF('PENNANT TEAMS'!$B$5=5,'PENNANT TEAMS'!$A$44,\"\")","v":""},{"$f":"IF('PENNANT TEAMS'!$B$5=6,'PENNANT TEAMS'!$D$47,\"\")","v":""},{"$f":"IF('PENNANT TEAMS'!$B$5=6,'PENNANT TEAMS'!$D$46,\"\")","v":""},{"$f":"IF('PENNANT TEAMS'!$B$5=6,'PENNANT TEAMS'!$A$44,\"\")","v":""},{"$f":"IF('PENNANT TEAMS'!$B$5=7,'PENNANT TEAMS'!$D$47,\"\")","v":""},{"$f":"IF('PENNANT TEAMS'!$B$5=7,'PENNANT TEAMS'!$D$46,\"\")","v":""},{"$f":"IF('PENNANT TEAMS'!$B$5=7,'PENNANT TEAMS'!$A$44,\"\")","v":""},{"$f":"IF('PENNANT TEAMS'!$B$5=8,'PENNANT TEAMS'!$D$47,\"\")","v":""},{"$f":"IF('PENNANT TEAMS'!$B$5=8,'PENNANT TEAMS'!$D$46,\"\")","v":""},{"$f":"IF('PENNANT TEAMS'!$B$5=8,'PENNANT TEAMS'!$A$44,\"\")","v":""},{"$f":"IF('PENNANT TEAMS'!$B$5=9,'PENNANT TEAMS'!$D$47,\"\")","v":""},{"$f":"IF('PENNANT TEAMS'!$B$5=9,'PENNANT TEAMS'!$D$46,\"\")","v":""},{"$f":"IF('PENNANT TEAMS'!$B$5=9,'PENNANT TEAMS'!$A$44,\"\")","v":""},{"$f":"IF('PENNANT TEAMS'!$B$5=10,'PENNANT TEAMS'!$D$47,\"\")","v":""},{"$f":"IF('PENNANT TEAMS'!$B$5=10,'PENNANT TEAMS'!$D$46,\"\")","v":""},{"$f":"IF('PENNANT TEAMS'!$B$5=10,'PENNANT TEAMS'!$A$44,\"\")","v":""}]
[{"$f":"IF('PENNANT TEAMS'!$B$5=1,'PENNANT TEAMS'!$E$47,\"\")","v":""},{"$f":"IF('PENNANT TEAMS'!$B$5=1,'PENNANT TEAMS'!$E$46,\"\")","v":0},{"$f":"IF('PENNANT TEAMS'!$B$5=1,'PENNANT TEAMS'!$A$44,\"\")","v":0},{"$f":"IF('PENNANT TEAMS'!$B$5=2,'PENNANT TEAMS'!$E$47,\"\")","v":""},{"$f":"IF('PENNANT TEAMS'!$B$5=2,'PENNANT TEAMS'!$E$46,\"\")","v":""},{"$f":"IF('PENNANT TEAMS'!$B$5=2,'PENNANT TEAMS'!$A$44,\"\")","v":""},{"$f":"IF('PENNANT TEAMS'!$B$5=3,'PENNANT TEAMS'!$E$47,\"\")","v":""},{"$f":"IF('PENNANT TEAMS'!$B$5=3,'PENNANT TEAMS'!$E$46,\"\")","v":""},{"$f":"IF('PENNANT TEAMS'!$B$5=3,'PENNANT TEAMS'!$A$44,\"\")","v":""},{"$f":"IF('PENNANT TEAMS'!$B$5=4,'PENNANT TEAMS'!$E$47,\"\")","v":""},{"$f":"IF('PENNANT TEAMS'!$B$5=4,'PENNANT TEAMS'!$E$46,\"\")","v":""},{"$f":"IF('PENNANT TEAMS'!$B$5=4,'PENNANT TEAMS'!$A$44,\"\")","v":""},{"$f":"IF('PENNANT TEAMS'!$B$5=5,'PENNANT TEAMS'!$E$47,\"\")","v":""},{"$f":"IF('PENNANT TEAMS'!$B$5=5,'PENNANT TEAMS'!$E$46,\"\")","v":""},{"$f":"IF('PENNANT TEAMS'!$B$5=5,'PENNANT TEAMS'!$A$44,\"\")","v":""},{"$f":"IF('PENNANT TEAMS'!$B$5=6,'PENNANT TEAMS'!$E$47,\"\")","v":""},{"$f":"IF('PENNANT TEAMS'!$B$5=6,'PENNANT TEAMS'!$E$46,\"\")","v":""},{"$f":"IF('PENNANT TEAMS'!$B$5=6,'PENNANT TEAMS'!$A$44,\"\")","v":""},{"$f":"IF('PENNANT TEAMS'!$B$5=7,'PENNANT TEAMS'!$E$47,\"\")","v":""},{"$f":"IF('PENNANT TEAMS'!$B$5=7,'PENNANT TEAMS'!$E$46,\"\")","v":""},{"$f":"IF('PENNANT TEAMS'!$B$5=7,'PENNANT TEAMS'!$A$44,\"\")","v":""},{"$f":"IF('PENNANT TEAMS'!$B$5=8,'PENNANT TEAMS'!$E$47,\"\")","v":""},{"$f":"IF('PENNANT TEAMS'!$B$5=8,'PENNANT TEAMS'!$E$46,\"\")","v":""},{"$f":"IF('PENNANT TEAMS'!$B$5=8,'PENNANT TEAMS'!$A$44,\"\")","v":""},{"$f":"IF('PENNANT TEAMS'!$B$5=9,'PENNANT TEAMS'!$E$47,\"\")","v":""},{"$f":"IF('PENNANT TEAMS'!$B$5=9,'PENNANT TEAMS'!$E$46,\"\")","v":""},{"$f":"IF('PENNANT TEAMS'!$B$5=9,'PENNANT TEAMS'!$A$44,\"\")","v":""},{"$f":"IF('PENNANT TEAMS'!$B$5=10,'PENNANT TEAMS'!$E$47,\"\")","v":""},{"$f":"IF('PENNANT TEAMS'!$B$5=10,'PENNANT TEAMS'!$E$46,\"\")","v":""},{"$f":"IF('PENNANT TEAMS'!$B$5=10,'PENNANT TEAMS'!$A$44,\"\")","v":""}]
[{"$f":"IF('PENNANT TEAMS'!$B$5=1,'PENNANT TEAMS'!$B$49,\"\")","v":""},{"$f":"IF('PENNANT TEAMS'!$B$5=1,'PENNANT TEAMS'!$B$48,\"\")","v":0},{"$f":"IF('PENNANT TEAMS'!$B$5=1,'PENNANT TEAMS'!$A$44,\"\")","v":0},{"$f":"IF('PENNANT TEAMS'!$B$5=2,'PENNANT TEAMS'!$B$49,\"\")","v":""},{"$f":"IF('PENNANT TEAMS'!$B$5=2,'PENNANT TEAMS'!$B$48,\"\")","v":""},{"$f":"IF('PENNANT TEAMS'!$B$5=2,'PENNANT TEAMS'!$A$44,\"\")","v":""},{"$f":"IF('PENNANT TEAMS'!$B$5=3,'PENNANT TEAMS'!$B$49,\"\")","v":""},{"$f":"IF('PENNANT TEAMS'!$B$5=3,'PENNANT TEAMS'!$B$48,\"\")","v":""},{"$f":"IF('PENNANT TEAMS'!$B$5=3,'PENNANT TEAMS'!$A$44,\"\")","v":""},{"$f":"IF('PENNANT TEAMS'!$B$5=4,'PENNANT TEAMS'!$B$49,\"\")","v":""},{"$f":"IF('PENNANT TEAMS'!$B$5=4,'PENNANT TEAMS'!$B$48,\"\")","v":""},{"$f":"IF('PENNANT TEAMS'!$B$5=4,'PENNANT TEAMS'!$A$44,\"\")","v":""},{"$f":"IF('PENNANT TEAMS'!$B$5=5,'PENNANT TEAMS'!$B$49,\"\")","v":""},{"$f":"IF('PENNANT TEAMS'!$B$5=5,'PENNANT TEAMS'!$B$48,\"\")","v":""},{"$f":"IF('PENNANT TEAMS'!$B$5=5,'PENNANT TEAMS'!$A$44,\"\")","v":""},{"$f":"IF('PENNANT TEAMS'!$B$5=6,'PENNANT TEAMS'!$B$49,\"\")","v":""},{"$f":"IF('PENNANT TEAMS'!$B$5=6,'PENNANT TEAMS'!$B$48,\"\")","v":""},{"$f":"IF('PENNANT TEAMS'!$B$5=6,'PENNANT TEAMS'!$A$44,\"\")","v":""},{"$f":"IF('PENNANT TEAMS'!$B$5=7,'PENNANT TEAMS'!$B$49,\"\")","v":""},{"$f":"IF('PENNANT TEAMS'!$B$5=7,'PENNANT TEAMS'!$B$48,\"\")","v":""},{"$f":"IF('PENNANT TEAMS'!$B$5=7,'PENNANT TEAMS'!$A$44,\"\")","v":""},{"$f":"IF('PENNANT TEAMS'!$B$5=8,'PENNANT TEAMS'!$B$49,\"\")","v":""},{"$f":"IF('PENNANT TEAMS'!$B$5=8,'PENNANT TEAMS'!$B$48,\"\")","v":""},{"$f":"IF('PENNANT TEAMS'!$B$5=8,'PENNANT TEAMS'!$A$44,\"\")","v":""},{"$f":"IF('PENNANT TEAMS'!$B$5=9,'PENNANT TEAMS'!$B$49,\"\")","v":""},{"$f":"IF('PENNANT TEAMS'!$B$5=9,'PENNANT TEAMS'!$B$48,\"\")","v":""},{"$f":"IF('PENNANT TEAMS'!$B$5=9,'PENNANT TEAMS'!$A$44,\"\")","v":""},{"$f":"IF('PENNANT TEAMS'!$B$5=10,'PENNANT TEAMS'!$B$49,\"\")","v":""},{"$f":"IF('PENNANT TEAMS'!$B$5=10,'PENNANT TEAMS'!$B$48,\"\")","v":""},{"$f":"IF('PENNANT TEAMS'!$B$5=10,'PENNANT TEAMS'!$A$44,\"\")","v":""}]
[{"$f":"IF('PENNANT TEAMS'!$B$5=1,'PENNANT TEAMS'!$C$49,\"\")","v":""},{"$f":"IF('PENNANT TEAMS'!$B$5=1,'PENNANT TEAMS'!$C$48,\"\")","v":0},{"$f":"IF('PENNANT TEAMS'!$B$5=1,'PENNANT TEAMS'!$A$44,\"\")","v":0},{"$f":"IF('PENNANT TEAMS'!$B$5=2,'PENNANT TEAMS'!$C$49,\"\")","v":""},{"$f":"IF('PENNANT TEAMS'!$B$5=2,'PENNANT TEAMS'!$C$48,\"\")","v":""},{"$f":"IF('PENNANT TEAMS'!$B$5=2,'PENNANT TEAMS'!$A$44,\"\")","v":""},{"$f":"IF('PENNANT TEAMS'!$B$5=3,'PENNANT TEAMS'!$C$49,\"\")","v":""},{"$f":"IF('PENNANT TEAMS'!$B$5=3,'PENNANT TEAMS'!$C$48,\"\")","v":""},{"$f":"IF('PENNANT TEAMS'!$B$5=3,'PENNANT TEAMS'!$A$44,\"\")","v":""},{"$f":"IF('PENNANT TEAMS'!$B$5=4,'PENNANT TEAMS'!$C$49,\"\")","v":""},{"$f":"IF('PENNANT TEAMS'!$B$5=4,'PENNANT TEAMS'!$C$48,\"\")","v":""},{"$f":"IF('PENNANT TEAMS'!$B$5=4,'PENNANT TEAMS'!$A$44,\"\")","v":""},{"$f":"IF('PENNANT TEAMS'!$B$5=5,'PENNANT TEAMS'!$C$49,\"\")","v":""},{"$f":"IF('PENNANT TEAMS'!$B$5=5,'PENNANT TEAMS'!$C$48,\"\")","v":""},{"$f":"IF('PENNANT TEAMS'!$B$5=5,'PENNANT TEAMS'!$A$44,\"\")","v":""},{"$f":"IF('PENNANT TEAMS'!$B$5=6,'PENNANT TEAMS'!$C$49,\"\")","v":""},{"$f":"IF('PENNANT TEAMS'!$B$5=6,'PENNANT TEAMS'!$C$48,\"\")","v":""},{"$f":"IF('PENNANT TEAMS'!$B$5=6,'PENNANT TEAMS'!$A$44,\"\")","v":""},{"$f":"IF('PENNANT TEAMS'!$B$5=7,'PENNANT TEAMS'!$C$49,\"\")","v":""},{"$f":"IF('PENNANT TEAMS'!$B$5=7,'PENNANT TEAMS'!$C$48,\"\")","v":""},{"$f":"IF('PENNANT TEAMS'!$B$5=7,'PENNANT TEAMS'!$A$44,\"\")","v":""},{"$f":"IF('PENNANT TEAMS'!$B$5=8,'PENNANT TEAMS'!$C$49,\"\")","v":""},{"$f":"IF('PENNANT TEAMS'!$B$5=8,'PENNANT TEAMS'!$C$48,\"\")","v":""},{"$f":"IF('PENNANT TEAMS'!$B$5=8,'PENNANT TEAMS'!$A$44,\"\")","v":""},{"$f":"IF('PENNANT TEAMS'!$B$5=9,'PENNANT TEAMS'!$C$49,\"\")","v":""},{"$f":"IF('PENNANT TEAMS'!$B$5=9,'PENNANT TEAMS'!$C$48,\"\")","v":""},{"$f":"IF('PENNANT TEAMS'!$B$5=9,'PENNANT TEAMS'!$A$44,\"\")","v":""},{"$f":"IF('PENNANT TEAMS'!$B$5=10,'PENNANT TEAMS'!$C$49,\"\")","v":""},{"$f":"IF('PENNANT TEAMS'!$B$5=10,'PENNANT TEAMS'!$C$48,\"\")","v":""},{"$f":"IF('PENNANT TEAMS'!$B$5=10,'PENNANT TEAMS'!$A$44,\"\")","v":""}]
[{"$f":"IF('PENNANT TEAMS'!$B$5=1,'PENNANT TEAMS'!$D$49,\"\")","v":""},{"$f":"IF('PENNANT TEAMS'!$B$5=1,'PENNANT TEAMS'!$D$48,\"\")","v":0},{"$f":"IF('PENNANT TEAMS'!$B$5=1,'PENNANT TEAMS'!$A$44,\"\")","v":0},{"$f":"IF('PENNANT TEAMS'!$B$5=2,'PENNANT TEAMS'!$D$49,\"\")","v":""},{"$f":"IF('PENNANT TEAMS'!$B$5=2,'PENNANT TEAMS'!$D$48,\"\")","v":""},{"$f":"IF('PENNANT TEAMS'!$B$5=2,'PENNANT TEAMS'!$A$44,\"\")","v":""},{"$f":"IF('PENNANT TEAMS'!$B$5=3,'PENNANT TEAMS'!$D$49,\"\")","v":""},{"$f":"IF('PENNANT TEAMS'!$B$5=3,'PENNANT TEAMS'!$D$48,\"\")","v":""},{"$f":"IF('PENNANT TEAMS'!$B$5=3,'PENNANT TEAMS'!$A$44,\"\")","v":""},{"$f":"IF('PENNANT TEAMS'!$B$5=4,'PENNANT TEAMS'!$D$49,\"\")","v":""},{"$f":"IF('PENNANT TEAMS'!$B$5=4,'PENNANT TEAMS'!$D$48,\"\")","v":""},{"$f":"IF('PENNANT TEAMS'!$B$5=4,'PENNANT TEAMS'!$A$44,\"\")","v":""},{"$f":"IF('PENNANT TEAMS'!$B$5=5,'PENNANT TEAMS'!$D$49,\"\")","v":""},{"$f":"IF('PENNANT TEAMS'!$B$5=5,'PENNANT TEAMS'!$D$48,\"\")","v":""},{"$f":"IF('PENNANT TEAMS'!$B$5=5,'PENNANT TEAMS'!$A$44,\"\")","v":""},{"$f":"IF('PENNANT TEAMS'!$B$5=6,'PENNANT TEAMS'!$D$49,\"\")","v":""},{"$f":"IF('PENNANT TEAMS'!$B$5=6,'PENNANT TEAMS'!$D$48,\"\")","v":""},{"$f":"IF('PENNANT TEAMS'!$B$5=6,'PENNANT TEAMS'!$A$44,\"\")","v":""},{"$f":"IF('PENNANT TEAMS'!$B$5=7,'PENNANT TEAMS'!$D$49,\"\")","v":""},{"$f":"IF('PENNANT TEAMS'!$B$5=7,'PENNANT TEAMS'!$D$48,\"\")","v":""},{"$f":"IF('PENNANT TEAMS'!$B$5=7,'PENNANT TEAMS'!$A$44,\"\")","v":""},{"$f":"IF('PENNANT TEAMS'!$B$5=8,'PENNANT TEAMS'!$D$49,\"\")","v":""},{"$f":"IF('PENNANT TEAMS'!$B$5=8,'PENNANT TEAMS'!$D$48,\"\")","v":""},{"$f":"IF('PENNANT TEAMS'!$B$5=8,'PENNANT TEAMS'!$A$44,\"\")","v":""},{"$f":"IF('PENNANT TEAMS'!$B$5=9,'PENNANT TEAMS'!$D$49,\"\")","v":""},{"$f":"IF('PENNANT TEAMS'!$B$5=9,'PENNANT TEAMS'!$D$48,\"\")","v":""},{"$f":"IF('PENNANT TEAMS'!$B$5=9,'PENNANT TEAMS'!$A$44,\"\")","v":""},{"$f":"IF('PENNANT TEAMS'!$B$5=10,'PENNANT TEAMS'!$D$49,\"\")","v":""},{"$f":"IF('PENNANT TEAMS'!$B$5=10,'PENNANT TEAMS'!$D$48,\"\")","v":""},{"$f":"IF('PENNANT TEAMS'!$B$5=10,'PENNANT TEAMS'!$A$44,\"\")","v":""}]
[{"$f":"IF('PENNANT TEAMS'!$B$5=1,'PENNANT TEAMS'!$E$49,\"\")","v":""},{"$f":"IF('PENNANT TEAMS'!$B$5=1,'PENNANT TEAMS'!$E$48,\"\")","v":0},{"$f":"IF('PENNANT TEAMS'!$B$5=1,'PENNANT TEAMS'!$A$44,\"\")","v":0},{"$f":"IF('PENNANT TEAMS'!$B$5=2,'PENNANT TEAMS'!$E$49,\"\")","v":""},{"$f":"IF('PENNANT TEAMS'!$B$5=2,'PENNANT TEAMS'!$E$48,\"\")","v":""},{"$f":"IF('PENNANT TEAMS'!$B$5=2,'PENNANT TEAMS'!$A$44,\"\")","v":""},{"$f":"IF('PENNANT TEAMS'!$B$5=3,'PENNANT TEAMS'!$E$49,\"\")","v":""},{"$f":"IF('PENNANT TEAMS'!$B$5=3,'PENNANT TEAMS'!$E$48,\"\")","v":""},{"$f":"IF('PENNANT TEAMS'!$B$5=3,'PENNANT TEAMS'!$A$44,\"\")","v":""},{"$f":"IF('PENNANT TEAMS'!$B$5=4,'PENNANT TEAMS'!$E$49,\"\")","v":""},{"$f":"IF('PENNANT TEAMS'!$B$5=4,'PENNANT TEAMS'!$E$48,\"\")","v":""},{"$f":"IF('PENNANT TEAMS'!$B$5=4,'PENNANT TEAMS'!$A$44,\"\")","v":""},{"$f":"IF('PENNANT TEAMS'!$B$5=5,'PENNANT TEAMS'!$E$49,\"\")","v":""},{"$f":"IF('PENNANT TEAMS'!$B$5=5,'PENNANT TEAMS'!$E$48,\"\")","v":""},{"$f":"IF('PENNANT TEAMS'!$B$5=5,'PENNANT TEAMS'!$A$44,\"\")","v":""},{"$f":"IF('PENNANT TEAMS'!$B$5=6,'PENNANT TEAMS'!$E$49,\"\")","v":""},{"$f":"IF('PENNANT TEAMS'!$B$5=6,'PENNANT TEAMS'!$E$48,\"\")","v":""},{"$f":"IF('PENNANT TEAMS'!$B$5=6,'PENNANT TEAMS'!$A$44,\"\")","v":""},{"$f":"IF('PENNANT TEAMS'!$B$5=7,'PENNANT TEAMS'!$E$49,\"\")","v":""},{"$f":"IF('PENNANT TEAMS'!$B$5=7,'PENNANT TEAMS'!$E$48,\"\")","v":""},{"$f":"IF('PENNANT TEAMS'!$B$5=7,'PENNANT TEAMS'!$A$44,\"\")","v":""},{"$f":"IF('PENNANT TEAMS'!$B$5=8,'PENNANT TEAMS'!$E$49,\"\")","v":""},{"$f":"IF('PENNANT TEAMS'!$B$5=8,'PENNANT TEAMS'!$E$48,\"\")","v":""},{"$f":"IF('PENNANT TEAMS'!$B$5=8,'PENNANT TEAMS'!$A$44,\"\")","v":""},{"$f":"IF('PENNANT TEAMS'!$B$5=9,'PENNANT TEAMS'!$E$49,\"\")","v":""},{"$f":"IF('PENNANT TEAMS'!$B$5=9,'PENNANT TEAMS'!$E$48,\"\")","v":""},{"$f":"IF('PENNANT TEAMS'!$B$5=9,'PENNANT TEAMS'!$A$44,\"\")","v":""},{"$f":"IF('PENNANT TEAMS'!$B$5=10,'PENNANT TEAMS'!$E$49,\"\")","v":""},{"$f":"IF('PENNANT TEAMS'!$B$5=10,'PENNANT TEAMS'!$E$48,\"\")","v":""},{"$f":"IF('PENNANT TEAMS'!$B$5=10,'PENNANT TEAMS'!$A$44,\"\")","v":""}]
[{"$f":"IF('PENNANT TEAMS'!$B$5=1,'PENNANT TEAMS'!$B$54,\"\")","v":""},{"$f":"IF('PENNANT TEAMS'!$B$5=1,'PENNANT TEAMS'!$B$53,\"\")","v":0},{"$f":"IF('PENNANT TEAMS'!$B$5=1,'PENNANT TEAMS'!$A$53,\"\")","v":0},{"$f":"IF('PENNANT TEAMS'!$B$5=2,'PENNANT TEAMS'!$B$54,\"\")","v":""},{"$f":"IF('PENNANT TEAMS'!$B$5=2,'PENNANT TEAMS'!$B$53,\"\")","v":""},{"$f":"IF('PENNANT TEAMS'!$B$5=2,'PENNANT TEAMS'!$A$53,\"\")","v":""},{"$f":"IF('PENNANT TEAMS'!$B$5=3,'PENNANT TEAMS'!$B$54,\"\")","v":""},{"$f":"IF('PENNANT TEAMS'!$B$5=3,'PENNANT TEAMS'!$B$53,\"\")","v":""},{"$f":"IF('PENNANT TEAMS'!$B$5=3,'PENNANT TEAMS'!$A$53,\"\")","v":""},{"$f":"IF('PENNANT TEAMS'!$B$5=4,'PENNANT TEAMS'!$B$54,\"\")","v":""},{"$f":"IF('PENNANT TEAMS'!$B$5=4,'PENNANT TEAMS'!$B$53,\"\")","v":""},{"$f":"IF('PENNANT TEAMS'!$B$5=4,'PENNANT TEAMS'!$A$53,\"\")","v":""},{"$f":"IF('PENNANT TEAMS'!$B$5=5,'PENNANT TEAMS'!$B$54,\"\")","v":""},{"$f":"IF('PENNANT TEAMS'!$B$5=5,'PENNANT TEAMS'!$B$53,\"\")","v":""},{"$f":"IF('PENNANT TEAMS'!$B$5=5,'PENNANT TEAMS'!$A$53,\"\")","v":""},{"$f":"IF('PENNANT TEAMS'!$B$5=6,'PENNANT TEAMS'!$B$54,\"\")","v":""},{"$f":"IF('PENNANT TEAMS'!$B$5=6,'PENNANT TEAMS'!$B$53,\"\")","v":""},{"$f":"IF('PENNANT TEAMS'!$B$5=6,'PENNANT TEAMS'!$A$53,\"\")","v":""},{"$f":"IF('PENNANT TEAMS'!$B$5=7,'PENNANT TEAMS'!$B$54,\"\")","v":""},{"$f":"IF('PENNANT TEAMS'!$B$5=7,'PENNANT TEAMS'!$B$53,\"\")","v":""},{"$f":"IF('PENNANT TEAMS'!$B$5=7,'PENNANT TEAMS'!$A$53,\"\")","v":""},{"$f":"IF('PENNANT TEAMS'!$B$5=8,'PENNANT TEAMS'!$B$54,\"\")","v":""},{"$f":"IF('PENNANT TEAMS'!$B$5=8,'PENNANT TEAMS'!$B$53,\"\")","v":""},{"$f":"IF('PENNANT TEAMS'!$B$5=8,'PENNANT TEAMS'!$A$53,\"\")","v":""},{"$f":"IF('PENNANT TEAMS'!$B$5=9,'PENNANT TEAMS'!$B$54,\"\")","v":""},{"$f":"IF('PENNANT TEAMS'!$B$5=9,'PENNANT TEAMS'!$B$53,\"\")","v":""},{"$f":"IF('PENNANT TEAMS'!$B$5=9,'PENNANT TEAMS'!$A$53,\"\")","v":""},{"$f":"IF('PENNANT TEAMS'!$B$5=10,'PENNANT TEAMS'!$B$54,\"\")","v":""},{"$f":"IF('PENNANT TEAMS'!$B$5=10,'PENNANT TEAMS'!$B$53,\"\")","v":""},{"$f":"IF('PENNANT TEAMS'!$B$5=10,'PENNANT TEAMS'!$A$53,\"\")","v":""}]
[{"$f":"IF('PENNANT TEAMS'!$B$5=1,'PENNANT TEAMS'!$C$54,\"\")","v":""},{"$f":"IF('PENNANT TEAMS'!$B$5=1,'PENNANT TEAMS'!$C$53,\"\")","v":0},{"$f":"IF('PENNANT TEAMS'!$B$5=1,'PENNANT TEAMS'!$A$53,\"\")","v":0},{"$f":"IF('PENNANT TEAMS'!$B$5=2,'PENNANT TEAMS'!$C$54,\"\")","v":""},{"$f":"IF('PENNANT TEAMS'!$B$5=2,'PENNANT TEAMS'!$C$53,\"\")","v":""},{"$f":"IF('PENNANT TEAMS'!$B$5=2,'PENNANT TEAMS'!$A$53,\"\")","v":""},{"$f":"IF('PENNANT TEAMS'!$B$5=3,'PENNANT TEAMS'!$C$54,\"\")","v":""},{"$f":"IF('PENNANT TEAMS'!$B$5=3,'PENNANT TEAMS'!$C$53,\"\")","v":""},{"$f":"IF('PENNANT TEAMS'!$B$5=3,'PENNANT TEAMS'!$A$53,\"\")","v":""},{"$f":"IF('PENNANT TEAMS'!$B$5=4,'PENNANT TEAMS'!$C$54,\"\")","v":""},{"$f":"IF('PENNANT TEAMS'!$B$5=4,'PENNANT TEAMS'!$C$53,\"\")","v":""},{"$f":"IF('PENNANT TEAMS'!$B$5=4,'PENNANT TEAMS'!$A$53,\"\")","v":""},{"$f":"IF('PENNANT TEAMS'!$B$5=5,'PENNANT TEAMS'!$C$54,\"\")","v":""},{"$f":"IF('PENNANT TEAMS'!$B$5=5,'PENNANT TEAMS'!$C$53,\"\")","v":""},{"$f":"IF('PENNANT TEAMS'!$B$5=5,'PENNANT TEAMS'!$A$53,\"\")","v":""},{"$f":"IF('PENNANT TEAMS'!$B$5=6,'PENNANT TEAMS'!$C$54,\"\")","v":""},{"$f":"IF('PENNANT TEAMS'!$B$5=6,'PENNANT TEAMS'!$C$53,\"\")","v":""},{"$f":"IF('PENNANT TEAMS'!$B$5=6,'PENNANT TEAMS'!$A$53,\"\")","v":""},{"$f":"IF('PENNANT TEAMS'!$B$5=7,'PENNANT TEAMS'!$C$54,\"\")","v":""},{"$f":"IF('PENNANT TEAMS'!$B$5=7,'PENNANT TEAMS'!$C$53,\"\")","v":""},{"$f":"IF('PENNANT TEAMS'!$B$5=7,'PENNANT TEAMS'!$A$53,\"\")","v":""},{"$f":"IF('PENNANT TEAMS'!$B$5=8,'PENNANT TEAMS'!$C$54,\"\")","v":""},{"$f":"IF('PENNANT TEAMS'!$B$5=8,'PENNANT TEAMS'!$C$53,\"\")","v":""},{"$f":"IF('PENNANT TEAMS'!$B$5=8,'PENNANT TEAMS'!$A$53,\"\")","v":""},{"$f":"IF('PENNANT TEAMS'!$B$5=9,'PENNANT TEAMS'!$C$54,\"\")","v":""},{"$f":"IF('PENNANT TEAMS'!$B$5=9,'PENNANT TEAMS'!$C$53,\"\")","v":""},{"$f":"IF('PENNANT TEAMS'!$B$5=9,'PENNANT TEAMS'!$A$53,\"\")","v":""},{"$f":"IF('PENNANT TEAMS'!$B$5=10,'PENNANT TEAMS'!$C$54,\"\")","v":""},{"$f":"IF('PENNANT TEAMS'!$B$5=10,'PENNANT TEAMS'!$C$53,\"\")","v":""},{"$f":"IF('PENNANT TEAMS'!$B$5=10,'PENNANT TEAMS'!$A$53,\"\")","v":""}]
[{"$f":"IF('PENNANT TEAMS'!$B$5=1,'PENNANT TEAMS'!$D$54,\"\")","v":""},{"$f":"IF('PENNANT TEAMS'!$B$5=1,'PENNANT TEAMS'!$D$53,\"\")","v":0},{"$f":"IF('PENNANT TEAMS'!$B$5=1,'PENNANT TEAMS'!$A$53,\"\")","v":0},{"$f":"IF('PENNANT TEAMS'!$B$5=2,'PENNANT TEAMS'!$D$54,\"\")","v":""},{"$f":"IF('PENNANT TEAMS'!$B$5=2,'PENNANT TEAMS'!$D$53,\"\")","v":""},{"$f":"IF('PENNANT TEAMS'!$B$5=2,'PENNANT TEAMS'!$A$53,\"\")","v":""},{"$f":"IF('PENNANT TEAMS'!$B$5=3,'PENNANT TEAMS'!$D$54,\"\")","v":""},{"$f":"IF('PENNANT TEAMS'!$B$5=3,'PENNANT TEAMS'!$D$53,\"\")","v":""},{"$f":"IF('PENNANT TEAMS'!$B$5=3,'PENNANT TEAMS'!$A$53,\"\")","v":""},{"$f":"IF('PENNANT TEAMS'!$B$5=4,'PENNANT TEAMS'!$D$54,\"\")","v":""},{"$f":"IF('PENNANT TEAMS'!$B$5=4,'PENNANT TEAMS'!$D$53,\"\")","v":""},{"$f":"IF('PENNANT TEAMS'!$B$5=4,'PENNANT TEAMS'!$A$53,\"\")","v":""},{"$f":"IF('PENNANT TEAMS'!$B$5=5,'PENNANT TEAMS'!$D$54,\"\")","v":""},{"$f":"IF('PENNANT TEAMS'!$B$5=5,'PENNANT TEAMS'!$D$53,\"\")","v":""},{"$f":"IF('PENNANT TEAMS'!$B$5=5,'PENNANT TEAMS'!$A$53,\"\")","v":""},{"$f":"IF('PENNANT TEAMS'!$B$5=6,'PENNANT TEAMS'!$D$54,\"\")","v":""},{"$f":"IF('PENNANT TEAMS'!$B$5=6,'PENNANT TEAMS'!$D$53,\"\")","v":""},{"$f":"IF('PENNANT TEAMS'!$B$5=6,'PENNANT TEAMS'!$A$53,\"\")","v":""},{"$f":"IF('PENNANT TEAMS'!$B$5=7,'PENNANT TEAMS'!$D$54,\"\")","v":""},{"$f":"IF('PENNANT TEAMS'!$B$5=7,'PENNANT TEAMS'!$D$53,\"\")","v":""},{"$f":"IF('PENNANT TEAMS'!$B$5=7,'PENNANT TEAMS'!$A$53,\"\")","v":""},{"$f":"IF('PENNANT TEAMS'!$B$5=8,'PENNANT TEAMS'!$D$54,\"\")","v":""},{"$f":"IF('PENNANT TEAMS'!$B$5=8,'PENNANT TEAMS'!$D$53,\"\")","v":""},{"$f":"IF('PENNANT TEAMS'!$B$5=8,'PENNANT TEAMS'!$A$53,\"\")","v":""},{"$f":"IF('PENNANT TEAMS'!$B$5=9,'PENNANT TEAMS'!$D$54,\"\")","v":""},{"$f":"IF('PENNANT TEAMS'!$B$5=9,'PENNANT TEAMS'!$D$53,\"\")","v":""},{"$f":"IF('PENNANT TEAMS'!$B$5=9,'PENNANT TEAMS'!$A$53,\"\")","v":""},{"$f":"IF('PENNANT TEAMS'!$B$5=10,'PENNANT TEAMS'!$D$54,\"\")","v":""},{"$f":"IF('PENNANT TEAMS'!$B$5=10,'PENNANT TEAMS'!$D$53,\"\")","v":""},{"$f":"IF('PENNANT TEAMS'!$B$5=10,'PENNANT TEAMS'!$A$53,\"\")","v":""}]
[{"$f":"IF('PENNANT TEAMS'!$B$5=1,'PENNANT TEAMS'!$E$54,\"\")","v":""},{"$f":"IF('PENNANT TEAMS'!$B$5=1,'PENNANT TEAMS'!$E$53,\"\")","v":0},{"$f":"IF('PENNANT TEAMS'!$B$5=1,'PENNANT TEAMS'!$A$53,\"\")","v":0},{"$f":"IF('PENNANT TEAMS'!$B$5=2,'PENNANT TEAMS'!$E$54,\"\")","v":""},{"$f":"IF('PENNANT TEAMS'!$B$5=2,'PENNANT TEAMS'!$E$53,\"\")","v":""},{"$f":"IF('PENNANT TEAMS'!$B$5=2,'PENNANT TEAMS'!$A$53,\"\")","v":""},{"$f":"IF('PENNANT TEAMS'!$B$5=3,'PENNANT TEAMS'!$E$54,\"\")","v":""},{"$f":"IF('PENNANT TEAMS'!$B$5=3,'PENNANT TEAMS'!$E$53,\"\")","v":""},{"$f":"IF('PENNANT TEAMS'!$B$5=3,'PENNANT TEAMS'!$A$53,\"\")","v":""},{"$f":"IF('PENNANT TEAMS'!$B$5=4,'PENNANT TEAMS'!$E$54,\"\")","v":""},{"$f":"IF('PENNANT TEAMS'!$B$5=4,'PENNANT TEAMS'!$E$53,\"\")","v":""},{"$f":"IF('PENNANT TEAMS'!$B$5=4,'PENNANT TEAMS'!$A$53,\"\")","v":""},{"$f":"IF('PENNANT TEAMS'!$B$5=5,'PENNANT TEAMS'!$E$54,\"\")","v":""},{"$f":"IF('PENNANT TEAMS'!$B$5=5,'PENNANT TEAMS'!$E$53,\"\")","v":""},{"$f":"IF('PENNANT TEAMS'!$B$5=5,'PENNANT TEAMS'!$A$53,\"\")","v":""},{"$f":"IF('PENNANT TEAMS'!$B$5=6,'PENNANT TEAMS'!$E$54,\"\")","v":""},{"$f":"IF('PENNANT TEAMS'!$B$5=6,'PENNANT TEAMS'!$E$53,\"\")","v":""},{"$f":"IF('PENNANT TEAMS'!$B$5=6,'PENNANT TEAMS'!$A$53,\"\")","v":""},{"$f":"IF('PENNANT TEAMS'!$B$5=7,'PENNANT TEAMS'!$E$54,\"\")","v":""},{"$f":"IF('PENNANT TEAMS'!$B$5=7,'PENNANT TEAMS'!$E$53,\"\")","v":""},{"$f":"IF('PENNANT TEAMS'!$B$5=7,'PENNANT TEAMS'!$A$53,\"\")","v":""},{"$f":"IF('PENNANT TEAMS'!$B$5=8,'PENNANT TEAMS'!$E$54,\"\")","v":""},{"$f":"IF('PENNANT TEAMS'!$B$5=8,'PENNANT TEAMS'!$E$53,\"\")","v":""},{"$f":"IF('PENNANT TEAMS'!$B$5=8,'PENNANT TEAMS'!$A$53,\"\")","v":""},{"$f":"IF('PENNANT TEAMS'!$B$5=9,'PENNANT TEAMS'!$E$54,\"\")","v":""},{"$f":"IF('PENNANT TEAMS'!$B$5=9,'PENNANT TEAMS'!$E$53,\"\")","v":""},{"$f":"IF('PENNANT TEAMS'!$B$5=9,'PENNANT TEAMS'!$A$53,\"\")","v":""},{"$f":"IF('PENNANT TEAMS'!$B$5=10,'PENNANT TEAMS'!$E$54,\"\")","v":""},{"$f":"IF('PENNANT TEAMS'!$B$5=10,'PENNANT TEAMS'!$E$53,\"\")","v":""},{"$f":"IF('PENNANT TEAMS'!$B$5=10,'PENNANT TEAMS'!$A$53,\"\")","v":""}]
[{"$f":"IF('PENNANT TEAMS'!$B$5=1,'PENNANT TEAMS'!$B$56,\"\")","v":""},{"$f":"IF('PENNANT TEAMS'!$B$5=1,'PENNANT TEAMS'!$B$55,\"\")","v":0},{"$f":"IF('PENNANT TEAMS'!$B$5=1,'PENNANT TEAMS'!$A$53,\"\")","v":0},{"$f":"IF('PENNANT TEAMS'!$B$5=2,'PENNANT TEAMS'!$B$56,\"\")","v":""},{"$f":"IF('PENNANT TEAMS'!$B$5=2,'PENNANT TEAMS'!$B$55,\"\")","v":""},{"$f":"IF('PENNANT TEAMS'!$B$5=2,'PENNANT TEAMS'!$A$53,\"\")","v":""},{"$f":"IF('PENNANT TEAMS'!$B$5=3,'PENNANT TEAMS'!$B$56,\"\")","v":""},{"$f":"IF('PENNANT TEAMS'!$B$5=3,'PENNANT TEAMS'!$B$55,\"\")","v":""},{"$f":"IF('PENNANT TEAMS'!$B$5=3,'PENNANT TEAMS'!$A$53,\"\")","v":""},{"$f":"IF('PENNANT TEAMS'!$B$5=4,'PENNANT TEAMS'!$B$56,\"\")","v":""},{"$f":"IF('PENNANT TEAMS'!$B$5=4,'PENNANT TEAMS'!$B$55,\"\")","v":""},{"$f":"IF('PENNANT TEAMS'!$B$5=4,'PENNANT TEAMS'!$A$53,\"\")","v":""},{"$f":"IF('PENNANT TEAMS'!$B$5=5,'PENNANT TEAMS'!$B$56,\"\")","v":""},{"$f":"IF('PENNANT TEAMS'!$B$5=5,'PENNANT TEAMS'!$B$55,\"\")","v":""},{"$f":"IF('PENNANT TEAMS'!$B$5=5,'PENNANT TEAMS'!$A$53,\"\")","v":""},{"$f":"IF('PENNANT TEAMS'!$B$5=6,'PENNANT TEAMS'!$B$56,\"\")","v":""},{"$f":"IF('PENNANT TEAMS'!$B$5=6,'PENNANT TEAMS'!$B$55,\"\")","v":""},{"$f":"IF('PENNANT TEAMS'!$B$5=6,'PENNANT TEAMS'!$A$53,\"\")","v":""},{"$f":"IF('PENNANT TEAMS'!$B$5=7,'PENNANT TEAMS'!$B$56,\"\")","v":""},{"$f":"IF('PENNANT TEAMS'!$B$5=7,'PENNANT TEAMS'!$B$55,\"\")","v":""},{"$f":"IF('PENNANT TEAMS'!$B$5=7,'PENNANT TEAMS'!$A$53,\"\")","v":""},{"$f":"IF('PENNANT TEAMS'!$B$5=8,'PENNANT TEAMS'!$B$56,\"\")","v":""},{"$f":"IF('PENNANT TEAMS'!$B$5=8,'PENNANT TEAMS'!$B$55,\"\")","v":""},{"$f":"IF('PENNANT TEAMS'!$B$5=8,'PENNANT TEAMS'!$A$53,\"\")","v":""},{"$f":"IF('PENNANT TEAMS'!$B$5=9,'PENNANT TEAMS'!$B$56,\"\")","v":""},{"$f":"IF('PENNANT TEAMS'!$B$5=9,'PENNANT TEAMS'!$B$55,\"\")","v":""},{"$f":"IF('PENNANT TEAMS'!$B$5=9,'PENNANT TEAMS'!$A$53,\"\")","v":""},{"$f":"IF('PENNANT TEAMS'!$B$5=10,'PENNANT TEAMS'!$B$56,\"\")","v":""},{"$f":"IF('PENNANT TEAMS'!$B$5=10,'PENNANT TEAMS'!$B$55,\"\")","v":""},{"$f":"IF('PENNANT TEAMS'!$B$5=10,'PENNANT TEAMS'!$A$53,\"\")","v":""}]
[{"$f":"IF('PENNANT TEAMS'!$B$5=1,'PENNANT TEAMS'!$C$56,\"\")","v":""},{"$f":"IF('PENNANT TEAMS'!$B$5=1,'PENNANT TEAMS'!$C$55,\"\")","v":0},{"$f":"IF('PENNANT TEAMS'!$B$5=1,'PENNANT TEAMS'!$A$53,\"\")","v":0},{"$f":"IF('PENNANT TEAMS'!$B$5=2,'PENNANT TEAMS'!$C$56,\"\")","v":""},{"$f":"IF('PENNANT TEAMS'!$B$5=2,'PENNANT TEAMS'!$C$55,\"\")","v":""},{"$f":"IF('PENNANT TEAMS'!$B$5=2,'PENNANT TEAMS'!$A$53,\"\")","v":""},{"$f":"IF('PENNANT TEAMS'!$B$5=3,'PENNANT TEAMS'!$C$56,\"\")","v":""},{"$f":"IF('PENNANT TEAMS'!$B$5=3,'PENNANT TEAMS'!$C$55,\"\")","v":""},{"$f":"IF('PENNANT TEAMS'!$B$5=3,'PENNANT TEAMS'!$A$53,\"\")","v":""},{"$f":"IF('PENNANT TEAMS'!$B$5=4,'PENNANT TEAMS'!$C$56,\"\")","v":""},{"$f":"IF('PENNANT TEAMS'!$B$5=4,'PENNANT TEAMS'!$C$55,\"\")","v":""},{"$f":"IF('PENNANT TEAMS'!$B$5=4,'PENNANT TEAMS'!$A$53,\"\")","v":""},{"$f":"IF('PENNANT TEAMS'!$B$5=5,'PENNANT TEAMS'!$C$56,\"\")","v":""},{"$f":"IF('PENNANT TEAMS'!$B$5=5,'PENNANT TEAMS'!$C$55,\"\")","v":""},{"$f":"IF('PENNANT TEAMS'!$B$5=5,'PENNANT TEAMS'!$A$53,\"\")","v":""},{"$f":"IF('PENNANT TEAMS'!$B$5=6,'PENNANT TEAMS'!$C$56,\"\")","v":""},{"$f":"IF('PENNANT TEAMS'!$B$5=6,'PENNANT TEAMS'!$C$55,\"\")","v":""},{"$f":"IF('PENNANT TEAMS'!$B$5=6,'PENNANT TEAMS'!$A$53,\"\")","v":""},{"$f":"IF('PENNANT TEAMS'!$B$5=7,'PENNANT TEAMS'!$C$56,\"\")","v":""},{"$f":"IF('PENNANT TEAMS'!$B$5=7,'PENNANT TEAMS'!$C$55,\"\")","v":""},{"$f":"IF('PENNANT TEAMS'!$B$5=7,'PENNANT TEAMS'!$A$53,\"\")","v":""},{"$f":"IF('PENNANT TEAMS'!$B$5=8,'PENNANT TEAMS'!$C$56,\"\")","v":""},{"$f":"IF('PENNANT TEAMS'!$B$5=8,'PENNANT TEAMS'!$C$55,\"\")","v":""},{"$f":"IF('PENNANT TEAMS'!$B$5=8,'PENNANT TEAMS'!$A$53,\"\")","v":""},{"$f":"IF('PENNANT TEAMS'!$B$5=9,'PENNANT TEAMS'!$C$56,\"\")","v":""},{"$f":"IF('PENNANT TEAMS'!$B$5=9,'PENNANT TEAMS'!$C$55,\"\")","v":""},{"$f":"IF('PENNANT TEAMS'!$B$5=9,'PENNANT TEAMS'!$A$53,\"\")","v":""},{"$f":"IF('PENNANT TEAMS'!$B$5=10,'PENNANT TEAMS'!$C$56,\"\")","v":""},{"$f":"IF('PENNANT TEAMS'!$B$5=10,'PENNANT TEAMS'!$C$55,\"\")","v":""},{"$f":"IF('PENNANT TEAMS'!$B$5=10,'PENNANT TEAMS'!$A$53,\"\")","v":""}]
[{"$f":"IF('PENNANT TEAMS'!$B$5=1,'PENNANT TEAMS'!$D$56,\"\")","v":""},{"$f":"IF('PENNANT TEAMS'!$B$5=1,'PENNANT TEAMS'!$D$55,\"\")","v":0},{"$f":"IF('PENNANT TEAMS'!$B$5=1,'PENNANT TEAMS'!$A$53,\"\")","v":0},{"$f":"IF('PENNANT TEAMS'!$B$5=2,'PENNANT TEAMS'!$D$56,\"\")","v":""},{"$f":"IF('PENNANT TEAMS'!$B$5=2,'PENNANT TEAMS'!$D$55,\"\")","v":""},{"$f":"IF('PENNANT TEAMS'!$B$5=2,'PENNANT TEAMS'!$A$53,\"\")","v":""},{"$f":"IF('PENNANT TEAMS'!$B$5=3,'PENNANT TEAMS'!$D$56,\"\")","v":""},{"$f":"IF('PENNANT TEAMS'!$B$5=3,'PENNANT TEAMS'!$D$55,\"\")","v":""},{"$f":"IF('PENNANT TEAMS'!$B$5=3,'PENNANT TEAMS'!$A$53,\"\")","v":""},{"$f":"IF('PENNANT TEAMS'!$B$5=4,'PENNANT TEAMS'!$D$56,\"\")","v":""},{"$f":"IF('PENNANT TEAMS'!$B$5=4,'PENNANT TEAMS'!$D$55,\"\")","v":""},{"$f":"IF('PENNANT TEAMS'!$B$5=4,'PENNANT TEAMS'!$A$53,\"\")","v":""},{"$f":"IF('PENNANT TEAMS'!$B$5=5,'PENNANT TEAMS'!$D$56,\"\")","v":""},{"$f":"IF('PENNANT TEAMS'!$B$5=5,'PENNANT TEAMS'!$D$55,\"\")","v":""},{"$f":"IF('PENNANT TEAMS'!$B$5=5,'PENNANT TEAMS'!$A$53,\"\")","v":""},{"$f":"IF('PENNANT TEAMS'!$B$5=6,'PENNANT TEAMS'!$D$56,\"\")","v":""},{"$f":"IF('PENNANT TEAMS'!$B$5=6,'PENNANT TEAMS'!$D$55,\"\")","v":""},{"$f":"IF('PENNANT TEAMS'!$B$5=6,'PENNANT TEAMS'!$A$53,\"\")","v":""},{"$f":"IF('PENNANT TEAMS'!$B$5=7,'PENNANT TEAMS'!$D$56,\"\")","v":""},{"$f":"IF('PENNANT TEAMS'!$B$5=7,'PENNANT TEAMS'!$D$55,\"\")","v":""},{"$f":"IF('PENNANT TEAMS'!$B$5=7,'PENNANT TEAMS'!$A$53,\"\")","v":""},{"$f":"IF('PENNANT TEAMS'!$B$5=8,'PENNANT TEAMS'!$D$56,\"\")","v":""},{"$f":"IF('PENNANT TEAMS'!$B$5=8,'PENNANT TEAMS'!$D$55,\"\")","v":""},{"$f":"IF('PENNANT TEAMS'!$B$5=8,'PENNANT TEAMS'!$A$53,\"\")","v":""},{"$f":"IF('PENNANT TEAMS'!$B$5=9,'PENNANT TEAMS'!$D$56,\"\")","v":""},{"$f":"IF('PENNANT TEAMS'!$B$5=9,'PENNANT TEAMS'!$D$55,\"\")","v":""},{"$f":"IF('PENNANT TEAMS'!$B$5=9,'PENNANT TEAMS'!$A$53,\"\")","v":""},{"$f":"IF('PENNANT TEAMS'!$B$5=10,'PENNANT TEAMS'!$D$56,\"\")","v":""},{"$f":"IF('PENNANT TEAMS'!$B$5=10,'PENNANT TEAMS'!$D$55,\"\")","v":""},{"$f":"IF('PENNANT TEAMS'!$B$5=10,'PENNANT TEAMS'!$A$53,\"\")","v":""}]
[{"$f":"IF('PENNANT TEAMS'!$B$5=1,'PENNANT TEAMS'!$E$56,\"\")","v":""},{"$f":"IF('PENNANT TEAMS'!$B$5=1,'PENNANT TEAMS'!$E$55,\"\")","v":0},{"$f":"IF('PENNANT TEAMS'!$B$5=1,'PENNANT TEAMS'!$A$53,\"\")","v":0},{"$f":"IF('PENNANT TEAMS'!$B$5=2,'PENNANT TEAMS'!$E$56,\"\")","v":""},{"$f":"IF('PENNANT TEAMS'!$B$5=2,'PENNANT TEAMS'!$E$55,\"\")","v":""},{"$f":"IF('PENNANT TEAMS'!$B$5=2,'PENNANT TEAMS'!$A$53,\"\")","v":""},{"$f":"IF('PENNANT TEAMS'!$B$5=3,'PENNANT TEAMS'!$E$56,\"\")","v":""},{"$f":"IF('PENNANT TEAMS'!$B$5=3,'PENNANT TEAMS'!$E$55,\"\")","v":""},{"$f":"IF('PENNANT TEAMS'!$B$5=3,'PENNANT TEAMS'!$A$53,\"\")","v":""},{"$f":"IF('PENNANT TEAMS'!$B$5=4,'PENNANT TEAMS'!$E$56,\"\")","v":""},{"$f":"IF('PENNANT TEAMS'!$B$5=4,'PENNANT TEAMS'!$E$55,\"\")","v":""},{"$f":"IF('PENNANT TEAMS'!$B$5=4,'PENNANT TEAMS'!$A$53,\"\")","v":""},{"$f":"IF('PENNANT TEAMS'!$B$5=5,'PENNANT TEAMS'!$E$56,\"\")","v":""},{"$f":"IF('PENNANT TEAMS'!$B$5=5,'PENNANT TEAMS'!$E$55,\"\")","v":""},{"$f":"IF('PENNANT TEAMS'!$B$5=5,'PENNANT TEAMS'!$A$53,\"\")","v":""},{"$f":"IF('PENNANT TEAMS'!$B$5=6,'PENNANT TEAMS'!$E$56,\"\")","v":""},{"$f":"IF('PENNANT TEAMS'!$B$5=6,'PENNANT TEAMS'!$E$55,\"\")","v":""},{"$f":"IF('PENNANT TEAMS'!$B$5=6,'PENNANT TEAMS'!$A$53,\"\")","v":""},{"$f":"IF('PENNANT TEAMS'!$B$5=7,'PENNANT TEAMS'!$E$56,\"\")","v":""},{"$f":"IF('PENNANT TEAMS'!$B$5=7,'PENNANT TEAMS'!$E$55,\"\")","v":""},{"$f":"IF('PENNANT TEAMS'!$B$5=7,'PENNANT TEAMS'!$A$53,\"\")","v":""},{"$f":"IF('PENNANT TEAMS'!$B$5=8,'PENNANT TEAMS'!$E$56,\"\")","v":""},{"$f":"IF('PENNANT TEAMS'!$B$5=8,'PENNANT TEAMS'!$E$55,\"\")","v":""},{"$f":"IF('PENNANT TEAMS'!$B$5=8,'PENNANT TEAMS'!$A$53,\"\")","v":""},{"$f":"IF('PENNANT TEAMS'!$B$5=9,'PENNANT TEAMS'!$E$56,\"\")","v":""},{"$f":"IF('PENNANT TEAMS'!$B$5=9,'PENNANT TEAMS'!$E$55,\"\")","v":""},{"$f":"IF('PENNANT TEAMS'!$B$5=9,'PENNANT TEAMS'!$A$53,\"\")","v":""},{"$f":"IF('PENNANT TEAMS'!$B$5=10,'PENNANT TEAMS'!$E$56,\"\")","v":""},{"$f":"IF('PENNANT TEAMS'!$B$5=10,'PENNANT TEAMS'!$E$55,\"\")","v":""},{"$f":"IF('PENNANT TEAMS'!$B$5=10,'PENNANT TEAMS'!$A$53,\"\")","v":""}]
[{"$f":"IF('PENNANT TEAMS'!$B$5=1,'PENNANT TEAMS'!$B$58,\"\")","v":""},{"$f":"IF('PENNANT TEAMS'!$B$5=1,'PENNANT TEAMS'!$B$57,\"\")","v":0},{"$f":"IF('PENNANT TEAMS'!$B$5=1,'PENNANT TEAMS'!$A$53,\"\")","v":0},{"$f":"IF('PENNANT TEAMS'!$B$5=2,'PENNANT TEAMS'!$B$58,\"\")","v":""},{"$f":"IF('PENNANT TEAMS'!$B$5=2,'PENNANT TEAMS'!$B$57,\"\")","v":""},{"$f":"IF('PENNANT TEAMS'!$B$5=2,'PENNANT TEAMS'!$A$53,\"\")","v":""},{"$f":"IF('PENNANT TEAMS'!$B$5=3,'PENNANT TEAMS'!$B$58,\"\")","v":""},{"$f":"IF('PENNANT TEAMS'!$B$5=3,'PENNANT TEAMS'!$B$57,\"\")","v":""},{"$f":"IF('PENNANT TEAMS'!$B$5=3,'PENNANT TEAMS'!$A$53,\"\")","v":""},{"$f":"IF('PENNANT TEAMS'!$B$5=4,'PENNANT TEAMS'!$B$58,\"\")","v":""},{"$f":"IF('PENNANT TEAMS'!$B$5=4,'PENNANT TEAMS'!$B$57,\"\")","v":""},{"$f":"IF('PENNANT TEAMS'!$B$5=4,'PENNANT TEAMS'!$A$53,\"\")","v":""},{"$f":"IF('PENNANT TEAMS'!$B$5=5,'PENNANT TEAMS'!$B$58,\"\")","v":""},{"$f":"IF('PENNANT TEAMS'!$B$5=5,'PENNANT TEAMS'!$B$57,\"\")","v":""},{"$f":"IF('PENNANT TEAMS'!$B$5=5,'PENNANT TEAMS'!$A$53,\"\")","v":""},{"$f":"IF('PENNANT TEAMS'!$B$5=6,'PENNANT TEAMS'!$B$58,\"\")","v":""},{"$f":"IF('PENNANT TEAMS'!$B$5=6,'PENNANT TEAMS'!$B$57,\"\")","v":""},{"$f":"IF('PENNANT TEAMS'!$B$5=6,'PENNANT TEAMS'!$A$53,\"\")","v":""},{"$f":"IF('PENNANT TEAMS'!$B$5=7,'PENNANT TEAMS'!$B$58,\"\")","v":""},{"$f":"IF('PENNANT TEAMS'!$B$5=7,'PENNANT TEAMS'!$B$57,\"\")","v":""},{"$f":"IF('PENNANT TEAMS'!$B$5=7,'PENNANT TEAMS'!$A$53,\"\")","v":""},{"$f":"IF('PENNANT TEAMS'!$B$5=8,'PENNANT TEAMS'!$B$58,\"\")","v":""},{"$f":"IF('PENNANT TEAMS'!$B$5=8,'PENNANT TEAMS'!$B$57,\"\")","v":""},{"$f":"IF('PENNANT TEAMS'!$B$5=8,'PENNANT TEAMS'!$A$53,\"\")","v":""},{"$f":"IF('PENNANT TEAMS'!$B$5=9,'PENNANT TEAMS'!$B$58,\"\")","v":""},{"$f":"IF('PENNANT TEAMS'!$B$5=9,'PENNANT TEAMS'!$B$57,\"\")","v":""},{"$f":"IF('PENNANT TEAMS'!$B$5=9,'PENNANT TEAMS'!$A$53,\"\")","v":""},{"$f":"IF('PENNANT TEAMS'!$B$5=10,'PENNANT TEAMS'!$B$58,\"\")","v":""},{"$f":"IF('PENNANT TEAMS'!$B$5=10,'PENNANT TEAMS'!$B$57,\"\")","v":""},{"$f":"IF('PENNANT TEAMS'!$B$5=10,'PENNANT TEAMS'!$A$53,\"\")","v":""}]
[{"$f":"IF('PENNANT TEAMS'!$B$5=1,'PENNANT TEAMS'!$C$58,\"\")","v":""},{"$f":"IF('PENNANT TEAMS'!$B$5=1,'PENNANT TEAMS'!$C$57,\"\")","v":0},{"$f":"IF('PENNANT TEAMS'!$B$5=1,'PENNANT TEAMS'!$A$53,\"\")","v":0},{"$f":"IF('PENNANT TEAMS'!$B$5=2,'PENNANT TEAMS'!$C$58,\"\")","v":""},{"$f":"IF('PENNANT TEAMS'!$B$5=2,'PENNANT TEAMS'!$C$57,\"\")","v":""},{"$f":"IF('PENNANT TEAMS'!$B$5=2,'PENNANT TEAMS'!$A$53,\"\")","v":""},{"$f":"IF('PENNANT TEAMS'!$B$5=3,'PENNANT TEAMS'!$C$58,\"\")","v":""},{"$f":"IF('PENNANT TEAMS'!$B$5=3,'PENNANT TEAMS'!$C$57,\"\")","v":""},{"$f":"IF('PENNANT TEAMS'!$B$5=3,'PENNANT TEAMS'!$A$53,\"\")","v":""},{"$f":"IF('PENNANT TEAMS'!$B$5=4,'PENNANT TEAMS'!$C$58,\"\")","v":""},{"$f":"IF('PENNANT TEAMS'!$B$5=4,'PENNANT TEAMS'!$C$57,\"\")","v":""},{"$f":"IF('PENNANT TEAMS'!$B$5=4,'PENNANT TEAMS'!$A$53,\"\")","v":""},{"$f":"IF('PENNANT TEAMS'!$B$5=5,'PENNANT TEAMS'!$C$58,\"\")","v":""},{"$f":"IF('PENNANT TEAMS'!$B$5=5,'PENNANT TEAMS'!$C$57,\"\")","v":""},{"$f":"IF('PENNANT TEAMS'!$B$5=5,'PENNANT TEAMS'!$A$53,\"\")","v":""},{"$f":"IF('PENNANT TEAMS'!$B$5=6,'PENNANT TEAMS'!$C$58,\"\")","v":""},{"$f":"IF('PENNANT TEAMS'!$B$5=6,'PENNANT TEAMS'!$C$57,\"\")","v":""},{"$f":"IF('PENNANT TEAMS'!$B$5=6,'PENNANT TEAMS'!$A$53,\"\")","v":""},{"$f":"IF('PENNANT TEAMS'!$B$5=7,'PENNANT TEAMS'!$C$58,\"\")","v":""},{"$f":"IF('PENNANT TEAMS'!$B$5=7,'PENNANT TEAMS'!$C$57,\"\")","v":""},{"$f":"IF('PENNANT TEAMS'!$B$5=7,'PENNANT TEAMS'!$A$53,\"\")","v":""},{"$f":"IF('PENNANT TEAMS'!$B$5=8,'PENNANT TEAMS'!$C$58,\"\")","v":""},{"$f":"IF('PENNANT TEAMS'!$B$5=8,'PENNANT TEAMS'!$C$57,\"\")","v":""},{"$f":"IF('PENNANT TEAMS'!$B$5=8,'PENNANT TEAMS'!$A$53,\"\")","v":""},{"$f":"IF('PENNANT TEAMS'!$B$5=9,'PENNANT TEAMS'!$C$58,\"\")","v":""},{"$f":"IF('PENNANT TEAMS'!$B$5=9,'PENNANT TEAMS'!$C$57,\"\")","v":""},{"$f":"IF('PENNANT TEAMS'!$B$5=9,'PENNANT TEAMS'!$A$53,\"\")","v":""},{"$f":"IF('PENNANT TEAMS'!$B$5=10,'PENNANT TEAMS'!$C$58,\"\")","v":""},{"$f":"IF('PENNANT TEAMS'!$B$5=10,'PENNANT TEAMS'!$C$57,\"\")","v":""},{"$f":"IF('PENNANT TEAMS'!$B$5=10,'PENNANT TEAMS'!$A$53,\"\")","v":""}]
[{"$f":"IF('PENNANT TEAMS'!$B$5=1,'PENNANT TEAMS'!$D$58,\"\")","v":""},{"$f":"IF('PENNANT TEAMS'!$B$5=1,'PENNANT TEAMS'!$D$57,\"\")","v":0},{"$f":"IF('PENNANT TEAMS'!$B$5=1,'PENNANT TEAMS'!$A$53,\"\")","v":0},{"$f":"IF('PENNANT TEAMS'!$B$5=2,'PENNANT TEAMS'!$D$58,\"\")","v":""},{"$f":"IF('PENNANT TEAMS'!$B$5=2,'PENNANT TEAMS'!$D$57,\"\")","v":""},{"$f":"IF('PENNANT TEAMS'!$B$5=2,'PENNANT TEAMS'!$A$53,\"\")","v":""},{"$f":"IF('PENNANT TEAMS'!$B$5=3,'PENNANT TEAMS'!$D$58,\"\")","v":""},{"$f":"IF('PENNANT TEAMS'!$B$5=3,'PENNANT TEAMS'!$D$57,\"\")","v":""},{"$f":"IF('PENNANT TEAMS'!$B$5=3,'PENNANT TEAMS'!$A$53,\"\")","v":""},{"$f":"IF('PENNANT TEAMS'!$B$5=4,'PENNANT TEAMS'!$D$58,\"\")","v":""},{"$f":"IF('PENNANT TEAMS'!$B$5=4,'PENNANT TEAMS'!$D$57,\"\")","v":""},{"$f":"IF('PENNANT TEAMS'!$B$5=4,'PENNANT TEAMS'!$A$53,\"\")","v":""},{"$f":"IF('PENNANT TEAMS'!$B$5=5,'PENNANT TEAMS'!$D$58,\"\")","v":""},{"$f":"IF('PENNANT TEAMS'!$B$5=5,'PENNANT TEAMS'!$D$57,\"\")","v":""},{"$f":"IF('PENNANT TEAMS'!$B$5=5,'PENNANT TEAMS'!$A$53,\"\")","v":""},{"$f":"IF('PENNANT TEAMS'!$B$5=6,'PENNANT TEAMS'!$D$58,\"\")","v":""},{"$f":"IF('PENNANT TEAMS'!$B$5=6,'PENNANT TEAMS'!$D$57,\"\")","v":""},{"$f":"IF('PENNANT TEAMS'!$B$5=6,'PENNANT TEAMS'!$A$53,\"\")","v":""},{"$f":"IF('PENNANT TEAMS'!$B$5=7,'PENNANT TEAMS'!$D$58,\"\")","v":""},{"$f":"IF('PENNANT TEAMS'!$B$5=7,'PENNANT TEAMS'!$D$57,\"\")","v":""},{"$f":"IF('PENNANT TEAMS'!$B$5=7,'PENNANT TEAMS'!$A$53,\"\")","v":""},{"$f":"IF('PENNANT TEAMS'!$B$5=8,'PENNANT TEAMS'!$D$58,\"\")","v":""},{"$f":"IF('PENNANT TEAMS'!$B$5=8,'PENNANT TEAMS'!$D$57,\"\")","v":""},{"$f":"IF('PENNANT TEAMS'!$B$5=8,'PENNANT TEAMS'!$A$53,\"\")","v":""},{"$f":"IF('PENNANT TEAMS'!$B$5=9,'PENNANT TEAMS'!$D$58,\"\")","v":""},{"$f":"IF('PENNANT TEAMS'!$B$5=9,'PENNANT TEAMS'!$D$57,\"\")","v":""},{"$f":"IF('PENNANT TEAMS'!$B$5=9,'PENNANT TEAMS'!$A$53,\"\")","v":""},{"$f":"IF('PENNANT TEAMS'!$B$5=10,'PENNANT TEAMS'!$D$58,\"\")","v":""},{"$f":"IF('PENNANT TEAMS'!$B$5=10,'PENNANT TEAMS'!$D$57,\"\")","v":""},{"$f":"IF('PENNANT TEAMS'!$B$5=10,'PENNANT TEAMS'!$A$53,\"\")","v":""}]
[{"$f":"IF('PENNANT TEAMS'!$B$5=1,'PENNANT TEAMS'!$E$58,\"\")","v":""},{"$f":"IF('PENNANT TEAMS'!$B$5=1,'PENNANT TEAMS'!$E$57,\"\")","v":0},{"$f":"IF('PENNANT TEAMS'!$B$5=1,'PENNANT TEAMS'!$A$53,\"\")","v":0},{"$f":"IF('PENNANT TEAMS'!$B$5=2,'PENNANT TEAMS'!$E$58,\"\")","v":""},{"$f":"IF('PENNANT TEAMS'!$B$5=2,'PENNANT TEAMS'!$E$57,\"\")","v":""},{"$f":"IF('PENNANT TEAMS'!$B$5=2,'PENNANT TEAMS'!$A$53,\"\")","v":""},{"$f":"IF('PENNANT TEAMS'!$B$5=3,'PENNANT TEAMS'!$E$58,\"\")","v":""},{"$f":"IF('PENNANT TEAMS'!$B$5=3,'PENNANT TEAMS'!$E$57,\"\")","v":""},{"$f":"IF('PENNANT TEAMS'!$B$5=3,'PENNANT TEAMS'!$A$53,\"\")","v":""},{"$f":"IF('PENNANT TEAMS'!$B$5=4,'PENNANT TEAMS'!$E$58,\"\")","v":""},{"$f":"IF('PENNANT TEAMS'!$B$5=4,'PENNANT TEAMS'!$E$57,\"\")","v":""},{"$f":"IF('PENNANT TEAMS'!$B$5=4,'PENNANT TEAMS'!$A$53,\"\")","v":""},{"$f":"IF('PENNANT TEAMS'!$B$5=5,'PENNANT TEAMS'!$E$58,\"\")","v":""},{"$f":"IF('PENNANT TEAMS'!$B$5=5,'PENNANT TEAMS'!$E$57,\"\")","v":""},{"$f":"IF('PENNANT TEAMS'!$B$5=5,'PENNANT TEAMS'!$A$53,\"\")","v":""},{"$f":"IF('PENNANT TEAMS'!$B$5=6,'PENNANT TEAMS'!$E$58,\"\")","v":""},{"$f":"IF('PENNANT TEAMS'!$B$5=6,'PENNANT TEAMS'!$E$57,\"\")","v":""},{"$f":"IF('PENNANT TEAMS'!$B$5=6,'PENNANT TEAMS'!$A$53,\"\")","v":""},{"$f":"IF('PENNANT TEAMS'!$B$5=7,'PENNANT TEAMS'!$E$58,\"\")","v":""},{"$f":"IF('PENNANT TEAMS'!$B$5=7,'PENNANT TEAMS'!$E$57,\"\")","v":""},{"$f":"IF('PENNANT TEAMS'!$B$5=7,'PENNANT TEAMS'!$A$53,\"\")","v":""},{"$f":"IF('PENNANT TEAMS'!$B$5=8,'PENNANT TEAMS'!$E$58,\"\")","v":""},{"$f":"IF('PENNANT TEAMS'!$B$5=8,'PENNANT TEAMS'!$E$57,\"\")","v":""},{"$f":"IF('PENNANT TEAMS'!$B$5=8,'PENNANT TEAMS'!$A$53,\"\")","v":""},{"$f":"IF('PENNANT TEAMS'!$B$5=9,'PENNANT TEAMS'!$E$58,\"\")","v":""},{"$f":"IF('PENNANT TEAMS'!$B$5=9,'PENNANT TEAMS'!$E$57,\"\")","v":""},{"$f":"IF('PENNANT TEAMS'!$B$5=9,'PENNANT TEAMS'!$A$53,\"\")","v":""},{"$f":"IF('PENNANT TEAMS'!$B$5=10,'PENNANT TEAMS'!$E$58,\"\")","v":""},{"$f":"IF('PENNANT TEAMS'!$B$5=10,'PENNANT TEAMS'!$E$57,\"\")","v":""},{"$f":"IF('PENNANT TEAMS'!$B$5=10,'PENNANT TEAMS'!$A$53,\"\")","v":""}]
[{"$f":"IF('PENNANT TEAMS'!$B$5=1,'PENNANT TEAMS'!$B$63,\"\")","v":""},{"$f":"IF('PENNANT TEAMS'!$B$5=1,'PENNANT TEAMS'!$B$62,\"\")","v":0},{"$f":"IF('PENNANT TEAMS'!$B$5=1,'PENNANT TEAMS'!$A$62,\"\")","v":0},{"$f":"IF('PENNANT TEAMS'!$B$5=2,'PENNANT TEAMS'!$B$63,\"\")","v":""},{"$f":"IF('PENNANT TEAMS'!$B$5=2,'PENNANT TEAMS'!$B$62,\"\")","v":""},{"$f":"IF('PENNANT TEAMS'!$B$5=2,'PENNANT TEAMS'!$A$62,\"\")","v":""},{"$f":"IF('PENNANT TEAMS'!$B$5=3,'PENNANT TEAMS'!$B$63,\"\")","v":""},{"$f":"IF('PENNANT TEAMS'!$B$5=3,'PENNANT TEAMS'!$B$62,\"\")","v":""},{"$f":"IF('PENNANT TEAMS'!$B$5=3,'PENNANT TEAMS'!$A$62,\"\")","v":""},{"$f":"IF('PENNANT TEAMS'!$B$5=4,'PENNANT TEAMS'!$B$63,\"\")","v":""},{"$f":"IF('PENNANT TEAMS'!$B$5=4,'PENNANT TEAMS'!$B$62,\"\")","v":""},{"$f":"IF('PENNANT TEAMS'!$B$5=4,'PENNANT TEAMS'!$A$62,\"\")","v":""},{"$f":"IF('PENNANT TEAMS'!$B$5=5,'PENNANT TEAMS'!$B$63,\"\")","v":""},{"$f":"IF('PENNANT TEAMS'!$B$5=5,'PENNANT TEAMS'!$B$62,\"\")","v":""},{"$f":"IF('PENNANT TEAMS'!$B$5=5,'PENNANT TEAMS'!$A$62,\"\")","v":""},{"$f":"IF('PENNANT TEAMS'!$B$5=6,'PENNANT TEAMS'!$B$63,\"\")","v":""},{"$f":"IF('PENNANT TEAMS'!$B$5=6,'PENNANT TEAMS'!$B$62,\"\")","v":""},{"$f":"IF('PENNANT TEAMS'!$B$5=6,'PENNANT TEAMS'!$A$62,\"\")","v":""},{"$f":"IF('PENNANT TEAMS'!$B$5=7,'PENNANT TEAMS'!$B$63,\"\")","v":""},{"$f":"IF('PENNANT TEAMS'!$B$5=7,'PENNANT TEAMS'!$B$62,\"\")","v":""},{"$f":"IF('PENNANT TEAMS'!$B$5=7,'PENNANT TEAMS'!$A$62,\"\")","v":""},{"$f":"IF('PENNANT TEAMS'!$B$5=8,'PENNANT TEAMS'!$B$63,\"\")","v":""},{"$f":"IF('PENNANT TEAMS'!$B$5=8,'PENNANT TEAMS'!$B$62,\"\")","v":""},{"$f":"IF('PENNANT TEAMS'!$B$5=8,'PENNANT TEAMS'!$A$62,\"\")","v":""},{"$f":"IF('PENNANT TEAMS'!$B$5=9,'PENNANT TEAMS'!$B$63,\"\")","v":""},{"$f":"IF('PENNANT TEAMS'!$B$5=9,'PENNANT TEAMS'!$B$62,\"\")","v":""},{"$f":"IF('PENNANT TEAMS'!$B$5=9,'PENNANT TEAMS'!$A$62,\"\")","v":""},{"$f":"IF('PENNANT TEAMS'!$B$5=10,'PENNANT TEAMS'!$B$63,\"\")","v":""},{"$f":"IF('PENNANT TEAMS'!$B$5=10,'PENNANT TEAMS'!$B$62,\"\")","v":""},{"$f":"IF('PENNANT TEAMS'!$B$5=10,'PENNANT TEAMS'!$A$62,\"\")","v":""}]
[{"$f":"IF('PENNANT TEAMS'!$B$5=1,'PENNANT TEAMS'!$C$63,\"\")","v":""},{"$f":"IF('PENNANT TEAMS'!$B$5=1,'PENNANT TEAMS'!$C$62,\"\")","v":0},{"$f":"IF('PENNANT TEAMS'!$B$5=1,'PENNANT TEAMS'!$A$62,\"\")","v":0},{"$f":"IF('PENNANT TEAMS'!$B$5=2,'PENNANT TEAMS'!$C$63,\"\")","v":""},{"$f":"IF('PENNANT TEAMS'!$B$5=2,'PENNANT TEAMS'!$C$62,\"\")","v":""},{"$f":"IF('PENNANT TEAMS'!$B$5=2,'PENNANT TEAMS'!$A$62,\"\")","v":""},{"$f":"IF('PENNANT TEAMS'!$B$5=3,'PENNANT TEAMS'!$C$63,\"\")","v":""},{"$f":"IF('PENNANT TEAMS'!$B$5=3,'PENNANT TEAMS'!$C$62,\"\")","v":""},{"$f":"IF('PENNANT TEAMS'!$B$5=3,'PENNANT TEAMS'!$A$62,\"\")","v":""},{"$f":"IF('PENNANT TEAMS'!$B$5=4,'PENNANT TEAMS'!$C$63,\"\")","v":""},{"$f":"IF('PENNANT TEAMS'!$B$5=4,'PENNANT TEAMS'!$C$62,\"\")","v":""},{"$f":"IF('PENNANT TEAMS'!$B$5=4,'PENNANT TEAMS'!$A$62,\"\")","v":""},{"$f":"IF('PENNANT TEAMS'!$B$5=5,'PENNANT TEAMS'!$C$63,\"\")","v":""},{"$f":"IF('PENNANT TEAMS'!$B$5=5,'PENNANT TEAMS'!$C$62,\"\")","v":""},{"$f":"IF('PENNANT TEAMS'!$B$5=5,'PENNANT TEAMS'!$A$62,\"\")","v":""},{"$f":"IF('PENNANT TEAMS'!$B$5=6,'PENNANT TEAMS'!$C$63,\"\")","v":""},{"$f":"IF('PENNANT TEAMS'!$B$5=6,'PENNANT TEAMS'!$C$62,\"\")","v":""},{"$f":"IF('PENNANT TEAMS'!$B$5=6,'PENNANT TEAMS'!$A$62,\"\")","v":""},{"$f":"IF('PENNANT TEAMS'!$B$5=7,'PENNANT TEAMS'!$C$63,\"\")","v":""},{"$f":"IF('PENNANT TEAMS'!$B$5=7,'PENNANT TEAMS'!$C$62,\"\")","v":""},{"$f":"IF('PENNANT TEAMS'!$B$5=7,'PENNANT TEAMS'!$A$62,\"\")","v":""},{"$f":"IF('PENNANT TEAMS'!$B$5=8,'PENNANT TEAMS'!$C$63,\"\")","v":""},{"$f":"IF('PENNANT TEAMS'!$B$5=8,'PENNANT TEAMS'!$C$62,\"\")","v":""},{"$f":"IF('PENNANT TEAMS'!$B$5=8,'PENNANT TEAMS'!$A$62,\"\")","v":""},{"$f":"IF('PENNANT TEAMS'!$B$5=9,'PENNANT TEAMS'!$C$63,\"\")","v":""},{"$f":"IF('PENNANT TEAMS'!$B$5=9,'PENNANT TEAMS'!$C$62,\"\")","v":""},{"$f":"IF('PENNANT TEAMS'!$B$5=9,'PENNANT TEAMS'!$A$62,\"\")","v":""},{"$f":"IF('PENNANT TEAMS'!$B$5=10,'PENNANT TEAMS'!$C$63,\"\")","v":""},{"$f":"IF('PENNANT TEAMS'!$B$5=10,'PENNANT TEAMS'!$C$62,\"\")","v":""},{"$f":"IF('PENNANT TEAMS'!$B$5=10,'PENNANT TEAMS'!$A$62,\"\")","v":""}]
[{"$f":"IF('PENNANT TEAMS'!$B$5=1,'PENNANT TEAMS'!$D$63,\"\")","v":""},{"$f":"IF('PENNANT TEAMS'!$B$5=1,'PENNANT TEAMS'!$D$62,\"\")","v":0},{"$f":"IF('PENNANT TEAMS'!$B$5=1,'PENNANT TEAMS'!$A$62,\"\")","v":0},{"$f":"IF('PENNANT TEAMS'!$B$5=2,'PENNANT TEAMS'!$D$63,\"\")","v":""},{"$f":"IF('PENNANT TEAMS'!$B$5=2,'PENNANT TEAMS'!$D$62,\"\")","v":""},{"$f":"IF('PENNANT TEAMS'!$B$5=2,'PENNANT TEAMS'!$A$62,\"\")","v":""},{"$f":"IF('PENNANT TEAMS'!$B$5=3,'PENNANT TEAMS'!$D$63,\"\")","v":""},{"$f":"IF('PENNANT TEAMS'!$B$5=3,'PENNANT TEAMS'!$D$62,\"\")","v":""},{"$f":"IF('PENNANT TEAMS'!$B$5=3,'PENNANT TEAMS'!$A$62,\"\")","v":""},{"$f":"IF('PENNANT TEAMS'!$B$5=4,'PENNANT TEAMS'!$D$63,\"\")","v":""},{"$f":"IF('PENNANT TEAMS'!$B$5=4,'PENNANT TEAMS'!$D$62,\"\")","v":""},{"$f":"IF('PENNANT TEAMS'!$B$5=4,'PENNANT TEAMS'!$A$62,\"\")","v":""},{"$f":"IF('PENNANT TEAMS'!$B$5=5,'PENNANT TEAMS'!$D$63,\"\")","v":""},{"$f":"IF('PENNANT TEAMS'!$B$5=5,'PENNANT TEAMS'!$D$62,\"\")","v":""},{"$f":"IF('PENNANT TEAMS'!$B$5=5,'PENNANT TEAMS'!$A$62,\"\")","v":""},{"$f":"IF('PENNANT TEAMS'!$B$5=6,'PENNANT TEAMS'!$D$63,\"\")","v":""},{"$f":"IF('PENNANT TEAMS'!$B$5=6,'PENNANT TEAMS'!$D$62,\"\")","v":""},{"$f":"IF('PENNANT TEAMS'!$B$5=6,'PENNANT TEAMS'!$A$62,\"\")","v":""},{"$f":"IF('PENNANT TEAMS'!$B$5=7,'PENNANT TEAMS'!$D$63,\"\")","v":""},{"$f":"IF('PENNANT TEAMS'!$B$5=7,'PENNANT TEAMS'!$D$62,\"\")","v":""},{"$f":"IF('PENNANT TEAMS'!$B$5=7,'PENNANT TEAMS'!$A$62,\"\")","v":""},{"$f":"IF('PENNANT TEAMS'!$B$5=8,'PENNANT TEAMS'!$D$63,\"\")","v":""},{"$f":"IF('PENNANT TEAMS'!$B$5=8,'PENNANT TEAMS'!$D$62,\"\")","v":""},{"$f":"IF('PENNANT TEAMS'!$B$5=8,'PENNANT TEAMS'!$A$62,\"\")","v":""},{"$f":"IF('PENNANT TEAMS'!$B$5=9,'PENNANT TEAMS'!$D$63,\"\")","v":""},{"$f":"IF('PENNANT TEAMS'!$B$5=9,'PENNANT TEAMS'!$D$62,\"\")","v":""},{"$f":"IF('PENNANT TEAMS'!$B$5=9,'PENNANT TEAMS'!$A$62,\"\")","v":""},{"$f":"IF('PENNANT TEAMS'!$B$5=10,'PENNANT TEAMS'!$D$63,\"\")","v":""},{"$f":"IF('PENNANT TEAMS'!$B$5=10,'PENNANT TEAMS'!$D$62,\"\")","v":""},{"$f":"IF('PENNANT TEAMS'!$B$5=10,'PENNANT TEAMS'!$A$62,\"\")","v":""}]
[{"$f":"IF('PENNANT TEAMS'!$B$5=1,'PENNANT TEAMS'!$E$63,\"\")","v":""},{"$f":"IF('PENNANT TEAMS'!$B$5=1,'PENNANT TEAMS'!$E$62,\"\")","v":0},{"$f":"IF('PENNANT TEAMS'!$B$5=1,'PENNANT TEAMS'!$A$62,\"\")","v":0},{"$f":"IF('PENNANT TEAMS'!$B$5=2,'PENNANT TEAMS'!$E$63,\"\")","v":""},{"$f":"IF('PENNANT TEAMS'!$B$5=2,'PENNANT TEAMS'!$E$62,\"\")","v":""},{"$f":"IF('PENNANT TEAMS'!$B$5=2,'PENNANT TEAMS'!$A$62,\"\")","v":""},{"$f":"IF('PENNANT TEAMS'!$B$5=3,'PENNANT TEAMS'!$E$63,\"\")","v":""},{"$f":"IF('PENNANT TEAMS'!$B$5=3,'PENNANT TEAMS'!$E$62,\"\")","v":""},{"$f":"IF('PENNANT TEAMS'!$B$5=3,'PENNANT TEAMS'!$A$62,\"\")","v":""},{"$f":"IF('PENNANT TEAMS'!$B$5=4,'PENNANT TEAMS'!$E$63,\"\")","v":""},{"$f":"IF('PENNANT TEAMS'!$B$5=4,'PENNANT TEAMS'!$E$62,\"\")","v":""},{"$f":"IF('PENNANT TEAMS'!$B$5=4,'PENNANT TEAMS'!$A$62,\"\")","v":""},{"$f":"IF('PENNANT TEAMS'!$B$5=5,'PENNANT TEAMS'!$E$63,\"\")","v":""},{"$f":"IF('PENNANT TEAMS'!$B$5=5,'PENNANT TEAMS'!$E$62,\"\")","v":""},{"$f":"IF('PENNANT TEAMS'!$B$5=5,'PENNANT TEAMS'!$A$62,\"\")","v":""},{"$f":"IF('PENNANT TEAMS'!$B$5=6,'PENNANT TEAMS'!$E$63,\"\")","v":""},{"$f":"IF('PENNANT TEAMS'!$B$5=6,'PENNANT TEAMS'!$E$62,\"\")","v":""},{"$f":"IF('PENNANT TEAMS'!$B$5=6,'PENNANT TEAMS'!$A$62,\"\")","v":""},{"$f":"IF('PENNANT TEAMS'!$B$5=7,'PENNANT TEAMS'!$E$63,\"\")","v":""},{"$f":"IF('PENNANT TEAMS'!$B$5=7,'PENNANT TEAMS'!$E$62,\"\")","v":""},{"$f":"IF('PENNANT TEAMS'!$B$5=7,'PENNANT TEAMS'!$A$62,\"\")","v":""},{"$f":"IF('PENNANT TEAMS'!$B$5=8,'PENNANT TEAMS'!$E$63,\"\")","v":""},{"$f":"IF('PENNANT TEAMS'!$B$5=8,'PENNANT TEAMS'!$E$62,\"\")","v":""},{"$f":"IF('PENNANT TEAMS'!$B$5=8,'PENNANT TEAMS'!$A$62,\"\")","v":""},{"$f":"IF('PENNANT TEAMS'!$B$5=9,'PENNANT TEAMS'!$E$63,\"\")","v":""},{"$f":"IF('PENNANT TEAMS'!$B$5=9,'PENNANT TEAMS'!$E$62,\"\")","v":""},{"$f":"IF('PENNANT TEAMS'!$B$5=9,'PENNANT TEAMS'!$A$62,\"\")","v":""},{"$f":"IF('PENNANT TEAMS'!$B$5=10,'PENNANT TEAMS'!$E$63,\"\")","v":""},{"$f":"IF('PENNANT TEAMS'!$B$5=10,'PENNANT TEAMS'!$E$62,\"\")","v":""},{"$f":"IF('PENNANT TEAMS'!$B$5=10,'PENNANT TEAMS'!$A$62,\"\")","v":""}]
[{"$f":"IF('PENNANT TEAMS'!$B$5=1,'PENNANT TEAMS'!$B$65,\"\")","v":""},{"$f":"IF('PENNANT TEAMS'!$B$5=1,'PENNANT TEAMS'!$B$64,\"\")","v":0},{"$f":"IF('PENNANT TEAMS'!$B$5=1,'PENNANT TEAMS'!$A$62,\"\")","v":0},{"$f":"IF('PENNANT TEAMS'!$B$5=2,'PENNANT TEAMS'!$B$65,\"\")","v":""},{"$f":"IF('PENNANT TEAMS'!$B$5=2,'PENNANT TEAMS'!$B$64,\"\")","v":""},{"$f":"IF('PENNANT TEAMS'!$B$5=2,'PENNANT TEAMS'!$A$62,\"\")","v":""},{"$f":"IF('PENNANT TEAMS'!$B$5=3,'PENNANT TEAMS'!$B$65,\"\")","v":""},{"$f":"IF('PENNANT TEAMS'!$B$5=3,'PENNANT TEAMS'!$B$64,\"\")","v":""},{"$f":"IF('PENNANT TEAMS'!$B$5=3,'PENNANT TEAMS'!$A$62,\"\")","v":""},{"$f":"IF('PENNANT TEAMS'!$B$5=4,'PENNANT TEAMS'!$B$65,\"\")","v":""},{"$f":"IF('PENNANT TEAMS'!$B$5=4,'PENNANT TEAMS'!$B$64,\"\")","v":""},{"$f":"IF('PENNANT TEAMS'!$B$5=4,'PENNANT TEAMS'!$A$62,\"\")","v":""},{"$f":"IF('PENNANT TEAMS'!$B$5=5,'PENNANT TEAMS'!$B$65,\"\")","v":""},{"$f":"IF('PENNANT TEAMS'!$B$5=5,'PENNANT TEAMS'!$B$64,\"\")","v":""},{"$f":"IF('PENNANT TEAMS'!$B$5=5,'PENNANT TEAMS'!$A$62,\"\")","v":""},{"$f":"IF('PENNANT TEAMS'!$B$5=6,'PENNANT TEAMS'!$B$65,\"\")","v":""},{"$f":"IF('PENNANT TEAMS'!$B$5=6,'PENNANT TEAMS'!$B$64,\"\")","v":""},{"$f":"IF('PENNANT TEAMS'!$B$5=6,'PENNANT TEAMS'!$A$62,\"\")","v":""},{"$f":"IF('PENNANT TEAMS'!$B$5=7,'PENNANT TEAMS'!$B$65,\"\")","v":""},{"$f":"IF('PENNANT TEAMS'!$B$5=7,'PENNANT TEAMS'!$B$64,\"\")","v":""},{"$f":"IF('PENNANT TEAMS'!$B$5=7,'PENNANT TEAMS'!$A$62,\"\")","v":""},{"$f":"IF('PENNANT TEAMS'!$B$5=8,'PENNANT TEAMS'!$B$65,\"\")","v":""},{"$f":"IF('PENNANT TEAMS'!$B$5=8,'PENNANT TEAMS'!$B$64,\"\")","v":""},{"$f":"IF('PENNANT TEAMS'!$B$5=8,'PENNANT TEAMS'!$A$62,\"\")","v":""},{"$f":"IF('PENNANT TEAMS'!$B$5=9,'PENNANT TEAMS'!$B$65,\"\")","v":""},{"$f":"IF('PENNANT TEAMS'!$B$5=9,'PENNANT TEAMS'!$B$64,\"\")","v":""},{"$f":"IF('PENNANT TEAMS'!$B$5=9,'PENNANT TEAMS'!$A$62,\"\")","v":""},{"$f":"IF('PENNANT TEAMS'!$B$5=10,'PENNANT TEAMS'!$B$65,\"\")","v":""},{"$f":"IF('PENNANT TEAMS'!$B$5=10,'PENNANT TEAMS'!$B$64,\"\")","v":""},{"$f":"IF('PENNANT TEAMS'!$B$5=10,'PENNANT TEAMS'!$A$62,\"\")","v":""}]
[{"$f":"IF('PENNANT TEAMS'!$B$5=1,'PENNANT TEAMS'!$C$65,\"\")","v":""},{"$f":"IF('PENNANT TEAMS'!$B$5=1,'PENNANT TEAMS'!$C$64,\"\")","v":0},{"$f":"IF('PENNANT TEAMS'!$B$5=1,'PENNANT TEAMS'!$A$62,\"\")","v":0},{"$f":"IF('PENNANT TEAMS'!$B$5=2,'PENNANT TEAMS'!$C$65,\"\")","v":""},{"$f":"IF('PENNANT TEAMS'!$B$5=2,'PENNANT TEAMS'!$C$64,\"\")","v":""},{"$f":"IF('PENNANT TEAMS'!$B$5=2,'PENNANT TEAMS'!$A$62,\"\")","v":""},{"$f":"IF('PENNANT TEAMS'!$B$5=3,'PENNANT TEAMS'!$C$65,\"\")","v":""},{"$f":"IF('PENNANT TEAMS'!$B$5=3,'PENNANT TEAMS'!$C$64,\"\")","v":""},{"$f":"IF('PENNANT TEAMS'!$B$5=3,'PENNANT TEAMS'!$A$62,\"\")","v":""},{"$f":"IF('PENNANT TEAMS'!$B$5=4,'PENNANT TEAMS'!$C$65,\"\")","v":""},{"$f":"IF('PENNANT TEAMS'!$B$5=4,'PENNANT TEAMS'!$C$64,\"\")","v":""},{"$f":"IF('PENNANT TEAMS'!$B$5=4,'PENNANT TEAMS'!$A$62,\"\")","v":""},{"$f":"IF('PENNANT TEAMS'!$B$5=5,'PENNANT TEAMS'!$C$65,\"\")","v":""},{"$f":"IF('PENNANT TEAMS'!$B$5=5,'PENNANT TEAMS'!$C$64,\"\")","v":""},{"$f":"IF('PENNANT TEAMS'!$B$5=5,'PENNANT TEAMS'!$A$62,\"\")","v":""},{"$f":"IF('PENNANT TEAMS'!$B$5=6,'PENNANT TEAMS'!$C$65,\"\")","v":""},{"$f":"IF('PENNANT TEAMS'!$B$5=6,'PENNANT TEAMS'!$C$64,\"\")","v":""},{"$f":"IF('PENNANT TEAMS'!$B$5=6,'PENNANT TEAMS'!$A$62,\"\")","v":""},{"$f":"IF('PENNANT TEAMS'!$B$5=7,'PENNANT TEAMS'!$C$65,\"\")","v":""},{"$f":"IF('PENNANT TEAMS'!$B$5=7,'PENNANT TEAMS'!$C$64,\"\")","v":""},{"$f":"IF('PENNANT TEAMS'!$B$5=7,'PENNANT TEAMS'!$A$62,\"\")","v":""},{"$f":"IF('PENNANT TEAMS'!$B$5=8,'PENNANT TEAMS'!$C$65,\"\")","v":""},{"$f":"IF('PENNANT TEAMS'!$B$5=8,'PENNANT TEAMS'!$C$64,\"\")","v":""},{"$f":"IF('PENNANT TEAMS'!$B$5=8,'PENNANT TEAMS'!$A$62,\"\")","v":""},{"$f":"IF('PENNANT TEAMS'!$B$5=9,'PENNANT TEAMS'!$C$65,\"\")","v":""},{"$f":"IF('PENNANT TEAMS'!$B$5=9,'PENNANT TEAMS'!$C$64,\"\")","v":""},{"$f":"IF('PENNANT TEAMS'!$B$5=9,'PENNANT TEAMS'!$A$62,\"\")","v":""},{"$f":"IF('PENNANT TEAMS'!$B$5=10,'PENNANT TEAMS'!$C$65,\"\")","v":""},{"$f":"IF('PENNANT TEAMS'!$B$5=10,'PENNANT TEAMS'!$C$64,\"\")","v":""},{"$f":"IF('PENNANT TEAMS'!$B$5=10,'PENNANT TEAMS'!$A$62,\"\")","v":""}]
[{"$f":"IF('PENNANT TEAMS'!$B$5=1,'PENNANT TEAMS'!$D$65,\"\")","v":""},{"$f":"IF('PENNANT TEAMS'!$B$5=1,'PENNANT TEAMS'!$D$64,\"\")","v":0},{"$f":"IF('PENNANT TEAMS'!$B$5=1,'PENNANT TEAMS'!$A$62,\"\")","v":0},{"$f":"IF('PENNANT TEAMS'!$B$5=2,'PENNANT TEAMS'!$D$65,\"\")","v":""},{"$f":"IF('PENNANT TEAMS'!$B$5=2,'PENNANT TEAMS'!$D$64,\"\")","v":""},{"$f":"IF('PENNANT TEAMS'!$B$5=2,'PENNANT TEAMS'!$A$62,\"\")","v":""},{"$f":"IF('PENNANT TEAMS'!$B$5=3,'PENNANT TEAMS'!$D$65,\"\")","v":""},{"$f":"IF('PENNANT TEAMS'!$B$5=3,'PENNANT TEAMS'!$D$64,\"\")","v":""},{"$f":"IF('PENNANT TEAMS'!$B$5=3,'PENNANT TEAMS'!$A$62,\"\")","v":""},{"$f":"IF('PENNANT TEAMS'!$B$5=4,'PENNANT TEAMS'!$D$65,\"\")","v":""},{"$f":"IF('PENNANT TEAMS'!$B$5=4,'PENNANT TEAMS'!$D$64,\"\")","v":""},{"$f":"IF('PENNANT TEAMS'!$B$5=4,'PENNANT TEAMS'!$A$62,\"\")","v":""},{"$f":"IF('PENNANT TEAMS'!$B$5=5,'PENNANT TEAMS'!$D$65,\"\")","v":""},{"$f":"IF('PENNANT TEAMS'!$B$5=5,'PENNANT TEAMS'!$D$64,\"\")","v":""},{"$f":"IF('PENNANT TEAMS'!$B$5=5,'PENNANT TEAMS'!$A$62,\"\")","v":""},{"$f":"IF('PENNANT TEAMS'!$B$5=6,'PENNANT TEAMS'!$D$65,\"\")","v":""},{"$f":"IF('PENNANT TEAMS'!$B$5=6,'PENNANT TEAMS'!$D$64,\"\")","v":""},{"$f":"IF('PENNANT TEAMS'!$B$5=6,'PENNANT TEAMS'!$A$62,\"\")","v":""},{"$f":"IF('PENNANT TEAMS'!$B$5=7,'PENNANT TEAMS'!$D$65,\"\")","v":""},{"$f":"IF('PENNANT TEAMS'!$B$5=7,'PENNANT TEAMS'!$D$64,\"\")","v":""},{"$f":"IF('PENNANT TEAMS'!$B$5=7,'PENNANT TEAMS'!$A$62,\"\")","v":""},{"$f":"IF('PENNANT TEAMS'!$B$5=8,'PENNANT TEAMS'!$D$65,\"\")","v":""},{"$f":"IF('PENNANT TEAMS'!$B$5=8,'PENNANT TEAMS'!$D$64,\"\")","v":""},{"$f":"IF('PENNANT TEAMS'!$B$5=8,'PENNANT TEAMS'!$A$62,\"\")","v":""},{"$f":"IF('PENNANT TEAMS'!$B$5=9,'PENNANT TEAMS'!$D$65,\"\")","v":""},{"$f":"IF('PENNANT TEAMS'!$B$5=9,'PENNANT TEAMS'!$D$64,\"\")","v":""},{"$f":"IF('PENNANT TEAMS'!$B$5=9,'PENNANT TEAMS'!$A$62,\"\")","v":""},{"$f":"IF('PENNANT TEAMS'!$B$5=10,'PENNANT TEAMS'!$D$65,\"\")","v":""},{"$f":"IF('PENNANT TEAMS'!$B$5=10,'PENNANT TEAMS'!$D$64,\"\")","v":""},{"$f":"IF('PENNANT TEAMS'!$B$5=10,'PENNANT TEAMS'!$A$62,\"\")","v":""}]
[{"$f":"IF('PENNANT TEAMS'!$B$5=1,'PENNANT TEAMS'!$E$65,\"\")","v":""},{"$f":"IF('PENNANT TEAMS'!$B$5=1,'PENNANT TEAMS'!$E$64,\"\")","v":0},{"$f":"IF('PENNANT TEAMS'!$B$5=1,'PENNANT TEAMS'!$A$62,\"\")","v":0},{"$f":"IF('PENNANT TEAMS'!$B$5=2,'PENNANT TEAMS'!$E$65,\"\")","v":""},{"$f":"IF('PENNANT TEAMS'!$B$5=2,'PENNANT TEAMS'!$E$64,\"\")","v":""},{"$f":"IF('PENNANT TEAMS'!$B$5=2,'PENNANT TEAMS'!$A$62,\"\")","v":""},{"$f":"IF('PENNANT TEAMS'!$B$5=3,'PENNANT TEAMS'!$E$65,\"\")","v":""},{"$f":"IF('PENNANT TEAMS'!$B$5=3,'PENNANT TEAMS'!$E$64,\"\")","v":""},{"$f":"IF('PENNANT TEAMS'!$B$5=3,'PENNANT TEAMS'!$A$62,\"\")","v":""},{"$f":"IF('PENNANT TEAMS'!$B$5=4,'PENNANT TEAMS'!$E$65,\"\")","v":""},{"$f":"IF('PENNANT TEAMS'!$B$5=4,'PENNANT TEAMS'!$E$64,\"\")","v":""},{"$f":"IF('PENNANT TEAMS'!$B$5=4,'PENNANT TEAMS'!$A$62,\"\")","v":""},{"$f":"IF('PENNANT TEAMS'!$B$5=5,'PENNANT TEAMS'!$E$65,\"\")","v":""},{"$f":"IF('PENNANT TEAMS'!$B$5=5,'PENNANT TEAMS'!$E$64,\"\")","v":""},{"$f":"IF('PENNANT TEAMS'!$B$5=5,'PENNANT TEAMS'!$A$62,\"\")","v":""},{"$f":"IF('PENNANT TEAMS'!$B$5=6,'PENNANT TEAMS'!$E$65,\"\")","v":""},{"$f":"IF('PENNANT TEAMS'!$B$5=6,'PENNANT TEAMS'!$E$64,\"\")","v":""},{"$f":"IF('PENNANT TEAMS'!$B$5=6,'PENNANT TEAMS'!$A$62,\"\")","v":""},{"$f":"IF('PENNANT TEAMS'!$B$5=7,'PENNANT TEAMS'!$E$65,\"\")","v":""},{"$f":"IF('PENNANT TEAMS'!$B$5=7,'PENNANT TEAMS'!$E$64,\"\")","v":""},{"$f":"IF('PENNANT TEAMS'!$B$5=7,'PENNANT TEAMS'!$A$62,\"\")","v":""},{"$f":"IF('PENNANT TEAMS'!$B$5=8,'PENNANT TEAMS'!$E$65,\"\")","v":""},{"$f":"IF('PENNANT TEAMS'!$B$5=8,'PENNANT TEAMS'!$E$64,\"\")","v":""},{"$f":"IF('PENNANT TEAMS'!$B$5=8,'PENNANT TEAMS'!$A$62,\"\")","v":""},{"$f":"IF('PENNANT TEAMS'!$B$5=9,'PENNANT TEAMS'!$E$65,\"\")","v":""},{"$f":"IF('PENNANT TEAMS'!$B$5=9,'PENNANT TEAMS'!$E$64,\"\")","v":""},{"$f":"IF('PENNANT TEAMS'!$B$5=9,'PENNANT TEAMS'!$A$62,\"\")","v":""},{"$f":"IF('PENNANT TEAMS'!$B$5=10,'PENNANT TEAMS'!$E$65,\"\")","v":""},{"$f":"IF('PENNANT TEAMS'!$B$5=10,'PENNANT TEAMS'!$E$64,\"\")","v":""},{"$f":"IF('PENNANT TEAMS'!$B$5=10,'PENNANT TEAMS'!$A$62,\"\")","v":""}]
[{"$f":"IF('PENNANT TEAMS'!$B$5=1,'PENNANT TEAMS'!$B$67,\"\")","v":""},{"$f":"IF('PENNANT TEAMS'!$B$5=1,'PENNANT TEAMS'!$B$66,\"\")","v":0},{"$f":"IF('PENNANT TEAMS'!$B$5=1,'PENNANT TEAMS'!$A$62,\"\")","v":0},{"$f":"IF('PENNANT TEAMS'!$B$5=2,'PENNANT TEAMS'!$B$67,\"\")","v":""},{"$f":"IF('PENNANT TEAMS'!$B$5=2,'PENNANT TEAMS'!$B$66,\"\")","v":""},{"$f":"IF('PENNANT TEAMS'!$B$5=2,'PENNANT TEAMS'!$A$62,\"\")","v":""},{"$f":"IF('PENNANT TEAMS'!$B$5=3,'PENNANT TEAMS'!$B$67,\"\")","v":""},{"$f":"IF('PENNANT TEAMS'!$B$5=3,'PENNANT TEAMS'!$B$66,\"\")","v":""},{"$f":"IF('PENNANT TEAMS'!$B$5=3,'PENNANT TEAMS'!$A$62,\"\")","v":""},{"$f":"IF('PENNANT TEAMS'!$B$5=4,'PENNANT TEAMS'!$B$67,\"\")","v":""},{"$f":"IF('PENNANT TEAMS'!$B$5=4,'PENNANT TEAMS'!$B$66,\"\")","v":""},{"$f":"IF('PENNANT TEAMS'!$B$5=4,'PENNANT TEAMS'!$A$62,\"\")","v":""},{"$f":"IF('PENNANT TEAMS'!$B$5=5,'PENNANT TEAMS'!$B$67,\"\")","v":""},{"$f":"IF('PENNANT TEAMS'!$B$5=5,'PENNANT TEAMS'!$B$66,\"\")","v":""},{"$f":"IF('PENNANT TEAMS'!$B$5=5,'PENNANT TEAMS'!$A$62,\"\")","v":""},{"$f":"IF('PENNANT TEAMS'!$B$5=6,'PENNANT TEAMS'!$B$67,\"\")","v":""},{"$f":"IF('PENNANT TEAMS'!$B$5=6,'PENNANT TEAMS'!$B$66,\"\")","v":""},{"$f":"IF('PENNANT TEAMS'!$B$5=6,'PENNANT TEAMS'!$A$62,\"\")","v":""},{"$f":"IF('PENNANT TEAMS'!$B$5=7,'PENNANT TEAMS'!$B$67,\"\")","v":""},{"$f":"IF('PENNANT TEAMS'!$B$5=7,'PENNANT TEAMS'!$B$66,\"\")","v":""},{"$f":"IF('PENNANT TEAMS'!$B$5=7,'PENNANT TEAMS'!$A$62,\"\")","v":""},{"$f":"IF('PENNANT TEAMS'!$B$5=8,'PENNANT TEAMS'!$B$67,\"\")","v":""},{"$f":"IF('PENNANT TEAMS'!$B$5=8,'PENNANT TEAMS'!$B$66,\"\")","v":""},{"$f":"IF('PENNANT TEAMS'!$B$5=8,'PENNANT TEAMS'!$A$62,\"\")","v":""},{"$f":"IF('PENNANT TEAMS'!$B$5=9,'PENNANT TEAMS'!$B$67,\"\")","v":""},{"$f":"IF('PENNANT TEAMS'!$B$5=9,'PENNANT TEAMS'!$B$66,\"\")","v":""},{"$f":"IF('PENNANT TEAMS'!$B$5=9,'PENNANT TEAMS'!$A$62,\"\")","v":""},{"$f":"IF('PENNANT TEAMS'!$B$5=10,'PENNANT TEAMS'!$B$67,\"\")","v":""},{"$f":"IF('PENNANT TEAMS'!$B$5=10,'PENNANT TEAMS'!$B$66,\"\")","v":""},{"$f":"IF('PENNANT TEAMS'!$B$5=10,'PENNANT TEAMS'!$A$62,\"\")","v":""}]
[{"$f":"IF('PENNANT TEAMS'!$B$5=1,'PENNANT TEAMS'!$C$67,\"\")","v":""},{"$f":"IF('PENNANT TEAMS'!$B$5=1,'PENNANT TEAMS'!$C$66,\"\")","v":0},{"$f":"IF('PENNANT TEAMS'!$B$5=1,'PENNANT TEAMS'!$A$62,\"\")","v":0},{"$f":"IF('PENNANT TEAMS'!$B$5=2,'PENNANT TEAMS'!$C$67,\"\")","v":""},{"$f":"IF('PENNANT TEAMS'!$B$5=2,'PENNANT TEAMS'!$C$66,\"\")","v":""},{"$f":"IF('PENNANT TEAMS'!$B$5=2,'PENNANT TEAMS'!$A$62,\"\")","v":""},{"$f":"IF('PENNANT TEAMS'!$B$5=3,'PENNANT TEAMS'!$C$67,\"\")","v":""},{"$f":"IF('PENNANT TEAMS'!$B$5=3,'PENNANT TEAMS'!$C$66,\"\")","v":""},{"$f":"IF('PENNANT TEAMS'!$B$5=3,'PENNANT TEAMS'!$A$62,\"\")","v":""},{"$f":"IF('PENNANT TEAMS'!$B$5=4,'PENNANT TEAMS'!$C$67,\"\")","v":""},{"$f":"IF('PENNANT TEAMS'!$B$5=4,'PENNANT TEAMS'!$C$66,\"\")","v":""},{"$f":"IF('PENNANT TEAMS'!$B$5=4,'PENNANT TEAMS'!$A$62,\"\")","v":""},{"$f":"IF('PENNANT TEAMS'!$B$5=5,'PENNANT TEAMS'!$C$67,\"\")","v":""},{"$f":"IF('PENNANT TEAMS'!$B$5=5,'PENNANT TEAMS'!$C$66,\"\")","v":""},{"$f":"IF('PENNANT TEAMS'!$B$5=5,'PENNANT TEAMS'!$A$62,\"\")","v":""},{"$f":"IF('PENNANT TEAMS'!$B$5=6,'PENNANT TEAMS'!$C$67,\"\")","v":""},{"$f":"IF('PENNANT TEAMS'!$B$5=6,'PENNANT TEAMS'!$C$66,\"\")","v":""},{"$f":"IF('PENNANT TEAMS'!$B$5=6,'PENNANT TEAMS'!$A$62,\"\")","v":""},{"$f":"IF('PENNANT TEAMS'!$B$5=7,'PENNANT TEAMS'!$C$67,\"\")","v":""},{"$f":"IF('PENNANT TEAMS'!$B$5=7,'PENNANT TEAMS'!$C$66,\"\")","v":""},{"$f":"IF('PENNANT TEAMS'!$B$5=7,'PENNANT TEAMS'!$A$62,\"\")","v":""},{"$f":"IF('PENNANT TEAMS'!$B$5=8,'PENNANT TEAMS'!$C$67,\"\")","v":""},{"$f":"IF('PENNANT TEAMS'!$B$5=8,'PENNANT TEAMS'!$C$66,\"\")","v":""},{"$f":"IF('PENNANT TEAMS'!$B$5=8,'PENNANT TEAMS'!$A$62,\"\")","v":""},{"$f":"IF('PENNANT TEAMS'!$B$5=9,'PENNANT TEAMS'!$C$67,\"\")","v":""},{"$f":"IF('PENNANT TEAMS'!$B$5=9,'PENNANT TEAMS'!$C$66,\"\")","v":""},{"$f":"IF('PENNANT TEAMS'!$B$5=9,'PENNANT TEAMS'!$A$62,\"\")","v":""},{"$f":"IF('PENNANT TEAMS'!$B$5=10,'PENNANT TEAMS'!$C$67,\"\")","v":""},{"$f":"IF('PENNANT TEAMS'!$B$5=10,'PENNANT TEAMS'!$C$66,\"\")","v":""},{"$f":"IF('PENNANT TEAMS'!$B$5=10,'PENNANT TEAMS'!$A$62,\"\")","v":""}]
[{"$f":"IF('PENNANT TEAMS'!$B$5=1,'PENNANT TEAMS'!$D$67,\"\")","v":""},{"$f":"IF('PENNANT TEAMS'!$B$5=1,'PENNANT TEAMS'!$D$66,\"\")","v":0},{"$f":"IF('PENNANT TEAMS'!$B$5=1,'PENNANT TEAMS'!$A$62,\"\")","v":0},{"$f":"IF('PENNANT TEAMS'!$B$5=2,'PENNANT TEAMS'!$D$67,\"\")","v":""},{"$f":"IF('PENNANT TEAMS'!$B$5=2,'PENNANT TEAMS'!$D$66,\"\")","v":""},{"$f":"IF('PENNANT TEAMS'!$B$5=2,'PENNANT TEAMS'!$A$62,\"\")","v":""},{"$f":"IF('PENNANT TEAMS'!$B$5=3,'PENNANT TEAMS'!$D$67,\"\")","v":""},{"$f":"IF('PENNANT TEAMS'!$B$5=3,'PENNANT TEAMS'!$D$66,\"\")","v":""},{"$f":"IF('PENNANT TEAMS'!$B$5=3,'PENNANT TEAMS'!$A$62,\"\")","v":""},{"$f":"IF('PENNANT TEAMS'!$B$5=4,'PENNANT TEAMS'!$D$67,\"\")","v":""},{"$f":"IF('PENNANT TEAMS'!$B$5=4,'PENNANT TEAMS'!$D$66,\"\")","v":""},{"$f":"IF('PENNANT TEAMS'!$B$5=4,'PENNANT TEAMS'!$A$62,\"\")","v":""},{"$f":"IF('PENNANT TEAMS'!$B$5=5,'PENNANT TEAMS'!$D$67,\"\")","v":""},{"$f":"IF('PENNANT TEAMS'!$B$5=5,'PENNANT TEAMS'!$D$66,\"\")","v":""},{"$f":"IF('PENNANT TEAMS'!$B$5=5,'PENNANT TEAMS'!$A$62,\"\")","v":""},{"$f":"IF('PENNANT TEAMS'!$B$5=6,'PENNANT TEAMS'!$D$67,\"\")","v":""},{"$f":"IF('PENNANT TEAMS'!$B$5=6,'PENNANT TEAMS'!$D$66,\"\")","v":""},{"$f":"IF('PENNANT TEAMS'!$B$5=6,'PENNANT TEAMS'!$A$62,\"\")","v":""},{"$f":"IF('PENNANT TEAMS'!$B$5=7,'PENNANT TEAMS'!$D$67,\"\")","v":""},{"$f":"IF('PENNANT TEAMS'!$B$5=7,'PENNANT TEAMS'!$D$66,\"\")","v":""},{"$f":"IF('PENNANT TEAMS'!$B$5=7,'PENNANT TEAMS'!$A$62,\"\")","v":""},{"$f":"IF('PENNANT TEAMS'!$B$5=8,'PENNANT TEAMS'!$D$67,\"\")","v":""},{"$f":"IF('PENNANT TEAMS'!$B$5=8,'PENNANT TEAMS'!$D$66,\"\")","v":""},{"$f":"IF('PENNANT TEAMS'!$B$5=8,'PENNANT TEAMS'!$A$62,\"\")","v":""},{"$f":"IF('PENNANT TEAMS'!$B$5=9,'PENNANT TEAMS'!$D$67,\"\")","v":""},{"$f":"IF('PENNANT TEAMS'!$B$5=9,'PENNANT TEAMS'!$D$66,\"\")","v":""},{"$f":"IF('PENNANT TEAMS'!$B$5=9,'PENNANT TEAMS'!$A$62,\"\")","v":""},{"$f":"IF('PENNANT TEAMS'!$B$5=10,'PENNANT TEAMS'!$D$67,\"\")","v":""},{"$f":"IF('PENNANT TEAMS'!$B$5=10,'PENNANT TEAMS'!$D$66,\"\")","v":""},{"$f":"IF('PENNANT TEAMS'!$B$5=10,'PENNANT TEAMS'!$A$62,\"\")","v":""}]
[{"$f":"IF('PENNANT TEAMS'!$B$5=1,'PENNANT TEAMS'!$E$67,\"\")","v":""},{"$f":"IF('PENNANT TEAMS'!$B$5=1,'PENNANT TEAMS'!$E$66,\"\")","v":0},{"$f":"IF('PENNANT TEAMS'!$B$5=1,'PENNANT TEAMS'!$A$62,\"\")","v":0},{"$f":"IF('PENNANT TEAMS'!$B$5=2,'PENNANT TEAMS'!$E$67,\"\")","v":""},{"$f":"IF('PENNANT TEAMS'!$B$5=2,'PENNANT TEAMS'!$E$66,\"\")","v":""},{"$f":"IF('PENNANT TEAMS'!$B$5=2,'PENNANT TEAMS'!$A$62,\"\")","v":""},{"$f":"IF('PENNANT TEAMS'!$B$5=3,'PENNANT TEAMS'!$E$67,\"\")","v":""},{"$f":"IF('PENNANT TEAMS'!$B$5=3,'PENNANT TEAMS'!$E$66,\"\")","v":""},{"$f":"IF('PENNANT TEAMS'!$B$5=3,'PENNANT TEAMS'!$A$62,\"\")","v":""},{"$f":"IF('PENNANT TEAMS'!$B$5=4,'PENNANT TEAMS'!$E$67,\"\")","v":""},{"$f":"IF('PENNANT TEAMS'!$B$5=4,'PENNANT TEAMS'!$E$66,\"\")","v":""},{"$f":"IF('PENNANT TEAMS'!$B$5=4,'PENNANT TEAMS'!$A$62,\"\")","v":""},{"$f":"IF('PENNANT TEAMS'!$B$5=5,'PENNANT TEAMS'!$E$67,\"\")","v":""},{"$f":"IF('PENNANT TEAMS'!$B$5=5,'PENNANT TEAMS'!$E$66,\"\")","v":""},{"$f":"IF('PENNANT TEAMS'!$B$5=5,'PENNANT TEAMS'!$A$62,\"\")","v":""},{"$f":"IF('PENNANT TEAMS'!$B$5=6,'PENNANT TEAMS'!$E$67,\"\")","v":""},{"$f":"IF('PENNANT TEAMS'!$B$5=6,'PENNANT TEAMS'!$E$66,\"\")","v":""},{"$f":"IF('PENNANT TEAMS'!$B$5=6,'PENNANT TEAMS'!$A$62,\"\")","v":""},{"$f":"IF('PENNANT TEAMS'!$B$5=7,'PENNANT TEAMS'!$E$67,\"\")","v":""},{"$f":"IF('PENNANT TEAMS'!$B$5=7,'PENNANT TEAMS'!$E$66,\"\")","v":""},{"$f":"IF('PENNANT TEAMS'!$B$5=7,'PENNANT TEAMS'!$A$62,\"\")","v":""},{"$f":"IF('PENNANT TEAMS'!$B$5=8,'PENNANT TEAMS'!$E$67,\"\")","v":""},{"$f":"IF('PENNANT TEAMS'!$B$5=8,'PENNANT TEAMS'!$E$66,\"\")","v":""},{"$f":"IF('PENNANT TEAMS'!$B$5=8,'PENNANT TEAMS'!$A$62,\"\")","v":""},{"$f":"IF('PENNANT TEAMS'!$B$5=9,'PENNANT TEAMS'!$E$67,\"\")","v":""},{"$f":"IF('PENNANT TEAMS'!$B$5=9,'PENNANT TEAMS'!$E$66,\"\")","v":""},{"$f":"IF('PENNANT TEAMS'!$B$5=9,'PENNANT TEAMS'!$A$62,\"\")","v":""},{"$f":"IF('PENNANT TEAMS'!$B$5=10,'PENNANT TEAMS'!$E$67,\"\")","v":""},{"$f":"IF('PENNANT TEAMS'!$B$5=10,'PENNANT TEAMS'!$E$66,\"\")","v":""},{"$f":"IF('PENNANT TEAMS'!$B$5=10,'PENNANT TEAMS'!$A$62,\"\")","v":""}]
[{"$f":"IF('PENNANT TEAMS'!$B$5=1,'PENNANT TEAMS'!$B$72,\"\")","v":""},{"$f":"IF('PENNANT TEAMS'!$B$5=1,'PENNANT TEAMS'!$B$71,\"\")","v":0},{"$f":"IF('PENNANT TEAMS'!$B$5=1,'PENNANT TEAMS'!$A$71,\"\")","v":0},{"$f":"IF('PENNANT TEAMS'!$B$5=2,'PENNANT TEAMS'!$B$72,\"\")","v":""},{"$f":"IF('PENNANT TEAMS'!$B$5=2,'PENNANT TEAMS'!$B$71,\"\")","v":""},{"$f":"IF('PENNANT TEAMS'!$B$5=2,'PENNANT TEAMS'!$A$71,\"\")","v":""},{"$f":"IF('PENNANT TEAMS'!$B$5=3,'PENNANT TEAMS'!$B$72,\"\")","v":""},{"$f":"IF('PENNANT TEAMS'!$B$5=3,'PENNANT TEAMS'!$B$71,\"\")","v":""},{"$f":"IF('PENNANT TEAMS'!$B$5=3,'PENNANT TEAMS'!$A$71,\"\")","v":""},{"$f":"IF('PENNANT TEAMS'!$B$5=4,'PENNANT TEAMS'!$B$72,\"\")","v":""},{"$f":"IF('PENNANT TEAMS'!$B$5=4,'PENNANT TEAMS'!$B$71,\"\")","v":""},{"$f":"IF('PENNANT TEAMS'!$B$5=4,'PENNANT TEAMS'!$A$71,\"\")","v":""},{"$f":"IF('PENNANT TEAMS'!$B$5=5,'PENNANT TEAMS'!$B$72,\"\")","v":""},{"$f":"IF('PENNANT TEAMS'!$B$5=5,'PENNANT TEAMS'!$B$71,\"\")","v":""},{"$f":"IF('PENNANT TEAMS'!$B$5=5,'PENNANT TEAMS'!$A$71,\"\")","v":""},{"$f":"IF('PENNANT TEAMS'!$B$5=6,'PENNANT TEAMS'!$B$72,\"\")","v":""},{"$f":"IF('PENNANT TEAMS'!$B$5=6,'PENNANT TEAMS'!$B$71,\"\")","v":""},{"$f":"IF('PENNANT TEAMS'!$B$5=6,'PENNANT TEAMS'!$A$71,\"\")","v":""},{"$f":"IF('PENNANT TEAMS'!$B$5=7,'PENNANT TEAMS'!$B$72,\"\")","v":""},{"$f":"IF('PENNANT TEAMS'!$B$5=7,'PENNANT TEAMS'!$B$71,\"\")","v":""},{"$f":"IF('PENNANT TEAMS'!$B$5=7,'PENNANT TEAMS'!$A$71,\"\")","v":""},{"$f":"IF('PENNANT TEAMS'!$B$5=8,'PENNANT TEAMS'!$B$72,\"\")","v":""},{"$f":"IF('PENNANT TEAMS'!$B$5=8,'PENNANT TEAMS'!$B$71,\"\")","v":""},{"$f":"IF('PENNANT TEAMS'!$B$5=8,'PENNANT TEAMS'!$A$71,\"\")","v":""},{"$f":"IF('PENNANT TEAMS'!$B$5=9,'PENNANT TEAMS'!$B$72,\"\")","v":""},{"$f":"IF('PENNANT TEAMS'!$B$5=9,'PENNANT TEAMS'!$B$71,\"\")","v":""},{"$f":"IF('PENNANT TEAMS'!$B$5=9,'PENNANT TEAMS'!$A$71,\"\")","v":""},{"$f":"IF('PENNANT TEAMS'!$B$5=10,'PENNANT TEAMS'!$B$72,\"\")","v":""},{"$f":"IF('PENNANT TEAMS'!$B$5=10,'PENNANT TEAMS'!$B$71,\"\")","v":""},{"$f":"IF('PENNANT TEAMS'!$B$5=10,'PENNANT TEAMS'!$A$71,\"\")","v":""}]
[{"$f":"IF('PENNANT TEAMS'!$B$5=1,'PENNANT TEAMS'!$C$72,\"\")","v":""},{"$f":"IF('PENNANT TEAMS'!$B$5=1,'PENNANT TEAMS'!$C$71,\"\")","v":0},{"$f":"IF('PENNANT TEAMS'!$B$5=1,'PENNANT TEAMS'!$A$71,\"\")","v":0},{"$f":"IF('PENNANT TEAMS'!$B$5=2,'PENNANT TEAMS'!$C$72,\"\")","v":""},{"$f":"IF('PENNANT TEAMS'!$B$5=2,'PENNANT TEAMS'!$C$71,\"\")","v":""},{"$f":"IF('PENNANT TEAMS'!$B$5=2,'PENNANT TEAMS'!$A$71,\"\")","v":""},{"$f":"IF('PENNANT TEAMS'!$B$5=3,'PENNANT TEAMS'!$C$72,\"\")","v":""},{"$f":"IF('PENNANT TEAMS'!$B$5=3,'PENNANT TEAMS'!$C$71,\"\")","v":""},{"$f":"IF('PENNANT TEAMS'!$B$5=3,'PENNANT TEAMS'!$A$71,\"\")","v":""},{"$f":"IF('PENNANT TEAMS'!$B$5=4,'PENNANT TEAMS'!$C$72,\"\")","v":""},{"$f":"IF('PENNANT TEAMS'!$B$5=4,'PENNANT TEAMS'!$C$71,\"\")","v":""},{"$f":"IF('PENNANT TEAMS'!$B$5=4,'PENNANT TEAMS'!$A$71,\"\")","v":""},{"$f":"IF('PENNANT TEAMS'!$B$5=5,'PENNANT TEAMS'!$C$72,\"\")","v":""},{"$f":"IF('PENNANT TEAMS'!$B$5=5,'PENNANT TEAMS'!$C$71,\"\")","v":""},{"$f":"IF('PENNANT TEAMS'!$B$5=5,'PENNANT TEAMS'!$A$71,\"\")","v":""},{"$f":"IF('PENNANT TEAMS'!$B$5=6,'PENNANT TEAMS'!$C$72,\"\")","v":""},{"$f":"IF('PENNANT TEAMS'!$B$5=6,'PENNANT TEAMS'!$C$71,\"\")","v":""},{"$f":"IF('PENNANT TEAMS'!$B$5=6,'PENNANT TEAMS'!$A$71,\"\")","v":""},{"$f":"IF('PENNANT TEAMS'!$B$5=7,'PENNANT TEAMS'!$C$72,\"\")","v":""},{"$f":"IF('PENNANT TEAMS'!$B$5=7,'PENNANT TEAMS'!$C$71,\"\")","v":""},{"$f":"IF('PENNANT TEAMS'!$B$5=7,'PENNANT TEAMS'!$A$71,\"\")","v":""},{"$f":"IF('PENNANT TEAMS'!$B$5=8,'PENNANT TEAMS'!$C$72,\"\")","v":""},{"$f":"IF('PENNANT TEAMS'!$B$5=8,'PENNANT TEAMS'!$C$71,\"\")","v":""},{"$f":"IF('PENNANT TEAMS'!$B$5=8,'PENNANT TEAMS'!$A$71,\"\")","v":""},{"$f":"IF('PENNANT TEAMS'!$B$5=9,'PENNANT TEAMS'!$C$72,\"\")","v":""},{"$f":"IF('PENNANT TEAMS'!$B$5=9,'PENNANT TEAMS'!$C$71,\"\")","v":""},{"$f":"IF('PENNANT TEAMS'!$B$5=9,'PENNANT TEAMS'!$A$71,\"\")","v":""},{"$f":"IF('PENNANT TEAMS'!$B$5=10,'PENNANT TEAMS'!$C$72,\"\")","v":""},{"$f":"IF('PENNANT TEAMS'!$B$5=10,'PENNANT TEAMS'!$C$71,\"\")","v":""},{"$f":"IF('PENNANT TEAMS'!$B$5=10,'PENNANT TEAMS'!$A$71,\"\")","v":""}]
[{"$f":"IF('PENNANT TEAMS'!$B$5=1,'PENNANT TEAMS'!$D$72,\"\")","v":""},{"$f":"IF('PENNANT TEAMS'!$B$5=1,'PENNANT TEAMS'!$D$71,\"\")","v":0},{"$f":"IF('PENNANT TEAMS'!$B$5=1,'PENNANT TEAMS'!$A$71,\"\")","v":0},{"$f":"IF('PENNANT TEAMS'!$B$5=2,'PENNANT TEAMS'!$D$72,\"\")","v":""},{"$f":"IF('PENNANT TEAMS'!$B$5=2,'PENNANT TEAMS'!$D$71,\"\")","v":""},{"$f":"IF('PENNANT TEAMS'!$B$5=2,'PENNANT TEAMS'!$A$71,\"\")","v":""},{"$f":"IF('PENNANT TEAMS'!$B$5=3,'PENNANT TEAMS'!$D$72,\"\")","v":""},{"$f":"IF('PENNANT TEAMS'!$B$5=3,'PENNANT TEAMS'!$D$71,\"\")","v":""},{"$f":"IF('PENNANT TEAMS'!$B$5=3,'PENNANT TEAMS'!$A$71,\"\")","v":""},{"$f":"IF('PENNANT TEAMS'!$B$5=4,'PENNANT TEAMS'!$D$72,\"\")","v":""},{"$f":"IF('PENNANT TEAMS'!$B$5=4,'PENNANT TEAMS'!$D$71,\"\")","v":""},{"$f":"IF('PENNANT TEAMS'!$B$5=4,'PENNANT TEAMS'!$A$71,\"\")","v":""},{"$f":"IF('PENNANT TEAMS'!$B$5=5,'PENNANT TEAMS'!$D$72,\"\")","v":""},{"$f":"IF('PENNANT TEAMS'!$B$5=5,'PENNANT TEAMS'!$D$71,\"\")","v":""},{"$f":"IF('PENNANT TEAMS'!$B$5=5,'PENNANT TEAMS'!$A$71,\"\")","v":""},{"$f":"IF('PENNANT TEAMS'!$B$5=6,'PENNANT TEAMS'!$D$72,\"\")","v":""},{"$f":"IF('PENNANT TEAMS'!$B$5=6,'PENNANT TEAMS'!$D$71,\"\")","v":""},{"$f":"IF('PENNANT TEAMS'!$B$5=6,'PENNANT TEAMS'!$A$71,\"\")","v":""},{"$f":"IF('PENNANT TEAMS'!$B$5=7,'PENNANT TEAMS'!$D$72,\"\")","v":""},{"$f":"IF('PENNANT TEAMS'!$B$5=7,'PENNANT TEAMS'!$D$71,\"\")","v":""},{"$f":"IF('PENNANT TEAMS'!$B$5=7,'PENNANT TEAMS'!$A$71,\"\")","v":""},{"$f":"IF('PENNANT TEAMS'!$B$5=8,'PENNANT TEAMS'!$D$72,\"\")","v":""},{"$f":"IF('PENNANT TEAMS'!$B$5=8,'PENNANT TEAMS'!$D$71,\"\")","v":""},{"$f":"IF('PENNANT TEAMS'!$B$5=8,'PENNANT TEAMS'!$A$71,\"\")","v":""},{"$f":"IF('PENNANT TEAMS'!$B$5=9,'PENNANT TEAMS'!$D$72,\"\")","v":""},{"$f":"IF('PENNANT TEAMS'!$B$5=9,'PENNANT TEAMS'!$D$71,\"\")","v":""},{"$f":"IF('PENNANT TEAMS'!$B$5=9,'PENNANT TEAMS'!$A$71,\"\")","v":""},{"$f":"IF('PENNANT TEAMS'!$B$5=10,'PENNANT TEAMS'!$D$72,\"\")","v":""},{"$f":"IF('PENNANT TEAMS'!$B$5=10,'PENNANT TEAMS'!$D$71,\"\")","v":""},{"$f":"IF('PENNANT TEAMS'!$B$5=10,'PENNANT TEAMS'!$A$71,\"\")","v":""}]
[{"$f":"IF('PENNANT TEAMS'!$B$5=1,'PENNANT TEAMS'!$E$72,\"\")","v":""},{"$f":"IF('PENNANT TEAMS'!$B$5=1,'PENNANT TEAMS'!$E$71,\"\")","v":0},{"$f":"IF('PENNANT TEAMS'!$B$5=1,'PENNANT TEAMS'!$A$71,\"\")","v":0},{"$f":"IF('PENNANT TEAMS'!$B$5=2,'PENNANT TEAMS'!$E$72,\"\")","v":""},{"$f":"IF('PENNANT TEAMS'!$B$5=2,'PENNANT TEAMS'!$E$71,\"\")","v":""},{"$f":"IF('PENNANT TEAMS'!$B$5=2,'PENNANT TEAMS'!$A$71,\"\")","v":""},{"$f":"IF('PENNANT TEAMS'!$B$5=3,'PENNANT TEAMS'!$E$72,\"\")","v":""},{"$f":"IF('PENNANT TEAMS'!$B$5=3,'PENNANT TEAMS'!$E$71,\"\")","v":""},{"$f":"IF('PENNANT TEAMS'!$B$5=3,'PENNANT TEAMS'!$A$71,\"\")","v":""},{"$f":"IF('PENNANT TEAMS'!$B$5=4,'PENNANT TEAMS'!$E$72,\"\")","v":""},{"$f":"IF('PENNANT TEAMS'!$B$5=4,'PENNANT TEAMS'!$E$71,\"\")","v":""},{"$f":"IF('PENNANT TEAMS'!$B$5=4,'PENNANT TEAMS'!$A$71,\"\")","v":""},{"$f":"IF('PENNANT TEAMS'!$B$5=5,'PENNANT TEAMS'!$E$72,\"\")","v":""},{"$f":"IF('PENNANT TEAMS'!$B$5=5,'PENNANT TEAMS'!$E$71,\"\")","v":""},{"$f":"IF('PENNANT TEAMS'!$B$5=5,'PENNANT TEAMS'!$A$71,\"\")","v":""},{"$f":"IF('PENNANT TEAMS'!$B$5=6,'PENNANT TEAMS'!$E$72,\"\")","v":""},{"$f":"IF('PENNANT TEAMS'!$B$5=6,'PENNANT TEAMS'!$E$71,\"\")","v":""},{"$f":"IF('PENNANT TEAMS'!$B$5=6,'PENNANT TEAMS'!$A$71,\"\")","v":""},{"$f":"IF('PENNANT TEAMS'!$B$5=7,'PENNANT TEAMS'!$E$72,\"\")","v":""},{"$f":"IF('PENNANT TEAMS'!$B$5=7,'PENNANT TEAMS'!$E$71,\"\")","v":""},{"$f":"IF('PENNANT TEAMS'!$B$5=7,'PENNANT TEAMS'!$A$71,\"\")","v":""},{"$f":"IF('PENNANT TEAMS'!$B$5=8,'PENNANT TEAMS'!$E$72,\"\")","v":""},{"$f":"IF('PENNANT TEAMS'!$B$5=8,'PENNANT TEAMS'!$E$71,\"\")","v":""},{"$f":"IF('PENNANT TEAMS'!$B$5=8,'PENNANT TEAMS'!$A$71,\"\")","v":""},{"$f":"IF('PENNANT TEAMS'!$B$5=9,'PENNANT TEAMS'!$E$72,\"\")","v":""},{"$f":"IF('PENNANT TEAMS'!$B$5=9,'PENNANT TEAMS'!$E$71,\"\")","v":""},{"$f":"IF('PENNANT TEAMS'!$B$5=9,'PENNANT TEAMS'!$A$71,\"\")","v":""},{"$f":"IF('PENNANT TEAMS'!$B$5=10,'PENNANT TEAMS'!$E$72,\"\")","v":""},{"$f":"IF('PENNANT TEAMS'!$B$5=10,'PENNANT TEAMS'!$E$71,\"\")","v":""},{"$f":"IF('PENNANT TEAMS'!$B$5=10,'PENNANT TEAMS'!$A$71,\"\")","v":""}]
[{"$f":"IF('PENNANT TEAMS'!$B$5=1,'PENNANT TEAMS'!$B$74,\"\")","v":""},{"$f":"IF('PENNANT TEAMS'!$B$5=1,'PENNANT TEAMS'!$B$73,\"\")","v":0},{"$f":"IF('PENNANT TEAMS'!$B$5=1,'PENNANT TEAMS'!$A$71,\"\")","v":0},{"$f":"IF('PENNANT TEAMS'!$B$5=2,'PENNANT TEAMS'!$B$74,\"\")","v":""},{"$f":"IF('PENNANT TEAMS'!$B$5=2,'PENNANT TEAMS'!$B$73,\"\")","v":""},{"$f":"IF('PENNANT TEAMS'!$B$5=2,'PENNANT TEAMS'!$A$71,\"\")","v":""},{"$f":"IF('PENNANT TEAMS'!$B$5=3,'PENNANT TEAMS'!$B$74,\"\")","v":""},{"$f":"IF('PENNANT TEAMS'!$B$5=3,'PENNANT TEAMS'!$B$73,\"\")","v":""},{"$f":"IF('PENNANT TEAMS'!$B$5=3,'PENNANT TEAMS'!$A$71,\"\")","v":""},{"$f":"IF('PENNANT TEAMS'!$B$5=4,'PENNANT TEAMS'!$B$74,\"\")","v":""},{"$f":"IF('PENNANT TEAMS'!$B$5=4,'PENNANT TEAMS'!$B$73,\"\")","v":""},{"$f":"IF('PENNANT TEAMS'!$B$5=4,'PENNANT TEAMS'!$A$71,\"\")","v":""},{"$f":"IF('PENNANT TEAMS'!$B$5=5,'PENNANT TEAMS'!$B$74,\"\")","v":""},{"$f":"IF('PENNANT TEAMS'!$B$5=5,'PENNANT TEAMS'!$B$73,\"\")","v":""},{"$f":"IF('PENNANT TEAMS'!$B$5=5,'PENNANT TEAMS'!$A$71,\"\")","v":""},{"$f":"IF('PENNANT TEAMS'!$B$5=6,'PENNANT TEAMS'!$B$74,\"\")","v":""},{"$f":"IF('PENNANT TEAMS'!$B$5=6,'PENNANT TEAMS'!$B$73,\"\")","v":""},{"$f":"IF('PENNANT TEAMS'!$B$5=6,'PENNANT TEAMS'!$A$71,\"\")","v":""},{"$f":"IF('PENNANT TEAMS'!$B$5=7,'PENNANT TEAMS'!$B$74,\"\")","v":""},{"$f":"IF('PENNANT TEAMS'!$B$5=7,'PENNANT TEAMS'!$B$73,\"\")","v":""},{"$f":"IF('PENNANT TEAMS'!$B$5=7,'PENNANT TEAMS'!$A$71,\"\")","v":""},{"$f":"IF('PENNANT TEAMS'!$B$5=8,'PENNANT TEAMS'!$B$74,\"\")","v":""},{"$f":"IF('PENNANT TEAMS'!$B$5=8,'PENNANT TEAMS'!$B$73,\"\")","v":""},{"$f":"IF('PENNANT TEAMS'!$B$5=8,'PENNANT TEAMS'!$A$71,\"\")","v":""},{"$f":"IF('PENNANT TEAMS'!$B$5=9,'PENNANT TEAMS'!$B$74,\"\")","v":""},{"$f":"IF('PENNANT TEAMS'!$B$5=9,'PENNANT TEAMS'!$B$73,\"\")","v":""},{"$f":"IF('PENNANT TEAMS'!$B$5=9,'PENNANT TEAMS'!$A$71,\"\")","v":""},{"$f":"IF('PENNANT TEAMS'!$B$5=10,'PENNANT TEAMS'!$B$74,\"\")","v":""},{"$f":"IF('PENNANT TEAMS'!$B$5=10,'PENNANT TEAMS'!$B$73,\"\")","v":""},{"$f":"IF('PENNANT TEAMS'!$B$5=10,'PENNANT TEAMS'!$A$71,\"\")","v":""}]
[{"$f":"IF('PENNANT TEAMS'!$B$5=1,'PENNANT TEAMS'!$C$74,\"\")","v":""},{"$f":"IF('PENNANT TEAMS'!$B$5=1,'PENNANT TEAMS'!$C$73,\"\")","v":0},{"$f":"IF('PENNANT TEAMS'!$B$5=1,'PENNANT TEAMS'!$A$71,\"\")","v":0},{"$f":"IF('PENNANT TEAMS'!$B$5=2,'PENNANT TEAMS'!$C$74,\"\")","v":""},{"$f":"IF('PENNANT TEAMS'!$B$5=2,'PENNANT TEAMS'!$C$73,\"\")","v":""},{"$f":"IF('PENNANT TEAMS'!$B$5=2,'PENNANT TEAMS'!$A$71,\"\")","v":""},{"$f":"IF('PENNANT TEAMS'!$B$5=3,'PENNANT TEAMS'!$C$74,\"\")","v":""},{"$f":"IF('PENNANT TEAMS'!$B$5=3,'PENNANT TEAMS'!$C$73,\"\")","v":""},{"$f":"IF('PENNANT TEAMS'!$B$5=3,'PENNANT TEAMS'!$A$71,\"\")","v":""},{"$f":"IF('PENNANT TEAMS'!$B$5=4,'PENNANT TEAMS'!$C$74,\"\")","v":""},{"$f":"IF('PENNANT TEAMS'!$B$5=4,'PENNANT TEAMS'!$C$73,\"\")","v":""},{"$f":"IF('PENNANT TEAMS'!$B$5=4,'PENNANT TEAMS'!$A$71,\"\")","v":""},{"$f":"IF('PENNANT TEAMS'!$B$5=5,'PENNANT TEAMS'!$C$74,\"\")","v":""},{"$f":"IF('PENNANT TEAMS'!$B$5=5,'PENNANT TEAMS'!$C$73,\"\")","v":""},{"$f":"IF('PENNANT TEAMS'!$B$5=5,'PENNANT TEAMS'!$A$71,\"\")","v":""},{"$f":"IF('PENNANT TEAMS'!$B$5=6,'PENNANT TEAMS'!$C$74,\"\")","v":""},{"$f":"IF('PENNANT TEAMS'!$B$5=6,'PENNANT TEAMS'!$C$73,\"\")","v":""},{"$f":"IF('PENNANT TEAMS'!$B$5=6,'PENNANT TEAMS'!$A$71,\"\")","v":""},{"$f":"IF('PENNANT TEAMS'!$B$5=7,'PENNANT TEAMS'!$C$74,\"\")","v":""},{"$f":"IF('PENNANT TEAMS'!$B$5=7,'PENNANT TEAMS'!$C$73,\"\")","v":""},{"$f":"IF('PENNANT TEAMS'!$B$5=7,'PENNANT TEAMS'!$A$71,\"\")","v":""},{"$f":"IF('PENNANT TEAMS'!$B$5=8,'PENNANT TEAMS'!$C$74,\"\")","v":""},{"$f":"IF('PENNANT TEAMS'!$B$5=8,'PENNANT TEAMS'!$C$73,\"\")","v":""},{"$f":"IF('PENNANT TEAMS'!$B$5=8,'PENNANT TEAMS'!$A$71,\"\")","v":""},{"$f":"IF('PENNANT TEAMS'!$B$5=9,'PENNANT TEAMS'!$C$74,\"\")","v":""},{"$f":"IF('PENNANT TEAMS'!$B$5=9,'PENNANT TEAMS'!$C$73,\"\")","v":""},{"$f":"IF('PENNANT TEAMS'!$B$5=9,'PENNANT TEAMS'!$A$71,\"\")","v":""},{"$f":"IF('PENNANT TEAMS'!$B$5=10,'PENNANT TEAMS'!$C$74,\"\")","v":""},{"$f":"IF('PENNANT TEAMS'!$B$5=10,'PENNANT TEAMS'!$C$73,\"\")","v":""},{"$f":"IF('PENNANT TEAMS'!$B$5=10,'PENNANT TEAMS'!$A$71,\"\")","v":""}]
[{"$f":"IF('PENNANT TEAMS'!$B$5=1,'PENNANT TEAMS'!$D$74,\"\")","v":""},{"$f":"IF('PENNANT TEAMS'!$B$5=1,'PENNANT TEAMS'!$D$73,\"\")","v":0},{"$f":"IF('PENNANT TEAMS'!$B$5=1,'PENNANT TEAMS'!$A$71,\"\")","v":0},{"$f":"IF('PENNANT TEAMS'!$B$5=2,'PENNANT TEAMS'!$D$74,\"\")","v":""},{"$f":"IF('PENNANT TEAMS'!$B$5=2,'PENNANT TEAMS'!$D$73,\"\")","v":""},{"$f":"IF('PENNANT TEAMS'!$B$5=2,'PENNANT TEAMS'!$A$71,\"\")","v":""},{"$f":"IF('PENNANT TEAMS'!$B$5=3,'PENNANT TEAMS'!$D$74,\"\")","v":""},{"$f":"IF('PENNANT TEAMS'!$B$5=3,'PENNANT TEAMS'!$D$73,\"\")","v":""},{"$f":"IF('PENNANT TEAMS'!$B$5=3,'PENNANT TEAMS'!$A$71,\"\")","v":""},{"$f":"IF('PENNANT TEAMS'!$B$5=4,'PENNANT TEAMS'!$D$74,\"\")","v":""},{"$f":"IF('PENNANT TEAMS'!$B$5=4,'PENNANT TEAMS'!$D$73,\"\")","v":""},{"$f":"IF('PENNANT TEAMS'!$B$5=4,'PENNANT TEAMS'!$A$71,\"\")","v":""},{"$f":"IF('PENNANT TEAMS'!$B$5=5,'PENNANT TEAMS'!$D$74,\"\")","v":""},{"$f":"IF('PENNANT TEAMS'!$B$5=5,'PENNANT TEAMS'!$D$73,\"\")","v":""},{"$f":"IF('PENNANT TEAMS'!$B$5=5,'PENNANT TEAMS'!$A$71,\"\")","v":""},{"$f":"IF('PENNANT TEAMS'!$B$5=6,'PENNANT TEAMS'!$D$74,\"\")","v":""},{"$f":"IF('PENNANT TEAMS'!$B$5=6,'PENNANT TEAMS'!$D$73,\"\")","v":""},{"$f":"IF('PENNANT TEAMS'!$B$5=6,'PENNANT TEAMS'!$A$71,\"\")","v":""},{"$f":"IF('PENNANT TEAMS'!$B$5=7,'PENNANT TEAMS'!$D$74,\"\")","v":""},{"$f":"IF('PENNANT TEAMS'!$B$5=7,'PENNANT TEAMS'!$D$73,\"\")","v":""},{"$f":"IF('PENNANT TEAMS'!$B$5=7,'PENNANT TEAMS'!$A$71,\"\")","v":""},{"$f":"IF('PENNANT TEAMS'!$B$5=8,'PENNANT TEAMS'!$D$74,\"\")","v":""},{"$f":"IF('PENNANT TEAMS'!$B$5=8,'PENNANT TEAMS'!$D$73,\"\")","v":""},{"$f":"IF('PENNANT TEAMS'!$B$5=8,'PENNANT TEAMS'!$A$71,\"\")","v":""},{"$f":"IF('PENNANT TEAMS'!$B$5=9,'PENNANT TEAMS'!$D$74,\"\")","v":""},{"$f":"IF('PENNANT TEAMS'!$B$5=9,'PENNANT TEAMS'!$D$73,\"\")","v":""},{"$f":"IF('PENNANT TEAMS'!$B$5=9,'PENNANT TEAMS'!$A$71,\"\")","v":""},{"$f":"IF('PENNANT TEAMS'!$B$5=10,'PENNANT TEAMS'!$D$74,\"\")","v":""},{"$f":"IF('PENNANT TEAMS'!$B$5=10,'PENNANT TEAMS'!$D$73,\"\")","v":""},{"$f":"IF('PENNANT TEAMS'!$B$5=10,'PENNANT TEAMS'!$A$71,\"\")","v":""}]
[{"$f":"IF('PENNANT TEAMS'!$B$5=1,'PENNANT TEAMS'!$E$74,\"\")","v":""},{"$f":"IF('PENNANT TEAMS'!$B$5=1,'PENNANT TEAMS'!$E$73,\"\")","v":0},{"$f":"IF('PENNANT TEAMS'!$B$5=1,'PENNANT TEAMS'!$A$71,\"\")","v":0},{"$f":"IF('PENNANT TEAMS'!$B$5=2,'PENNANT TEAMS'!$E$74,\"\")","v":""},{"$f":"IF('PENNANT TEAMS'!$B$5=2,'PENNANT TEAMS'!$E$73,\"\")","v":""},{"$f":"IF('PENNANT TEAMS'!$B$5=2,'PENNANT TEAMS'!$A$71,\"\")","v":""},{"$f":"IF('PENNANT TEAMS'!$B$5=3,'PENNANT TEAMS'!$E$74,\"\")","v":""},{"$f":"IF('PENNANT TEAMS'!$B$5=3,'PENNANT TEAMS'!$E$73,\"\")","v":""},{"$f":"IF('PENNANT TEAMS'!$B$5=3,'PENNANT TEAMS'!$A$71,\"\")","v":""},{"$f":"IF('PENNANT TEAMS'!$B$5=4,'PENNANT TEAMS'!$E$74,\"\")","v":""},{"$f":"IF('PENNANT TEAMS'!$B$5=4,'PENNANT TEAMS'!$E$73,\"\")","v":""},{"$f":"IF('PENNANT TEAMS'!$B$5=4,'PENNANT TEAMS'!$A$71,\"\")","v":""},{"$f":"IF('PENNANT TEAMS'!$B$5=5,'PENNANT TEAMS'!$E$74,\"\")","v":""},{"$f":"IF('PENNANT TEAMS'!$B$5=5,'PENNANT TEAMS'!$E$73,\"\")","v":""},{"$f":"IF('PENNANT TEAMS'!$B$5=5,'PENNANT TEAMS'!$A$71,\"\")","v":""},{"$f":"IF('PENNANT TEAMS'!$B$5=6,'PENNANT TEAMS'!$E$74,\"\")","v":""},{"$f":"IF('PENNANT TEAMS'!$B$5=6,'PENNANT TEAMS'!$E$73,\"\")","v":""},{"$f":"IF('PENNANT TEAMS'!$B$5=6,'PENNANT TEAMS'!$A$71,\"\")","v":""},{"$f":"IF('PENNANT TEAMS'!$B$5=7,'PENNANT TEAMS'!$E$74,\"\")","v":""},{"$f":"IF('PENNANT TEAMS'!$B$5=7,'PENNANT TEAMS'!$E$73,\"\")","v":""},{"$f":"IF('PENNANT TEAMS'!$B$5=7,'PENNANT TEAMS'!$A$71,\"\")","v":""},{"$f":"IF('PENNANT TEAMS'!$B$5=8,'PENNANT TEAMS'!$E$74,\"\")","v":""},{"$f":"IF('PENNANT TEAMS'!$B$5=8,'PENNANT TEAMS'!$E$73,\"\")","v":""},{"$f":"IF('PENNANT TEAMS'!$B$5=8,'PENNANT TEAMS'!$A$71,\"\")","v":""},{"$f":"IF('PENNANT TEAMS'!$B$5=9,'PENNANT TEAMS'!$E$74,\"\")","v":""},{"$f":"IF('PENNANT TEAMS'!$B$5=9,'PENNANT TEAMS'!$E$73,\"\")","v":""},{"$f":"IF('PENNANT TEAMS'!$B$5=9,'PENNANT TEAMS'!$A$71,\"\")","v":""},{"$f":"IF('PENNANT TEAMS'!$B$5=10,'PENNANT TEAMS'!$E$74,\"\")","v":""},{"$f":"IF('PENNANT TEAMS'!$B$5=10,'PENNANT TEAMS'!$E$73,\"\")","v":""},{"$f":"IF('PENNANT TEAMS'!$B$5=10,'PENNANT TEAMS'!$A$71,\"\")","v":""}]
[{"$f":"IF('PENNANT TEAMS'!$B$5=1,'PENNANT TEAMS'!$B$76,\"\")","v":""},{"$f":"IF('PENNANT TEAMS'!$B$5=1,'PENNANT TEAMS'!$B$75,\"\")","v":0},{"$f":"IF('PENNANT TEAMS'!$B$5=1,'PENNANT TEAMS'!$A$71,\"\")","v":0},{"$f":"IF('PENNANT TEAMS'!$B$5=2,'PENNANT TEAMS'!$B$76,\"\")","v":""},{"$f":"IF('PENNANT TEAMS'!$B$5=2,'PENNANT TEAMS'!$B$75,\"\")","v":""},{"$f":"IF('PENNANT TEAMS'!$B$5=2,'PENNANT TEAMS'!$A$71,\"\")","v":""},{"$f":"IF('PENNANT TEAMS'!$B$5=3,'PENNANT TEAMS'!$B$76,\"\")","v":""},{"$f":"IF('PENNANT TEAMS'!$B$5=3,'PENNANT TEAMS'!$B$75,\"\")","v":""},{"$f":"IF('PENNANT TEAMS'!$B$5=3,'PENNANT TEAMS'!$A$71,\"\")","v":""},{"$f":"IF('PENNANT TEAMS'!$B$5=4,'PENNANT TEAMS'!$B$76,\"\")","v":""},{"$f":"IF('PENNANT TEAMS'!$B$5=4,'PENNANT TEAMS'!$B$75,\"\")","v":""},{"$f":"IF('PENNANT TEAMS'!$B$5=4,'PENNANT TEAMS'!$A$71,\"\")","v":""},{"$f":"IF('PENNANT TEAMS'!$B$5=5,'PENNANT TEAMS'!$B$76,\"\")","v":""},{"$f":"IF('PENNANT TEAMS'!$B$5=5,'PENNANT TEAMS'!$B$75,\"\")","v":""},{"$f":"IF('PENNANT TEAMS'!$B$5=5,'PENNANT TEAMS'!$A$71,\"\")","v":""},{"$f":"IF('PENNANT TEAMS'!$B$5=6,'PENNANT TEAMS'!$B$76,\"\")","v":""},{"$f":"IF('PENNANT TEAMS'!$B$5=6,'PENNANT TEAMS'!$B$75,\"\")","v":""},{"$f":"IF('PENNANT TEAMS'!$B$5=6,'PENNANT TEAMS'!$A$71,\"\")","v":""},{"$f":"IF('PENNANT TEAMS'!$B$5=7,'PENNANT TEAMS'!$B$76,\"\")","v":""},{"$f":"IF('PENNANT TEAMS'!$B$5=7,'PENNANT TEAMS'!$B$75,\"\")","v":""},{"$f":"IF('PENNANT TEAMS'!$B$5=7,'PENNANT TEAMS'!$A$71,\"\")","v":""},{"$f":"IF('PENNANT TEAMS'!$B$5=8,'PENNANT TEAMS'!$B$76,\"\")","v":""},{"$f":"IF('PENNANT TEAMS'!$B$5=8,'PENNANT TEAMS'!$B$75,\"\")","v":""},{"$f":"IF('PENNANT TEAMS'!$B$5=8,'PENNANT TEAMS'!$A$71,\"\")","v":""},{"$f":"IF('PENNANT TEAMS'!$B$5=9,'PENNANT TEAMS'!$B$76,\"\")","v":""},{"$f":"IF('PENNANT TEAMS'!$B$5=9,'PENNANT TEAMS'!$B$75,\"\")","v":""},{"$f":"IF('PENNANT TEAMS'!$B$5=9,'PENNANT TEAMS'!$A$71,\"\")","v":""},{"$f":"IF('PENNANT TEAMS'!$B$5=10,'PENNANT TEAMS'!$B$76,\"\")","v":""},{"$f":"IF('PENNANT TEAMS'!$B$5=10,'PENNANT TEAMS'!$B$75,\"\")","v":""},{"$f":"IF('PENNANT TEAMS'!$B$5=10,'PENNANT TEAMS'!$A$71,\"\")","v":""}]
[{"$f":"IF('PENNANT TEAMS'!$B$5=1,'PENNANT TEAMS'!$C$76,\"\")","v":""},{"$f":"IF('PENNANT TEAMS'!$B$5=1,'PENNANT TEAMS'!$C$75,\"\")","v":0},{"$f":"IF('PENNANT TEAMS'!$B$5=1,'PENNANT TEAMS'!$A$71,\"\")","v":0},{"$f":"IF('PENNANT TEAMS'!$B$5=2,'PENNANT TEAMS'!$C$76,\"\")","v":""},{"$f":"IF('PENNANT TEAMS'!$B$5=2,'PENNANT TEAMS'!$C$75,\"\")","v":""},{"$f":"IF('PENNANT TEAMS'!$B$5=2,'PENNANT TEAMS'!$A$71,\"\")","v":""},{"$f":"IF('PENNANT TEAMS'!$B$5=3,'PENNANT TEAMS'!$C$76,\"\")","v":""},{"$f":"IF('PENNANT TEAMS'!$B$5=3,'PENNANT TEAMS'!$C$75,\"\")","v":""},{"$f":"IF('PENNANT TEAMS'!$B$5=3,'PENNANT TEAMS'!$A$71,\"\")","v":""},{"$f":"IF('PENNANT TEAMS'!$B$5=4,'PENNANT TEAMS'!$C$76,\"\")","v":""},{"$f":"IF('PENNANT TEAMS'!$B$5=4,'PENNANT TEAMS'!$C$75,\"\")","v":""},{"$f":"IF('PENNANT TEAMS'!$B$5=4,'PENNANT TEAMS'!$A$71,\"\")","v":""},{"$f":"IF('PENNANT TEAMS'!$B$5=5,'PENNANT TEAMS'!$C$76,\"\")","v":""},{"$f":"IF('PENNANT TEAMS'!$B$5=5,'PENNANT TEAMS'!$C$75,\"\")","v":""},{"$f":"IF('PENNANT TEAMS'!$B$5=5,'PENNANT TEAMS'!$A$71,\"\")","v":""},{"$f":"IF('PENNANT TEAMS'!$B$5=6,'PENNANT TEAMS'!$C$76,\"\")","v":""},{"$f":"IF('PENNANT TEAMS'!$B$5=6,'PENNANT TEAMS'!$C$75,\"\")","v":""},{"$f":"IF('PENNANT TEAMS'!$B$5=6,'PENNANT TEAMS'!$A$71,\"\")","v":""},{"$f":"IF('PENNANT TEAMS'!$B$5=7,'PENNANT TEAMS'!$C$76,\"\")","v":""},{"$f":"IF('PENNANT TEAMS'!$B$5=7,'PENNANT TEAMS'!$C$75,\"\")","v":""},{"$f":"IF('PENNANT TEAMS'!$B$5=7,'PENNANT TEAMS'!$A$71,\"\")","v":""},{"$f":"IF('PENNANT TEAMS'!$B$5=8,'PENNANT TEAMS'!$C$76,\"\")","v":""},{"$f":"IF('PENNANT TEAMS'!$B$5=8,'PENNANT TEAMS'!$C$75,\"\")","v":""},{"$f":"IF('PENNANT TEAMS'!$B$5=8,'PENNANT TEAMS'!$A$71,\"\")","v":""},{"$f":"IF('PENNANT TEAMS'!$B$5=9,'PENNANT TEAMS'!$C$76,\"\")","v":""},{"$f":"IF('PENNANT TEAMS'!$B$5=9,'PENNANT TEAMS'!$C$75,\"\")","v":""},{"$f":"IF('PENNANT TEAMS'!$B$5=9,'PENNANT TEAMS'!$A$71,\"\")","v":""},{"$f":"IF('PENNANT TEAMS'!$B$5=10,'PENNANT TEAMS'!$C$76,\"\")","v":""},{"$f":"IF('PENNANT TEAMS'!$B$5=10,'PENNANT TEAMS'!$C$75,\"\")","v":""},{"$f":"IF('PENNANT TEAMS'!$B$5=10,'PENNANT TEAMS'!$A$71,\"\")","v":""}]
[{"$f":"IF('PENNANT TEAMS'!$B$5=1,'PENNANT TEAMS'!$D$76,\"\")","v":""},{"$f":"IF('PENNANT TEAMS'!$B$5=1,'PENNANT TEAMS'!$D$75,\"\")","v":0},{"$f":"IF('PENNANT TEAMS'!$B$5=1,'PENNANT TEAMS'!$A$71,\"\")","v":0},{"$f":"IF('PENNANT TEAMS'!$B$5=2,'PENNANT TEAMS'!$D$76,\"\")","v":""},{"$f":"IF('PENNANT TEAMS'!$B$5=2,'PENNANT TEAMS'!$D$75,\"\")","v":""},{"$f":"IF('PENNANT TEAMS'!$B$5=2,'PENNANT TEAMS'!$A$71,\"\")","v":""},{"$f":"IF('PENNANT TEAMS'!$B$5=3,'PENNANT TEAMS'!$D$76,\"\")","v":""},{"$f":"IF('PENNANT TEAMS'!$B$5=3,'PENNANT TEAMS'!$D$75,\"\")","v":""},{"$f":"IF('PENNANT TEAMS'!$B$5=3,'PENNANT TEAMS'!$A$71,\"\")","v":""},{"$f":"IF('PENNANT TEAMS'!$B$5=4,'PENNANT TEAMS'!$D$76,\"\")","v":""},{"$f":"IF('PENNANT TEAMS'!$B$5=4,'PENNANT TEAMS'!$D$75,\"\")","v":""},{"$f":"IF('PENNANT TEAMS'!$B$5=4,'PENNANT TEAMS'!$A$71,\"\")","v":""},{"$f":"IF('PENNANT TEAMS'!$B$5=5,'PENNANT TEAMS'!$D$76,\"\")","v":""},{"$f":"IF('PENNANT TEAMS'!$B$5=5,'PENNANT TEAMS'!$D$75,\"\")","v":""},{"$f":"IF('PENNANT TEAMS'!$B$5=5,'PENNANT TEAMS'!$A$71,\"\")","v":""},{"$f":"IF('PENNANT TEAMS'!$B$5=6,'PENNANT TEAMS'!$D$76,\"\")","v":""},{"$f":"IF('PENNANT TEAMS'!$B$5=6,'PENNANT TEAMS'!$D$75,\"\")","v":""},{"$f":"IF('PENNANT TEAMS'!$B$5=6,'PENNANT TEAMS'!$A$71,\"\")","v":""},{"$f":"IF('PENNANT TEAMS'!$B$5=7,'PENNANT TEAMS'!$D$76,\"\")","v":""},{"$f":"IF('PENNANT TEAMS'!$B$5=7,'PENNANT TEAMS'!$D$75,\"\")","v":""},{"$f":"IF('PENNANT TEAMS'!$B$5=7,'PENNANT TEAMS'!$A$71,\"\")","v":""},{"$f":"IF('PENNANT TEAMS'!$B$5=8,'PENNANT TEAMS'!$D$76,\"\")","v":""},{"$f":"IF('PENNANT TEAMS'!$B$5=8,'PENNANT TEAMS'!$D$75,\"\")","v":""},{"$f":"IF('PENNANT TEAMS'!$B$5=8,'PENNANT TEAMS'!$A$71,\"\")","v":""},{"$f":"IF('PENNANT TEAMS'!$B$5=9,'PENNANT TEAMS'!$D$76,\"\")","v":""},{"$f":"IF('PENNANT TEAMS'!$B$5=9,'PENNANT TEAMS'!$D$75,\"\")","v":""},{"$f":"IF('PENNANT TEAMS'!$B$5=9,'PENNANT TEAMS'!$A$71,\"\")","v":""},{"$f":"IF('PENNANT TEAMS'!$B$5=10,'PENNANT TEAMS'!$D$76,\"\")","v":""},{"$f":"IF('PENNANT TEAMS'!$B$5=10,'PENNANT TEAMS'!$D$75,\"\")","v":""},{"$f":"IF('PENNANT TEAMS'!$B$5=10,'PENNANT TEAMS'!$A$71,\"\")","v":""}]
[{"$f":"IF('PENNANT TEAMS'!$B$5=1,'PENNANT TEAMS'!$E$76,\"\")","v":""},{"$f":"IF('PENNANT TEAMS'!$B$5=1,'PENNANT TEAMS'!$E$75,\"\")","v":0},{"$f":"IF('PENNANT TEAMS'!$B$5=1,'PENNANT TEAMS'!$A$71,\"\")","v":0},{"$f":"IF('PENNANT TEAMS'!$B$5=2,'PENNANT TEAMS'!$E$76,\"\")","v":""},{"$f":"IF('PENNANT TEAMS'!$B$5=2,'PENNANT TEAMS'!$E$75,\"\")","v":""},{"$f":"IF('PENNANT TEAMS'!$B$5=2,'PENNANT TEAMS'!$A$71,\"\")","v":""},{"$f":"IF('PENNANT TEAMS'!$B$5=3,'PENNANT TEAMS'!$E$76,\"\")","v":""},{"$f":"IF('PENNANT TEAMS'!$B$5=3,'PENNANT TEAMS'!$E$75,\"\")","v":""},{"$f":"IF('PENNANT TEAMS'!$B$5=3,'PENNANT TEAMS'!$A$71,\"\")","v":""},{"$f":"IF('PENNANT TEAMS'!$B$5=4,'PENNANT TEAMS'!$E$76,\"\")","v":""},{"$f":"IF('PENNANT TEAMS'!$B$5=4,'PENNANT TEAMS'!$E$75,\"\")","v":""},{"$f":"IF('PENNANT TEAMS'!$B$5=4,'PENNANT TEAMS'!$A$71,\"\")","v":""},{"$f":"IF('PENNANT TEAMS'!$B$5=5,'PENNANT TEAMS'!$E$76,\"\")","v":""},{"$f":"IF('PENNANT TEAMS'!$B$5=5,'PENNANT TEAMS'!$E$75,\"\")","v":""},{"$f":"IF('PENNANT TEAMS'!$B$5=5,'PENNANT TEAMS'!$A$71,\"\")","v":""},{"$f":"IF('PENNANT TEAMS'!$B$5=6,'PENNANT TEAMS'!$E$76,\"\")","v":""},{"$f":"IF('PENNANT TEAMS'!$B$5=6,'PENNANT TEAMS'!$E$75,\"\")","v":""},{"$f":"IF('PENNANT TEAMS'!$B$5=6,'PENNANT TEAMS'!$A$71,\"\")","v":""},{"$f":"IF('PENNANT TEAMS'!$B$5=7,'PENNANT TEAMS'!$E$76,\"\")","v":""},{"$f":"IF('PENNANT TEAMS'!$B$5=7,'PENNANT TEAMS'!$E$75,\"\")","v":""},{"$f":"IF('PENNANT TEAMS'!$B$5=7,'PENNANT TEAMS'!$A$71,\"\")","v":""},{"$f":"IF('PENNANT TEAMS'!$B$5=8,'PENNANT TEAMS'!$E$76,\"\")","v":""},{"$f":"IF('PENNANT TEAMS'!$B$5=8,'PENNANT TEAMS'!$E$75,\"\")","v":""},{"$f":"IF('PENNANT TEAMS'!$B$5=8,'PENNANT TEAMS'!$A$71,\"\")","v":""},{"$f":"IF('PENNANT TEAMS'!$B$5=9,'PENNANT TEAMS'!$E$76,\"\")","v":""},{"$f":"IF('PENNANT TEAMS'!$B$5=9,'PENNANT TEAMS'!$E$75,\"\")","v":""},{"$f":"IF('PENNANT TEAMS'!$B$5=9,'PENNANT TEAMS'!$A$71,\"\")","v":""},{"$f":"IF('PENNANT TEAMS'!$B$5=10,'PENNANT TEAMS'!$E$76,\"\")","v":""},{"$f":"IF('PENNANT TEAMS'!$B$5=10,'PENNANT TEAMS'!$E$75,\"\")","v":""},{"$f":"IF('PENNANT TEAMS'!$B$5=10,'PENNANT TEAMS'!$A$71,\"\")","v":""}]
[{"$f":"IF('PENNANT TEAMS'!$B$5=1,'PENNANT TEAMS'!$B$81,\"\")","v":""},{"$f":"IF('PENNANT TEAMS'!$B$5=1,'PENNANT TEAMS'!$B$80,\"\")","v":0},{"$f":"IF('PENNANT TEAMS'!$B$5=1,'PENNANT TEAMS'!$A$80,\"\")","v":0},{"$f":"IF('PENNANT TEAMS'!$B$5=2,'PENNANT TEAMS'!$B$81,\"\")","v":""},{"$f":"IF('PENNANT TEAMS'!$B$5=2,'PENNANT TEAMS'!$B$80,\"\")","v":""},{"$f":"IF('PENNANT TEAMS'!$B$5=2,'PENNANT TEAMS'!$A$80,\"\")","v":""},{"$f":"IF('PENNANT TEAMS'!$B$5=3,'PENNANT TEAMS'!$B$81,\"\")","v":""},{"$f":"IF('PENNANT TEAMS'!$B$5=3,'PENNANT TEAMS'!$B$80,\"\")","v":""},{"$f":"IF('PENNANT TEAMS'!$B$5=3,'PENNANT TEAMS'!$A$80,\"\")","v":""},{"$f":"IF('PENNANT TEAMS'!$B$5=4,'PENNANT TEAMS'!$B$81,\"\")","v":""},{"$f":"IF('PENNANT TEAMS'!$B$5=4,'PENNANT TEAMS'!$B$80,\"\")","v":""},{"$f":"IF('PENNANT TEAMS'!$B$5=4,'PENNANT TEAMS'!$A$80,\"\")","v":""},{"$f":"IF('PENNANT TEAMS'!$B$5=5,'PENNANT TEAMS'!$B$81,\"\")","v":""},{"$f":"IF('PENNANT TEAMS'!$B$5=5,'PENNANT TEAMS'!$B$80,\"\")","v":""},{"$f":"IF('PENNANT TEAMS'!$B$5=5,'PENNANT TEAMS'!$A$80,\"\")","v":""},{"$f":"IF('PENNANT TEAMS'!$B$5=6,'PENNANT TEAMS'!$B$81,\"\")","v":""},{"$f":"IF('PENNANT TEAMS'!$B$5=6,'PENNANT TEAMS'!$B$80,\"\")","v":""},{"$f":"IF('PENNANT TEAMS'!$B$5=6,'PENNANT TEAMS'!$A$80,\"\")","v":""},{"$f":"IF('PENNANT TEAMS'!$B$5=7,'PENNANT TEAMS'!$B$81,\"\")","v":""},{"$f":"IF('PENNANT TEAMS'!$B$5=7,'PENNANT TEAMS'!$B$80,\"\")","v":""},{"$f":"IF('PENNANT TEAMS'!$B$5=7,'PENNANT TEAMS'!$A$80,\"\")","v":""},{"$f":"IF('PENNANT TEAMS'!$B$5=8,'PENNANT TEAMS'!$B$81,\"\")","v":""},{"$f":"IF('PENNANT TEAMS'!$B$5=8,'PENNANT TEAMS'!$B$80,\"\")","v":""},{"$f":"IF('PENNANT TEAMS'!$B$5=8,'PENNANT TEAMS'!$A$80,\"\")","v":""},{"$f":"IF('PENNANT TEAMS'!$B$5=9,'PENNANT TEAMS'!$B$81,\"\")","v":""},{"$f":"IF('PENNANT TEAMS'!$B$5=9,'PENNANT TEAMS'!$B$80,\"\")","v":""},{"$f":"IF('PENNANT TEAMS'!$B$5=9,'PENNANT TEAMS'!$A$80,\"\")","v":""},{"$f":"IF('PENNANT TEAMS'!$B$5=10,'PENNANT TEAMS'!$B$81,\"\")","v":""},{"$f":"IF('PENNANT TEAMS'!$B$5=10,'PENNANT TEAMS'!$B$80,\"\")","v":""},{"$f":"IF('PENNANT TEAMS'!$B$5=10,'PENNANT TEAMS'!$A$80,\"\")","v":""}]
[{"$f":"IF('PENNANT TEAMS'!$B$5=1,'PENNANT TEAMS'!$C$81,\"\")","v":""},{"$f":"IF('PENNANT TEAMS'!$B$5=1,'PENNANT TEAMS'!$C$80,\"\")","v":0},{"$f":"IF('PENNANT TEAMS'!$B$5=1,'PENNANT TEAMS'!$A$80,\"\")","v":0},{"$f":"IF('PENNANT TEAMS'!$B$5=2,'PENNANT TEAMS'!$C$81,\"\")","v":""},{"$f":"IF('PENNANT TEAMS'!$B$5=2,'PENNANT TEAMS'!$C$80,\"\")","v":""},{"$f":"IF('PENNANT TEAMS'!$B$5=2,'PENNANT TEAMS'!$A$80,\"\")","v":""},{"$f":"IF('PENNANT TEAMS'!$B$5=3,'PENNANT TEAMS'!$C$81,\"\")","v":""},{"$f":"IF('PENNANT TEAMS'!$B$5=3,'PENNANT TEAMS'!$C$80,\"\")","v":""},{"$f":"IF('PENNANT TEAMS'!$B$5=3,'PENNANT TEAMS'!$A$80,\"\")","v":""},{"$f":"IF('PENNANT TEAMS'!$B$5=4,'PENNANT TEAMS'!$C$81,\"\")","v":""},{"$f":"IF('PENNANT TEAMS'!$B$5=4,'PENNANT TEAMS'!$C$80,\"\")","v":""},{"$f":"IF('PENNANT TEAMS'!$B$5=4,'PENNANT TEAMS'!$A$80,\"\")","v":""},{"$f":"IF('PENNANT TEAMS'!$B$5=5,'PENNANT TEAMS'!$C$81,\"\")","v":""},{"$f":"IF('PENNANT TEAMS'!$B$5=5,'PENNANT TEAMS'!$C$80,\"\")","v":""},{"$f":"IF('PENNANT TEAMS'!$B$5=5,'PENNANT TEAMS'!$A$80,\"\")","v":""},{"$f":"IF('PENNANT TEAMS'!$B$5=6,'PENNANT TEAMS'!$C$81,\"\")","v":""},{"$f":"IF('PENNANT TEAMS'!$B$5=6,'PENNANT TEAMS'!$C$80,\"\")","v":""},{"$f":"IF('PENNANT TEAMS'!$B$5=6,'PENNANT TEAMS'!$A$80,\"\")","v":""},{"$f":"IF('PENNANT TEAMS'!$B$5=7,'PENNANT TEAMS'!$C$81,\"\")","v":""},{"$f":"IF('PENNANT TEAMS'!$B$5=7,'PENNANT TEAMS'!$C$80,\"\")","v":""},{"$f":"IF('PENNANT TEAMS'!$B$5=7,'PENNANT TEAMS'!$A$80,\"\")","v":""},{"$f":"IF('PENNANT TEAMS'!$B$5=8,'PENNANT TEAMS'!$C$81,\"\")","v":""},{"$f":"IF('PENNANT TEAMS'!$B$5=8,'PENNANT TEAMS'!$C$80,\"\")","v":""},{"$f":"IF('PENNANT TEAMS'!$B$5=8,'PENNANT TEAMS'!$A$80,\"\")","v":""},{"$f":"IF('PENNANT TEAMS'!$B$5=9,'PENNANT TEAMS'!$C$81,\"\")","v":""},{"$f":"IF('PENNANT TEAMS'!$B$5=9,'PENNANT TEAMS'!$C$80,\"\")","v":""},{"$f":"IF('PENNANT TEAMS'!$B$5=9,'PENNANT TEAMS'!$A$80,\"\")","v":""},{"$f":"IF('PENNANT TEAMS'!$B$5=10,'PENNANT TEAMS'!$C$81,\"\")","v":""},{"$f":"IF('PENNANT TEAMS'!$B$5=10,'PENNANT TEAMS'!$C$80,\"\")","v":""},{"$f":"IF('PENNANT TEAMS'!$B$5=10,'PENNANT TEAMS'!$A$80,\"\")","v":""}]
[{"$f":"IF('PENNANT TEAMS'!$B$5=1,'PENNANT TEAMS'!$D$81,\"\")","v":""},{"$f":"IF('PENNANT TEAMS'!$B$5=1,'PENNANT TEAMS'!$D$80,\"\")","v":0},{"$f":"IF('PENNANT TEAMS'!$B$5=1,'PENNANT TEAMS'!$A$80,\"\")","v":0},{"$f":"IF('PENNANT TEAMS'!$B$5=2,'PENNANT TEAMS'!$D$81,\"\")","v":""},{"$f":"IF('PENNANT TEAMS'!$B$5=2,'PENNANT TEAMS'!$D$80,\"\")","v":""},{"$f":"IF('PENNANT TEAMS'!$B$5=2,'PENNANT TEAMS'!$A$80,\"\")","v":""},{"$f":"IF('PENNANT TEAMS'!$B$5=3,'PENNANT TEAMS'!$D$81,\"\")","v":""},{"$f":"IF('PENNANT TEAMS'!$B$5=3,'PENNANT TEAMS'!$D$80,\"\")","v":""},{"$f":"IF('PENNANT TEAMS'!$B$5=3,'PENNANT TEAMS'!$A$80,\"\")","v":""},{"$f":"IF('PENNANT TEAMS'!$B$5=4,'PENNANT TEAMS'!$D$81,\"\")","v":""},{"$f":"IF('PENNANT TEAMS'!$B$5=4,'PENNANT TEAMS'!$D$80,\"\")","v":""},{"$f":"IF('PENNANT TEAMS'!$B$5=4,'PENNANT TEAMS'!$A$80,\"\")","v":""},{"$f":"IF('PENNANT TEAMS'!$B$5=5,'PENNANT TEAMS'!$D$81,\"\")","v":""},{"$f":"IF('PENNANT TEAMS'!$B$5=5,'PENNANT TEAMS'!$D$80,\"\")","v":""},{"$f":"IF('PENNANT TEAMS'!$B$5=5,'PENNANT TEAMS'!$A$80,\"\")","v":""},{"$f":"IF('PENNANT TEAMS'!$B$5=6,'PENNANT TEAMS'!$D$81,\"\")","v":""},{"$f":"IF('PENNANT TEAMS'!$B$5=6,'PENNANT TEAMS'!$D$80,\"\")","v":""},{"$f":"IF('PENNANT TEAMS'!$B$5=6,'PENNANT TEAMS'!$A$80,\"\")","v":""},{"$f":"IF('PENNANT TEAMS'!$B$5=7,'PENNANT TEAMS'!$D$81,\"\")","v":""},{"$f":"IF('PENNANT TEAMS'!$B$5=7,'PENNANT TEAMS'!$D$80,\"\")","v":""},{"$f":"IF('PENNANT TEAMS'!$B$5=7,'PENNANT TEAMS'!$A$80,\"\")","v":""},{"$f":"IF('PENNANT TEAMS'!$B$5=8,'PENNANT TEAMS'!$D$81,\"\")","v":""},{"$f":"IF('PENNANT TEAMS'!$B$5=8,'PENNANT TEAMS'!$D$80,\"\")","v":""},{"$f":"IF('PENNANT TEAMS'!$B$5=8,'PENNANT TEAMS'!$A$80,\"\")","v":""},{"$f":"IF('PENNANT TEAMS'!$B$5=9,'PENNANT TEAMS'!$D$81,\"\")","v":""},{"$f":"IF('PENNANT TEAMS'!$B$5=9,'PENNANT TEAMS'!$D$80,\"\")","v":""},{"$f":"IF('PENNANT TEAMS'!$B$5=9,'PENNANT TEAMS'!$A$80,\"\")","v":""},{"$f":"IF('PENNANT TEAMS'!$B$5=10,'PENNANT TEAMS'!$D$81,\"\")","v":""},{"$f":"IF('PENNANT TEAMS'!$B$5=10,'PENNANT TEAMS'!$D$80,\"\")","v":""},{"$f":"IF('PENNANT TEAMS'!$B$5=10,'PENNANT TEAMS'!$A$80,\"\")","v":""}]
[{"$f":"IF('PENNANT TEAMS'!$B$5=1,'PENNANT TEAMS'!$E$81,\"\")","v":""},{"$f":"IF('PENNANT TEAMS'!$B$5=1,'PENNANT TEAMS'!$E$80,\"\")","v":0},{"$f":"IF('PENNANT TEAMS'!$B$5=1,'PENNANT TEAMS'!$A$80,\"\")","v":0},{"$f":"IF('PENNANT TEAMS'!$B$5=2,'PENNANT TEAMS'!$E$81,\"\")","v":""},{"$f":"IF('PENNANT TEAMS'!$B$5=2,'PENNANT TEAMS'!$E$80,\"\")","v":""},{"$f":"IF('PENNANT TEAMS'!$B$5=2,'PENNANT TEAMS'!$A$80,\"\")","v":""},{"$f":"IF('PENNANT TEAMS'!$B$5=3,'PENNANT TEAMS'!$E$81,\"\")","v":""},{"$f":"IF('PENNANT TEAMS'!$B$5=3,'PENNANT TEAMS'!$E$80,\"\")","v":""},{"$f":"IF('PENNANT TEAMS'!$B$5=3,'PENNANT TEAMS'!$A$80,\"\")","v":""},{"$f":"IF('PENNANT TEAMS'!$B$5=4,'PENNANT TEAMS'!$E$81,\"\")","v":""},{"$f":"IF('PENNANT TEAMS'!$B$5=4,'PENNANT TEAMS'!$E$80,\"\")","v":""},{"$f":"IF('PENNANT TEAMS'!$B$5=4,'PENNANT TEAMS'!$A$80,\"\")","v":""},{"$f":"IF('PENNANT TEAMS'!$B$5=5,'PENNANT TEAMS'!$E$81,\"\")","v":""},{"$f":"IF('PENNANT TEAMS'!$B$5=5,'PENNANT TEAMS'!$E$80,\"\")","v":""},{"$f":"IF('PENNANT TEAMS'!$B$5=5,'PENNANT TEAMS'!$A$80,\"\")","v":""},{"$f":"IF('PENNANT TEAMS'!$B$5=6,'PENNANT TEAMS'!$E$81,\"\")","v":""},{"$f":"IF('PENNANT TEAMS'!$B$5=6,'PENNANT TEAMS'!$E$80,\"\")","v":""},{"$f":"IF('PENNANT TEAMS'!$B$5=6,'PENNANT TEAMS'!$A$80,\"\")","v":""},{"$f":"IF('PENNANT TEAMS'!$B$5=7,'PENNANT TEAMS'!$E$81,\"\")","v":""},{"$f":"IF('PENNANT TEAMS'!$B$5=7,'PENNANT TEAMS'!$E$80,\"\")","v":""},{"$f":"IF('PENNANT TEAMS'!$B$5=7,'PENNANT TEAMS'!$A$80,\"\")","v":""},{"$f":"IF('PENNANT TEAMS'!$B$5=8,'PENNANT TEAMS'!$E$81,\"\")","v":""},{"$f":"IF('PENNANT TEAMS'!$B$5=8,'PENNANT TEAMS'!$E$80,\"\")","v":""},{"$f":"IF('PENNANT TEAMS'!$B$5=8,'PENNANT TEAMS'!$A$80,\"\")","v":""},{"$f":"IF('PENNANT TEAMS'!$B$5=9,'PENNANT TEAMS'!$E$81,\"\")","v":""},{"$f":"IF('PENNANT TEAMS'!$B$5=9,'PENNANT TEAMS'!$E$80,\"\")","v":""},{"$f":"IF('PENNANT TEAMS'!$B$5=9,'PENNANT TEAMS'!$A$80,\"\")","v":""},{"$f":"IF('PENNANT TEAMS'!$B$5=10,'PENNANT TEAMS'!$E$81,\"\")","v":""},{"$f":"IF('PENNANT TEAMS'!$B$5=10,'PENNANT TEAMS'!$E$80,\"\")","v":""},{"$f":"IF('PENNANT TEAMS'!$B$5=10,'PENNANT TEAMS'!$A$80,\"\")","v":""}]
[{"$f":"IF('PENNANT TEAMS'!$B$5=1,'PENNANT TEAMS'!$B$83,\"\")","v":""},{"$f":"IF('PENNANT TEAMS'!$B$5=1,'PENNANT TEAMS'!$B$82,\"\")","v":0},{"$f":"IF('PENNANT TEAMS'!$B$5=1,'PENNANT TEAMS'!$A$80,\"\")","v":0},{"$f":"IF('PENNANT TEAMS'!$B$5=2,'PENNANT TEAMS'!$B$83,\"\")","v":""},{"$f":"IF('PENNANT TEAMS'!$B$5=2,'PENNANT TEAMS'!$B$82,\"\")","v":""},{"$f":"IF('PENNANT TEAMS'!$B$5=2,'PENNANT TEAMS'!$A$80,\"\")","v":""},{"$f":"IF('PENNANT TEAMS'!$B$5=3,'PENNANT TEAMS'!$B$83,\"\")","v":""},{"$f":"IF('PENNANT TEAMS'!$B$5=3,'PENNANT TEAMS'!$B$82,\"\")","v":""},{"$f":"IF('PENNANT TEAMS'!$B$5=3,'PENNANT TEAMS'!$A$80,\"\")","v":""},{"$f":"IF('PENNANT TEAMS'!$B$5=4,'PENNANT TEAMS'!$B$83,\"\")","v":""},{"$f":"IF('PENNANT TEAMS'!$B$5=4,'PENNANT TEAMS'!$B$82,\"\")","v":""},{"$f":"IF('PENNANT TEAMS'!$B$5=4,'PENNANT TEAMS'!$A$80,\"\")","v":""},{"$f":"IF('PENNANT TEAMS'!$B$5=5,'PENNANT TEAMS'!$B$83,\"\")","v":""},{"$f":"IF('PENNANT TEAMS'!$B$5=5,'PENNANT TEAMS'!$B$82,\"\")","v":""},{"$f":"IF('PENNANT TEAMS'!$B$5=5,'PENNANT TEAMS'!$A$80,\"\")","v":""},{"$f":"IF('PENNANT TEAMS'!$B$5=6,'PENNANT TEAMS'!$B$83,\"\")","v":""},{"$f":"IF('PENNANT TEAMS'!$B$5=6,'PENNANT TEAMS'!$B$82,\"\")","v":""},{"$f":"IF('PENNANT TEAMS'!$B$5=6,'PENNANT TEAMS'!$A$80,\"\")","v":""},{"$f":"IF('PENNANT TEAMS'!$B$5=7,'PENNANT TEAMS'!$B$83,\"\")","v":""},{"$f":"IF('PENNANT TEAMS'!$B$5=7,'PENNANT TEAMS'!$B$82,\"\")","v":""},{"$f":"IF('PENNANT TEAMS'!$B$5=7,'PENNANT TEAMS'!$A$80,\"\")","v":""},{"$f":"IF('PENNANT TEAMS'!$B$5=8,'PENNANT TEAMS'!$B$83,\"\")","v":""},{"$f":"IF('PENNANT TEAMS'!$B$5=8,'PENNANT TEAMS'!$B$82,\"\")","v":""},{"$f":"IF('PENNANT TEAMS'!$B$5=8,'PENNANT TEAMS'!$A$80,\"\")","v":""},{"$f":"IF('PENNANT TEAMS'!$B$5=9,'PENNANT TEAMS'!$B$83,\"\")","v":""},{"$f":"IF('PENNANT TEAMS'!$B$5=9,'PENNANT TEAMS'!$B$82,\"\")","v":""},{"$f":"IF('PENNANT TEAMS'!$B$5=9,'PENNANT TEAMS'!$A$80,\"\")","v":""},{"$f":"IF('PENNANT TEAMS'!$B$5=10,'PENNANT TEAMS'!$B$83,\"\")","v":""},{"$f":"IF('PENNANT TEAMS'!$B$5=10,'PENNANT TEAMS'!$B$82,\"\")","v":""},{"$f":"IF('PENNANT TEAMS'!$B$5=10,'PENNANT TEAMS'!$A$80,\"\")","v":""}]
[{"$f":"IF('PENNANT TEAMS'!$B$5=1,'PENNANT TEAMS'!$C$83,\"\")","v":""},{"$f":"IF('PENNANT TEAMS'!$B$5=1,'PENNANT TEAMS'!$C$82,\"\")","v":0},{"$f":"IF('PENNANT TEAMS'!$B$5=1,'PENNANT TEAMS'!$A$80,\"\")","v":0},{"$f":"IF('PENNANT TEAMS'!$B$5=2,'PENNANT TEAMS'!$C$83,\"\")","v":""},{"$f":"IF('PENNANT TEAMS'!$B$5=2,'PENNANT TEAMS'!$C$82,\"\")","v":""},{"$f":"IF('PENNANT TEAMS'!$B$5=2,'PENNANT TEAMS'!$A$80,\"\")","v":""},{"$f":"IF('PENNANT TEAMS'!$B$5=3,'PENNANT TEAMS'!$C$83,\"\")","v":""},{"$f":"IF('PENNANT TEAMS'!$B$5=3,'PENNANT TEAMS'!$C$82,\"\")","v":""},{"$f":"IF('PENNANT TEAMS'!$B$5=3,'PENNANT TEAMS'!$A$80,\"\")","v":""},{"$f":"IF('PENNANT TEAMS'!$B$5=4,'PENNANT TEAMS'!$C$83,\"\")","v":""},{"$f":"IF('PENNANT TEAMS'!$B$5=4,'PENNANT TEAMS'!$C$82,\"\")","v":""},{"$f":"IF('PENNANT TEAMS'!$B$5=4,'PENNANT TEAMS'!$A$80,\"\")","v":""},{"$f":"IF('PENNANT TEAMS'!$B$5=5,'PENNANT TEAMS'!$C$83,\"\")","v":""},{"$f":"IF('PENNANT TEAMS'!$B$5=5,'PENNANT TEAMS'!$C$82,\"\")","v":""},{"$f":"IF('PENNANT TEAMS'!$B$5=5,'PENNANT TEAMS'!$A$80,\"\")","v":""},{"$f":"IF('PENNANT TEAMS'!$B$5=6,'PENNANT TEAMS'!$C$83,\"\")","v":""},{"$f":"IF('PENNANT TEAMS'!$B$5=6,'PENNANT TEAMS'!$C$82,\"\")","v":""},{"$f":"IF('PENNANT TEAMS'!$B$5=6,'PENNANT TEAMS'!$A$80,\"\")","v":""},{"$f":"IF('PENNANT TEAMS'!$B$5=7,'PENNANT TEAMS'!$C$83,\"\")","v":""},{"$f":"IF('PENNANT TEAMS'!$B$5=7,'PENNANT TEAMS'!$C$82,\"\")","v":""},{"$f":"IF('PENNANT TEAMS'!$B$5=7,'PENNANT TEAMS'!$A$80,\"\")","v":""},{"$f":"IF('PENNANT TEAMS'!$B$5=8,'PENNANT TEAMS'!$C$83,\"\")","v":""},{"$f":"IF('PENNANT TEAMS'!$B$5=8,'PENNANT TEAMS'!$C$82,\"\")","v":""},{"$f":"IF('PENNANT TEAMS'!$B$5=8,'PENNANT TEAMS'!$A$80,\"\")","v":""},{"$f":"IF('PENNANT TEAMS'!$B$5=9,'PENNANT TEAMS'!$C$83,\"\")","v":""},{"$f":"IF('PENNANT TEAMS'!$B$5=9,'PENNANT TEAMS'!$C$82,\"\")","v":""},{"$f":"IF('PENNANT TEAMS'!$B$5=9,'PENNANT TEAMS'!$A$80,\"\")","v":""},{"$f":"IF('PENNANT TEAMS'!$B$5=10,'PENNANT TEAMS'!$C$83,\"\")","v":""},{"$f":"IF('PENNANT TEAMS'!$B$5=10,'PENNANT TEAMS'!$C$82,\"\")","v":""},{"$f":"IF('PENNANT TEAMS'!$B$5=10,'PENNANT TEAMS'!$A$80,\"\")","v":""}]
[{"$f":"IF('PENNANT TEAMS'!$B$5=1,'PENNANT TEAMS'!$D$83,\"\")","v":""},{"$f":"IF('PENNANT TEAMS'!$B$5=1,'PENNANT TEAMS'!$D$82,\"\")","v":0},{"$f":"IF('PENNANT TEAMS'!$B$5=1,'PENNANT TEAMS'!$A$80,\"\")","v":0},{"$f":"IF('PENNANT TEAMS'!$B$5=2,'PENNANT TEAMS'!$D$83,\"\")","v":""},{"$f":"IF('PENNANT TEAMS'!$B$5=2,'PENNANT TEAMS'!$D$82,\"\")","v":""},{"$f":"IF('PENNANT TEAMS'!$B$5=2,'PENNANT TEAMS'!$A$80,\"\")","v":""},{"$f":"IF('PENNANT TEAMS'!$B$5=3,'PENNANT TEAMS'!$D$83,\"\")","v":""},{"$f":"IF('PENNANT TEAMS'!$B$5=3,'PENNANT TEAMS'!$D$82,\"\")","v":""},{"$f":"IF('PENNANT TEAMS'!$B$5=3,'PENNANT TEAMS'!$A$80,\"\")","v":""},{"$f":"IF('PENNANT TEAMS'!$B$5=4,'PENNANT TEAMS'!$D$83,\"\")","v":""},{"$f":"IF('PENNANT TEAMS'!$B$5=4,'PENNANT TEAMS'!$D$82,\"\")","v":""},{"$f":"IF('PENNANT TEAMS'!$B$5=4,'PENNANT TEAMS'!$A$80,\"\")","v":""},{"$f":"IF('PENNANT TEAMS'!$B$5=5,'PENNANT TEAMS'!$D$83,\"\")","v":""},{"$f":"IF('PENNANT TEAMS'!$B$5=5,'PENNANT TEAMS'!$D$82,\"\")","v":""},{"$f":"IF('PENNANT TEAMS'!$B$5=5,'PENNANT TEAMS'!$A$80,\"\")","v":""},{"$f":"IF('PENNANT TEAMS'!$B$5=6,'PENNANT TEAMS'!$D$83,\"\")","v":""},{"$f":"IF('PENNANT TEAMS'!$B$5=6,'PENNANT TEAMS'!$D$82,\"\")","v":""},{"$f":"IF('PENNANT TEAMS'!$B$5=6,'PENNANT TEAMS'!$A$80,\"\")","v":""},{"$f":"IF('PENNANT TEAMS'!$B$5=7,'PENNANT TEAMS'!$D$83,\"\")","v":""},{"$f":"IF('PENNANT TEAMS'!$B$5=7,'PENNANT TEAMS'!$D$82,\"\")","v":""},{"$f":"IF('PENNANT TEAMS'!$B$5=7,'PENNANT TEAMS'!$A$80,\"\")","v":""},{"$f":"IF('PENNANT TEAMS'!$B$5=8,'PENNANT TEAMS'!$D$83,\"\")","v":""},{"$f":"IF('PENNANT TEAMS'!$B$5=8,'PENNANT TEAMS'!$D$82,\"\")","v":""},{"$f":"IF('PENNANT TEAMS'!$B$5=8,'PENNANT TEAMS'!$A$80,\"\")","v":""},{"$f":"IF('PENNANT TEAMS'!$B$5=9,'PENNANT TEAMS'!$D$83,\"\")","v":""},{"$f":"IF('PENNANT TEAMS'!$B$5=9,'PENNANT TEAMS'!$D$82,\"\")","v":""},{"$f":"IF('PENNANT TEAMS'!$B$5=9,'PENNANT TEAMS'!$A$80,\"\")","v":""},{"$f":"IF('PENNANT TEAMS'!$B$5=10,'PENNANT TEAMS'!$D$83,\"\")","v":""},{"$f":"IF('PENNANT TEAMS'!$B$5=10,'PENNANT TEAMS'!$D$82,\"\")","v":""},{"$f":"IF('PENNANT TEAMS'!$B$5=10,'PENNANT TEAMS'!$A$80,\"\")","v":""}]
[{"$f":"IF('PENNANT TEAMS'!$B$5=1,'PENNANT TEAMS'!$E$83,\"\")","v":""},{"$f":"IF('PENNANT TEAMS'!$B$5=1,'PENNANT TEAMS'!$E$82,\"\")","v":0},{"$f":"IF('PENNANT TEAMS'!$B$5=1,'PENNANT TEAMS'!$A$80,\"\")","v":0},{"$f":"IF('PENNANT TEAMS'!$B$5=2,'PENNANT TEAMS'!$E$83,\"\")","v":""},{"$f":"IF('PENNANT TEAMS'!$B$5=2,'PENNANT TEAMS'!$E$82,\"\")","v":""},{"$f":"IF('PENNANT TEAMS'!$B$5=2,'PENNANT TEAMS'!$A$80,\"\")","v":""},{"$f":"IF('PENNANT TEAMS'!$B$5=3,'PENNANT TEAMS'!$E$83,\"\")","v":""},{"$f":"IF('PENNANT TEAMS'!$B$5=3,'PENNANT TEAMS'!$E$82,\"\")","v":""},{"$f":"IF('PENNANT TEAMS'!$B$5=3,'PENNANT TEAMS'!$A$80,\"\")","v":""},{"$f":"IF('PENNANT TEAMS'!$B$5=4,'PENNANT TEAMS'!$E$83,\"\")","v":""},{"$f":"IF('PENNANT TEAMS'!$B$5=4,'PENNANT TEAMS'!$E$82,\"\")","v":""},{"$f":"IF('PENNANT TEAMS'!$B$5=4,'PENNANT TEAMS'!$A$80,\"\")","v":""},{"$f":"IF('PENNANT TEAMS'!$B$5=5,'PENNANT TEAMS'!$E$83,\"\")","v":""},{"$f":"IF('PENNANT TEAMS'!$B$5=5,'PENNANT TEAMS'!$E$82,\"\")","v":""},{"$f":"IF('PENNANT TEAMS'!$B$5=5,'PENNANT TEAMS'!$A$80,\"\")","v":""},{"$f":"IF('PENNANT TEAMS'!$B$5=6,'PENNANT TEAMS'!$E$83,\"\")","v":""},{"$f":"IF('PENNANT TEAMS'!$B$5=6,'PENNANT TEAMS'!$E$82,\"\")","v":""},{"$f":"IF('PENNANT TEAMS'!$B$5=6,'PENNANT TEAMS'!$A$80,\"\")","v":""},{"$f":"IF('PENNANT TEAMS'!$B$5=7,'PENNANT TEAMS'!$E$83,\"\")","v":""},{"$f":"IF('PENNANT TEAMS'!$B$5=7,'PENNANT TEAMS'!$E$82,\"\")","v":""},{"$f":"IF('PENNANT TEAMS'!$B$5=7,'PENNANT TEAMS'!$A$80,\"\")","v":""},{"$f":"IF('PENNANT TEAMS'!$B$5=8,'PENNANT TEAMS'!$E$83,\"\")","v":""},{"$f":"IF('PENNANT TEAMS'!$B$5=8,'PENNANT TEAMS'!$E$82,\"\")","v":""},{"$f":"IF('PENNANT TEAMS'!$B$5=8,'PENNANT TEAMS'!$A$80,\"\")","v":""},{"$f":"IF('PENNANT TEAMS'!$B$5=9,'PENNANT TEAMS'!$E$83,\"\")","v":""},{"$f":"IF('PENNANT TEAMS'!$B$5=9,'PENNANT TEAMS'!$E$82,\"\")","v":""},{"$f":"IF('PENNANT TEAMS'!$B$5=9,'PENNANT TEAMS'!$A$80,\"\")","v":""},{"$f":"IF('PENNANT TEAMS'!$B$5=10,'PENNANT TEAMS'!$E$83,\"\")","v":""},{"$f":"IF('PENNANT TEAMS'!$B$5=10,'PENNANT TEAMS'!$E$82,\"\")","v":""},{"$f":"IF('PENNANT TEAMS'!$B$5=10,'PENNANT TEAMS'!$A$80,\"\")","v":""}]
[{"$f":"IF('PENNANT TEAMS'!$B$5=1,'PENNANT TEAMS'!$B$85,\"\")","v":""},{"$f":"IF('PENNANT TEAMS'!$B$5=1,'PENNANT TEAMS'!$B$84,\"\")","v":0},{"$f":"IF('PENNANT TEAMS'!$B$5=1,'PENNANT TEAMS'!$A$80,\"\")","v":0},{"$f":"IF('PENNANT TEAMS'!$B$5=2,'PENNANT TEAMS'!$B$85,\"\")","v":""},{"$f":"IF('PENNANT TEAMS'!$B$5=2,'PENNANT TEAMS'!$B$84,\"\")","v":""},{"$f":"IF('PENNANT TEAMS'!$B$5=2,'PENNANT TEAMS'!$A$80,\"\")","v":""},{"$f":"IF('PENNANT TEAMS'!$B$5=3,'PENNANT TEAMS'!$B$85,\"\")","v":""},{"$f":"IF('PENNANT TEAMS'!$B$5=3,'PENNANT TEAMS'!$B$84,\"\")","v":""},{"$f":"IF('PENNANT TEAMS'!$B$5=3,'PENNANT TEAMS'!$A$80,\"\")","v":""},{"$f":"IF('PENNANT TEAMS'!$B$5=4,'PENNANT TEAMS'!$B$85,\"\")","v":""},{"$f":"IF('PENNANT TEAMS'!$B$5=4,'PENNANT TEAMS'!$B$84,\"\")","v":""},{"$f":"IF('PENNANT TEAMS'!$B$5=4,'PENNANT TEAMS'!$A$80,\"\")","v":""},{"$f":"IF('PENNANT TEAMS'!$B$5=5,'PENNANT TEAMS'!$B$85,\"\")","v":""},{"$f":"IF('PENNANT TEAMS'!$B$5=5,'PENNANT TEAMS'!$B$84,\"\")","v":""},{"$f":"IF('PENNANT TEAMS'!$B$5=5,'PENNANT TEAMS'!$A$80,\"\")","v":""},{"$f":"IF('PENNANT TEAMS'!$B$5=6,'PENNANT TEAMS'!$B$85,\"\")","v":""},{"$f":"IF('PENNANT TEAMS'!$B$5=6,'PENNANT TEAMS'!$B$84,\"\")","v":""},{"$f":"IF('PENNANT TEAMS'!$B$5=6,'PENNANT TEAMS'!$A$80,\"\")","v":""},{"$f":"IF('PENNANT TEAMS'!$B$5=7,'PENNANT TEAMS'!$B$85,\"\")","v":""},{"$f":"IF('PENNANT TEAMS'!$B$5=7,'PENNANT TEAMS'!$B$84,\"\")","v":""},{"$f":"IF('PENNANT TEAMS'!$B$5=7,'PENNANT TEAMS'!$A$80,\"\")","v":""},{"$f":"IF('PENNANT TEAMS'!$B$5=8,'PENNANT TEAMS'!$B$85,\"\")","v":""},{"$f":"IF('PENNANT TEAMS'!$B$5=8,'PENNANT TEAMS'!$B$84,\"\")","v":""},{"$f":"IF('PENNANT TEAMS'!$B$5=8,'PENNANT TEAMS'!$A$80,\"\")","v":""},{"$f":"IF('PENNANT TEAMS'!$B$5=9,'PENNANT TEAMS'!$B$85,\"\")","v":""},{"$f":"IF('PENNANT TEAMS'!$B$5=9,'PENNANT TEAMS'!$B$84,\"\")","v":""},{"$f":"IF('PENNANT TEAMS'!$B$5=9,'PENNANT TEAMS'!$A$80,\"\")","v":""},{"$f":"IF('PENNANT TEAMS'!$B$5=10,'PENNANT TEAMS'!$B$85,\"\")","v":""},{"$f":"IF('PENNANT TEAMS'!$B$5=10,'PENNANT TEAMS'!$B$84,\"\")","v":""},{"$f":"IF('PENNANT TEAMS'!$B$5=10,'PENNANT TEAMS'!$A$80,\"\")","v":""}]
[{"$f":"IF('PENNANT TEAMS'!$B$5=1,'PENNANT TEAMS'!$C$85,\"\")","v":""},{"$f":"IF('PENNANT TEAMS'!$B$5=1,'PENNANT TEAMS'!$C$84,\"\")","v":0},{"$f":"IF('PENNANT TEAMS'!$B$5=1,'PENNANT TEAMS'!$A$80,\"\")","v":0},{"$f":"IF('PENNANT TEAMS'!$B$5=2,'PENNANT TEAMS'!$C$85,\"\")","v":""},{"$f":"IF('PENNANT TEAMS'!$B$5=2,'PENNANT TEAMS'!$C$84,\"\")","v":""},{"$f":"IF('PENNANT TEAMS'!$B$5=2,'PENNANT TEAMS'!$A$80,\"\")","v":""},{"$f":"IF('PENNANT TEAMS'!$B$5=3,'PENNANT TEAMS'!$C$85,\"\")","v":""},{"$f":"IF('PENNANT TEAMS'!$B$5=3,'PENNANT TEAMS'!$C$84,\"\")","v":""},{"$f":"IF('PENNANT TEAMS'!$B$5=3,'PENNANT TEAMS'!$A$80,\"\")","v":""},{"$f":"IF('PENNANT TEAMS'!$B$5=4,'PENNANT TEAMS'!$C$85,\"\")","v":""},{"$f":"IF('PENNANT TEAMS'!$B$5=4,'PENNANT TEAMS'!$C$84,\"\")","v":""},{"$f":"IF('PENNANT TEAMS'!$B$5=4,'PENNANT TEAMS'!$A$80,\"\")","v":""},{"$f":"IF('PENNANT TEAMS'!$B$5=5,'PENNANT TEAMS'!$C$85,\"\")","v":""},{"$f":"IF('PENNANT TEAMS'!$B$5=5,'PENNANT TEAMS'!$C$84,\"\")","v":""},{"$f":"IF('PENNANT TEAMS'!$B$5=5,'PENNANT TEAMS'!$A$80,\"\")","v":""},{"$f":"IF('PENNANT TEAMS'!$B$5=6,'PENNANT TEAMS'!$C$85,\"\")","v":""},{"$f":"IF('PENNANT TEAMS'!$B$5=6,'PENNANT TEAMS'!$C$84,\"\")","v":""},{"$f":"IF('PENNANT TEAMS'!$B$5=6,'PENNANT TEAMS'!$A$80,\"\")","v":""},{"$f":"IF('PENNANT TEAMS'!$B$5=7,'PENNANT TEAMS'!$C$85,\"\")","v":""},{"$f":"IF('PENNANT TEAMS'!$B$5=7,'PENNANT TEAMS'!$C$84,\"\")","v":""},{"$f":"IF('PENNANT TEAMS'!$B$5=7,'PENNANT TEAMS'!$A$80,\"\")","v":""},{"$f":"IF('PENNANT TEAMS'!$B$5=8,'PENNANT TEAMS'!$C$85,\"\")","v":""},{"$f":"IF('PENNANT TEAMS'!$B$5=8,'PENNANT TEAMS'!$C$84,\"\")","v":""},{"$f":"IF('PENNANT TEAMS'!$B$5=8,'PENNANT TEAMS'!$A$80,\"\")","v":""},{"$f":"IF('PENNANT TEAMS'!$B$5=9,'PENNANT TEAMS'!$C$85,\"\")","v":""},{"$f":"IF('PENNANT TEAMS'!$B$5=9,'PENNANT TEAMS'!$C$84,\"\")","v":""},{"$f":"IF('PENNANT TEAMS'!$B$5=9,'PENNANT TEAMS'!$A$80,\"\")","v":""},{"$f":"IF('PENNANT TEAMS'!$B$5=10,'PENNANT TEAMS'!$C$85,\"\")","v":""},{"$f":"IF('PENNANT TEAMS'!$B$5=10,'PENNANT TEAMS'!$C$84,\"\")","v":""},{"$f":"IF('PENNANT TEAMS'!$B$5=10,'PENNANT TEAMS'!$A$80,\"\")","v":""}]
[{"$f":"IF('PENNANT TEAMS'!$B$5=1,'PENNANT TEAMS'!$D$85,\"\")","v":""},{"$f":"IF('PENNANT TEAMS'!$B$5=1,'PENNANT TEAMS'!$D$84,\"\")","v":0},{"$f":"IF('PENNANT TEAMS'!$B$5=1,'PENNANT TEAMS'!$A$80,\"\")","v":0},{"$f":"IF('PENNANT TEAMS'!$B$5=2,'PENNANT TEAMS'!$D$85,\"\")","v":""},{"$f":"IF('PENNANT TEAMS'!$B$5=2,'PENNANT TEAMS'!$D$84,\"\")","v":""},{"$f":"IF('PENNANT TEAMS'!$B$5=2,'PENNANT TEAMS'!$A$80,\"\")","v":""},{"$f":"IF('PENNANT TEAMS'!$B$5=3,'PENNANT TEAMS'!$D$85,\"\")","v":""},{"$f":"IF('PENNANT TEAMS'!$B$5=3,'PENNANT TEAMS'!$D$84,\"\")","v":""},{"$f":"IF('PENNANT TEAMS'!$B$5=3,'PENNANT TEAMS'!$A$80,\"\")","v":""},{"$f":"IF('PENNANT TEAMS'!$B$5=4,'PENNANT TEAMS'!$D$85,\"\")","v":""},{"$f":"IF('PENNANT TEAMS'!$B$5=4,'PENNANT TEAMS'!$D$84,\"\")","v":""},{"$f":"IF('PENNANT TEAMS'!$B$5=4,'PENNANT TEAMS'!$A$80,\"\")","v":""},{"$f":"IF('PENNANT TEAMS'!$B$5=5,'PENNANT TEAMS'!$D$85,\"\")","v":""},{"$f":"IF('PENNANT TEAMS'!$B$5=5,'PENNANT TEAMS'!$D$84,\"\")","v":""},{"$f":"IF('PENNANT TEAMS'!$B$5=5,'PENNANT TEAMS'!$A$80,\"\")","v":""},{"$f":"IF('PENNANT TEAMS'!$B$5=6,'PENNANT TEAMS'!$D$85,\"\")","v":""},{"$f":"IF('PENNANT TEAMS'!$B$5=6,'PENNANT TEAMS'!$D$84,\"\")","v":""},{"$f":"IF('PENNANT TEAMS'!$B$5=6,'PENNANT TEAMS'!$A$80,\"\")","v":""},{"$f":"IF('PENNANT TEAMS'!$B$5=7,'PENNANT TEAMS'!$D$85,\"\")","v":""},{"$f":"IF('PENNANT TEAMS'!$B$5=7,'PENNANT TEAMS'!$D$84,\"\")","v":""},{"$f":"IF('PENNANT TEAMS'!$B$5=7,'PENNANT TEAMS'!$A$80,\"\")","v":""},{"$f":"IF('PENNANT TEAMS'!$B$5=8,'PENNANT TEAMS'!$D$85,\"\")","v":""},{"$f":"IF('PENNANT TEAMS'!$B$5=8,'PENNANT TEAMS'!$D$84,\"\")","v":""},{"$f":"IF('PENNANT TEAMS'!$B$5=8,'PENNANT TEAMS'!$A$80,\"\")","v":""},{"$f":"IF('PENNANT TEAMS'!$B$5=9,'PENNANT TEAMS'!$D$85,\"\")","v":""},{"$f":"IF('PENNANT TEAMS'!$B$5=9,'PENNANT TEAMS'!$D$84,\"\")","v":""},{"$f":"IF('PENNANT TEAMS'!$B$5=9,'PENNANT TEAMS'!$A$80,\"\")","v":""},{"$f":"IF('PENNANT TEAMS'!$B$5=10,'PENNANT TEAMS'!$D$85,\"\")","v":""},{"$f":"IF('PENNANT TEAMS'!$B$5=10,'PENNANT TEAMS'!$D$84,\"\")","v":""},{"$f":"IF('PENNANT TEAMS'!$B$5=10,'PENNANT TEAMS'!$A$80,\"\")","v":""}]
[{"$f":"IF('PENNANT TEAMS'!$B$5=1,'PENNANT TEAMS'!$E$85,\"\")","v":""},{"$f":"IF('PENNANT TEAMS'!$B$5=1,'PENNANT TEAMS'!$E$84,\"\")","v":0},{"$f":"IF('PENNANT TEAMS'!$B$5=1,'PENNANT TEAMS'!$A$80,\"\")","v":0},{"$f":"IF('PENNANT TEAMS'!$B$5=2,'PENNANT TEAMS'!$E$85,\"\")","v":""},{"$f":"IF('PENNANT TEAMS'!$B$5=2,'PENNANT TEAMS'!$E$84,\"\")","v":""},{"$f":"IF('PENNANT TEAMS'!$B$5=2,'PENNANT TEAMS'!$A$80,\"\")","v":""},{"$f":"IF('PENNANT TEAMS'!$B$5=3,'PENNANT TEAMS'!$E$85,\"\")","v":""},{"$f":"IF('PENNANT TEAMS'!$B$5=3,'PENNANT TEAMS'!$E$84,\"\")","v":""},{"$f":"IF('PENNANT TEAMS'!$B$5=3,'PENNANT TEAMS'!$A$80,\"\")","v":""},{"$f":"IF('PENNANT TEAMS'!$B$5=4,'PENNANT TEAMS'!$E$85,\"\")","v":""},{"$f":"IF('PENNANT TEAMS'!$B$5=4,'PENNANT TEAMS'!$E$84,\"\")","v":""},{"$f":"IF('PENNANT TEAMS'!$B$5=4,'PENNANT TEAMS'!$A$80,\"\")","v":""},{"$f":"IF('PENNANT TEAMS'!$B$5=5,'PENNANT TEAMS'!$E$85,\"\")","v":""},{"$f":"IF('PENNANT TEAMS'!$B$5=5,'PENNANT TEAMS'!$E$84,\"\")","v":""},{"$f":"IF('PENNANT TEAMS'!$B$5=5,'PENNANT TEAMS'!$A$80,\"\")","v":""},{"$f":"IF('PENNANT TEAMS'!$B$5=6,'PENNANT TEAMS'!$E$85,\"\")","v":""},{"$f":"IF('PENNANT TEAMS'!$B$5=6,'PENNANT TEAMS'!$E$84,\"\")","v":""},{"$f":"IF('PENNANT TEAMS'!$B$5=6,'PENNANT TEAMS'!$A$80,\"\")","v":""},{"$f":"IF('PENNANT TEAMS'!$B$5=7,'PENNANT TEAMS'!$E$85,\"\")","v":""},{"$f":"IF('PENNANT TEAMS'!$B$5=7,'PENNANT TEAMS'!$E$84,\"\")","v":""},{"$f":"IF('PENNANT TEAMS'!$B$5=7,'PENNANT TEAMS'!$A$80,\"\")","v":""},{"$f":"IF('PENNANT TEAMS'!$B$5=8,'PENNANT TEAMS'!$E$85,\"\")","v":""},{"$f":"IF('PENNANT TEAMS'!$B$5=8,'PENNANT TEAMS'!$E$84,\"\")","v":""},{"$f":"IF('PENNANT TEAMS'!$B$5=8,'PENNANT TEAMS'!$A$80,\"\")","v":""},{"$f":"IF('PENNANT TEAMS'!$B$5=9,'PENNANT TEAMS'!$E$85,\"\")","v":""},{"$f":"IF('PENNANT TEAMS'!$B$5=9,'PENNANT TEAMS'!$E$84,\"\")","v":""},{"$f":"IF('PENNANT TEAMS'!$B$5=9,'PENNANT TEAMS'!$A$80,\"\")","v":""},{"$f":"IF('PENNANT TEAMS'!$B$5=10,'PENNANT TEAMS'!$E$85,\"\")","v":""},{"$f":"IF('PENNANT TEAMS'!$B$5=10,'PENNANT TEAMS'!$E$84,\"\")","v":""},{"$f":"IF('PENNANT TEAMS'!$B$5=10,'PENNANT TEAMS'!$A$80,\"\")","v":""}]
[{"$f":"IF('PENNANT TEAMS'!$B$5=1,'PENNANT TEAMS'!$B$90,\"\")","v":""},{"$f":"IF('PENNANT TEAMS'!$B$5=1,'PENNANT TEAMS'!$B$89,\"\")","v":0},{"$f":"IF('PENNANT TEAMS'!$B$5=1,'PENNANT TEAMS'!$A$89,\"\")","v":0},{"$f":"IF('PENNANT TEAMS'!$B$5=2,'PENNANT TEAMS'!$B$90,\"\")","v":""},{"$f":"IF('PENNANT TEAMS'!$B$5=2,'PENNANT TEAMS'!$B$89,\"\")","v":""},{"$f":"IF('PENNANT TEAMS'!$B$5=2,'PENNANT TEAMS'!$A$89,\"\")","v":""},{"$f":"IF('PENNANT TEAMS'!$B$5=3,'PENNANT TEAMS'!$B$90,\"\")","v":""},{"$f":"IF('PENNANT TEAMS'!$B$5=3,'PENNANT TEAMS'!$B$89,\"\")","v":""},{"$f":"IF('PENNANT TEAMS'!$B$5=3,'PENNANT TEAMS'!$A$89,\"\")","v":""},{"$f":"IF('PENNANT TEAMS'!$B$5=4,'PENNANT TEAMS'!$B$90,\"\")","v":""},{"$f":"IF('PENNANT TEAMS'!$B$5=4,'PENNANT TEAMS'!$B$89,\"\")","v":""},{"$f":"IF('PENNANT TEAMS'!$B$5=4,'PENNANT TEAMS'!$A$89,\"\")","v":""},{"$f":"IF('PENNANT TEAMS'!$B$5=5,'PENNANT TEAMS'!$B$90,\"\")","v":""},{"$f":"IF('PENNANT TEAMS'!$B$5=5,'PENNANT TEAMS'!$B$89,\"\")","v":""},{"$f":"IF('PENNANT TEAMS'!$B$5=5,'PENNANT TEAMS'!$A$89,\"\")","v":""},{"$f":"IF('PENNANT TEAMS'!$B$5=6,'PENNANT TEAMS'!$B$90,\"\")","v":""},{"$f":"IF('PENNANT TEAMS'!$B$5=6,'PENNANT TEAMS'!$B$89,\"\")","v":""},{"$f":"IF('PENNANT TEAMS'!$B$5=6,'PENNANT TEAMS'!$A$89,\"\")","v":""},{"$f":"IF('PENNANT TEAMS'!$B$5=7,'PENNANT TEAMS'!$B$90,\"\")","v":""},{"$f":"IF('PENNANT TEAMS'!$B$5=7,'PENNANT TEAMS'!$B$89,\"\")","v":""},{"$f":"IF('PENNANT TEAMS'!$B$5=7,'PENNANT TEAMS'!$A$89,\"\")","v":""},{"$f":"IF('PENNANT TEAMS'!$B$5=8,'PENNANT TEAMS'!$B$90,\"\")","v":""},{"$f":"IF('PENNANT TEAMS'!$B$5=8,'PENNANT TEAMS'!$B$89,\"\")","v":""},{"$f":"IF('PENNANT TEAMS'!$B$5=8,'PENNANT TEAMS'!$A$89,\"\")","v":""},{"$f":"IF('PENNANT TEAMS'!$B$5=9,'PENNANT TEAMS'!$B$90,\"\")","v":""},{"$f":"IF('PENNANT TEAMS'!$B$5=9,'PENNANT TEAMS'!$B$89,\"\")","v":""},{"$f":"IF('PENNANT TEAMS'!$B$5=9,'PENNANT TEAMS'!$A$89,\"\")","v":""},{"$f":"IF('PENNANT TEAMS'!$B$5=10,'PENNANT TEAMS'!$B$90,\"\")","v":""},{"$f":"IF('PENNANT TEAMS'!$B$5=10,'PENNANT TEAMS'!$B$89,\"\")","v":""},{"$f":"IF('PENNANT TEAMS'!$B$5=10,'PENNANT TEAMS'!$A$89,\"\")","v":""}]
[{"$f":"IF('PENNANT TEAMS'!$B$5=1,'PENNANT TEAMS'!$C$90,\"\")","v":""},{"$f":"IF('PENNANT TEAMS'!$B$5=1,'PENNANT TEAMS'!$C$89,\"\")","v":0},{"$f":"IF('PENNANT TEAMS'!$B$5=1,'PENNANT TEAMS'!$A$89,\"\")","v":0},{"$f":"IF('PENNANT TEAMS'!$B$5=2,'PENNANT TEAMS'!$C$90,\"\")","v":""},{"$f":"IF('PENNANT TEAMS'!$B$5=2,'PENNANT TEAMS'!$C$89,\"\")","v":""},{"$f":"IF('PENNANT TEAMS'!$B$5=2,'PENNANT TEAMS'!$A$89,\"\")","v":""},{"$f":"IF('PENNANT TEAMS'!$B$5=3,'PENNANT TEAMS'!$C$90,\"\")","v":""},{"$f":"IF('PENNANT TEAMS'!$B$5=3,'PENNANT TEAMS'!$C$89,\"\")","v":""},{"$f":"IF('PENNANT TEAMS'!$B$5=3,'PENNANT TEAMS'!$A$89,\"\")","v":""},{"$f":"IF('PENNANT TEAMS'!$B$5=4,'PENNANT TEAMS'!$C$90,\"\")","v":""},{"$f":"IF('PENNANT TEAMS'!$B$5=4,'PENNANT TEAMS'!$C$89,\"\")","v":""},{"$f":"IF('PENNANT TEAMS'!$B$5=4,'PENNANT TEAMS'!$A$89,\"\")","v":""},{"$f":"IF('PENNANT TEAMS'!$B$5=5,'PENNANT TEAMS'!$C$90,\"\")","v":""},{"$f":"IF('PENNANT TEAMS'!$B$5=5,'PENNANT TEAMS'!$C$89,\"\")","v":""},{"$f":"IF('PENNANT TEAMS'!$B$5=5,'PENNANT TEAMS'!$A$89,\"\")","v":""},{"$f":"IF('PENNANT TEAMS'!$B$5=6,'PENNANT TEAMS'!$C$90,\"\")","v":""},{"$f":"IF('PENNANT TEAMS'!$B$5=6,'PENNANT TEAMS'!$C$89,\"\")","v":""},{"$f":"IF('PENNANT TEAMS'!$B$5=6,'PENNANT TEAMS'!$A$89,\"\")","v":""},{"$f":"IF('PENNANT TEAMS'!$B$5=7,'PENNANT TEAMS'!$C$90,\"\")","v":""},{"$f":"IF('PENNANT TEAMS'!$B$5=7,'PENNANT TEAMS'!$C$89,\"\")","v":""},{"$f":"IF('PENNANT TEAMS'!$B$5=7,'PENNANT TEAMS'!$A$89,\"\")","v":""},{"$f":"IF('PENNANT TEAMS'!$B$5=8,'PENNANT TEAMS'!$C$90,\"\")","v":""},{"$f":"IF('PENNANT TEAMS'!$B$5=8,'PENNANT TEAMS'!$C$89,\"\")","v":""},{"$f":"IF('PENNANT TEAMS'!$B$5=8,'PENNANT TEAMS'!$A$89,\"\")","v":""},{"$f":"IF('PENNANT TEAMS'!$B$5=9,'PENNANT TEAMS'!$C$90,\"\")","v":""},{"$f":"IF('PENNANT TEAMS'!$B$5=9,'PENNANT TEAMS'!$C$89,\"\")","v":""},{"$f":"IF('PENNANT TEAMS'!$B$5=9,'PENNANT TEAMS'!$A$89,\"\")","v":""},{"$f":"IF('PENNANT TEAMS'!$B$5=10,'PENNANT TEAMS'!$C$90,\"\")","v":""},{"$f":"IF('PENNANT TEAMS'!$B$5=10,'PENNANT TEAMS'!$C$89,\"\")","v":""},{"$f":"IF('PENNANT TEAMS'!$B$5=10,'PENNANT TEAMS'!$A$89,\"\")","v":""}]
[{"$f":"IF('PENNANT TEAMS'!$B$5=1,'PENNANT TEAMS'!$D$90,\"\")","v":""},{"$f":"IF('PENNANT TEAMS'!$B$5=1,'PENNANT TEAMS'!$D$89,\"\")","v":0},{"$f":"IF('PENNANT TEAMS'!$B$5=1,'PENNANT TEAMS'!$A$89,\"\")","v":0},{"$f":"IF('PENNANT TEAMS'!$B$5=2,'PENNANT TEAMS'!$D$90,\"\")","v":""},{"$f":"IF('PENNANT TEAMS'!$B$5=2,'PENNANT TEAMS'!$D$89,\"\")","v":""},{"$f":"IF('PENNANT TEAMS'!$B$5=2,'PENNANT TEAMS'!$A$89,\"\")","v":""},{"$f":"IF('PENNANT TEAMS'!$B$5=3,'PENNANT TEAMS'!$D$90,\"\")","v":""},{"$f":"IF('PENNANT TEAMS'!$B$5=3,'PENNANT TEAMS'!$D$89,\"\")","v":""},{"$f":"IF('PENNANT TEAMS'!$B$5=3,'PENNANT TEAMS'!$A$89,\"\")","v":""},{"$f":"IF('PENNANT TEAMS'!$B$5=4,'PENNANT TEAMS'!$D$90,\"\")","v":""},{"$f":"IF('PENNANT TEAMS'!$B$5=4,'PENNANT TEAMS'!$D$89,\"\")","v":""},{"$f":"IF('PENNANT TEAMS'!$B$5=4,'PENNANT TEAMS'!$A$89,\"\")","v":""},{"$f":"IF('PENNANT TEAMS'!$B$5=5,'PENNANT TEAMS'!$D$90,\"\")","v":""},{"$f":"IF('PENNANT TEAMS'!$B$5=5,'PENNANT TEAMS'!$D$89,\"\")","v":""},{"$f":"IF('PENNANT TEAMS'!$B$5=5,'PENNANT TEAMS'!$A$89,\"\")","v":""},{"$f":"IF('PENNANT TEAMS'!$B$5=6,'PENNANT TEAMS'!$D$90,\"\")","v":""},{"$f":"IF('PENNANT TEAMS'!$B$5=6,'PENNANT TEAMS'!$D$89,\"\")","v":""},{"$f":"IF('PENNANT TEAMS'!$B$5=6,'PENNANT TEAMS'!$A$89,\"\")","v":""},{"$f":"IF('PENNANT TEAMS'!$B$5=7,'PENNANT TEAMS'!$D$90,\"\")","v":""},{"$f":"IF('PENNANT TEAMS'!$B$5=7,'PENNANT TEAMS'!$D$89,\"\")","v":""},{"$f":"IF('PENNANT TEAMS'!$B$5=7,'PENNANT TEAMS'!$A$89,\"\")","v":""},{"$f":"IF('PENNANT TEAMS'!$B$5=8,'PENNANT TEAMS'!$D$90,\"\")","v":""},{"$f":"IF('PENNANT TEAMS'!$B$5=8,'PENNANT TEAMS'!$D$89,\"\")","v":""},{"$f":"IF('PENNANT TEAMS'!$B$5=8,'PENNANT TEAMS'!$A$89,\"\")","v":""},{"$f":"IF('PENNANT TEAMS'!$B$5=9,'PENNANT TEAMS'!$D$90,\"\")","v":""},{"$f":"IF('PENNANT TEAMS'!$B$5=9,'PENNANT TEAMS'!$D$89,\"\")","v":""},{"$f":"IF('PENNANT TEAMS'!$B$5=9,'PENNANT TEAMS'!$A$89,\"\")","v":""},{"$f":"IF('PENNANT TEAMS'!$B$5=10,'PENNANT TEAMS'!$D$90,\"\")","v":""},{"$f":"IF('PENNANT TEAMS'!$B$5=10,'PENNANT TEAMS'!$D$89,\"\")","v":""},{"$f":"IF('PENNANT TEAMS'!$B$5=10,'PENNANT TEAMS'!$A$89,\"\")","v":""}]
[{"$f":"IF('PENNANT TEAMS'!$B$5=1,'PENNANT TEAMS'!$E$90,\"\")","v":""},{"$f":"IF('PENNANT TEAMS'!$B$5=1,'PENNANT TEAMS'!$E$89,\"\")","v":0},{"$f":"IF('PENNANT TEAMS'!$B$5=1,'PENNANT TEAMS'!$A$89,\"\")","v":0},{"$f":"IF('PENNANT TEAMS'!$B$5=2,'PENNANT TEAMS'!$E$90,\"\")","v":""},{"$f":"IF('PENNANT TEAMS'!$B$5=2,'PENNANT TEAMS'!$E$89,\"\")","v":""},{"$f":"IF('PENNANT TEAMS'!$B$5=2,'PENNANT TEAMS'!$A$89,\"\")","v":""},{"$f":"IF('PENNANT TEAMS'!$B$5=3,'PENNANT TEAMS'!$E$90,\"\")","v":""},{"$f":"IF('PENNANT TEAMS'!$B$5=3,'PENNANT TEAMS'!$E$89,\"\")","v":""},{"$f":"IF('PENNANT TEAMS'!$B$5=3,'PENNANT TEAMS'!$A$89,\"\")","v":""},{"$f":"IF('PENNANT TEAMS'!$B$5=4,'PENNANT TEAMS'!$E$90,\"\")","v":""},{"$f":"IF('PENNANT TEAMS'!$B$5=4,'PENNANT TEAMS'!$E$89,\"\")","v":""},{"$f":"IF('PENNANT TEAMS'!$B$5=4,'PENNANT TEAMS'!$A$89,\"\")","v":""},{"$f":"IF('PENNANT TEAMS'!$B$5=5,'PENNANT TEAMS'!$E$90,\"\")","v":""},{"$f":"IF('PENNANT TEAMS'!$B$5=5,'PENNANT TEAMS'!$E$89,\"\")","v":""},{"$f":"IF('PENNANT TEAMS'!$B$5=5,'PENNANT TEAMS'!$A$89,\"\")","v":""},{"$f":"IF('PENNANT TEAMS'!$B$5=6,'PENNANT TEAMS'!$E$90,\"\")","v":""},{"$f":"IF('PENNANT TEAMS'!$B$5=6,'PENNANT TEAMS'!$E$89,\"\")","v":""},{"$f":"IF('PENNANT TEAMS'!$B$5=6,'PENNANT TEAMS'!$A$89,\"\")","v":""},{"$f":"IF('PENNANT TEAMS'!$B$5=7,'PENNANT TEAMS'!$E$90,\"\")","v":""},{"$f":"IF('PENNANT TEAMS'!$B$5=7,'PENNANT TEAMS'!$E$89,\"\")","v":""},{"$f":"IF('PENNANT TEAMS'!$B$5=7,'PENNANT TEAMS'!$A$89,\"\")","v":""},{"$f":"IF('PENNANT TEAMS'!$B$5=8,'PENNANT TEAMS'!$E$90,\"\")","v":""},{"$f":"IF('PENNANT TEAMS'!$B$5=8,'PENNANT TEAMS'!$E$89,\"\")","v":""},{"$f":"IF('PENNANT TEAMS'!$B$5=8,'PENNANT TEAMS'!$A$89,\"\")","v":""},{"$f":"IF('PENNANT TEAMS'!$B$5=9,'PENNANT TEAMS'!$E$90,\"\")","v":""},{"$f":"IF('PENNANT TEAMS'!$B$5=9,'PENNANT TEAMS'!$E$89,\"\")","v":""},{"$f":"IF('PENNANT TEAMS'!$B$5=9,'PENNANT TEAMS'!$A$89,\"\")","v":""},{"$f":"IF('PENNANT TEAMS'!$B$5=10,'PENNANT TEAMS'!$E$90,\"\")","v":""},{"$f":"IF('PENNANT TEAMS'!$B$5=10,'PENNANT TEAMS'!$E$89,\"\")","v":""},{"$f":"IF('PENNANT TEAMS'!$B$5=10,'PENNANT TEAMS'!$A$89,\"\")","v":""}]
[{"$f":"IF('PENNANT TEAMS'!$B$5=1,'PENNANT TEAMS'!$B$92,\"\")","v":""},{"$f":"IF('PENNANT TEAMS'!$B$5=1,'PENNANT TEAMS'!$B$91,\"\")","v":0},{"$f":"IF('PENNANT TEAMS'!$B$5=1,'PENNANT TEAMS'!$A$89,\"\")","v":0},{"$f":"IF('PENNANT TEAMS'!$B$5=2,'PENNANT TEAMS'!$B$92,\"\")","v":""},{"$f":"IF('PENNANT TEAMS'!$B$5=2,'PENNANT TEAMS'!$B$91,\"\")","v":""},{"$f":"IF('PENNANT TEAMS'!$B$5=2,'PENNANT TEAMS'!$A$89,\"\")","v":""},{"$f":"IF('PENNANT TEAMS'!$B$5=3,'PENNANT TEAMS'!$B$92,\"\")","v":""},{"$f":"IF('PENNANT TEAMS'!$B$5=3,'PENNANT TEAMS'!$B$91,\"\")","v":""},{"$f":"IF('PENNANT TEAMS'!$B$5=3,'PENNANT TEAMS'!$A$89,\"\")","v":""},{"$f":"IF('PENNANT TEAMS'!$B$5=4,'PENNANT TEAMS'!$B$92,\"\")","v":""},{"$f":"IF('PENNANT TEAMS'!$B$5=4,'PENNANT TEAMS'!$B$91,\"\")","v":""},{"$f":"IF('PENNANT TEAMS'!$B$5=4,'PENNANT TEAMS'!$A$89,\"\")","v":""},{"$f":"IF('PENNANT TEAMS'!$B$5=5,'PENNANT TEAMS'!$B$92,\"\")","v":""},{"$f":"IF('PENNANT TEAMS'!$B$5=5,'PENNANT TEAMS'!$B$91,\"\")","v":""},{"$f":"IF('PENNANT TEAMS'!$B$5=5,'PENNANT TEAMS'!$A$89,\"\")","v":""},{"$f":"IF('PENNANT TEAMS'!$B$5=6,'PENNANT TEAMS'!$B$92,\"\")","v":""},{"$f":"IF('PENNANT TEAMS'!$B$5=6,'PENNANT TEAMS'!$B$91,\"\")","v":""},{"$f":"IF('PENNANT TEAMS'!$B$5=6,'PENNANT TEAMS'!$A$89,\"\")","v":""},{"$f":"IF('PENNANT TEAMS'!$B$5=7,'PENNANT TEAMS'!$B$92,\"\")","v":""},{"$f":"IF('PENNANT TEAMS'!$B$5=7,'PENNANT TEAMS'!$B$91,\"\")","v":""},{"$f":"IF('PENNANT TEAMS'!$B$5=7,'PENNANT TEAMS'!$A$89,\"\")","v":""},{"$f":"IF('PENNANT TEAMS'!$B$5=8,'PENNANT TEAMS'!$B$92,\"\")","v":""},{"$f":"IF('PENNANT TEAMS'!$B$5=8,'PENNANT TEAMS'!$B$91,\"\")","v":""},{"$f":"IF('PENNANT TEAMS'!$B$5=8,'PENNANT TEAMS'!$A$89,\"\")","v":""},{"$f":"IF('PENNANT TEAMS'!$B$5=9,'PENNANT TEAMS'!$B$92,\"\")","v":""},{"$f":"IF('PENNANT TEAMS'!$B$5=9,'PENNANT TEAMS'!$B$91,\"\")","v":""},{"$f":"IF('PENNANT TEAMS'!$B$5=9,'PENNANT TEAMS'!$A$89,\"\")","v":""},{"$f":"IF('PENNANT TEAMS'!$B$5=10,'PENNANT TEAMS'!$B$92,\"\")","v":""},{"$f":"IF('PENNANT TEAMS'!$B$5=10,'PENNANT TEAMS'!$B$91,\"\")","v":""},{"$f":"IF('PENNANT TEAMS'!$B$5=10,'PENNANT TEAMS'!$A$89,\"\")","v":""}]
[{"$f":"IF('PENNANT TEAMS'!$B$5=1,'PENNANT TEAMS'!$C$92,\"\")","v":""},{"$f":"IF('PENNANT TEAMS'!$B$5=1,'PENNANT TEAMS'!$C$91,\"\")","v":0},{"$f":"IF('PENNANT TEAMS'!$B$5=1,'PENNANT TEAMS'!$A$89,\"\")","v":0},{"$f":"IF('PENNANT TEAMS'!$B$5=2,'PENNANT TEAMS'!$C$92,\"\")","v":""},{"$f":"IF('PENNANT TEAMS'!$B$5=2,'PENNANT TEAMS'!$C$91,\"\")","v":""},{"$f":"IF('PENNANT TEAMS'!$B$5=2,'PENNANT TEAMS'!$A$89,\"\")","v":""},{"$f":"IF('PENNANT TEAMS'!$B$5=3,'PENNANT TEAMS'!$C$92,\"\")","v":""},{"$f":"IF('PENNANT TEAMS'!$B$5=3,'PENNANT TEAMS'!$C$91,\"\")","v":""},{"$f":"IF('PENNANT TEAMS'!$B$5=3,'PENNANT TEAMS'!$A$89,\"\")","v":""},{"$f":"IF('PENNANT TEAMS'!$B$5=4,'PENNANT TEAMS'!$C$92,\"\")","v":""},{"$f":"IF('PENNANT TEAMS'!$B$5=4,'PENNANT TEAMS'!$C$91,\"\")","v":""},{"$f":"IF('PENNANT TEAMS'!$B$5=4,'PENNANT TEAMS'!$A$89,\"\")","v":""},{"$f":"IF('PENNANT TEAMS'!$B$5=5,'PENNANT TEAMS'!$C$92,\"\")","v":""},{"$f":"IF('PENNANT TEAMS'!$B$5=5,'PENNANT TEAMS'!$C$91,\"\")","v":""},{"$f":"IF('PENNANT TEAMS'!$B$5=5,'PENNANT TEAMS'!$A$89,\"\")","v":""},{"$f":"IF('PENNANT TEAMS'!$B$5=6,'PENNANT TEAMS'!$C$92,\"\")","v":""},{"$f":"IF('PENNANT TEAMS'!$B$5=6,'PENNANT TEAMS'!$C$91,\"\")","v":""},{"$f":"IF('PENNANT TEAMS'!$B$5=6,'PENNANT TEAMS'!$A$89,\"\")","v":""},{"$f":"IF('PENNANT TEAMS'!$B$5=7,'PENNANT TEAMS'!$C$92,\"\")","v":""},{"$f":"IF('PENNANT TEAMS'!$B$5=7,'PENNANT TEAMS'!$C$91,\"\")","v":""},{"$f":"IF('PENNANT TEAMS'!$B$5=7,'PENNANT TEAMS'!$A$89,\"\")","v":""},{"$f":"IF('PENNANT TEAMS'!$B$5=8,'PENNANT TEAMS'!$C$92,\"\")","v":""},{"$f":"IF('PENNANT TEAMS'!$B$5=8,'PENNANT TEAMS'!$C$91,\"\")","v":""},{"$f":"IF('PENNANT TEAMS'!$B$5=8,'PENNANT TEAMS'!$A$89,\"\")","v":""},{"$f":"IF('PENNANT TEAMS'!$B$5=9,'PENNANT TEAMS'!$C$92,\"\")","v":""},{"$f":"IF('PENNANT TEAMS'!$B$5=9,'PENNANT TEAMS'!$C$91,\"\")","v":""},{"$f":"IF('PENNANT TEAMS'!$B$5=9,'PENNANT TEAMS'!$A$89,\"\")","v":""},{"$f":"IF('PENNANT TEAMS'!$B$5=10,'PENNANT TEAMS'!$C$92,\"\")","v":""},{"$f":"IF('PENNANT TEAMS'!$B$5=10,'PENNANT TEAMS'!$C$91,\"\")","v":""},{"$f":"IF('PENNANT TEAMS'!$B$5=10,'PENNANT TEAMS'!$A$89,\"\")","v":""}]
[{"$f":"IF('PENNANT TEAMS'!$B$5=1,'PENNANT TEAMS'!$D$92,\"\")","v":""},{"$f":"IF('PENNANT TEAMS'!$B$5=1,'PENNANT TEAMS'!$D$91,\"\")","v":0},{"$f":"IF('PENNANT TEAMS'!$B$5=1,'PENNANT TEAMS'!$A$89,\"\")","v":0},{"$f":"IF('PENNANT TEAMS'!$B$5=2,'PENNANT TEAMS'!$D$92,\"\")","v":""},{"$f":"IF('PENNANT TEAMS'!$B$5=2,'PENNANT TEAMS'!$D$91,\"\")","v":""},{"$f":"IF('PENNANT TEAMS'!$B$5=2,'PENNANT TEAMS'!$A$89,\"\")","v":""},{"$f":"IF('PENNANT TEAMS'!$B$5=3,'PENNANT TEAMS'!$D$92,\"\")","v":""},{"$f":"IF('PENNANT TEAMS'!$B$5=3,'PENNANT TEAMS'!$D$91,\"\")","v":""},{"$f":"IF('PENNANT TEAMS'!$B$5=3,'PENNANT TEAMS'!$A$89,\"\")","v":""},{"$f":"IF('PENNANT TEAMS'!$B$5=4,'PENNANT TEAMS'!$D$92,\"\")","v":""},{"$f":"IF('PENNANT TEAMS'!$B$5=4,'PENNANT TEAMS'!$D$91,\"\")","v":""},{"$f":"IF('PENNANT TEAMS'!$B$5=4,'PENNANT TEAMS'!$A$89,\"\")","v":""},{"$f":"IF('PENNANT TEAMS'!$B$5=5,'PENNANT TEAMS'!$D$92,\"\")","v":""},{"$f":"IF('PENNANT TEAMS'!$B$5=5,'PENNANT TEAMS'!$D$91,\"\")","v":""},{"$f":"IF('PENNANT TEAMS'!$B$5=5,'PENNANT TEAMS'!$A$89,\"\")","v":""},{"$f":"IF('PENNANT TEAMS'!$B$5=6,'PENNANT TEAMS'!$D$92,\"\")","v":""},{"$f":"IF('PENNANT TEAMS'!$B$5=6,'PENNANT TEAMS'!$D$91,\"\")","v":""},{"$f":"IF('PENNANT TEAMS'!$B$5=6,'PENNANT TEAMS'!$A$89,\"\")","v":""},{"$f":"IF('PENNANT TEAMS'!$B$5=7,'PENNANT TEAMS'!$D$92,\"\")","v":""},{"$f":"IF('PENNANT TEAMS'!$B$5=7,'PENNANT TEAMS'!$D$91,\"\")","v":""},{"$f":"IF('PENNANT TEAMS'!$B$5=7,'PENNANT TEAMS'!$A$89,\"\")","v":""},{"$f":"IF('PENNANT TEAMS'!$B$5=8,'PENNANT TEAMS'!$D$92,\"\")","v":""},{"$f":"IF('PENNANT TEAMS'!$B$5=8,'PENNANT TEAMS'!$D$91,\"\")","v":""},{"$f":"IF('PENNANT TEAMS'!$B$5=8,'PENNANT TEAMS'!$A$89,\"\")","v":""},{"$f":"IF('PENNANT TEAMS'!$B$5=9,'PENNANT TEAMS'!$D$92,\"\")","v":""},{"$f":"IF('PENNANT TEAMS'!$B$5=9,'PENNANT TEAMS'!$D$91,\"\")","v":""},{"$f":"IF('PENNANT TEAMS'!$B$5=9,'PENNANT TEAMS'!$A$89,\"\")","v":""},{"$f":"IF('PENNANT TEAMS'!$B$5=10,'PENNANT TEAMS'!$D$92,\"\")","v":""},{"$f":"IF('PENNANT TEAMS'!$B$5=10,'PENNANT TEAMS'!$D$91,\"\")","v":""},{"$f":"IF('PENNANT TEAMS'!$B$5=10,'PENNANT TEAMS'!$A$89,\"\")","v":""}]
[{"$f":"IF('PENNANT TEAMS'!$B$5=1,'PENNANT TEAMS'!$E$92,\"\")","v":""},{"$f":"IF('PENNANT TEAMS'!$B$5=1,'PENNANT TEAMS'!$E$91,\"\")","v":0},{"$f":"IF('PENNANT TEAMS'!$B$5=1,'PENNANT TEAMS'!$A$89,\"\")","v":0},{"$f":"IF('PENNANT TEAMS'!$B$5=2,'PENNANT TEAMS'!$E$92,\"\")","v":""},{"$f":"IF('PENNANT TEAMS'!$B$5=2,'PENNANT TEAMS'!$E$91,\"\")","v":""},{"$f":"IF('PENNANT TEAMS'!$B$5=2,'PENNANT TEAMS'!$A$89,\"\")","v":""},{"$f":"IF('PENNANT TEAMS'!$B$5=3,'PENNANT TEAMS'!$E$92,\"\")","v":""},{"$f":"IF('PENNANT TEAMS'!$B$5=3,'PENNANT TEAMS'!$E$91,\"\")","v":""},{"$f":"IF('PENNANT TEAMS'!$B$5=3,'PENNANT TEAMS'!$A$89,\"\")","v":""},{"$f":"IF('PENNANT TEAMS'!$B$5=4,'PENNANT TEAMS'!$E$92,\"\")","v":""},{"$f":"IF('PENNANT TEAMS'!$B$5=4,'PENNANT TEAMS'!$E$91,\"\")","v":""},{"$f":"IF('PENNANT TEAMS'!$B$5=4,'PENNANT TEAMS'!$A$89,\"\")","v":""},{"$f":"IF('PENNANT TEAMS'!$B$5=5,'PENNANT TEAMS'!$E$92,\"\")","v":""},{"$f":"IF('PENNANT TEAMS'!$B$5=5,'PENNANT TEAMS'!$E$91,\"\")","v":""},{"$f":"IF('PENNANT TEAMS'!$B$5=5,'PENNANT TEAMS'!$A$89,\"\")","v":""},{"$f":"IF('PENNANT TEAMS'!$B$5=6,'PENNANT TEAMS'!$E$92,\"\")","v":""},{"$f":"IF('PENNANT TEAMS'!$B$5=6,'PENNANT TEAMS'!$E$91,\"\")","v":""},{"$f":"IF('PENNANT TEAMS'!$B$5=6,'PENNANT TEAMS'!$A$89,\"\")","v":""},{"$f":"IF('PENNANT TEAMS'!$B$5=7,'PENNANT TEAMS'!$E$92,\"\")","v":""},{"$f":"IF('PENNANT TEAMS'!$B$5=7,'PENNANT TEAMS'!$E$91,\"\")","v":""},{"$f":"IF('PENNANT TEAMS'!$B$5=7,'PENNANT TEAMS'!$A$89,\"\")","v":""},{"$f":"IF('PENNANT TEAMS'!$B$5=8,'PENNANT TEAMS'!$E$92,\"\")","v":""},{"$f":"IF('PENNANT TEAMS'!$B$5=8,'PENNANT TEAMS'!$E$91,\"\")","v":""},{"$f":"IF('PENNANT TEAMS'!$B$5=8,'PENNANT TEAMS'!$A$89,\"\")","v":""},{"$f":"IF('PENNANT TEAMS'!$B$5=9,'PENNANT TEAMS'!$E$92,\"\")","v":""},{"$f":"IF('PENNANT TEAMS'!$B$5=9,'PENNANT TEAMS'!$E$91,\"\")","v":""},{"$f":"IF('PENNANT TEAMS'!$B$5=9,'PENNANT TEAMS'!$A$89,\"\")","v":""},{"$f":"IF('PENNANT TEAMS'!$B$5=10,'PENNANT TEAMS'!$E$92,\"\")","v":""},{"$f":"IF('PENNANT TEAMS'!$B$5=10,'PENNANT TEAMS'!$E$91,\"\")","v":""},{"$f":"IF('PENNANT TEAMS'!$B$5=10,'PENNANT TEAMS'!$A$89,\"\")","v":""}]
[{"$f":"IF('PENNANT TEAMS'!$B$5=1,'PENNANT TEAMS'!$B$94,\"\")","v":""},{"$f":"IF('PENNANT TEAMS'!$B$5=1,'PENNANT TEAMS'!$B$93,\"\")","v":0},{"$f":"IF('PENNANT TEAMS'!$B$5=1,'PENNANT TEAMS'!$A$89,\"\")","v":0},{"$f":"IF('PENNANT TEAMS'!$B$5=2,'PENNANT TEAMS'!$B$94,\"\")","v":""},{"$f":"IF('PENNANT TEAMS'!$B$5=2,'PENNANT TEAMS'!$B$93,\"\")","v":""},{"$f":"IF('PENNANT TEAMS'!$B$5=2,'PENNANT TEAMS'!$A$89,\"\")","v":""},{"$f":"IF('PENNANT TEAMS'!$B$5=3,'PENNANT TEAMS'!$B$94,\"\")","v":""},{"$f":"IF('PENNANT TEAMS'!$B$5=3,'PENNANT TEAMS'!$B$93,\"\")","v":""},{"$f":"IF('PENNANT TEAMS'!$B$5=3,'PENNANT TEAMS'!$A$89,\"\")","v":""},{"$f":"IF('PENNANT TEAMS'!$B$5=4,'PENNANT TEAMS'!$B$94,\"\")","v":""},{"$f":"IF('PENNANT TEAMS'!$B$5=4,'PENNANT TEAMS'!$B$93,\"\")","v":""},{"$f":"IF('PENNANT TEAMS'!$B$5=4,'PENNANT TEAMS'!$A$89,\"\")","v":""},{"$f":"IF('PENNANT TEAMS'!$B$5=5,'PENNANT TEAMS'!$B$94,\"\")","v":""},{"$f":"IF('PENNANT TEAMS'!$B$5=5,'PENNANT TEAMS'!$B$93,\"\")","v":""},{"$f":"IF('PENNANT TEAMS'!$B$5=5,'PENNANT TEAMS'!$A$89,\"\")","v":""},{"$f":"IF('PENNANT TEAMS'!$B$5=6,'PENNANT TEAMS'!$B$94,\"\")","v":""},{"$f":"IF('PENNANT TEAMS'!$B$5=6,'PENNANT TEAMS'!$B$93,\"\")","v":""},{"$f":"IF('PENNANT TEAMS'!$B$5=6,'PENNANT TEAMS'!$A$89,\"\")","v":""},{"$f":"IF('PENNANT TEAMS'!$B$5=7,'PENNANT TEAMS'!$B$94,\"\")","v":""},{"$f":"IF('PENNANT TEAMS'!$B$5=7,'PENNANT TEAMS'!$B$93,\"\")","v":""},{"$f":"IF('PENNANT TEAMS'!$B$5=7,'PENNANT TEAMS'!$A$89,\"\")","v":""},{"$f":"IF('PENNANT TEAMS'!$B$5=8,'PENNANT TEAMS'!$B$94,\"\")","v":""},{"$f":"IF('PENNANT TEAMS'!$B$5=8,'PENNANT TEAMS'!$B$93,\"\")","v":""},{"$f":"IF('PENNANT TEAMS'!$B$5=8,'PENNANT TEAMS'!$A$89,\"\")","v":""},{"$f":"IF('PENNANT TEAMS'!$B$5=9,'PENNANT TEAMS'!$B$94,\"\")","v":""},{"$f":"IF('PENNANT TEAMS'!$B$5=9,'PENNANT TEAMS'!$B$93,\"\")","v":""},{"$f":"IF('PENNANT TEAMS'!$B$5=9,'PENNANT TEAMS'!$A$89,\"\")","v":""},{"$f":"IF('PENNANT TEAMS'!$B$5=10,'PENNANT TEAMS'!$B$94,\"\")","v":""},{"$f":"IF('PENNANT TEAMS'!$B$5=10,'PENNANT TEAMS'!$B$93,\"\")","v":""},{"$f":"IF('PENNANT TEAMS'!$B$5=10,'PENNANT TEAMS'!$A$89,\"\")","v":""}]
[{"$f":"IF('PENNANT TEAMS'!$B$5=1,'PENNANT TEAMS'!$C$94,\"\")","v":""},{"$f":"IF('PENNANT TEAMS'!$B$5=1,'PENNANT TEAMS'!$C$93,\"\")","v":0},{"$f":"IF('PENNANT TEAMS'!$B$5=1,'PENNANT TEAMS'!$A$89,\"\")","v":0},{"$f":"IF('PENNANT TEAMS'!$B$5=2,'PENNANT TEAMS'!$C$94,\"\")","v":""},{"$f":"IF('PENNANT TEAMS'!$B$5=2,'PENNANT TEAMS'!$C$93,\"\")","v":""},{"$f":"IF('PENNANT TEAMS'!$B$5=2,'PENNANT TEAMS'!$A$89,\"\")","v":""},{"$f":"IF('PENNANT TEAMS'!$B$5=3,'PENNANT TEAMS'!$C$94,\"\")","v":""},{"$f":"IF('PENNANT TEAMS'!$B$5=3,'PENNANT TEAMS'!$C$93,\"\")","v":""},{"$f":"IF('PENNANT TEAMS'!$B$5=3,'PENNANT TEAMS'!$A$89,\"\")","v":""},{"$f":"IF('PENNANT TEAMS'!$B$5=4,'PENNANT TEAMS'!$C$94,\"\")","v":""},{"$f":"IF('PENNANT TEAMS'!$B$5=4,'PENNANT TEAMS'!$C$93,\"\")","v":""},{"$f":"IF('PENNANT TEAMS'!$B$5=4,'PENNANT TEAMS'!$A$89,\"\")","v":""},{"$f":"IF('PENNANT TEAMS'!$B$5=5,'PENNANT TEAMS'!$C$94,\"\")","v":""},{"$f":"IF('PENNANT TEAMS'!$B$5=5,'PENNANT TEAMS'!$C$93,\"\")","v":""},{"$f":"IF('PENNANT TEAMS'!$B$5=5,'PENNANT TEAMS'!$A$89,\"\")","v":""},{"$f":"IF('PENNANT TEAMS'!$B$5=6,'PENNANT TEAMS'!$C$94,\"\")","v":""},{"$f":"IF('PENNANT TEAMS'!$B$5=6,'PENNANT TEAMS'!$C$93,\"\")","v":""},{"$f":"IF('PENNANT TEAMS'!$B$5=6,'PENNANT TEAMS'!$A$89,\"\")","v":""},{"$f":"IF('PENNANT TEAMS'!$B$5=7,'PENNANT TEAMS'!$C$94,\"\")","v":""},{"$f":"IF('PENNANT TEAMS'!$B$5=7,'PENNANT TEAMS'!$C$93,\"\")","v":""},{"$f":"IF('PENNANT TEAMS'!$B$5=7,'PENNANT TEAMS'!$A$89,\"\")","v":""},{"$f":"IF('PENNANT TEAMS'!$B$5=8,'PENNANT TEAMS'!$C$94,\"\")","v":""},{"$f":"IF('PENNANT TEAMS'!$B$5=8,'PENNANT TEAMS'!$C$93,\"\")","v":""},{"$f":"IF('PENNANT TEAMS'!$B$5=8,'PENNANT TEAMS'!$A$89,\"\")","v":""},{"$f":"IF('PENNANT TEAMS'!$B$5=9,'PENNANT TEAMS'!$C$94,\"\")","v":""},{"$f":"IF('PENNANT TEAMS'!$B$5=9,'PENNANT TEAMS'!$C$93,\"\")","v":""},{"$f":"IF('PENNANT TEAMS'!$B$5=9,'PENNANT TEAMS'!$A$89,\"\")","v":""},{"$f":"IF('PENNANT TEAMS'!$B$5=10,'PENNANT TEAMS'!$C$94,\"\")","v":""},{"$f":"IF('PENNANT TEAMS'!$B$5=10,'PENNANT TEAMS'!$C$93,\"\")","v":""},{"$f":"IF('PENNANT TEAMS'!$B$5=10,'PENNANT TEAMS'!$A$89,\"\")","v":""}]
[{"$f":"IF('PENNANT TEAMS'!$B$5=1,'PENNANT TEAMS'!$D$94,\"\")","v":""},{"$f":"IF('PENNANT TEAMS'!$B$5=1,'PENNANT TEAMS'!$D$93,\"\")","v":0},{"$f":"IF('PENNANT TEAMS'!$B$5=1,'PENNANT TEAMS'!$A$89,\"\")","v":0},{"$f":"IF('PENNANT TEAMS'!$B$5=2,'PENNANT TEAMS'!$D$94,\"\")","v":""},{"$f":"IF('PENNANT TEAMS'!$B$5=2,'PENNANT TEAMS'!$D$93,\"\")","v":""},{"$f":"IF('PENNANT TEAMS'!$B$5=2,'PENNANT TEAMS'!$A$89,\"\")","v":""},{"$f":"IF('PENNANT TEAMS'!$B$5=3,'PENNANT TEAMS'!$D$94,\"\")","v":""},{"$f":"IF('PENNANT TEAMS'!$B$5=3,'PENNANT TEAMS'!$D$93,\"\")","v":""},{"$f":"IF('PENNANT TEAMS'!$B$5=3,'PENNANT TEAMS'!$A$89,\"\")","v":""},{"$f":"IF('PENNANT TEAMS'!$B$5=4,'PENNANT TEAMS'!$D$94,\"\")","v":""},{"$f":"IF('PENNANT TEAMS'!$B$5=4,'PENNANT TEAMS'!$D$93,\"\")","v":""},{"$f":"IF('PENNANT TEAMS'!$B$5=4,'PENNANT TEAMS'!$A$89,\"\")","v":""},{"$f":"IF('PENNANT TEAMS'!$B$5=5,'PENNANT TEAMS'!$D$94,\"\")","v":""},{"$f":"IF('PENNANT TEAMS'!$B$5=5,'PENNANT TEAMS'!$D$93,\"\")","v":""},{"$f":"IF('PENNANT TEAMS'!$B$5=5,'PENNANT TEAMS'!$A$89,\"\")","v":""},{"$f":"IF('PENNANT TEAMS'!$B$5=6,'PENNANT TEAMS'!$D$94,\"\")","v":""},{"$f":"IF('PENNANT TEAMS'!$B$5=6,'PENNANT TEAMS'!$D$93,\"\")","v":""},{"$f":"IF('PENNANT TEAMS'!$B$5=6,'PENNANT TEAMS'!$A$89,\"\")","v":""},{"$f":"IF('PENNANT TEAMS'!$B$5=7,'PENNANT TEAMS'!$D$94,\"\")","v":""},{"$f":"IF('PENNANT TEAMS'!$B$5=7,'PENNANT TEAMS'!$D$93,\"\")","v":""},{"$f":"IF('PENNANT TEAMS'!$B$5=7,'PENNANT TEAMS'!$A$89,\"\")","v":""},{"$f":"IF('PENNANT TEAMS'!$B$5=8,'PENNANT TEAMS'!$D$94,\"\")","v":""},{"$f":"IF('PENNANT TEAMS'!$B$5=8,'PENNANT TEAMS'!$D$93,\"\")","v":""},{"$f":"IF('PENNANT TEAMS'!$B$5=8,'PENNANT TEAMS'!$A$89,\"\")","v":""},{"$f":"IF('PENNANT TEAMS'!$B$5=9,'PENNANT TEAMS'!$D$94,\"\")","v":""},{"$f":"IF('PENNANT TEAMS'!$B$5=9,'PENNANT TEAMS'!$D$93,\"\")","v":""},{"$f":"IF('PENNANT TEAMS'!$B$5=9,'PENNANT TEAMS'!$A$89,\"\")","v":""},{"$f":"IF('PENNANT TEAMS'!$B$5=10,'PENNANT TEAMS'!$D$94,\"\")","v":""},{"$f":"IF('PENNANT TEAMS'!$B$5=10,'PENNANT TEAMS'!$D$93,\"\")","v":""},{"$f":"IF('PENNANT TEAMS'!$B$5=10,'PENNANT TEAMS'!$A$89,\"\")","v":""}]
[{"$f":"IF('PENNANT TEAMS'!$B$5=1,'PENNANT TEAMS'!$E$94,\"\")","v":""},{"$f":"IF('PENNANT TEAMS'!$B$5=1,'PENNANT TEAMS'!$E$93,\"\")","v":0},{"$f":"IF('PENNANT TEAMS'!$B$5=1,'PENNANT TEAMS'!$A$89,\"\")","v":0},{"$f":"IF('PENNANT TEAMS'!$B$5=2,'PENNANT TEAMS'!$E$94,\"\")","v":""},{"$f":"IF('PENNANT TEAMS'!$B$5=2,'PENNANT TEAMS'!$E$93,\"\")","v":""},{"$f":"IF('PENNANT TEAMS'!$B$5=2,'PENNANT TEAMS'!$A$89,\"\")","v":""},{"$f":"IF('PENNANT TEAMS'!$B$5=3,'PENNANT TEAMS'!$E$94,\"\")","v":""},{"$f":"IF('PENNANT TEAMS'!$B$5=3,'PENNANT TEAMS'!$E$93,\"\")","v":""},{"$f":"IF('PENNANT TEAMS'!$B$5=3,'PENNANT TEAMS'!$A$89,\"\")","v":""},{"$f":"IF('PENNANT TEAMS'!$B$5=4,'PENNANT TEAMS'!$E$94,\"\")","v":""},{"$f":"IF('PENNANT TEAMS'!$B$5=4,'PENNANT TEAMS'!$E$93,\"\")","v":""},{"$f":"IF('PENNANT TEAMS'!$B$5=4,'PENNANT TEAMS'!$A$89,\"\")","v":""},{"$f":"IF('PENNANT TEAMS'!$B$5=5,'PENNANT TEAMS'!$E$94,\"\")","v":""},{"$f":"IF('PENNANT TEAMS'!$B$5=5,'PENNANT TEAMS'!$E$93,\"\")","v":""},{"$f":"IF('PENNANT TEAMS'!$B$5=5,'PENNANT TEAMS'!$A$89,\"\")","v":""},{"$f":"IF('PENNANT TEAMS'!$B$5=6,'PENNANT TEAMS'!$E$94,\"\")","v":""},{"$f":"IF('PENNANT TEAMS'!$B$5=6,'PENNANT TEAMS'!$E$93,\"\")","v":""},{"$f":"IF('PENNANT TEAMS'!$B$5=6,'PENNANT TEAMS'!$A$89,\"\")","v":""},{"$f":"IF('PENNANT TEAMS'!$B$5=7,'PENNANT TEAMS'!$E$94,\"\")","v":""},{"$f":"IF('PENNANT TEAMS'!$B$5=7,'PENNANT TEAMS'!$E$93,\"\")","v":""},{"$f":"IF('PENNANT TEAMS'!$B$5=7,'PENNANT TEAMS'!$A$89,\"\")","v":""},{"$f":"IF('PENNANT TEAMS'!$B$5=8,'PENNANT TEAMS'!$E$94,\"\")","v":""},{"$f":"IF('PENNANT TEAMS'!$B$5=8,'PENNANT TEAMS'!$E$93,\"\")","v":""},{"$f":"IF('PENNANT TEAMS'!$B$5=8,'PENNANT TEAMS'!$A$89,\"\")","v":""},{"$f":"IF('PENNANT TEAMS'!$B$5=9,'PENNANT TEAMS'!$E$94,\"\")","v":""},{"$f":"IF('PENNANT TEAMS'!$B$5=9,'PENNANT TEAMS'!$E$93,\"\")","v":""},{"$f":"IF('PENNANT TEAMS'!$B$5=9,'PENNANT TEAMS'!$A$89,\"\")","v":""},{"$f":"IF('PENNANT TEAMS'!$B$5=10,'PENNANT TEAMS'!$E$94,\"\")","v":""},{"$f":"IF('PENNANT TEAMS'!$B$5=10,'PENNANT TEAMS'!$E$93,\"\")","v":""},{"$f":"IF('PENNANT TEAMS'!$B$5=10,'PENNANT TEAMS'!$A$89,\"\")","v":""}]

{"sheet":"Weekly Records","index":7,"n_rows":295,"n_cols":45,"rows_kept":295,"cut":false,"hidden":true,"merged":[[5,16,6,16],[7,16,8,16],[2,42,2,43],[17,16,18,16],[19,16,20,16],[2,36,2,37],[3,16,4,16],[2,33,2,34],[21,16,22,16],[9,16,10,16],[11,16,12,16],[13,16,14,16],[15,16,16,16],[1,17,1,46],[2,18,2,19],[2,21,2,22],[2,24,2,25],[2,27,2,28],[2,45,2,46],[2,30,2,31],[2,39,2,40]]}
[]
["Number of Sides=",null,1,null,{"$f":"COUNT(E4:E244)","v":0},{"$f":"COUNT(F4:F244)","v":0},{"$f":"COUNT(G4:G244)","v":0},{"$f":"COUNT(H4:H244)","v":0},{"$f":"COUNT(I4:I244)","v":0},null,null,{"$f":"COUNT(L4:L244)","v":0},{"$f":"COUNT(M4:M244)","v":0},{"$f":"COUNT(N4:N244)","v":0},{"$f":"COUNT(O4:O244)","v":0},{"$f":"COUNT(P4:P244)","v":0}]
["Name",null,"RNSW BA rego","2017 Grade","Rnd1","Rnd2","Rnd3","Rnd4","Rnd5",null,"2018 Grade","Rnd6","Rnd7","Rnd8","Rnd9","Rnd10",null,"round1",null,null,"round2",null,null,"round3",null,null,"round4",null,null,"round5",null,null,"round6",null,null,"round7",null,null,"round8",null,null,"round9",null,null,"round10"]
[null,null,null,null,{"$f":"IF(ISNA(VLOOKUP(C4,round1,3,FALSE)),\"\",VLOOKUP(C4,round1,3,FALSE))","v":""},{"$f":"IF(ISNA(VLOOKUP(C4,round2,3,FALSE)),\"\",VLOOKUP(C4,round2,3,FALSE))","v":""},{"$f":"IF(ISNA(VLOOKUP(C4,round3,3,FALSE)),\"\",VLOOKUP(C4,round3,3,FALSE))","v":""},{"$f":"IF(ISNA(VLOOKUP(C4,round4,3,FALSE)),\"\",VLOOKUP(C4,round4,3,FALSE))","v":""},{"$f":"IF(ISNA(VLOOKUP(C4,round5,3,FALSE)),\"\",VLOOKUP(C4,round5,3,FALSE))","v":""},{"$f":"MAX(E4:I4)","v":0},null,{"$f":"IF(ISNA(VLOOKUP(C4,round6,3,FALSE)),\"\",VLOOKUP(C4,round6,3,FALSE))","v":""},{"$f":"IF(ISNA(VLOOKUP(C4,round7,3,FALSE)),\"\",VLOOKUP(C4,round7,3,FALSE))","v":""},{"$f":"IF(ISNA(VLOOKUP(C4,round8,3,FALSE)),\"\",VLOOKUP(C4,round8,3,FALSE))","v":""},{"$f":"IF(ISNA(VLOOKUP(C4,round9,3,FALSE)),\"\",VLOOKUP(C4,round9,3,FALSE))","v":""},{"$f":"IF(ISNA(VLOOKUP(C4,round10,3,FALSE)),\"\",VLOOKUP(C4,round10,3,FALSE))","v":""}]
[null,null,null,null,"","","","","",0,null,"","","","",""]
[null,null,null,null,"","","","","",0,null,"","","","",""]
[null,null,null,null,"","","","","",0,null,"","","","",""]
[null,null,null,null,"","","","","",0,null,"","","","",""]
[null,null,null,null,"","","","","",0,null,"","","","",""]
[null,null,null,null,"","","","","",0,null,"","","","",""]
[null,null,null,null,"","","","","",0,null,"","","","",""]
[null,null,null,null,"","","","","",0,null,"","","","",""]
[null,null,null,null,"","","","","",0,null,"","","","",""]
[null,null,null,null,"","","","","",0,null,"","","","",""]
[null,null,null,null,"","","","","",0,null,"","","","",""]
[null,null,null,null,"","","","","",0,null,"","","","",""]
[null,null,null,null,"","","","","",0,null,"","","","",""]
[null,null,null,null,"","","","","",0,null,"","","","",""]
[null,null,null,null,"","","","","",0,null,"","","","",""]
[null,null,null,null,"","","","","",0,null,"","","","",""]
[null,null,null,null,"","","","","",0,null,"","","","",""]
[null,null,null,null,"","","","","",0,null,"","","","",""]
[null,null,null,null,"","","","","",0,null,"","","","",""]
[null,null,null,null,"","","","","",0,null,"","","","",""]
[null,null,null,null,"","","","","",0,null,"","","","",""]
[null,null,null,null,"","","","","",0,null,"","","","",""]
[null,null,null,null,"","","","","",0,null,"","","","",""]
[null,null,null,null,"","","","","",0,null,"","","","",""]
[null,null,null,null,"","","","","",0,null,"","","","",""]
[null,null,null,null,"","","","","",0,null,"","","","",""]
[null,null,null,null,"","","","","",0,null,"","","","",""]
[null,null,null,null,"","","","","",0,null,"","","","",""]
[null,null,null,null,"","","","","",0,null,"","","","",""]
[null,null,null,null,"","","","","",0,null,"","","","",""]
[null,null,null,null,"","","","","",0,null,"","","","",""]
[null,null,null,null,"","","","","",0,null,"","","","",""]
[null,null,null,null,"","","","","",0,null,"","","","",""]
[null,null,null,null,"","","","","",0,null,"","","","",""]
[null,null,null,null,"","","","","",0,null,"","","","",""]
[null,null,null,null,"","","","","",0,null,"","","","",""]
[null,null,null,null,"","","","","",0,null,"","","","",""]
[null,null,null,null,"","","","","",0,null,"","","","",""]
[null,null,null,null,"","","","","",0,null,"","","","",""]
[null,null,null,null,"","","","","",0,null,"","","","",""]
[null,null,null,null,"","","","","",0,null,"","","","",""]
[null,null,null,null,"","","","","",0,null,"","","","",""]
[null,null,null,null,"","","","","",0,null,"","","","",""]
[null,null,null,null,"","","","","",0,null,"","","","",""]
[null,null,null,null,"","","","","",0,null,"","","","",""]
[null,null,null,null,"","","","","",0,null,"","","","",""]
[null,null,null,null,"","","","","",0,null,"","","","",""]
[null,null,null,null,"","","","","",0,null,"","","","",""]
[null,null,null,null,"","","","","",0,null,"","","","",""]
[null,null,null,null,"","","","","",0,null,"","","","",""]
[null,null,null,null,"","","","","",0,null,"","","","",""]
[null,null,null,null,"","","","","",0,null,"","","","",""]
[null,null,null,null,"","","","","",0,null,"","","","",""]
[null,null,null,null,"","","","","",0,null,"","","","",""]
[null,null,null,null,"","","","","",0,null,"","","","",""]
[null,null,null,null,"","","","","",0,null,"","","","",""]
[null,null,null,null,"","","","","",0,null,"","","","",""]
[null,null,null,null,"","","","","",0,null,"","","","",""]
[null,null,null,null,"","","","","",0,null,"","","","",""]
[null,null,null,null,"","","","","",0,null,"","","","",""]
[null,null,null,null,"","","","","",0,null,"","","","",""]
[null,null,null,null,"","","","","",0,null,"","","","",""]
[null,null,null,null,"","","","","",0,null,"","","","",""]
[null,null,null,null,{"$f":"IF(ISNA(VLOOKUP(C68,round1,3,FALSE)),\"\",VLOOKUP(C68,round1,3,FALSE))","v":""},{"$f":"IF(ISNA(VLOOKUP(C68,round2,3,FALSE)),\"\",VLOOKUP(C68,round2,3,FALSE))","v":""},{"$f":"IF(ISNA(VLOOKUP(C68,round3,3,FALSE)),\"\",VLOOKUP(C68,round3,3,FALSE))","v":""},{"$f":"IF(ISNA(VLOOKUP(C68,round4,3,FALSE)),\"\",VLOOKUP(C68,round4,3,FALSE))","v":""},{"$f":"IF(ISNA(VLOOKUP(C68,round5,3,FALSE)),\"\",VLOOKUP(C68,round5,3,FALSE))","v":""},{"$f":"MAX(E68:I68)","v":0},null,{"$f":"IF(ISNA(VLOOKUP(C68,round6,3,FALSE)),\"\",VLOOKUP(C68,round6,3,FALSE))","v":""},{"$f":"IF(ISNA(VLOOKUP(C68,round7,3,FALSE)),\"\",VLOOKUP(C68,round7,3,FALSE))","v":""},{"$f":"IF(ISNA(VLOOKUP(C68,round8,3,FALSE)),\"\",VLOOKUP(C68,round8,3,FALSE))","v":""},{"$f":"IF(ISNA(VLOOKUP(C68,round9,3,FALSE)),\"\",VLOOKUP(C68,round9,3,FALSE))","v":""},{"$f":"IF(ISNA(VLOOKUP(C68,round10,3,FALSE)),\"\",VLOOKUP(C68,round10,3,FALSE))","v":""}]
[null,null,null,null,"","","","","",0,null,"","","","",""]
[null,null,null,null,"","","","","",0,null,"","","","",""]
[null,null,null,null,"","","","","",0,null,"","","","",""]
[null,null,null,null,"","","","","",0,null,"","","","",""]
[null,null,null,null,"","","","","",0,null,"","","","",""]
[null,null,null,null,"","","","","",0,null,"","","","",""]
[null,null,null,null,"","","","","",0,null,"","","","",""]
[null,null,null,null,"","","","","",0,null,"","","","",""]
[null,null,null,null,"","","","","",0,null,"","","","",""]
[null,null,null,null,"","","","","",0,null,"","","","",""]
[null,null,null,null,"","","","","",0,null,"","","","",""]
[null,null,null,null,"","","","","",0,null,"","","","",""]
[null,null,null,null,"","","","","",0,null,"","","","",""]
[null,null,null,null,"","","","","",0,null,"","","","",""]
[null,null,null,null,"","","","","",0,null,"","","","",""]
[null,null,null,null,"","","","","",0,null,"","","","",""]
[null,null,null,null,"","","","","",0,null,"","","","",""]
[null,null,null,null,"","","","","",0,null,"","","","",""]
[null,null,null,null,"","","","","",0,null,"","","","",""]
[null,null,null,null,"","","","","",0,null,"","","","",""]
[null,null,null,null,"","","","","",0,null,"","","","",""]
[null,null,null,null,"","","","","",0,null,"","","","",""]
[null,null,null,null,"","","","","",0,null,"","","","",""]
[null,null,null,null,"","","","","",0,null,"","","","",""]
[null,null,null,null,"","","","","",0,null,"","","","",""]
[null,null,null,null,"","","","","",0,null,"","","","",""]
[null,null,null,null,"","","","","",0,null,"","","","",""]
[null,null,null,null,"","","","","",0,null,"","","","",""]
[null,null,null,null,"","","","","",0,null,"","","","",""]
[null,null,null,null,"","","","","",0,null,"","","","",""]
[null,null,null,null,"","","","","",0,null,"","","","",""]
[null,null,null,null,"","","","","",0,null,"","","","",""]
[null,null,null,null,"","","","","",0,null,"","","","",""]
[null,null,null,null,"","","","","",0,null,"","","","",""]
[null,null,null,null,"","","","","",0,null,"","","","",""]
[null,null,null,null,"","","","","",0,null,"","","","",""]
[null,null,null,null,"","","","","",0,null,"","","","",""]
[null,null,null,null,"","","","","",0,null,"","","","",""]
[null,null,null,null,"","","","","",0,null,"","","","",""]
[null,null,null,null,"","","","","",0,null,"","","","",""]
[null,null,null,null,"","","","","",0,null,"","","","",""]
[null,null,null,null,"","","","","",0,null,"","","","",""]
[null,null,null,null,"","","","","",0,null,"","","","",""]
[null,null,null,null,"","","","","",0,null,"","","","",""]
[null,null,null,null,"","","","","",0,null,"","","","",""]
[null,null,null,null,"","","","","",0,null,"","","","",""]
[null,null,null,null,"","","","","",0,null,"","","","",""]
[null,null,null,null,"","","","","",0,null,"","","","",""]
[null,null,null,null,"","","","","",0,null,"","","","",""]
[null,null,null,null,"","","","","",0,null,"","","","",""]
[null,null,null,null,"","","","","",0,null,"","","","",""]
[null,null,null,null,"","","","","",0,null,"","","","",""]
[null,null,null,null,"","","","","",0,null,"","","","",""]
[null,null,null,null,"","","","","",0,null,"","","","",""]
[null,null,null,null,"","","","","",0,null,"","","","",""]
[null,null,null,null,"","","","","",0,null,"","","","",""]
[null,null,null,null,"","","","","",0,null,"","","","",""]
[null,null,null,null,"","","","","",0,null,"","","","",""]
[null,null,null,null,"","","","","",0,null,"","","","",""]
[null,null,null,null,"","","","","",0,null,"","","","",""]
[null,null,null,null,"","","","","",0,null,"","","","",""]
[null,null,null,null,"","","","","",0,null,"","","","",""]
[null,null,null,null,"","","","","",0,null,"","","","",""]
[null,null,null,null,{"$f":"IF(ISNA(VLOOKUP(C132,round1,3,FALSE)),\"\",VLOOKUP(C132,round1,3,FALSE))","v":""},{"$f":"IF(ISNA(VLOOKUP(C132,round2,3,FALSE)),\"\",VLOOKUP(C132,round2,3,FALSE))","v":""},{"$f":"IF(ISNA(VLOOKUP(C132,round3,3,FALSE)),\"\",VLOOKUP(C132,round3,3,FALSE))","v":""},{"$f":"IF(ISNA(VLOOKUP(C132,round4,3,FALSE)),\"\",VLOOKUP(C132,round4,3,FALSE))","v":""},{"$f":"IF(ISNA(VLOOKUP(C132,round5,3,FALSE)),\"\",VLOOKUP(C132,round5,3,FALSE))","v":""},{"$f":"MAX(E132:I132)","v":0},null,{"$f":"IF(ISNA(VLOOKUP(C132,round6,3,FALSE)),\"\",VLOOKUP(C132,round6,3,FALSE))","v":""},{"$f":"IF(ISNA(VLOOKUP(C132,round7,3,FALSE)),\"\",VLOOKUP(C132,round7,3,FALSE))","v":""},{"$f":"IF(ISNA(VLOOKUP(C132,round8,3,FALSE)),\"\",VLOOKUP(C132,round8,3,FALSE))","v":""},{"$f":"IF(ISNA(VLOOKUP(C132,round9,3,FALSE)),\"\",VLOOKUP(C132,round9,3,FALSE))","v":""},{"$f":"IF(ISNA(VLOOKUP(C132,round10,3,FALSE)),\"\",VLOOKUP(C132,round10,3,FALSE))","v":""}]
[null,null,null,null,"","","","","",0,null,"","","","",""]
[null,null,null,null,"","","","","",0,null,"","","","",""]
[null,null,null,null,"","","","","",0,null,"","","","",""]
[null,null,null,null,"","","","","",0,null,"","","","",""]
[null,null,null,null,"","","","","",0,null,"","","","",""]
[null,null,null,null,"","","","","",0,null,"","","","",""]
[null,null,null,null,"","","","","",0,null,"","","","",""]
[null,null,null,null,"","","","","",0,null,"","","","",""]
[null,null,null,null,"","","","","",0,null,"","","","",""]
[null,null,null,null,"","","","","",0,null,"","","","",""]
[null,null,null,null,"","","","","",0,null,"","","","",""]
[null,null,null,null,"","","","","",0,null,"","","","",""]
[null,null,null,null,"","","","","",0,null,"","","","",""]
[null,null,null,null,"","","","","",0,null,"","","","",""]
[null,null,null,null,"","","","","",0,null,"","","","",""]
[null,null,null,null,"","","","","",0,null,"","","","",""]
[null,null,null,null,"","","","","",0,null,"","","","",""]
[null,null,null,null,"","","","","",0,null,"","","","",""]
[null,null,null,null,"","","","","",0,null,"","","","",""]
[null,null,null,null,"","","","","",0,null,"","","","",""]
[null,null,null,null,"","","","","",0,null,"","","","",""]
[null,null,null,null,"","","","","",0,null,"","","","",""]
[null,null,null,null,"","","","","",0,null,"","","","",""]
[null,null,null,null,"","","","","",0,null,"","","","",""]
[null,null,null,null,"","","","","",0,null,"","","","",""]
[null,null,null,null,"","","","","",0,null,"","","","",""]
[null,null,null,null,"","","","","",0,null,"","","","",""]
[null,null,null,null,"","","","","",0,null,"","","","",""]
[null,null,null,null,"","","","","",0,null,"","","","",""]
[null,null,null,null,"","","","","",0,null,"","","","",""]
[null,null,null,null,"","","","","",0,null,"","","","",""]
[null,null,null,null,"","","","","",0,null,"","","","",""]
[null,null,null,null,"","","","","",0,null,"","","","",""]
[null,null,null,null,"","","","","",0,null,"","","","",""]
[null,null,null,null,"","","","","",0,null,"","","","",""]
[null,null,null,null,"","","","","",0,null,"","","","",""]
[null,null,null,null,"","","","","",0,null,"","","","",""]
[null,null,null,null,"","","","","",0,null,"","","","",""]
[null,null,null,null,"","","","","",0,null,"","","","",""]
[null,null,null,null,"","","","","",0,null,"","","","",""]
[null,null,null,null,"","","","","",0,null,"","","","",""]
[null,null,null,null,"","","","","",0,null,"","","","",""]
[null,null,null,null,"","","","","",0,null,"","","","",""]
[null,null,null,null,"","","","","",0,null,"","","","",""]
[null,null,null,null,"","","","","",0,null,"","","","",""]
[null,null,null,null,"","","","","",0,null,"","","","",""]
[null,null,null,null,"","","","","",0,null,"","","","",""]
[null,null,null,null,"","","","","",0,null,"","","","",""]
[null,null,null,null,"","","","","",0,null,"","","","",""]
[null,null,null,null,"","","","","",0,null,"","","","",""]
[null,null,null,null,"","","","","",0,null,"","","","",""]
[null,null,null,null,"","","","","",0,null,"","","","",""]
[null,null,null,null,"","","","","",0,null,"","","","",""]
[null,null,null,null,"","","","","",0,null,"","","","",""]
[null,null,null,null,"","","","","",0,null,"","","","",""]
[null,null,null,null,"","","","","",0,null,"","","","",""]
[null,null,null,null,"","","","","",0,null,"","","","",""]
[null,null,null,null,"","","","","",0,null,"","","","",""]
[null,null,null,null,"","","","","",0,null,"","","","",""]
[null,null,null,null,"","","","","",0,null,"","","","",""]
[null,null,null,null,"","","","","",0,null,"","","","",""]
[null,null,null,null,"","","","","",0,null,"","","","",""]
[null,null,null,null,"","","","","",0,null,"","","","",""]
[null,null,null,null,{"$f":"IF(ISNA(VLOOKUP(C196,round1,3,FALSE)),\"\",VLOOKUP(C196,round1,3,FALSE))","v":""},{"$f":"IF(ISNA(VLOOKUP(C196,round2,3,FALSE)),\"\",VLOOKUP(C196,round2,3,FALSE))","v":""},{"$f":"IF(ISNA(VLOOKUP(C196,round3,3,FALSE)),\"\",VLOOKUP(C196,round3,3,FALSE))","v":""},{"$f":"IF(ISNA(VLOOKUP(C196,round4,3,FALSE)),\"\",VLOOKUP(C196,round4,3,FALSE))","v":""},{"$f":"IF(ISNA(VLOOKUP(C196,round5,3,FALSE)),\"\",VLOOKUP(C196,round5,3,FALSE))","v":""},{"$f":"MAX(E196:I196)","v":0},null,{"$f":"IF(ISNA(VLOOKUP(C196,round6,3,FALSE)),\"\",VLOOKUP(C196,round6,3,FALSE))","v":""},{"$f":"IF(ISNA(VLOOKUP(C196,round7,3,FALSE)),\"\",VLOOKUP(C196,round7,3,FALSE))","v":""},{"$f":"IF(ISNA(VLOOKUP(C196,round8,3,FALSE)),\"\",VLOOKUP(C196,round8,3,FALSE))","v":""},{"$f":"IF(ISNA(VLOOKUP(C196,round9,3,FALSE)),\"\",VLOOKUP(C196,round9,3,FALSE))","v":""},{"$f":"IF(ISNA(VLOOKUP(C196,round10,3,FALSE)),\"\",VLOOKUP(C196,round10,3,FALSE))","v":""}]
[null,null,null,null,"","","","","",0,null,"","","","",""]
[null,null,null,null,"","","","","",0,null,"","","","",""]
[null,null,null,null,"","","","","",0,null,"","","","",""]
[null,null,null,null,"","","","","",0,null,"","","","",""]
[null,null,null,null,"","","","","",0,null,"","","","",""]
[null,null,null,null,"","","","","",0,null,"","","","",""]
[null,null,null,null,"","","","","",0,null,"","","","",""]
[null,null,null,null,"","","","","",0,null,"","","","",""]
[null,null,null,null,"","","","","",0,null,"","","","",""]
[null,null,null,null,"","","","","",0,null,"","","","",""]
[null,null,null,null,"","","","","",0,null,"","","","",""]
[null,null,null,null,"","","","","",0,null,"","","","",""]
[null,null,null,null,"","","","","",0,null,"","","","",""]
[null,null,null,null,"","","","","",0,null,"","","","",""]
[null,null,null,null,"","","","","",0,null,"","","","",""]
[null,null,null,null,"","","","","",0,null,"","","","",""]
[null,null,null,null,"","","","","",0,null,"","","","",""]
[null,null,null,null,"","","","","",0,null,"","","","",""]
[null,null,null,null,"","","","","",0,null,"","","","",""]
[null,null,null,null,"","","","","",0,null,"","","","",""]
[null,null,null,null,"","","","","",0,null,"","","","",""]
[null,null,null,null,"","","","","",0,null,"","","","",""]
[null,null,null,null,"","","","","",0,null,"","","","",""]
[null,null,null,null,"","","","","",0,null,"","","","",""]
[null,null,null,null,"","","","","",0,null,"","","","",""]
[null,null,null,null,"","","","","",0,null,"","","","",""]
[null,null,null,null,"","","","","",0,null,"","","","",""]
[null,null,null,null,"","","","","",0,null,"","","","",""]
[null,null,null,null,"","","","","",0,null,"","","","",""]
[null,null,null,null,"","","","","",0,null,"","","","",""]
[null,null,null,null,"","","","","",0,null,"","","","",""]
[null,null,null,null,"","","","","",0,null,"","","","",""]
[null,null,null,null,"","","","","",0,null,"","","","",""]
[null,null,null,null,"","","","","",0,null,"","","","",""]
[null,null,null,null,"","","","","",0,null,"","","","",""]
[null,null,null,null,"","","","","",0,null,"","","","",""]
[null,null,null,null,"","","","","",0,null,"","","","",""]
[null,null,null,null,"","","","","",0,null,"","","","",""]
[null,null,null,null,"","","","","",0,null,"","","","",""]
[null,null,null,null,"","","","","",0,null,"","","","",""]
[null,null,null,null,"","","","","",0,null,"","","","",""]
[null,null,null,null,"","","","","",0,null,"","","","",""]
[null,null,null,null,"","","","","",0,null,"","","","",""]
[null,null,null,null,"","","","","",0,null,"","","","",""]
[null,null,null,null,"","","","","",0,null,"","","","",""]
[null,null,null,null,"","","","","",0,null,"","","","",""]
[null,null,null,null,"","","","","",0,null,"","","","",""]
[null,null,null,null,"","","","","",0,null,"","","","",""]
[null,null,null,null,"","","","","",0,null,"","","","",""]
[null,null,null,null,"","","","","",0,null,"","","","",""]
[null,null,null,null,"","","","","",0,null,"","","","",""]
[null,null,null,null,"","","","","",0,null,"","","","",""]
[null,null,null,null,"","","","","",0,null,"","","","",""]
[null,null,null,null,"","","","","",0,null,"","","","",""]
[null,null,null,null,{"$f":"IF(ISNA(VLOOKUP(C251,round1,3,FALSE)),\"\",VLOOKUP(C251,round1,3,FALSE))","v":""},{"$f":"IF(ISNA(VLOOKUP(C251,round2,3,FALSE)),\"\",VLOOKUP(C251,round2,3,FALSE))","v":""},{"$f":"IF(ISNA(VLOOKUP(C251,round3,3,FALSE)),\"\",VLOOKUP(C251,round3,3,FALSE))","v":""},{"$f":"IF(ISNA(VLOOKUP(C251,round4,3,FALSE)),\"\",VLOOKUP(C251,round4,3,FALSE))","v":""},{"$f":"IF(ISNA(VLOOKUP(C251,round5,3,FALSE)),\"\",VLOOKUP(C251,round5,3,FALSE))","v":""},{"$f":"MAX(E251:I251)","v":0},null,{"$f":"IF(ISNA(VLOOKUP(C251,round6,3,FALSE)),\"\",VLOOKUP(C251,round6,3,FALSE))","v":""},{"$f":"IF(ISNA(VLOOKUP(C251,round7,3,FALSE)),\"\",VLOOKUP(C251,round7,3,FALSE))","v":""},{"$f":"IF(ISNA(VLOOKUP(C251,round8,3,FALSE)),\"\",VLOOKUP(C251,round8,3,FALSE))","v":""},{"$f":"IF(ISNA(VLOOKUP(C251,round9,3,FALSE)),\"\",VLOOKUP(C251,round9,3,FALSE))","v":""},{"$f":"IF(ISNA(VLOOKUP(C251,round10,3,FALSE)),\"\",VLOOKUP(C251,round10,3,FALSE))","v":""}]
[null,null,null,null,"","","","","",0,null,"","","","",""]
[null,null,null,null,"","","","","",0,null,"","","","",""]
[null,null,null,null,"","","","","",0,null,"","","","",""]
[null,null,null,null,"","","","","",0,null,"","","","",""]
[null,null,null,null,"","","","","",0,null,"","","","",""]
[null,null,null,null,"","","","","",0,null,"","","","",""]
[null,null,null,null,"","","","","",0,null,"","","","",""]
[null,null,null,null,"","","","","",0,null,"","","","",""]
[null,null,null,null,"","","","","",0,null,"","","","",""]
[null,null,null,null,"","","","","",0,null,"","","","",""]
[null,null,null,null,"","","","","",0,null,"","","","",""]
[null,null,null,null,"","","","","",0,null,"","","","",""]
[null,null,null,null,"","","","","",0,null,"","","","",""]
[null,null,null,null,"","","","","",0,null,"","","","",""]
[null,null,null,null,"","","","","",0,null,"","","","",""]
[null,null,null,null,"","","","","",0,null,"","","","",""]
[null,null,null,null,"","","","","",0,null,"","","","",""]
[null,null,null,null,"","","","","",0,null,"","","","",""]
[null,null,null,null,"","","","","",0,null,"","","","",""]
[null,null,null,null,"","","","","",0,null,"","","","",""]
[null,null,null,null,"","","","","",0,null,"","","","",""]
[null,null,null,null,"","","","","",0,null,"","","","",""]
[null,null,null,null,"","","","","",0,null,"","","","",""]
[null,null,null,null,"","","","","",0,null,"","","","",""]
[null,null,null,null,"","","","","",0,null,"","","","",""]
[null,null,null,null,"","","","","",0,null,"","","","",""]
[null,null,null,null,"","","","","",0,null,"","","","",""]
[null,null,null,null,"","","","","",0,null,"","","","",""]
[null,null,null,null,"","","","","",0,null,"","","","",""]
[null,null,null,null,"","","","","",0,null,"","","","",""]
[null,null,null,null,"","","","","",0,null,"","","","",""]
[null,null,null,null,"","","","","",0,null,"","","","",""]
[null,null,null,null,"","","","","",0,null,"","","","",""]
[null,null,null,null,"","","","","",0,null,"","","","",""]
[null,null,null,null,"","","","","",0,null,"","","","",""]
[null,null,null,null,"","","","","",0,null,"","","","",""]
[null,null,null,null,"","","","","",0,null,"","","","",""]
[null,null,null,null,"","","","","",0,null,"","","","",""]
[null,null,null,null,"","","","","",0,null,"","","","",""]
[null,null,null,null,"","","","","",0,null,"","","","",""]
[null,null,null,null,"","","","","",0,null,"","","","",""]
[null,null,null,null,"","","","","",0,null,"","","","",""]
[null,null,null,null,"","","","","",0,null,"","","","",""]
[null,null,null,null,"","","","","",0,null,"","","","",""]

{"sheet":"Result sheet sticker blank","index":8,"n_rows":0,"n_cols":0,"rows_kept":0,"cut":false,"hidden":true,"merged":[]}

{"sheet":"Score card sticker blank","index":9,"n_rows":0,"n_cols":0,"rows_kept":0,"cut":false,"hidden":true,"merged":[]}

{"sheet":"Instructions","index":10,"n_rows":25,"n_cols":17,"rows_kept":25,"cut":false,"hidden":false,"merged":[[19,0,19,3],[19,5,19,15],[0,0,0,16],[1,0,1,16],[2,0,2,16],[7,15,7,16]]}
["Bowls NSW"]
["2019 State Pennants"]
["Player Participation Record"]
[]
["INSTRUCTIONS"]
[]
["Click on the Club Details Tab"]
["Type in your Club Name"]
["Type in the date that the last Sectional Game of your competition is to be played"]
["Type in your Club's Grades to be played (eg 1, 2, 3.1, etc.) identify multiple sides in a grade as 3.1, 3.2 etc."]
["Type in the total number of Rounds Scheduled in each Grade (including byes)"]
["Type in the number of Byes your side will have"]
["The number of matches a player must play to be graded in that grade will be shown (as the threshold)"]
[]
["Click on the Player Records Tab"]
["Enter the details for your players (RNSWBA#, Surname, First Name and PSG) These can be pasted in from your Membership List csv file"]
["Enter the details of matches played for each player for each round"]
["2019 Season Grading is Calculated automateically by the sheet"]
[]
["Players Registration",null,null,null,"Declared ","Grade Played - Round",null,null,null,null,null,null,null,null,null,null,"Matches"]
["RNSWBA #","2018/PSG","Surname","First Name","Available",1,2,3,4,5,6,7,8,9,10,11,"Played"]
[123456789,5,"Example","Bowler","YES",3.1,4,4,3.1,2,4,4,4,0,4,{"$f":"COUNTIF(F22:O22,\">0.8\")","v":9},4]
[null,null,null,null,null,null,null,null,null,null,null,null,null,null,null,null,{"$f":"COUNTIF(F23:P23,\">0.8\")","v":0}]
[]
["Version updated 7 November 2018"]

{"sheet":"Club_Details","index":11,"n_rows":18,"n_cols":5,"rows_kept":18,"cut":false,"hidden":false,"merged":[[1,2,1,3],[3,2,3,3]]}
[]
[null,"CLUB NAME"]
[]
[null,"Date of LAST Rd","2019-03-06"]
[]
[null,"GRADE ENTERED","No. OF ROUNDS","No. of BYES","Threshold"]
[null,null,null,0,{"$f":"IF((C7-D7)>9,5,(IF(C7=0,15,ROUNDUP((C7-D7)/2,0))))","v":15}]
[null,null,null,null,{"$f":"IF((C8-D8)>9,5,(IF(C8=0,15,ROUNDUP((C8-D8)/2,0))))","v":15}]
[null,null,null,null,15]
[null,null,null,null,15]
[null,null,null,null,15]
[null,null,null,null,15]
[null,null,null,null,15]
[null,null,null,null,15]
[null,null,null,null,15]
[null,null,null,null,15]
[null,null,null,null,15]
[null,null,null,null,15]

{"sheet":"Player_Records","index":12,"n_rows":1007,"n_cols":72,"rows_kept":1007,"cut":false,"hidden":false,"merged":[[0,15,0,16],[4,0,4,3],[4,5,4,14],[2,10,2,16]]}
["2019 State Pennants",null,null,null,"DO NOT PRINT",null,null,null,null,null,null,null,null,"Date:",null,{"$f":"NOW()","v":"2018-12-18T17:16:59.600"}]
["Player Participation Record",null,null,null,"EMAIL AS ATTACHMENT",null,null,null,null,null,null,null,null,"Sectional Play in Progress",null,null,null,0]
["Club Name (nnn WDBA Z8)",null,null,null,null,null,null,null,null,null,"Please DO NOT click in the greyed cells below"]
[]
["Players Registration",null,null,null,"Declared","Grade Played - Round",null,null,null,null,null,null,null,null,null,"Matches",2018,"SEC P",null,"Grade",null,null,null,null,null,null,null,null,null,null,null,null,null,"Grading Achieved?",null,null,null,null,null,null,null,null,null,null,null,null,"No of Matches to be played for EOSP Grading",null,null,null,null,null,null,null,null,null,null,null,"EOSP","EOSPG","MAX GAMES PLAYED IN GRADE"]
["RNSWBA #","2018/PSG","Surname","First Name","Available",1,2,3,4,5,6,7,8,9,10,"Played","Grading","Grading",null,6,0,0,0,0,0,0,0,0,0,0,0,"MAX",null,{"$f":"T6","v":6},0,0,0,0,0,0,0,0,0,0,0,null,{"$f":"T6","v":6},0,0,0,0,0,0,0,0,0,0,0,"Thresh",null,6,0,0,0,0,0,0,0,0,0,0,0]
[null,null,null,null,null,{"$f":"IF(ISNA(VLOOKUP(A7,round1,3,FALSE)),\"\",VLOOKUP(A7,round1,3,FALSE))","v":""},{"$f":"IF(ISNA(VLOOKUP(A7,round2,3,FALSE)),\"\",VLOOKUP(A7,round2,3,FALSE))","v":""},{"$f":"IF(ISNA(VLOOKUP(A7,round3,3,FALSE)),\"\",VLOOKUP(A7,round3,3,FALSE))","v":""},{"$f":"IF(ISNA(VLOOKUP(A7,round4,3,FALSE)),\"\",VLOOKUP(A7,round4,3,FALSE))","v":""},{"$f":"IF(ISNA(VLOOKUP(A7,round5,3,FALSE)),\"\",VLOOKUP(A7,round5,3,FALSE))","v":""},{"$f":"IF(ISNA(VLOOKUP(A7,round6,3,FALSE)),\"\",VLOOKUP(A7,round6,3,FALSE))","v":""},{"$f":"IF(ISNA(VLOOKUP(A7,round7,3,FALSE)),\"\",VLOOKUP(A7,round7,3,FALSE))","v":""},{"$f":"IF(ISNA(VLOOKUP(A7,round8,3,FALSE)),\"\",VLOOKUP(A7,round8,3,FALSE))","v":""},{"$f":"IF(ISNA(VLOOKUP(A7,round9,3,FALSE)),\"\",VLOOKUP(A7,round9,3,FALSE))","v":""},{"$f":"IF(ISNA(VLOOKUP(A7,round10,3,FALSE)),\"\",VLOOKUP(A7,round10,3,FALSE))","v":""},{"$f":"COUNTIF(F7:O7,\">0.8\")","v":0},{"$f":"IF(R7=0,(IF($R$2=1,BH7,0)),R7)","v":0},{"$f":"MIN(AH7:AS7)","v":0},null,{"$f":"COUNTIF($F7:$O7,$T$6)","v":0},{"$f":"COUNTIF($F7:$O7,$U$6)","v":0},{"$f":"COUNTIF($F7:$O7,$V$6)","v":0},{"$f":"COUNTIF($F7:$O7,$W$6)","v":0},{"$f":"COUNTIF($F7:$O7,$X$6)","v":0},{"$f":"COUNTIF($F7:$O7,$Y$6)","v":0},{"$f":"COUNTIF($F7:$O7,$Z$6)","v":0},{"$f":"COUNTIF($F7:$O7,$AA$6)","v":0},{"$f":"COUNTIF($F7:$O7,$AB$6)","v":0},{"$f":"COUNTIF($F7:$O7,$AC$6)","v":0},{"$f":"COUNTIF($F7:$O7,$AD$6)","v":0},{"$f":"COUNTIF($F7:$O7,$AE$6)","v":0},{"$f":"MAX(T7:AE7)","v":0},null," "," "," "," "," "," "," "," "," "," "," "," ",null,15,15,15,15,15,15,15,15,15,15,15,15,{"$f":"MIN(AU7:BF7)","v":15},{"$f":"IF(P7>=BG7,MAX(BI7:BT7),0)","v":0},{"$f":"IF(T7=$AF7,BI$6,0)","v":6},{"$f":"IF(U7=$AF7,BJ6,0)","v":0},{"$f":"IF(V7=$AF7,BK$6,0)","v":0},0,0,0,0,0,0,0,0,0]
[null,null,null,null,null,"","","","","","","","","","",{"$f":"COUNTIF(F8:O8,\">0.8\")","v":0},{"$f":"IF(R8=0,(IF($R$2=1,BH8,0)),R8)","v":0},0,null,0,0,0,0,0,0,0,0,0,0,0,0,{"$f":"MAX(T8:AE8)","v":0},null," "," "," "," "," "," "," "," "," "," "," "," ",null,15,15,15,15,15,15,15,15,15,15,15,15,{"$f":"MIN(AU8:BF8)","v":15},{"$f":"IF(P8>=BG8,MAX(BI8:BT8),0)","v":0},{"$f":"IF(T8=$AF8,BI$6,0)","v":6},{"$f":"IF(U8=$AF8,BJ7,0)","v":0},0,0,0,0,0,0,0,0,0,0]
[null,null,null,null,null,"","","","","","","","","","",0,0,0,null,0,0,0,0,0,0,0,0,0,0,0,0,0,null," "," "," "," "," "," "," "," "," "," "," "," ",null,15,15,15,15,15,15,15,15,15,15,15,15,15,0,6,0,0,0,0,0,0,0,0,0,0,0]
[null,null,null,null,null,"","","","","","","","","","",0,0,0,null,0,0,0,0,0,0,0,0,0,0,0,0,0,null," "," "," "," "," "," "," "," "," "," "," "," ",null,15,15,15,15,15,15,15,15,15,15,15,15,15,0,6,0,0,0,0,0,0,0,0,0,0,0]
[null,null,null,null,null,"","","","","","","","","","",0,0,0,null,0,0,0,0,0,0,0,0,0,0,0,0,0,null," "," "," "," "," "," "," "," "," "," "," "," ",null,15,15,15,15,15,15,15,15,15,15,15,15,15,0,6,0,0,0,0,0,0,0,0,0,0,0]
[null,null,null,null,null,"","","","","","","","","","",0,0,0,null,0,0,0,0,0,0,0,0,0,0,0,0,0,null," "," "," "," "," "," "," "," "," "," "," "," ",null,15,15,15,15,15,15,15,15,15,15,15,15,15,0,6,0,0,0,0,0,0,0,0,0,0,0]
[null,null,null,null,null,"","","","","","","","","","",0,0,0,null,0,0,0,0,0,0,0,0,0,0,0,0,0,null," "," "," "," "," "," "," "," "," "," "," "," ",null,15,15,15,15,15,15,15,15,15,15,15,15,15,0,6,0,0,0,0,0,0,0,0,0,0,0]
[null,null,null,null,null,"","","","","","","","","","",0,0,0,null,0,0,0,0,0,0,0,0,0,0,0,0,0,null," "," "," "," "," "," "," "," "," "," "," "," ",null,15,15,15,15,15,15,15,15,15,15,15,15,15,0,6,0,0,0,0,0,0,0,0,0,0,0]
[null,null,null,null,null,"","","","","","","","","","",0,0,0,null,0,0,0,0,0,0,0,0,0,0,0,0,0,null," "," "," "," "," "," "," "," "," "," "," "," ",null,15,15,15,15,15,15,15,15,15,15,15,15,15,0,6,0,0,0,0,0,0,0,0,0,0,0]
[null,null,null,null,null,"","","","","","","","","","",0,0,0,null,0,0,0,0,0,0,0,0,0,0,0,0,0,null," "," "," "," "," "," "," "," "," "," "," "," ",null,15,15,15,15,15,15,15,15,15,15,15,15,15,0,6,0,0,0,0,0,0,0,0,0,0,0]
[null,null,null,null,null,"","","","","","","","","","",0,0,0,null,0,0,0,0,0,0,0,0,0,0,0,0,0,null," "," "," "," "," "," "," "," "," "," "," "," ",null,15,15,15,15,15,15,15,15,15,15,15,15,15,0,6,0,0,0,0,0,0,0,0,0,0,0]
[null,null,null,null,null,"","","","","","","","","","",0,0,0,null,0,0,0,0,0,0,0,0,0,0,0,0,0,null," "," "," "," "," "," "," "," "," "," "," "," ",null,15,15,15,15,15,15,15,15,15,15,15,15,15,0,6,0,0,0,0,0,0,0,0,0,0,0]
[null,null,null,null,null,"","","","","","","","","","",0,0,0,null,0,0,0,0,0,0,0,0,0,0,0,0,0,null," "," "," "," "," "," "," "," "," "," "," "," ",null,15,15,15,15,15,15,15,15,15,15,15,15,15,0,6,0,0,0,0,0,0,0,0,0,0,0]
[null,null,null,null,null,"","","","","","","","","","",0,0,0,null,0,0,0,0,0,0,0,0,0,0,0,0,0,null," "," "," "," "," "," "," "," "," "," "," "," ",null,15,15,15,15,15,15,15,15,15,15,15,15,15,0,6,0,0,0,0,0,0,0,0,0,0,0]
[null,null,null,null,null,"","","","","","","","","","",0,0,0,null,0,0,0,0,0,0,0,0,0,0,0,0,0,null," "," "," "," "," "," "," "," "," "," "," "," ",null,15,15,15,15,15,15,15,15,15,15,15,15,15,0,6,0,0,0,0,0,0,0,0,0,0,0]
[null,null,null,null,null,"","","","","","","","","","",0,0,0,null,0,0,0,0,0,0,0,0,0,0,0,0,0,null," "," "," "," "," "," "," "," "," "," "," "," ",null,15,15,15,15,15,15,15,15,15,15,15,15,15,0,6,0,0,0,0,0,0,0,0,0,0,0]
[null,null,null,null,null,"","","","","","","","","","",0,0,0,null,0,0,0,0,0,0,0,0,0,0,0,0,0,null," "," "," "," "," "," "," "," "," "," "," "," ",null,15,15,15,15,15,15,15,15,15,15,15,15,15,0,6,0,{"$f":"IF(V23=$AF23,BK$6,0)","v":0},0,0,0,0,0,0,0,0,0]
[null,null,null,null,null,"","","","","","","","","","",0,0,0,null,0,0,0,0,0,0,0,0,0,0,0,0,0,null," "," "," "," "," "," "," "," "," "," "," "," ",null,15,15,15,15,15,15,15,15,15,15,15,15,15,0,6,0,0,0,0,0,0,0,0,0,0,0]
[null,null,null,null,null,"","","","","","","","","","",0,0,0,null,0,0,0,0,0,0,0,0,0,0,0,0,0,null," "," "," "," "," "," "," "," "," "," "," "," ",null,15,15,15,15,15,15,15,15,15,15,15,15,15,0,6,0,0,0,0,0,0,0,0,0,0,0]
[null,null,null,null,null,"","","","","","","","","","",0,0,0,null,0,0,0,0,0,0,0,0,0,0,0,0,0,null," "," "," "," "," "," "," "," "," "," "," "," ",null,15,15,15,15,15,15,15,15,15,15,15,15,15,0,6,0,0,0,0,0,0,0,0,0,0,0]
[null,null,null,null,null,"","","","","","","","","","",0,0,0,null,0,0,0,0,0,0,0,0,0,0,0,0,0,null," "," "," "," "," "," "," "," "," "," "," "," ",null,15,15,15,15,15,15,15,15,15,15,15,15,15,0,6,0,0,0,0,0,0,0,0,0,0,0]
[null,null,null,null,null,"","","","","","","","","","",0,0,0,null,0,0,0,0,0,0,0,0,0,0,0,0,0,null," "," "," "," "," "," "," "," "," "," "," "," ",null,15,15,15,15,15,15,15,15,15,15,15,15,15,0,6,0,0,0,0,0,0,0,0,0,0,0]
[null,null,null,null,null,"","","","","","","","","","",0,0,0,null,0,0,0,0,0,0,0,0,0,0,0,0,0,null," "," "," "," "," "," "," "," "," "," "," "," ",null,15,15,15,15,15,15,15,15,15,15,15,15,15,0,6,0,0,0,0,0,0,0,0,0,0,0]
[null,null,null,null,null,"","","","","","","","","","",0,0,0,null,0,0,0,0,0,0,0,0,0,0,0,0,0,null," "," "," "," "," "," "," "," "," "," "," "," ",null,15,15,15,15,15,15,15,15,15,15,15,15,15,0,6,0,0,0,0,0,0,0,0,0,0,0]
[null,null,null,null,null,"","","","","","","","","","",0,0,0,null,0,0,0,0,0,0,0,0,0,0,0,0,0,null," "," "," "," "," "," "," "," "," "," "," "," ",null,15,15,15,15,15,15,15,15,15,15,15,15,15,0,6,0,0,0,0,0,0,0,0,0,0,0]
[null,null,null,null,null,"","","","","","","","","","",0,0,0,null,0,0,0,0,0,0,0,0,0,0,0,0,0,null," "," "," "," "," "," "," "," "," "," "," "," ",null,15,15,15,15,15,15,15,15,15,15,15,15,15,0,6,0,0,0,0,0,0,0,0,0,0,0]
[null,null,null,null,null,"","","","","","","","","","",0,0,0,null,0,0,0,0,0,0,0,0,0,0,0,0,0,null," "," "," "," "," "," "," "," "," "," "," "," ",null,15,15,15,15,15,15,15,15,15,15,15,15,15,0,6,0,0,0,0,0,0,0,0,0,0,0]
[null,null,null,null,null,"","","","","","","","","","",0,0,0,null,0,0,0,0,0,0,0,0,0,0,0,0,0,null," "," "," "," "," "," "," "," "," "," "," "," ",null,15,15,15,15,15,15,15,15,15,15,15,15,15,0,6,0,0,0,0,0,0,0,0,0,0,0]
[null,null,null,null,null,"","","","","","","","","","",0,0,0,null,0,0,0,0,0,0,0,0,0,0,0,0,0,null," "," "," "," "," "," "," "," "," "," "," "," ",null,15,15,15,15,15,15,15,15,15,15,15,15,15,0,6,0,0,0,0,0,0,0,0,0,0,0]
[null,null,null,null,null,"","","","","","","","","","",0,0,0,null,0,0,0,0,0,0,0,0,0,0,0,0,0,null," "," "," "," "," "," "," "," "," "," "," "," ",null,15,15,15,15,15,15,15,15,15,15,15,15,15,0,6,0,0,0,0,0,0,0,0,0,0,0]
[null,null,null,null,null,"","","","","","","","","","",0,0,0,null,0,0,0,0,0,0,0,0,0,0,0,0,0,null," "," "," "," "," "," "," "," "," "," "," "," ",null,15,15,15,15,15,15,15,15,15,15,15,15,15,0,6,0,0,0,0,0,0,0,0,0,0,0]
[null,null,null,null,null,"","","","","","","","","","",0,0,0,null,0,0,0,0,0,0,0,0,0,0,0,0,0,null," "," "," "," "," "," "," "," "," "," "," "," ",null,15,15,15,15,15,15,15,15,15,15,15,15,15,0,6,0,0,0,0,0,0,0,0,0,0,0]
[null,null,null,null,null,{"$f":"IF(ISNA(VLOOKUP(A39,round1,3,FALSE)),\"\",VLOOKUP(A39,round1,3,FALSE))","v":""},{"$f":"IF(ISNA(VLOOKUP(A39,round2,3,FALSE)),\"\",VLOOKUP(A39,round2,3,FALSE))","v":""},{"$f":"IF(ISNA(VLOOKUP(A39,round3,3,FALSE)),\"\",VLOOKUP(A39,round3,3,FALSE))","v":""},{"$f":"IF(ISNA(VLOOKUP(A39,round4,3,FALSE)),\"\",VLOOKUP(A39,round4,3,FALSE))","v":""},{"$f":"IF(ISNA(VLOOKUP(A39,round5,3,FALSE)),\"\",VLOOKUP(A39,round5,3,FALSE))","v":""},{"$f":"IF(ISNA(VLOOKUP(A39,round6,3,FALSE)),\"\",VLOOKUP(A39,round6,3,FALSE))","v":""},{"$f":"IF(ISNA(VLOOKUP(A39,round7,3,FALSE)),\"\",VLOOKUP(A39,round7,3,FALSE))","v":""},{"$f":"IF(ISNA(VLOOKUP(A39,round8,3,FALSE)),\"\",VLOOKUP(A39,round8,3,FALSE))","v":""},{"$f":"IF(ISNA(VLOOKUP(A39,round9,3,FALSE)),\"\",VLOOKUP(A39,round9,3,FALSE))","v":""},{"$f":"IF(ISNA(VLOOKUP(A39,round10,3,FALSE)),\"\",VLOOKUP(A39,round10,3,FALSE))","v":""},0,0,0,null,0,0,0,0,0,0,0,0,0,0,0,0,0,null," "," "," "," "," "," "," "," "," "," "," "," ",null,15,15,15,15,15,15,15,15,15,15,15,15,15,0,6,0,0,0,0,0,0,0,0,0,0,0]
[null,null,null,null,null,"","","","","","","","","","",0,0,0,null,0,0,0,0,0,0,0,0,0,0,0,0,0,null," "," "," "," "," "," "," "," "," "," "," "," ",null,15,15,15,15,15,15,15,15,15,15,15,15,15,0,6,0,0,0,0,0,0,0,0,0,0,0]
[null,null,null,null,null,"","","","","","","","","","",0,0,0,null,0,0,0,0,0,0,0,0,0,0,0,0,0,null," "," "," "," "," "," "," "," "," "," "," "," ",null,15,15,15,15,15,15,15,15,15,15,15,15,15,0,6,0,0,0,0,0,0,0,0,0,0,0]
[null,null,null,null,null,"","","","","","","","","","",0,0,0,null,0,0,0,0,0,0,0,0,0,0,0,0,0,null," "," "," "," "," "," "," "," "," "," "," "," ",null,15,15,15,15,15,15,15,15,15,15,15,15,15,0,6,0,0,0,0,0,0,0,0,0,0,0]
[null,null,null,null,null,"","","","","","","","","","",0,0,0,null,0,0,0,0,0,0,0,0,0,0,0,0,0,null," "," "," "," "," "," "," "," "," "," "," "," ",null,15,15,15,15,15,15,15,15,15,15,15,15,15,0,6,0,0,0,0,0,0,0,0,0,0,0]
[null,null,null,null,null,"","","","","","","","","","",0,0,0,null,0,0,0,0,0,0,0,0,0,0,0,0,0,null," "," "," "," "," "," "," "," "," "," "," "," ",null,15,15,15,15,15,15,15,15,15,15,15,15,15,0,6,0,0,0,0,0,0,0,0,0,0,0]
[null,null,null,null,null,"","","","","","","","","","",0,0,0,null,0,0,0,0,0,0,0,0,0,0,0,0,0,null," "," "," "," "," "," "," "," "," "," "," "," ",null,15,15,15,15,15,15,15,15,15,15,15,15,15,0,6,0,0,0,0,0,0,0,0,0,0,0]
[null,null,null,null,null,"","","","","","","","","","",0,0,0,null,0,0,0,0,0,0,0,0,0,0,0,0,0,null," "," "," "," "," "," "," "," "," "," "," "," ",null,15,15,15,15,15,15,15,15,15,15,15,15,15,0,6,0,0,0,0,0,0,0,0,0,0,0]
[null,null,null,null,null,"","","","","","","","","","",0,0,0,null,0,0,0,0,0,0,0,0,0,0,0,0,0,null," "," "," "," "," "," "," "," "," "," "," "," ",null,15,15,15,15,15,15,15,15,15,15,15,15,15,0,6,0,0,0,0,0,0,0,0,0,0,0]
[null,null,null,null,null,"","","","","","","","","","",0,0,0,null,0,0,0,0,0,0,0,0,0,0,0,0,0,null," "," "," "," "," "," "," "," "," "," "," "," ",null,15,15,15,15,15,15,15,15,15,15,15,15,15,0,6,0,0,0,0,0,0,{"$f":"IF(AA48=$AF48,BP$6,0)","v":0},0,0,0,0]
[null,null,null,null,null,"","","","","","","","","","",0,0,0,null,0,0,0,0,0,0,0,0,0,0,0,0,0,null," "," "," "," "," "," "," "," "," "," "," "," ",null,15,15,15,15,15,15,15,15,15,15,15,15,15,0,6,0,{"$f":"IF(V49=$AF49,BK$6,0)","v":0},0,0,0,0,0,0,0,0,0]
[null,null,null,null,null,"","","","","","","","","","",0,0,0,null,0,0,0,0,0,0,0,0,0,0,0,0,0,null," "," "," "," "," "," "," "," "," "," "," "," ",null,15,15,15,15,15,15,15,15,15,15,15,15,15,0,6,0,0,0,0,0,0,0,0,0,0,0]
[null,null,null,null,null,"","","","","","","","","","",0,0,0,null,0,0,0,0,0,0,0,0,0,0,0,0,0,null," "," "," "," "," "," "," "," "," "," "," "," ",null,15,15,15,15,15,15,15,15,15,15,15,15,15,0,6,0,0,0,0,0,0,0,0,0,0,0]
[null,null,null,null,null,"","","","","","","","","","",0,0,0,null,0,0,0,0,0,0,0,0,0,0,0,0,0,null," "," "," "," "," "," "," "," "," "," "," "," ",null,15,15,15,15,15,15,15,15,15,15,15,15,15,0,6,0,0,0,0,0,0,0,0,0,0,0]
[null,null,null,null,null,"","","","","","","","","","",0,0,0,null,0,0,0,0,0,0,0,0,0,0,0,0,0,null," "," "," "," "," "," "," "," "," "," "," "," ",null,15,15,15,15,15,15,15,15,15,15,15,15,15,0,6,0,0,0,0,0,0,0,0,0,0,0]
[null,null,null,null,null,"","","","","","","","","","",0,0,0,null,0,0,0,0,0,0,0,0,0,0,0,0,0,null," "," "," "," "," "," "," "," "," "," "," "," ",null,15,15,15,15,15,15,15,15,15,15,15,15,15,0,6,0,0,0,0,0,0,0,0,0,0,0]
[null,null,null,null,null,"","","","","","","","","","",0,0,0,null,0,0,0,0,0,0,0,0,0,0,0,0,0,null," "," "," "," "," "," "," "," "," "," "," "," ",null,15,15,15,15,15,15,15,15,15,15,15,15,15,0,6,0,0,0,0,0,0,0,0,0,0,0]
[null,null,null,null,null,"","","","","","","","","","",0,0,0,null,0,0,0,0,0,0,0,0,0,0,0,0,0,null," "," "," "," "," "," "," "," "," "," "," "," ",null,15,15,15,15,15,15,15,15,15,15,15,15,15,0,6,0,0,0,0,0,0,0,0,0,0,0]
[null,null,null,null,null,"","","","","","","","","","",0,0,0,null,0,0,0,0,0,0,0,0,0,0,0,0,0,null," "," "," "," "," "," "," "," "," "," "," "," ",null,15,15,15,15,15,15,15,15,15,15,15,15,15,0,6,0,0,0,0,0,0,0,0,0,0,0]
[null,null,null,null,null,"","","","","","","","","","",0,0,0,null,0,0,0,0,0,0,0,0,0,0,0,0,0,null," "," "," "," "," "," "," "," "," "," "," "," ",null,15,15,15,15,15,15,15,15,15,15,15,15,15,0,6,0,0,0,0,0,0,0,0,0,0,0]
[null,null,null,null,null,"","","","","","","","","","",0,0,0,null,0,0,0,0,0,0,0,0,0,0,0,0,0,null," "," "," "," "," "," "," "," "," "," "," "," ",null,15,15,15,15,15,15,15,15,15,15,15,15,15,0,6,0,0,0,0,0,0,0,0,0,0,0]
[null,null,null,null,null,"","","","","","","","","","",0,0,0,null,0,0,0,0,0,0,0,0,0,0,0,0,0,null," "," "," "," "," "," "," "," "," "," "," "," ",null,15,15,15,15,15,15,15,15,15,15,15,15,15,0,6,0,0,0,0,0,0,0,0,0,0,0]
[null,null,null,null,null,"","","","","","","","","","",0,0,0,null,0,0,0,0,0,0,0,0,0,0,0,0,0,null," "," "," "," "," "," "," "," "," "," "," "," ",null,15,15,15,15,15,15,15,15,15,15,15,15,15,0,6,0,0,0,0,0,0,0,0,0,0,0]
[null,null,null,null,null,"","","","","","","","","","",0,0,0,null,0,0,0,0,0,0,0,0,0,0,0,0,0,null," "," "," "," "," "," "," "," "," "," "," "," ",null,15,15,15,15,15,15,15,15,15,15,15,15,15,0,6,0,0,0,0,0,0,0,0,0,0,0]
[null,null,null,null,null,"","","","","","","","","","",0,0,0,null,0,0,0,0,0,0,0,0,0,0,0,0,0,null," "," "," "," "," "," "," "," "," "," "," "," ",null,15,15,15,15,15,15,15,15,15,15,15,15,15,0,6,0,0,0,0,0,0,0,0,0,0,0]
[null,null,null,null,null,"","","","","","","","","","",0,0,0,null,0,0,0,0,0,0,0,0,0,0,0,0,0,null," "," "," "," "," "," "," "," "," "," "," "," ",null,15,15,15,15,15,15,15,15,15,15,15,15,15,0,6,0,0,0,0,0,0,0,0,0,0,0]
[null,null,null,null,null,"","","","","","","","","","",0,0,0,null,0,0,0,0,0,0,0,0,0,0,0,0,0,null," "," "," "," "," "," "," "," "," "," "," "," ",null,15,15,15,15,15,15,15,15,15,15,15,15,15,0,6,0,0,0,0,0,0,0,0,0,0,0]
[null,null,null,null,null,"","","","","","","","","","",0,0,0,null,0,0,0,0,0,0,0,0,0,0,0,0,0,null," "," "," "," "," "," "," "," "," "," "," "," ",null,15,15,15,15,15,15,15,15,15,15,15,15,15,0,6,0,0,0,0,0,0,0,0,0,0,0]
[null,null,null,null,null,"","","","","","","","","","",0,0,0,null,0,0,0,0,0,0,0,0,0,0,0,0,0,null," "," "," "," "," "," "," "," "," "," "," "," ",null,15,15,15,15,15,15,15,15,15,15,15,15,15,0,6,0,0,0,0,0,0,0,0,0,0,0]
[null,null,null,null,null,"","","","","","","","","","",0,0,0,null,0,0,0,0,0,0,0,0,0,0,0,0,0,null," "," "," "," "," "," "," "," "," "," "," "," ",null,15,15,15,15,15,15,15,15,15,15,15,15,15,0,6,0,0,0,0,0,0,0,0,0,0,0]
[null,null,null,null,null,"","","","","","","","","","",0,0,0,null,0,0,0,0,0,0,0,0,0,0,0,0,0,null," "," "," "," "," "," "," "," "," "," "," "," ",null,15,15,15,15,15,15,15,15,15,15,15,15,15,0,6,0,0,0,0,0,0,0,0,0,0,0]
[null,null,null,null,null,"","","","","","","","","","",0,0,0,null,0,0,0,0,0,0,0,0,0,0,0,0,0,null," "," "," "," "," "," "," "," "," "," "," "," ",null,15,15,15,15,15,15,15,15,15,15,15,15,15,0,6,0,0,0,0,0,0,0,0,0,0,0]
[null,null,null,null,null,{"$f":"IF(ISNA(VLOOKUP(A71,round1,3,FALSE)),\"\",VLOOKUP(A71,round1,3,FALSE))","v":""},{"$f":"IF(ISNA(VLOOKUP(A71,round2,3,FALSE)),\"\",VLOOKUP(A71,round2,3,FALSE))","v":""},{"$f":"IF(ISNA(VLOOKUP(A71,round3,3,FALSE)),\"\",VLOOKUP(A71,round3,3,FALSE))","v":""},{"$f":"IF(ISNA(VLOOKUP(A71,round4,3,FALSE)),\"\",VLOOKUP(A71,round4,3,FALSE))","v":""},{"$f":"IF(ISNA(VLOOKUP(A71,round5,3,FALSE)),\"\",VLOOKUP(A71,round5,3,FALSE))","v":""},{"$f":"IF(ISNA(VLOOKUP(A71,round6,3,FALSE)),\"\",VLOOKUP(A71,round6,3,FALSE))","v":""},{"$f":"IF(ISNA(VLOOKUP(A71,round7,3,FALSE)),\"\",VLOOKUP(A71,round7,3,FALSE))","v":""},{"$f":"IF(ISNA(VLOOKUP(A71,round8,3,FALSE)),\"\",VLOOKUP(A71,round8,3,FALSE))","v":""},{"$f":"IF(ISNA(VLOOKUP(A71,round9,3,FALSE)),\"\",VLOOKUP(A71,round9,3,FALSE))","v":""},{"$f":"IF(ISNA(VLOOKUP(A71,round10,3,FALSE)),\"\",VLOOKUP(A71,round10,3,FALSE))","v":""},0,0,{"$f":"MIN(AH71:AS71)","v":0},null,{"$f":"COUNTIF($F71:$O71,$T$6)","v":0},{"$f":"COUNTIF($F71:$O71,$U$6)","v":0},{"$f":"COUNTIF($F71:$O71,$V$6)","v":0},{"$f":"COUNTIF($F71:$O71,$W$6)","v":0},{"$f":"COUNTIF($F71:$O71,$X$6)","v":0},{"$f":"COUNTIF($F71:$O71,$Y$6)","v":0},{"$f":"COUNTIF($F71:$O71,$Z$6)","v":0},{"$f":"COUNTIF($F71:$O71,$AA$6)","v":0},{"$f":"COUNTIF($F71:$O71,$AB$6)","v":0},{"$f":"COUNTIF($F71:$O71,$AC$6)","v":0},{"$f":"COUNTIF($F71:$O71,$AD$6)","v":0},{"$f":"COUNTIF($F71:$O71,$AE$6)","v":0},0,null," "," "," "," "," "," "," "," "," "," "," "," ",null,15,15,15,15,15,15,15,15,15,15,15,15,15,0,6,0,0,0,0,0,0,0,0,0,0,0]
[null,null,null,null,null,"","","","","","","","","","",{"$f":"COUNTIF(F72:O72,\">0.8\")","v":0},{"$f":"IF(R72=0,(IF($R$2=1,BH72,0)),R72)","v":0},0,null,0,0,0,0,0,0,0,0,0,0,0,0,{"$f":"MAX(T72:AE72)","v":0},null," "," "," "," "," "," "," "," "," "," "," "," ",null,15,15,15,15,15,15,15,15,15,15,15,15,{"$f":"MIN(AU72:BF72)","v":15},{"$f":"IF(P72>=BG72,MAX(BI72:BT72),0)","v":0},{"$f":"IF(T72=$AF72,BI$6,0)","v":6},{"$f":"IF(U72=$AF72,BJ71,0)","v":0},0,0,0,0,0,0,0,0,0,0]
[null,null,null,null,null,"","","","","","","","","","",0,0,0,null,0,0,0,0,0,0,0,0,0,0,0,0,0,null," "," "," "," "," "," "," "," "," "," "," "," ",null,15,15,15,15,15,15,15,15,15,15,15,15,15,0,6,0,0,0,0,0,0,0,0,0,0,0]
[null,null,null,null,null,"","","","","","","","","","",0,0,0,null,0,0,0,0,0,0,0,0,0,0,0,0,0,null," "," "," "," "," "," "," "," "," "," "," "," ",null,15,15,15,15,15,15,15,15,15,15,15,15,15,0,6,0,0,0,0,0,0,0,0,0,0,0]
[null,null,null,null,null,"","","","","","","","","","",0,0,0,null,0,0,0,0,0,0,0,0,0,0,0,0,0,null," "," "," "," "," "," "," "," "," "," "," "," ",null,15,15,15,15,15,15,15,15,15,15,15,15,15,0,6,0,0,0,0,0,0,0,0,0,0,0]
[null,null,null,null,null,"","","","","","","","","","",0,0,0,null,0,0,0,0,0,0,0,0,0,0,0,0,0,null," "," "," "," "," "," "," "," "," "," "," "," ",null,15,15,15,15,15,15,15,15,15,15,15,15,15,0,6,0,0,0,0,0,0,0,0,0,0,0]
[null,null,null,null,null,"","","","","","","","","","",0,0,0,null,0,0,0,0,0,0,0,0,0,0,0,0,0,null," "," "," "," "," "," "," "," "," "," "," "," ",null,15,15,15,15,15,15,15,15,15,15,15,15,15,0,6,0,0,0,0,0,0,0,0,0,0,0]
[null,null,null,null,null,"","","","","","","","","","",0,0,0,null,0,0,0,0,0,0,0,0,0,0,0,0,0,null," "," "," "," "," "," "," "," "," "," "," "," ",null,15,15,15,15,15,15,15,15,15,15,15,15,15,0,6,0,0,0,0,0,0,0,0,0,0,0]
[null,null,null,null,null,"","","","","","","","","","",0,0,0,null,0,0,0,0,0,0,0,0,0,0,0,0,0,null," "," "," "," "," "," "," "," "," "," "," "," ",null,15,15,15,15,15,15,15,15,15,15,15,15,15,0,6,0,0,0,0,0,0,0,0,0,0,0]
[null,null,null,null,null,"","","","","","","","","","",0,0,0,null,0,0,0,0,0,0,0,0,0,0,0,0,0,null," "," "," "," "," "," "," "," "," "," "," "," ",null,15,15,15,15,15,15,15,15,15,15,15,15,15,0,6,0,0,0,0,0,0,0,0,0,0,0]
[null,null,null,null,null,"","","","","","","","","","",0,0,0,null,0,0,0,0,0,0,0,0,0,0,0,0,0,null," "," "," "," "," "," "," "," "," "," "," "," ",null,15,15,15,15,15,15,15,15,15,15,15,15,15,0,6,0,0,0,0,0,0,0,0,0,0,0]
[null,null,null,null,null,"","","","","","","","","","",0,0,0,null,0,0,0,0,0,0,0,0,0,0,0,0,0,null," "," "," "," "," "," "," "," "," "," "," "," ",null,15,15,15,15,15,15,15,15,15,15,15,15,15,0,6,0,0,0,0,0,0,0,0,0,0,0]
[null,null,null,null,null,"","","","","","","","","","",0,0,0,null,0,0,0,0,0,0,0,0,0,0,0,0,0,null," "," "," "," "," "," "," "," "," "," "," "," ",null,15,15,15,15,15,15,15,15,15,15,15,15,15,0,6,0,0,0,0,0,0,0,0,0,0,0]
[null,null,null,null,null,"","","","","","","","","","",0,0,0,null,0,0,0,0,0,0,0,0,0,0,0,0,0,null," "," "," "," "," "," "," "," "," "," "," "," ",null,15,15,15,15,15,15,15,15,15,15,15,15,15,0,6,0,0,0,0,0,0,0,0,0,0,0]
[null,null,null,null,null,"","","","","","","","","","",0,0,0,null,0,0,0,0,0,0,0,0,0,0,0,0,0,null," "," "," "," "," "," "," "," "," "," "," "," ",null,15,15,15,15,15,15,15,15,15,15,15,15,15,0,6,0,0,0,0,0,0,0,0,0,0,0]
[null,null,null,null,null,"","","","","","","","","","",0,0,0,null,0,0,0,0,0,0,0,0,0,0,0,0,0,null," "," "," "," "," "," "," "," "," "," "," "," ",null,15,15,15,15,15,15,15,15,15,15,15,15,15,0,6,0,0,0,0,0,0,0,0,0,0,0]
[null,null,null,null,null,"","","","","","","","","","",0,0,0,null,0,0,0,0,0,0,0,0,0,0,0,0,0,null," "," "," "," "," "," "," "," "," "," "," "," ",null,15,15,15,15,15,15,15,15,15,15,15,15,15,0,6,0,0,0,0,0,0,0,0,0,0,0]
[null,null,null,null,null,"","","","","","","","","","",0,0,0,null,0,0,0,0,0,0,0,0,0,0,0,0,0,null," "," "," "," "," "," "," "," "," "," "," "," ",null,15,15,15,15,15,15,15,15,15,15,15,15,15,0,6,0,0,0,0,0,0,0,0,0,0,0]
[null,null,null,null,null,"","","","","","","","","","",0,0,0,null,0,0,0,0,0,0,0,0,0,0,0,0,0,null," "," "," "," "," "," "," "," "," "," "," "," ",null,15,15,15,15,15,15,15,15,15,15,15,15,15,0,6,0,0,0,0,0,0,0,0,0,0,0]
[null,null,null,null,null,"","","","","","","","","","",0,0,0,null,0,0,0,0,0,0,0,0,0,0,0,0,0,null," "," "," "," "," "," "," "," "," "," "," "," ",null,15,15,15,15,15,15,15,15,15,15,15,15,15,0,6,0,0,0,0,0,0,0,0,0,0,0]
[null,null,null,null,null,"","","","","","","","","","",0,0,0,null,0,0,0,0,0,0,0,0,0,0,0,0,0,null," "," "," "," "," "," "," "," "," "," "," "," ",null,15,15,15,15,15,15,15,15,15,15,15,15,15,0,6,0,0,0,0,0,0,0,0,0,0,0]
[null,null,null,null,null,"","","","","","","","","","",0,0,0,null,0,0,0,0,0,0,0,0,0,0,0,0,0,null," "," "," "," "," "," "," "," "," "," "," "," ",null,15,15,15,15,15,15,15,15,15,15,15,15,15,0,6,0,0,0,0,0,0,0,0,0,0,0]
[null,null,null,null,null,"","","","","","","","","","",0,0,0,null,0,0,0,0,0,0,0,0,0,0,0,0,0,null," "," "," "," "," "," "," "," "," "," "," "," ",null,15,15,15,15,15,15,15,15,15,15,15,15,15,0,6,0,0,0,0,0,0,0,0,0,0,0]
[null,null,null,null,null,"","","","","","","","","","",0,0,0,null,0,0,0,0,0,0,0,0,0,0,0,0,0,null," "," "," "," "," "," "," "," "," "," "," "," ",null,15,15,15,15,15,15,15,15,15,15,15,15,15,0,6,0,0,0,0,0,0,0,0,0,0,0]
[null,null,null,null,null,"","","","","","","","","","",0,0,0,null,0,0,0,0,0,0,0,0,0,0,0,0,0,null," "," "," "," "," "," "," "," "," "," "," "," ",null,15,15,15,15,15,15,15,15,15,15,15,15,15,0,6,0,0,0,0,0,0,0,0,0,0,0]
[null,null,null,null,null,"","","","","","","","","","",0,0,0,null,0,0,0,0,0,0,0,0,0,0,0,0,0,null," "," "," "," "," "," "," "," "," "," "," "," ",null,15,15,15,15,15,15,15,15,15,15,15,15,15,0,6,0,0,0,0,0,0,0,0,0,0,0]
[null,null,null,null,null,"","","","","","","","","","",0,0,0,null,0,0,0,0,0,0,0,0,0,0,0,0,0,null," "," "," "," "," "," "," "," "," "," "," "," ",null,15,15,15,15,15,15,15,15,15,15,15,15,15,0,6,0,0,0,0,0,0,0,0,0,0,0]
[null,null,null,null,null,"","","","","","","","","","",0,0,0,null,0,0,0,0,0,0,0,0,0,0,0,0,0,null," "," "," "," "," "," "," "," "," "," "," "," ",null,15,15,15,15,15,15,15,15,15,15,15,15,15,0,6,0,0,0,0,0,0,0,0,0,0,0]
[null,null,null,null,null,"","","","","","","","","","",0,0,0,null,0,0,0,0,0,0,0,0,0,0,0,0,0,null," "," "," "," "," "," "," "," "," "," "," "," ",null,15,15,15,15,15,15,15,15,15,15,15,15,15,0,6,0,0,0,0,0,0,{"$f":"IF(AA99=$AF99,BP$6,0)","v":0},0,0,0,0]
[null,null,null,null,null,"","","","","","","","","","",0,0,0,null,0,0,0,0,0,0,0,0,0,0,0,0,0,null," "," "," "," "," "," "," "," "," "," "," "," ",null,15,15,15,15,15,15,15,15,15,15,15,15,15,0,6,0,{"$f":"IF(V100=$AF100,BK$6,0)","v":0},0,0,0,0,0,0,0,0,0]
[null,null,null,null,null,"","","","","","","","","","",0,0,0,null,0,0,0,0,0,0,0,0,0,0,0,0,0,null," "," "," "," "," "," "," "," "," "," "," "," ",null,15,15,15,15,15,15,15,15,15,15,15,15,15,0,6,0,0,0,0,0,0,0,0,0,0,0]
[null,null,null,null,null,"","","","","","","","","","",0,0,0,null,0,0,0,0,0,0,0,0,0,0,0,0,0,null," "," "," "," "," "," "," "," "," "," "," "," ",null,15,15,15,15,15,15,15,15,15,15,15,15,15,0,6,0,0,0,0,0,0,0,0,0,0,0]
[null,null,null,null,null,{"$f":"IF(ISNA(VLOOKUP(A103,round1,3,FALSE)),\"\",VLOOKUP(A103,round1,3,FALSE))","v":""},{"$f":"IF(ISNA(VLOOKUP(A103,round2,3,FALSE)),\"\",VLOOKUP(A103,round2,3,FALSE))","v":""},{"$f":"IF(ISNA(VLOOKUP(A103,round3,3,FALSE)),\"\",VLOOKUP(A103,round3,3,FALSE))","v":""},{"$f":"IF(ISNA(VLOOKUP(A103,round4,3,FALSE)),\"\",VLOOKUP(A103,round4,3,FALSE))","v":""},{"$f":"IF(ISNA(VLOOKUP(A103,round5,3,FALSE)),\"\",VLOOKUP(A103,round5,3,FALSE))","v":""},{"$f":"IF(ISNA(VLOOKUP(A103,round6,3,FALSE)),\"\",VLOOKUP(A103,round6,3,FALSE))","v":""},{"$f":"IF(ISNA(VLOOKUP(A103,round7,3,FALSE)),\"\",VLOOKUP(A103,round7,3,FALSE))","v":""},{"$f":"IF(ISNA(VLOOKUP(A103,round8,3,FALSE)),\"\",VLOOKUP(A103,round8,3,FALSE))","v":""},{"$f":"IF(ISNA(VLOOKUP(A103,round9,3,FALSE)),\"\",VLOOKUP(A103,round9,3,FALSE))","v":""},{"$f":"IF(ISNA(VLOOKUP(A103,round10,3,FALSE)),\"\",VLOOKUP(A103,round10,3,FALSE))","v":""},0,0,0,null,0,0,0,0,0,0,0,0,0,0,0,0,0,null," "," "," "," "," "," "," "," "," "," "," "," ",null,15,15,15,15,15,15,15,15,15,15,15,15,15,0,6,0,0,0,0,0,0,0,0,0,0,0]
[null,null,null,null,null,"","","","","","","","","","",0,0,0,null,0,0,0,0,0,0,0,0,0,0,0,0,0,null," "," "," "," "," "," "," "," "," "," "," "," ",null,15,15,15,15,15,15,15,15,15,15,15,15,15,0,6,0,0,0,0,0,0,0,0,0,0,0]
[null,null,null,null,null,"","","","","","","","","","",0,0,0,null,0,0,0,0,0,0,0,0,0,0,0,0,0,null," "," "," "," "," "," "," "," "," "," "," "," ",null,15,15,15,15,15,15,15,15,15,15,15,15,15,0,6,0,0,0,0,0,0,0,0,0,0,0]
[null,null,null,null,null,"","","","","","","","","","",0,0,0,null,0,0,0,0,0,0,0,0,0,0,0,0,0,null," "," "," "," "," "," "," "," "," "," "," "," ",null,15,15,15,15,15,15,15,15,15,15,15,15,15,0,6,0,0,0,0,0,0,0,0,0,0,0]
[null,null,null,null,null,"","","","","","","","","","",0,0,0,null,0,0,0,0,0,0,0,0,0,0,0,0,0,null," "," "," "," "," "," "," "," "," "," "," "," ",null,15,15,15,15,15,15,15,15,15,15,15,15,15,0,6,0,0,0,0,0,0,0,0,0,0,0]
[null,null,null,null,null,"","","","","","","","","","",0,0,0,null,0,0,0,0,0,0,0,0,0,0,0,0,0,null," "," "," "," "," "," "," "," "," "," "," "," ",null,15,15,15,15,15,15,15,15,15,15,15,15,15,0,6,0,0,0,0,0,0,0,0,0,0,0]
[null,null,null,null,null,"","","","","","","","","","",0,0,0,null,0,0,0,0,0,0,0,0,0,0,0,0,0,null," "," "," "," "," "," "," "," "," "," "," "," ",null,15,15,15,15,15,15,15,15,15,15,15,15,15,0,6,0,0,0,0,0,0,0,0,0,0,0]
[null,null,null,null,null,"","","","","","","","","","",0,0,0,null,0,0,0,0,0,0,0,0,0,0,0,0,0,null," "," "," "," "," "," "," "," "," "," "," "," ",null,15,15,15,15,15,15,15,15,15,15,15,15,15,0,6,0,0,0,0,0,0,0,0,0,0,0]
[null,null,null,null,null,"","","","","","","","","","",0,0,0,null,0,0,0,0,0,0,0,0,0,0,0,0,0,null," "," "," "," "," "," "," "," "," "," "," "," ",null,15,15,15,15,15,15,15,15,15,15,15,15,15,0,6,0,0,0,0,0,0,0,0,0,0,0]
[null,null,null,null,null,"","","","","","","","","","",0,0,0,null,0,0,0,0,0,0,0,0,0,0,0,0,0,null," "," "," "," "," "," "," "," "," "," "," "," ",null,15,15,15,15,15,15,15,15,15,15,15,15,15,0,6,0,0,0,0,0,0,0,0,0,0,0]
[null,null,null,null,null,"","","","","","","","","","",0,0,0,null,0,0,0,0,0,0,0,0,0,0,0,0,0,null," "," "," "," "," "," "," "," "," "," "," "," ",null,15,15,15,15,15,15,15,15,15,15,15,15,15,0,6,0,0,0,0,0,0,0,0,0,0,0]
[null,null,null,null,null,"","","","","","","","","","",0,0,0,null,0,0,0,0,0,0,0,0,0,0,0,0,0,null," "," "," "," "," "," "," "," "," "," "," "," ",null,15,15,15,15,15,15,15,15,15,15,15,15,15,0,6,0,0,0,0,0,0,0,0,0,0,0]
[null,null,null,null,null,"","","","","","","","","","",0,0,0,null,0,0,0,0,0,0,0,0,0,0,0,0,0,null," "," "," "," "," "," "," "," "," "," "," "," ",null,15,15,15,15,15,15,15,15,15,15,15,15,15,0,6,0,0,0,0,0,0,0,0,0,0,0]
[null,null,null,null,null,"","","","","","","","","","",0,0,0,null,0,0,0,0,0,0,0,0,0,0,0,0,0,null," "," "," "," "," "," "," "," "," "," "," "," ",null,15,15,15,15,15,15,15,15,15,15,15,15,15,0,6,0,0,0,0,0,0,0,0,0,0,0]
[null,null,null,null,null,"","","","","","","","","","",0,0,0,null,0,0,0,0,0,0,0,0,0,0,0,0,0,null," "," "," "," "," "," "," "," "," "," "," "," ",null,15,15,15,15,15,15,15,15,15,15,15,15,15,0,6,0,0,0,0,0,0,0,0,0,0,0]
[null,null,null,null,null,"","","","","","","","","","",0,0,0,null,0,0,0,0,0,0,0,0,0,0,0,0,0,null," "," "," "," "," "," "," "," "," "," "," "," ",null,15,15,15,15,15,15,15,15,15,15,15,15,15,0,6,0,0,0,0,0,0,0,0,0,0,0]
[null,null,null,null,null,"","","","","","","","","","",0,0,0,null,0,0,0,0,0,0,0,0,0,0,0,0,0,null," "," "," "," "," "," "," "," "," "," "," "," ",null,15,15,15,15,15,15,15,15,15,15,15,15,15,0,6,0,0,0,0,0,0,0,0,0,0,0]
[null,null,null,null,null,"","","","","","","","","","",0,0,0,null,0,0,0,0,0,0,0,0,0,0,0,0,0,null," "," "," "," "," "," "," "," "," "," "," "," ",null,15,15,15,15,15,15,15,15,15,15,15,15,15,0,6,0,0,0,0,0,0,0,0,0,0,0]
[null,null,null,null,null,"","","","","","","","","","",0,0,0,null,0,0,0,0,0,0,0,0,0,0,0,0,0,null," "," "," "," "," "," "," "," "," "," "," "," ",null,15,15,15,15,15,15,15,15,15,15,15,15,15,0,6,0,0,0,0,0,0,0,0,0,0,0]
[null,null,null,null,null,"","","","","","","","","","",0,0,0,null,0,0,0,0,0,0,0,0,0,0,0,0,0,null," "," "," "," "," "," "," "," "," "," "," "," ",null,15,15,15,15,15,15,15,15,15,15,15,15,15,0,6,0,0,0,0,0,0,0,0,0,0,0]
[null,null,null,null,null,"","","","","","","","","","",0,0,0,null,0,0,0,0,0,0,0,0,0,0,0,0,0,null," "," "," "," "," "," "," "," "," "," "," "," ",null,15,15,15,15,15,15,15,15,15,15,15,15,15,0,6,0,0,0,0,0,0,0,0,0,0,0]
[null,null,null,null,null,"","","","","","","","","","",0,0,0,null,0,0,0,0,0,0,0,0,0,0,0,0,0,null," "," "," "," "," "," "," "," "," "," "," "," ",null,15,15,15,15,15,15,15,15,15,15,15,15,15,0,6,0,0,0,0,0,0,0,0,0,0,0]
[null,null,null,null,null,"","","","","","","","","","",0,0,0,null,0,0,0,0,0,0,0,0,0,0,0,0,0,null," "," "," "," "," "," "," "," "," "," "," "," ",null,15,15,15,15,15,15,15,15,15,15,15,15,15,0,6,0,0,0,0,0,0,0,0,0,0,0]
[null,null,null,null,null,"","","","","","","","","","",0,0,0,null,0,0,0,0,0,0,0,0,0,0,0,0,0,null," "," "," "," "," "," "," "," "," "," "," "," ",null,15,15,15,15,15,15,15,15,15,15,15,15,15,0,6,0,0,0,0,0,0,0,0,0,0,0]
[null,null,null,null,null,"","","","","","","","","","",0,0,0,null,0,0,0,0,0,0,0,0,0,0,0,0,0,null," "," "," "," "," "," "," "," "," "," "," "," ",null,15,15,15,15,15,15,15,15,15,15,15,15,15,0,6,0,0,0,0,0,0,0,0,0,0,0]
[null,null,null,null,null,"","","","","","","","","","",0,0,0,null,0,0,0,0,0,0,0,0,0,0,0,0,0,null," "," "," "," "," "," "," "," "," "," "," "," ",null,15,15,15,15,15,15,15,15,15,15,15,15,15,0,6,0,0,0,0,0,0,0,0,0,0,0]
[null,null,null,null,null,"","","","","","","","","","",0,0,0,null,0,0,0,0,0,0,0,0,0,0,0,0,0,null," "," "," "," "," "," "," "," "," "," "," "," ",null,15,15,15,15,15,15,15,15,15,15,15,15,15,0,6,0,0,0,0,0,0,0,0,0,0,0]
[null,null,null,null,null,"","","","","","","","","","",0,0,0,null,0,0,0,0,0,0,0,0,0,0,0,0,0,null," "," "," "," "," "," "," "," "," "," "," "," ",null,15,15,15,15,15,15,15,15,15,15,15,15,15,0,6,0,0,0,0,0,0,0,0,0,0,0]
[null,null,null,null,null,"","","","","","","","","","",0,0,0,null,0,0,0,0,0,0,0,0,0,0,0,0,0,null," "," "," "," "," "," "," "," "," "," "," "," ",null,15,15,15,15,15,15,15,15,15,15,15,15,15,0,6,0,0,0,0,0,0,0,0,0,0,0]
[null,null,null,null,null,"","","","","","","","","","",0,0,0,null,0,0,0,0,0,0,0,0,0,0,0,0,0,null," "," "," "," "," "," "," "," "," "," "," "," ",null,15,15,15,15,15,15,15,15,15,15,15,15,15,0,6,0,0,0,0,0,0,0,0,0,0,0]
[null,null,null,null,null,"","","","","","","","","","",0,0,0,null,0,0,0,0,0,0,0,0,0,0,0,0,0,null," "," "," "," "," "," "," "," "," "," "," "," ",null,15,15,15,15,15,15,15,15,15,15,15,15,15,0,6,0,0,0,0,0,0,0,0,0,0,0]
[null,null,null,null,null,"","","","","","","","","","",0,0,0,null,0,0,0,0,0,0,0,0,0,0,0,0,0,null," "," "," "," "," "," "," "," "," "," "," "," ",null,15,15,15,15,15,15,15,15,15,15,15,15,15,0,6,0,0,0,0,0,0,0,0,0,0,0]
[null,null,null,null,null,{"$f":"IF(ISNA(VLOOKUP(A135,round1,3,FALSE)),\"\",VLOOKUP(A135,round1,3,FALSE))","v":""},{"$f":"IF(ISNA(VLOOKUP(A135,round2,3,FALSE)),\"\",VLOOKUP(A135,round2,3,FALSE))","v":""},{"$f":"IF(ISNA(VLOOKUP(A135,round3,3,FALSE)),\"\",VLOOKUP(A135,round3,3,FALSE))","v":""},{"$f":"IF(ISNA(VLOOKUP(A135,round4,3,FALSE)),\"\",VLOOKUP(A135,round4,3,FALSE))","v":""},{"$f":"IF(ISNA(VLOOKUP(A135,round5,3,FALSE)),\"\",VLOOKUP(A135,round5,3,FALSE))","v":""},{"$f":"IF(ISNA(VLOOKUP(A135,round6,3,FALSE)),\"\",VLOOKUP(A135,round6,3,FALSE))","v":""},{"$f":"IF(ISNA(VLOOKUP(A135,round7,3,FALSE)),\"\",VLOOKUP(A135,round7,3,FALSE))","v":""},{"$f":"IF(ISNA(VLOOKUP(A135,round8,3,FALSE)),\"\",VLOOKUP(A135,round8,3,FALSE))","v":""},{"$f":"IF(ISNA(VLOOKUP(A135,round9,3,FALSE)),\"\",VLOOKUP(A135,round9,3,FALSE))","v":""},{"$f":"IF(ISNA(VLOOKUP(A135,round10,3,FALSE)),\"\",VLOOKUP(A135,round10,3,FALSE))","v":""},0,0,{"$f":"MIN(AH135:AS135)","v":0},null,{"$f":"COUNTIF($F135:$O135,$T$6)","v":0},{"$f":"COUNTIF($F135:$O135,$U$6)","v":0},{"$f":"COUNTIF($F135:$O135,$V$6)","v":0},{"$f":"COUNTIF($F135:$O135,$W$6)","v":0},{"$f":"COUNTIF($F135:$O135,$X$6)","v":0},{"$f":"COUNTIF($F135:$O135,$Y$6)","v":0},{"$f":"COUNTIF($F135:$O135,$Z$6)","v":0},{"$f":"COUNTIF($F135:$O135,$AA$6)","v":0},{"$f":"COUNTIF($F135:$O135,$AB$6)","v":0},{"$f":"COUNTIF($F135:$O135,$AC$6)","v":0},{"$f":"COUNTIF($F135:$O135,$AD$6)","v":0},{"$f":"COUNTIF($F135:$O135,$AE$6)","v":0},0,null," "," "," "," "," "," "," "," "," "," "," "," ",null,15,15,15,15,15,15,15,15,15,15,15,15,15,0,6,0,0,0,0,0,0,0,0,0,0,0]
[null,null,null,null,null,"","","","","","","","","","",{"$f":"COUNTIF(F136:O136,\">0.8\")","v":0},{"$f":"IF(R136=0,(IF($R$2=1,BH136,0)),R136)","v":0},0,null,0,0,0,0,0,0,0,0,0,0,0,0,{"$f":"MAX(T136:AE136)","v":0},null," "," "," "," "," "," "," "," "," "," "," "," ",null,15,15,15,15,15,15,15,15,15,15,15,15,{"$f":"MIN(AU136:BF136)","v":15},{"$f":"IF(P136>=BG136,MAX(BI136:BT136),0)","v":0},{"$f":"IF(T136=$AF136,BI$6,0)","v":6},{"$f":"IF(U136=$AF136,BJ135,0)","v":0},0,0,0,0,0,0,0,0,0,0]
[null,null,null,null,null,"","","","","","","","","","",0,0,0,null,0,0,0,0,0,0,0,0,0,0,0,0,0,null," "," "," "," "," "," "," "," "," "," "," "," ",null,15,15,15,15,15,15,15,15,15,15,15,15,15,0,6,0,0,0,0,0,0,0,0,0,0,0]
[null,null,null,null,null,"","","","","","","","","","",0,0,0,null,0,0,0,0,0,0,0,0,0,0,0,0,0,null," "," "," "," "," "," "," "," "," "," "," "," ",null,15,15,15,15,15,15,15,15,15,15,15,15,15,0,6,0,0,0,0,0,0,0,0,0,0,0]
[null,null,null,null,null,"","","","","","","","","","",0,0,0,null,0,0,0,0,0,0,0,0,0,0,0,0,0,null," "," "," "," "," "," "," "," "," "," "," "," ",null,15,15,15,15,15,15,15,15,15,15,15,15,15,0,6,0,0,0,0,0,0,0,0,0,0,0]
[null,null,null,null,null,"","","","","","","","","","",0,0,0,null,0,0,0,0,0,0,0,0,0,0,0,0,0,null," "," "," "," "," "," "," "," "," "," "," "," ",null,15,15,15,15,15,15,15,15,15,15,15,15,15,0,6,0,0,0,0,0,0,0,0,0,0,0]
[null,null,null,null,null,"","","","","","","","","","",0,0,0,null,0,0,0,0,0,0,0,0,0,0,0,0,0,null," "," "," "," "," "," "," "," "," "," "," "," ",null,15,15,15,15,15,15,15,15,15,15,15,15,15,0,6,0,0,0,0,0,0,0,0,0,0,0]
[null,null,null,null,null,"","","","","","","","","","",0,0,0,null,0,0,0,0,0,0,0,0,0,0,0,0,0,null," "," "," "," "," "," "," "," "," "," "," "," ",null,15,15,15,15,15,15,15,15,15,15,15,15,15,0,6,0,0,0,0,0,0,0,0,0,0,0]
[null,null,null,null,null,"","","","","","","","","","",0,0,0,null,0,0,0,0,0,0,0,0,0,0,0,0,0,null," "," "," "," "," "," "," "," "," "," "," "," ",null,15,15,15,15,15,15,15,15,15,15,15,15,15,0,6,0,0,0,0,0,0,0,0,0,0,0]
[null,null,null,null,null,"","","","","","","","","","",0,0,0,null,0,0,0,0,0,0,0,0,0,0,0,0,0,null," "," "," "," "," "," "," "," "," "," "," "," ",null,15,15,15,15,15,15,15,15,15,15,15,15,15,0,6,0,0,0,0,0,0,0,0,0,0,0]
[null,null,null,null,null,"","","","","","","","","","",0,0,0,null,0,0,0,0,0,0,0,0,0,0,0,0,0,null," "," "," "," "," "," "," "," "," "," "," "," ",null,15,15,15,15,15,15,15,15,15,15,15,15,15,0,6,0,0,0,0,0,0,0,0,0,0,0]
[null,null,null,null,null,"","","","","","","","","","",0,0,0,null,0,0,0,0,0,0,0,0,0,0,0,0,0,null," "," "," "," "," "," "," "," "," "," "," "," ",null,15,15,15,15,15,15,15,15,15,15,15,15,15,0,6,0,0,0,0,0,0,0,0,0,0,0]
[null,null,null,null,null,"","","","","","","","","","",0,0,0,null,0,0,0,0,0,0,0,0,0,0,0,0,0,null," "," "," "," "," "," "," "," "," "," "," "," ",null,15,15,15,15,15,15,15,15,15,15,15,15,15,0,6,0,0,0,0,0,0,0,0,0,0,0]
[null,null,null,null,null,"","","","","","","","","","",0,0,0,null,0,0,0,0,0,0,0,0,0,0,0,0,0,null," "," "," "," "," "," "," "," "," "," "," "," ",null,15,15,15,15,15,15,15,15,15,15,15,15,15,0,6,0,0,0,0,0,0,0,0,0,0,0]
[null,null,null,null,null,"","","","","","","","","","",0,0,0,null,0,0,0,0,0,0,0,0,0,0,0,0,0,null," "," "," "," "," "," "," "," "," "," "," "," ",null,15,15,15,15,15,15,15,15,15,15,15,15,15,0,6,0,0,0,0,0,0,0,0,0,0,0]
[null,null,null,null,null,"","","","","","","","","","",0,0,0,null,0,0,0,0,0,0,0,0,0,0,0,0,0,null," "," "," "," "," "," "," "," "," "," "," "," ",null,15,15,15,15,15,15,15,15,15,15,15,15,15,0,6,0,0,0,0,0,0,{"$f":"IF(AA150=$AF150,BP$6,0)","v":0},0,0,0,0]
[null,null,null,null,null,"","","","","","","","","","",0,0,0,null,0,0,0,0,0,0,0,0,0,0,0,0,0,null," "," "," "," "," "," "," "," "," "," "," "," ",null,15,15,15,15,15,15,15,15,15,15,15,15,15,0,6,0,{"$f":"IF(V151=$AF151,BK$6,0)","v":0},0,0,0,0,0,0,0,0,0]
[null,null,null,null,null,"","","","","","","","","","",0,0,0,null,0,0,0,0,0,0,0,0,0,0,0,0,0,null," "," "," "," "," "," "," "," "," "," "," "," ",null,15,15,15,15,15,15,15,15,15,15,15,15,15,0,6,0,0,0,0,0,0,0,0,0,0,0]
[null,null,null,null,null,"","","","","","","","","","",0,0,0,null,0,0,0,0,0,0,0,0,0,0,0,0,0,null," "," "," "," "," "," "," "," "," "," "," "," ",null,15,15,15,15,15,15,15,15,15,15,15,15,15,0,6,0,0,0,0,0,0,0,0,0,0,0]
[null,null,null,null,null,"","","","","","","","","","",0,0,0,null,0,0,0,0,0,0,0,0,0,0,0,0,0,null," "," "," "," "," "," "," "," "," "," "," "," ",null,15,15,15,15,15,15,15,15,15,15,15,15,15,0,6,0,0,0,0,0,0,0,0,0,0,0]
[null,null,null,null,null,"","","","","","","","","","",0,0,0,null,0,0,0,0,0,0,0,0,0,0,0,0,0,null," "," "," "," "," "," "," "," "," "," "," "," ",null,15,15,15,15,15,15,15,15,15,15,15,15,15,0,6,0,0,0,0,0,0,0,0,0,0,0]
[null,null,null,null,null,"","","","","","","","","","",0,0,0,null,0,0,0,0,0,0,0,0,0,0,0,0,0,null," "," "," "," "," "," "," "," "," "," "," "," ",null,15,15,15,15,15,15,15,15,15,15,15,15,15,0,6,0,0,0,0,0,0,0,0,0,0,0]
[null,null,null,null,null,"","","","","","","","","","",0,0,0,null,0,0,0,0,0,0,0,0,0,0,0,0,0,null," "," "," "," "," "," "," "," "," "," "," "," ",null,15,15,15,15,15,15,15,15,15,15,15,15,15,0,6,0,0,0,0,0,0,0,0,0,0,0]
[null,null,null,null,null,"","","","","","","","","","",0,0,0,null,0,0,0,0,0,0,0,0,0,0,0,0,0,null," "," "," "," "," "," "," "," "," "," "," "," ",null,15,15,15,15,15,15,15,15,15,15,15,15,15,0,6,0,0,0,0,0,0,0,0,0,0,0]
[null,null,null,null,null,"","","","","","","","","","",0,0,0,null,0,0,0,0,0,0,0,0,0,0,0,0,0,null," "," "," "," "," "," "," "," "," "," "," "," ",null,15,15,15,15,15,15,15,15,15,15,15,15,15,0,6,0,0,0,0,0,0,0,0,0,0,0]
[null,null,null,null,null,"","","","","","","","","","",0,0,0,null,0,0,0,0,0,0,0,0,0,0,0,0,0,null," "," "," "," "," "," "," "," "," "," "," "," ",null,15,15,15,15,15,15,15,15,15,15,15,15,15,0,6,0,0,0,0,0,0,0,0,0,0,0]
[null,null,null,null,null,"","","","","","","","","","",0,0,0,null,0,0,0,0,0,0,0,0,0,0,0,0,0,null," "," "," "," "," "," "," "," "," "," "," "," ",null,15,15,15,15,15,15,15,15,15,15,15,15,15,0,6,0,0,0,0,0,0,0,0,0,0,0]
[null,null,null,null,null,"","","","","","","","","","",0,0,0,null,0,0,0,0,0,0,0,0,0,0,0,0,0,null," "," "," "," "," "," "," "," "," "," "," "," ",null,15,15,15,15,15,15,15,15,15,15,15,15,15,0,6,0,0,0,0,0,0,0,0,0,0,0]
[null,null,null,null,null,"","","","","","","","","","",0,0,0,null,0,0,0,0,0,0,0,0,0,0,0,0,0,null," "," "," "," "," "," "," "," "," "," "," "," ",null,15,15,15,15,15,15,15,15,15,15,15,15,15,0,6,0,0,0,0,0,0,0,0,0,0,0]
[null,null,null,null,null,"","","","","","","","","","",0,0,0,null,0,0,0,0,0,0,0,0,0,0,0,0,0,null," "," "," "," "," "," "," "," "," "," "," "," ",null,15,15,15,15,15,15,15,15,15,15,15,15,15,0,6,0,0,0,0,0,0,0,0,0,0,0]
[null,null,null,null,null,"","","","","","","","","","",0,0,0,null,0,0,0,0,0,0,0,0,0,0,0,0,0,null," "," "," "," "," "," "," "," "," "," "," "," ",null,15,15,15,15,15,15,15,15,15,15,15,15,15,0,6,0,0,0,0,0,0,0,0,0,0,0]
[null,null,null,null,null,"","","","","","","","","","",0,0,0,null,0,0,0,0,0,0,0,0,0,0,0,0,0,null," "," "," "," "," "," "," "," "," "," "," "," ",null,15,15,15,15,15,15,15,15,15,15,15,15,15,0,6,0,0,0,0,0,0,0,0,0,0,0]
[null,null,null,null,null,{"$f":"IF(ISNA(VLOOKUP(A167,round1,3,FALSE)),\"\",VLOOKUP(A167,round1,3,FALSE))","v":""},{"$f":"IF(ISNA(VLOOKUP(A167,round2,3,FALSE)),\"\",VLOOKUP(A167,round2,3,FALSE))","v":""},{"$f":"IF(ISNA(VLOOKUP(A167,round3,3,FALSE)),\"\",VLOOKUP(A167,round3,3,FALSE))","v":""},{"$f":"IF(ISNA(VLOOKUP(A167,round4,3,FALSE)),\"\",VLOOKUP(A167,round4,3,FALSE))","v":""},{"$f":"IF(ISNA(VLOOKUP(A167,round5,3,FALSE)),\"\",VLOOKUP(A167,round5,3,FALSE))","v":""},{"$f":"IF(ISNA(VLOOKUP(A167,round6,3,FALSE)),\"\",VLOOKUP(A167,round6,3,FALSE))","v":""},{"$f":"IF(ISNA(VLOOKUP(A167,round7,3,FALSE)),\"\",VLOOKUP(A167,round7,3,FALSE))","v":""},{"$f":"IF(ISNA(VLOOKUP(A167,round8,3,FALSE)),\"\",VLOOKUP(A167,round8,3,FALSE))","v":""},{"$f":"IF(ISNA(VLOOKUP(A167,round9,3,FALSE)),\"\",VLOOKUP(A167,round9,3,FALSE))","v":""},{"$f":"IF(ISNA(VLOOKUP(A167,round10,3,FALSE)),\"\",VLOOKUP(A167,round10,3,FALSE))","v":""},0,0,0,null,0,0,0,0,0,0,0,0,0,0,0,0,0,null," "," "," "," "," "," "," "," "," "," "," "," ",null,15,15,15,15,15,15,15,15,15,15,15,15,15,0,6,0,0,0,0,0,0,0,0,0,0,0]
[null,null,null,null,null,"","","","","","","","","","",0,0,0,null,0,0,0,0,0,0,0,0,0,0,0,0,0,null," "," "," "," "," "," "," "," "," "," "," "," ",null,15,15,15,15,15,15,15,15,15,15,15,15,15,0,6,0,0,0,0,0,0,0,0,0,0,0]
[null,null,null,null,null,"","","","","","","","","","",0,0,0,null,0,0,0,0,0,0,0,0,0,0,0,0,0,null," "," "," "," "," "," "," "," "," "," "," "," ",null,15,15,15,15,15,15,15,15,15,15,15,15,15,0,6,0,0,0,0,0,0,0,0,0,0,0]
[null,null,null,null,null,"","","","","","","","","","",0,0,0,null,0,0,0,0,0,0,0,0,0,0,0,0,0,null," "," "," "," "," "," "," "," "," "," "," "," ",null,15,15,15,15,15,15,15,15,15,15,15,15,15,0,6,0,0,0,0,0,0,0,0,0,0,0]
[null,null,null,null,null,"","","","","","","","","","",0,0,0,null,0,0,0,0,0,0,0,0,0,0,0,0,0,null," "," "," "," "," "," "," "," "," "," "," "," ",null,15,15,15,15,15,15,15,15,15,15,15,15,15,0,6,0,0,0,0,0,0,0,0,0,0,0]
[null,null,null,null,null,"","","","","","","","","","",0,0,0,null,0,0,0,0,0,0,0,0,0,0,0,0,0,null," "," "," "," "," "," "," "," "," "," "," "," ",null,15,15,15,15,15,15,15,15,15,15,15,15,15,0,6,0,0,0,0,0,0,0,0,0,0,0]
[null,null,null,null,null,"","","","","","","","","","",0,0,0,null,0,0,0,0,0,0,0,0,0,0,0,0,0,null," "," "," "," "," "," "," "," "," "," "," "," ",null,15,15,15,15,15,15,15,15,15,15,15,15,15,0,6,0,0,0,0,0,0,0,0,0,0,0]
[null,null,null,null,null,"","","","","","","","","","",0,0,0,null,0,0,0,0,0,0,0,0,0,0,0,0,0,null," "," "," "," "," "," "," "," "," "," "," "," ",null,15,15,15,15,15,15,15,15,15,15,15,15,15,0,6,0,0,0,0,0,0,0,0,0,0,0]
[null,null,null,null,null,"","","","","","","","","","",0,0,0,null,0,0,0,0,0,0,0,0,0,0,0,0,0,null," "," "," "," "," "," "," "," "," "," "," "," ",null,15,15,15,15,15,15,15,15,15,15,15,15,15,0,6,0,0,0,0,0,0,0,0,0,0,0]
[null,null,null,null,null,"","","","","","","","","","",0,0,0,null,0,0,0,0,0,0,0,0,0,0,0,0,0,null," "," "," "," "," "," "," "," "," "," "," "," ",null,15,15,15,15,15,15,15,15,15,15,15,15,15,0,6,0,0,0,0,0,0,0,0,0,0,0]
[null,null,null,null,null,"","","","","","","","","","",0,0,0,null,0,0,0,0,0,0,0,0,0,0,0,0,0,null," "," "," "," "," "," "," "," "," "," "," "," ",null,15,15,15,15,15,15,15,15,15,15,15,15,15,0,6,0,0,0,0,0,0,0,0,0,0,0]
[null,null,null,null,null,"","","","","","","","","","",0,0,0,null,0,0,0,0,0,0,0,0,0,0,0,0,0,null," "," "," "," "," "," "," "," "," "," "," "," ",null,15,15,15,15,15,15,15,15,15,15,15,15,15,0,6,0,0,0,0,0,0,0,0,0,0,0]
[null,null,null,null,null,"","","","","","","","","","",0,0,0,null,0,0,0,0,0,0,0,0,0,0,0,0,0,null," "," "," "," "," "," "," "," "," "," "," "," ",null,15,15,15,15,15,15,15,15,15,15,15,15,15,0,6,0,0,0,0,0,0,0,0,0,0,0]
[null,null,null,null,null,"","","","","","","","","","",0,0,0,null,0,0,0,0,0,0,0,0,0,0,0,0,0,null," "," "," "," "," "," "," "," "," "," "," "," ",null,15,15,15,15,15,15,15,15,15,15,15,15,15,0,6,0,0,0,0,0,0,0,0,0,0,0]
[null,null,null,null,null,"","","","","","","","","","",0,0,0,null,0,0,0,0,0,0,0,0,0,0,0,0,0,null," "," "," "," "," "," "," "," "," "," "," "," ",null,15,15,15,15,15,15,15,15,15,15,15,15,15,0,6,0,0,0,0,0,0,0,0,0,0,0]
[null,null,null,null,null,"","","","","","","","","","",0,0,0,null,0,0,0,0,0,0,0,0,0,0,0,0,0,null," "," "," "," "," "," "," "," "," "," "," "," ",null,15,15,15,15,15,15,15,15,15,15,15,15,15,0,6,0,0,0,0,0,0,0,0,0,0,0]
[null,null,null,null,null,"","","","","","","","","","",0,0,0,null,0,0,0,0,0,0,0,0,0,0,0,0,0,null," "," "," "," "," "," "," "," "," "," "," "," ",null,15,15,15,15,15,15,15,15,15,15,15,15,15,0,6,0,0,0,0,0,0,0,0,0,0,0]
[null,null,null,null,null,"","","","","","","","","","",0,0,0,null,0,0,0,0,0,0,0,0,0,0,0,0,0,null," "," "," "," "," "," "," "," "," "," "," "," ",null,15,15,15,15,15,15,15,15,15,15,15,15,15,0,6,0,0,0,0,0,0,0,0,0,0,0]
[null,null,null,null,null,"","","","","","","","","","",0,0,0,null,0,0,0,0,0,0,0,0,0,0,0,0,0,null," "," "," "," "," "," "," "," "," "," "," "," ",null,15,15,15,15,15,15,15,15,15,15,15,15,15,0,6,0,0,0,0,0,0,0,0,0,0,0]
[null,null,null,null,null,"","","","","","","","","","",0,0,0,null,0,0,0,0,0,0,0,0,0,0,0,0,0,null," "," "," "," "," "," "," "," "," "," "," "," ",null,15,15,15,15,15,15,15,15,15,15,15,15,15,0,6,0,0,0,0,0,0,0,0,0,0,0]
[null,null,null,null,null,"","","","","","","","","","",0,0,0,null,0,0,0,0,0,0,0,0,0,0,0,0,0,null," "," "," "," "," "," "," "," "," "," "," "," ",null,15,15,15,15,15,15,15,15,15,15,15,15,15,0,6,0,0,0,0,0,0,0,0,0,0,0]
[null,null,null,null,null,"","","","","","","","","","",0,0,0,null,0,0,0,0,0,0,0,0,0,0,0,0,0,null," "," "," "," "," "," "," "," "," "," "," "," ",null,15,15,15,15,15,15,15,15,15,15,15,15,15,0,6,0,0,0,0,0,0,0,0,0,0,0]
[null,null,null,null,null,"","","","","","","","","","",0,0,0,null,0,0,0,0,0,0,0,0,0,0,0,0,0,null," "," "," "," "," "," "," "," "," "," "," "," ",null,15,15,15,15,15,15,15,15,15,15,15,15,15,0,6,0,0,0,0,0,0,0,0,0,0,0]
[null,null,null,null,null,"","","","","","","","","","",0,0,0,null,0,0,0,0,0,0,0,0,0,0,0,0,0,null," "," "," "," "," "," "," "," "," "," "," "," ",null,15,15,15,15,15,15,15,15,15,15,15,15,15,0,6,0,0,0,0,0,0,0,0,0,0,0]
[null,null,null,null,null,"","","","","","","","","","",0,0,0,null,0,0,0,0,0,0,0,0,0,0,0,0,0,null," "," "," "," "," "," "," "," "," "," "," "," ",null,15,15,15,15,15,15,15,15,15,15,15,15,15,0,6,0,0,0,0,0,0,0,0,0,0,0]
[null,null,null,null,null,"","","","","","","","","","",0,0,0,null,0,0,0,0,0,0,0,0,0,0,0,0,0,null," "," "," "," "," "," "," "," "," "," "," "," ",null,15,15,15,15,15,15,15,15,15,15,15,15,15,0,6,0,0,0,0,0,0,0,0,0,0,0]
[null,null,null,null,null,"","","","","","","","","","",0,0,0,null,0,0,0,0,0,0,0,0,0,0,0,0,0,null," "," "," "," "," "," "," "," "," "," "," "," ",null,15,15,15,15,15,15,15,15,15,15,15,15,15,0,6,0,0,0,0,0,0,0,0,0,0,0]
[null,null,null,null,null,"","","","","","","","","","",0,0,0,null,0,0,0,0,0,0,0,0,0,0,0,0,0,null," "," "," "," "," "," "," "," "," "," "," "," ",null,15,15,15,15,15,15,15,15,15,15,15,15,15,0,6,0,0,0,0,0,0,0,0,0,0,0]
[null,null,null,null,null,"","","","","","","","","","",0,0,0,null,0,0,0,0,0,0,0,0,0,0,0,0,0,null," "," "," "," "," "," "," "," "," "," "," "," ",null,15,15,15,15,15,15,15,15,15,15,15,15,15,0,6,0,0,0,0,0,0,0,0,0,0,0]
[null,null,null,null,null,"","","","","","","","","","",0,0,0,null,0,0,0,0,0,0,0,0,0,0,0,0,0,null," "," "," "," "," "," "," "," "," "," "," "," ",null,15,15,15,15,15,15,15,15,15,15,15,15,15,0,6,0,0,0,0,0,0,0,0,0,0,0]
[null,null,null,null,null,"","","","","","","","","","",0,0,0,null,0,0,0,0,0,0,0,0,0,0,0,0,0,null," "," "," "," "," "," "," "," "," "," "," "," ",null,15,15,15,15,15,15,15,15,15,15,15,15,15,0,6,0,0,0,0,0,0,0,0,0,0,0]
[null,null,null,null,null,"","","","","","","","","","",0,0,0,null,0,0,0,0,0,0,0,0,0,0,0,0,0,null," "," "," "," "," "," "," "," "," "," "," "," ",null,15,15,15,15,15,15,15,15,15,15,15,15,15,0,6,0,0,0,0,0,0,0,0,0,0,0]
[null,null,null,null,null,"","","","","","","","","","",0,0,{"$f":"MIN(AH199:AS199)","v":0},null,{"$f":"COUNTIF($F199:$O199,$T$6)","v":0},{"$f":"COUNTIF($F199:$O199,$U$6)","v":0},{"$f":"COUNTIF($F199:$O199,$V$6)","v":0},{"$f":"COUNTIF($F199:$O199,$W$6)","v":0},{"$f":"COUNTIF($F199:$O199,$X$6)","v":0},{"$f":"COUNTIF($F199:$O199,$Y$6)","v":0},{"$f":"COUNTIF($F199:$O199,$Z$6)","v":0},{"$f":"COUNTIF($F199:$O199,$AA$6)","v":0},{"$f":"COUNTIF($F199:$O199,$AB$6)","v":0},{"$f":"COUNTIF($F199:$O199,$AC$6)","v":0},{"$f":"COUNTIF($F199:$O199,$AD$6)","v":0},{"$f":"COUNTIF($F199:$O199,$AE$6)","v":0},0,null," "," "," "," "," "," "," "," "," "," "," "," ",null,15,15,15,15,15,15,15,15,15,15,15,15,15,0,6,0,0,0,0,0,0,0,0,0,0,0]
[null,null,null,null,null,"","","","","","","","","","",{"$f":"COUNTIF(F200:O200,\">0.8\")","v":0},{"$f":"IF(R200=0,(IF($R$2=1,BH200,0)),R200)","v":0},0,null,0,0,0,0,0,0,0,0,0,0,0,0,{"$f":"MAX(T200:AE200)","v":0},null," "," "," "," "," "," "," "," "," "," "," "," ",null,15,15,15,15,15,15,15,15,15,15,15,15,{"$f":"MIN(AU200:BF200)","v":15},{"$f":"IF(P200>=BG200,MAX(BI200:BT200),0)","v":0},{"$f":"IF(T200=$AF200,BI$6,0)","v":6},{"$f":"IF(U200=$AF200,BJ199,0)","v":0},0,0,0,0,0,0,0,0,0,0]
[null,null,null,null,null,null,null,null,null,null,null,null,null,null,null,0,0,0,null,0,0,0,0,0,0,0,0,0,0,0,0,0,null," "," "," "," "," "," "," "," "," "," "," "," ",null,15,15,15,15,15,15,15,15,15,15,15,15,15,0,6,0,0,0,0,0,0,{"$f":"IF(AA201=$AF201,BP$6,0)","v":0},0,0,0,0]
[null,null,null,null,null,null,null,null,null,null,null,null,null,null,null,0,0,0,null,0,0,0,0,0,0,0,0,0,0,0,0,0,null," "," "," "," "," "," "," "," "," "," "," "," ",null,15,15,15,15,15,15,15,15,15,15,15,15,15,0,6,0,{"$f":"IF(V202=$AF202,BK$6,0)","v":0},0,0,0,0,0,0,0,0,0]
[null,null,null,null,null,null,null,null,null,null,null,null,null,null,null,0,0,0,null,0,0,0,0,0,0,0,0,0,0,0,0,0,null," "," "," "," "," "," "," "," "," "," "," "," ",null,15,15,15,15,15,15,15,15,15,15,15,15,15,0,6,0,0,0,0,0,0,0,0,0,0,0]
[null,null,null,null,null,null,null,null,null,null,null,null,null,null,null,0,0,0,null,0,0,0,0,0,0,0,0,0,0,0,0,0,null," "," "," "," "," "," "," "," "," "," "," "," ",null,15,15,15,15,15,15,15,15,15,15,15,15,15,0,6,0,0,0,0,0,0,0,0,0,0,0]
[null,null,null,null,null,null,null,null,null,null,null,null,null,null,null,0,0,0,null,0,0,0,0,0,0,0,0,0,0,0,0,0,null," "," "," "," "," "," "," "," "," "," "," "," ",null,15,15,15,15,15,15,15,15,15,15,15,15,15,0,6,0,0,0,0,0,0,0,0,0,0,0]
[null,null,null,null,null,null,null,null,null,null,null,null,null,null,null,0,0,0,null,0,0,0,0,0,0,0,0,0,0,0,0,0,null," "," "," "," "," "," "," "," "," "," "," "," ",null,15,15,15,15,15,15,15,15,15,15,15,15,15,0,6,0,0,0,0,0,0,0,0,0,0,0]
[null,null,null,null,null,null,null,null,null,null,null,null,null,null,null,0,0,0,null,0,0,0,0,0,0,0,0,0,0,0,0,0,null," "," "," "," "," "," "," "," "," "," "," "," ",null,15,15,15,15,15,15,15,15,15,15,15,15,15,0,6,0,0,0,0,0,0,0,0,0,0,0]
[null,null,null,null,null,null,null,null,null,null,null,null,null,null,null,0,0,0,null,0,0,0,0,0,0,0,0,0,0,0,0,0,null," "," "," "," "," "," "," "," "," "," "," "," ",null,15,15,15,15,15,15,15,15,15,15,15,15,15,0,6,0,0,0,0,0,0,0,0,0,0,0]
[null,null,null,null,null,null,null,null,null,null,null,null,null,null,null,0,0,0,null,0,0,0,0,0,0,0,0,0,0,0,0,0,null," "," "," "," "," "," "," "," "," "," "," "," ",null,15,15,15,15,15,15,15,15,15,15,15,15,15,0,6,0,0,0,0,0,0,0,0,0,0,0]
[null,null,null,null,null,null,null,null,null,null,null,null,null,null,null,0,0,0,null,0,0,0,0,0,0,0,0,0,0,0,0,0,null," "," "," "," "," "," "," "," "," "," "," "," ",null,15,15,15,15,15,15,15,15,15,15,15,15,15,0,6,0,0,0,0,0,0,0,0,0,0,0]
[null,null,null,null,null,null,null,null,null,null,null,null,null,null,null,0,0,0,null,0,0,0,0,0,0,0,0,0,0,0,0,0,null," "," "," "," "," "," "," "," "," "," "," "," ",null,15,15,15,15,15,15,15,15,15,15,15,15,15,0,6,0,0,0,0,0,0,0,0,0,0,0]
[null,null,null,null,null,null,null,null,null,null,null,null,null,null,null,0,0,0,null,0,0,0,0,0,0,0,0,0,0,0,0,0,null," "," "," "," "," "," "," "," "," "," "," "," ",null,15,15,15,15,15,15,15,15,15,15,15,15,15,0,6,0,0,0,0,0,0,0,0,0,0,0]
[null,null,null,null,null,null,null,null,null,null,null,null,null,null,null,0,0,0,null,0,0,0,0,0,0,0,0,0,0,0,0,0,null," "," "," "," "," "," "," "," "," "," "," "," ",null,15,15,15,15,15,15,15,15,15,15,15,15,15,0,6,0,0,0,0,0,0,0,0,0,0,0]
[null,null,null,null,null,null,null,null,null,null,null,null,null,null,null,0,0,0,null,0,0,0,0,0,0,0,0,0,0,0,0,0,null," "," "," "," "," "," "," "," "," "," "," "," ",null,15,15,15,15,15,15,15,15,15,15,15,15,15,0,6,0,0,0,0,0,0,0,0,0,0,0]
[null,null,null,null,null,null,null,null,null,null,null,null,null,null,null,0,0,0,null,0,0,0,0,0,0,0,0,0,0,0,0,0,null," "," "," "," "," "," "," "," "," "," "," "," ",null,15,15,15,15,15,15,15,15,15,15,15,15,15,0,6,0,0,0,0,0,0,0,0,0,0,0]
[null,null,null,null,null,null,null,null,null,null,null,null,null,null,null,0,0,0,null,0,0,0,0,0,0,0,0,0,0,0,0,0,null," "," "," "," "," "," "," "," "," "," "," "," ",null,15,15,15,15,15,15,15,15,15,15,15,15,15,0,6,0,0,0,0,0,0,0,0,0,0,0]
[null,null,null,null,null,null,null,null,null,null,null,null,null,null,null,0,0,0,null,0,0,0,0,0,0,0,0,0,0,0,0,0,null," "," "," "," "," "," "," "," "," "," "," "," ",null,15,15,15,15,15,15,15,15,15,15,15,15,15,0,6,0,0,0,0,0,0,0,0,0,0,0]
[null,null,null,null,null,null,null,null,null,null,null,null,null,null,null,0,0,0,null,0,0,0,0,0,0,0,0,0,0,0,0,0,null," "," "," "," "," "," "," "," "," "," "," "," ",null,15,15,15,15,15,15,15,15,15,15,15,15,15,0,6,0,0,0,0,0,0,0,0,0,0,0]
[null,null,null,null,null,null,null,null,null,null,null,null,null,null,null,0,0,0,null,0,0,0,0,0,0,0,0,0,0,0,0,0,null," "," "," "," "," "," "," "," "," "," "," "," ",null,15,15,15,15,15,15,15,15,15,15,15,15,15,0,6,0,0,0,0,0,0,0,0,0,0,0]
[null,null,null,null,null,null,null,null,null,null,null,null,null,null,null,0,0,0,null,0,0,0,0,0,0,0,0,0,0,0,0,0,null," "," "," "," "," "," "," "," "," "," "," "," ",null,15,15,15,15,15,15,15,15,15,15,15,15,15,0,6,0,0,0,0,0,0,0,0,0,0,0]
[null,null,null,null,null,null,null,null,null,null,null,null,null,null,null,0,0,0,null,0,0,0,0,0,0,0,0,0,0,0,0,0,null," "," "," "," "," "," "," "," "," "," "," "," ",null,15,15,15,15,15,15,15,15,15,15,15,15,15,0,6,0,0,0,0,0,0,0,0,0,0,0]
[null,null,null,null,null,null,null,null,null,null,null,null,null,null,null,0,0,0,null,0,0,0,0,0,0,0,0,0,0,0,0,0,null," "," "," "," "," "," "," "," "," "," "," "," ",null,15,15,15,15,15,15,15,15,15,15,15,15,15,0,6,0,0,0,0,0,0,0,0,0,0,0]
[null,null,null,null,null,null,null,null,null,null,null,null,null,null,null,0,0,0,null,0,0,0,0,0,0,0,0,0,0,0,0,0,null," "," "," "," "," "," "," "," "," "," "," "," ",null,15,15,15,15,15,15,15,15,15,15,15,15,15,0,6,0,0,0,0,0,0,0,0,0,0,0]
[null,null,null,null,null,null,null,null,null,null,null,null,null,null,null,0,0,0,null,0,0,0,0,0,0,0,0,0,0,0,0,0,null," "," "," "," "," "," "," "," "," "," "," "," ",null,15,15,15,15,15,15,15,15,15,15,15,15,15,0,6,0,0,0,0,0,0,0,0,0,0,0]
[null,null,null,null,null,null,null,null,null,null,null,null,null,null,null,0,0,0,null,0,0,0,0,0,0,0,0,0,0,0,0,0,null," "," "," "," "," "," "," "," "," "," "," "," ",null,15,15,15,15,15,15,15,15,15,15,15,15,15,0,6,0,0,0,0,0,0,0,0,0,0,0]
[null,null,null,null,null,null,null,null,null,null,null,null,null,null,null,0,0,0,null,0,0,0,0,0,0,0,0,0,0,0,0,0,null," "," "," "," "," "," "," "," "," "," "," "," ",null,15,15,15,15,15,15,15,15,15,15,15,15,15,0,6,0,0,0,0,0,0,0,0,0,0,0]
[null,null,null,null,null,null,null,null,null,null,null,null,null,null,null,0,0,0,null,0,0,0,0,0,0,0,0,0,0,0,0,0,null," "," "," "," "," "," "," "," "," "," "," "," ",null,15,15,15,15,15,15,15,15,15,15,15,15,15,0,6,0,0,0,0,0,0,0,0,0,0,0]
[null,null,null,null,null,null,null,null,null,null,null,null,null,null,null,0,0,0,null,0,0,0,0,0,0,0,0,0,0,0,0,0,null," "," "," "," "," "," "," "," "," "," "," "," ",null,15,15,15,15,15,15,15,15,15,15,15,15,15,0,6,0,0,0,0,0,0,0,0,0,0,0]
[null,null,null,null,null,null,null,null,null,null,null,null,null,null,null,0,0,0,null,0,0,0,0,0,0,0,0,0,0,0,0,0,null," "," "," "," "," "," "," "," "," "," "," "," ",null,15,15,15,15,15,15,15,15,15,15,15,15,15,0,6,0,0,0,0,0,0,0,0,0,0,0]
[null,null,null,null,null,null,null,null,null,null,null,null,null,null,null,0,0,0,null,0,0,0,0,0,0,0,0,0,0,0,0,0,null," "," "," "," "," "," "," "," "," "," "," "," ",null,15,15,15,15,15,15,15,15,15,15,15,15,15,0,6,0,0,0,0,0,0,0,0,0,0,0]
[null,null,null,null,null,null,null,null,null,null,null,null,null,null,null,0,0,0,null,0,0,0,0,0,0,0,0,0,0,0,0,0,null," "," "," "," "," "," "," "," "," "," "," "," ",null,15,15,15,15,15,15,15,15,15,15,15,15,15,0,6,0,0,0,0,0,0,0,0,0,0,0]
[null,null,null,null,null,null,null,null,null,null,null,null,null,null,null,0,0,0,null,0,0,0,0,0,0,0,0,0,0,0,0,0,null," "," "," "," "," "," "," "," "," "," "," "," ",null,15,15,15,15,15,15,15,15,15,15,15,15,15,0,6,0,0,0,0,0,0,0,0,0,0,0]
[null,null,null,null,null,null,null,null,null,null,null,null,null,null,null,0,0,0,null,0,0,0,0,0,0,0,0,0,0,0,0,0,null," "," "," "," "," "," "," "," "," "," "," "," ",null,15,15,15,15,15,15,15,15,15,15,15,15,15,0,6,0,0,0,0,0,0,0,0,0,0,0]
[null,null,null,null,null,null,null,null,null,null,null,null,null,null,null,0,0,0,null,0,0,0,0,0,0,0,0,0,0,0,0,0,null," "," "," "," "," "," "," "," "," "," "," "," ",null,15,15,15,15,15,15,15,15,15,15,15,15,15,0,6,0,0,0,0,0,0,0,0,0,0,0]
[null,null,null,null,null,null,null,null,null,null,null,null,null,null,null,0,0,0,null,0,0,0,0,0,0,0,0,0,0,0,0,0,null," "," "," "," "," "," "," "," "," "," "," "," ",null,15,15,15,15,15,15,15,15,15,15,15,15,15,0,6,0,0,0,0,0,0,0,0,0,0,0]
[null,null,null,null,null,null,null,null,null,null,null,null,null,null,null,0,0,0,null,0,0,0,0,0,0,0,0,0,0,0,0,0,null," "," "," "," "," "," "," "," "," "," "," "," ",null,15,15,15,15,15,15,15,15,15,15,15,15,15,0,6,0,0,0,0,0,0,0,0,0,0,0]
[null,null,null,null,null,null,null,null,null,null,null,null,null,null,null,0,0,0,null,0,0,0,0,0,0,0,0,0,0,0,0,0,null," "," "," "," "," "," "," "," "," "," "," "," ",null,15,15,15,15,15,15,15,15,15,15,15,15,15,0,6,0,0,0,0,0,0,0,0,0,0,0]
[null,null,null,null,null,null,null,null,null,null,null,null,null,null,null,0,0,0,null,0,0,0,0,0,0,0,0,0,0,0,0,0,null," "," "," "," "," "," "," "," "," "," "," "," ",null,15,15,15,15,15,15,15,15,15,15,15,15,15,0,6,0,0,0,0,0,0,0,0,0,0,0]
[null,null,null,null,null,null,null,null,null,null,null,null,null,null,null,0,0,0,null,0,0,0,0,0,0,0,0,0,0,0,0,0,null," "," "," "," "," "," "," "," "," "," "," "," ",null,15,15,15,15,15,15,15,15,15,15,15,15,15,0,6,0,0,0,0,0,0,0,0,0,0,0]
[null,null,null,null,null,null,null,null,null,null,null,null,null,null,null,0,0,0,null,0,0,0,0,0,0,0,0,0,0,0,0,0,null," "," "," "," "," "," "," "," "," "," "," "," ",null,15,15,15,15,15,15,15,15,15,15,15,15,15,0,6,0,0,0,0,0,0,0,0,0,0,0]
[null,null,null,null,null,null,null,null,null,null,null,null,null,null,null,0,0,0,null,0,0,0,0,0,0,0,0,0,0,0,0,0,null," "," "," "," "," "," "," "," "," "," "," "," ",null,15,15,15,15,15,15,15,15,15,15,15,15,15,0,6,0,0,0,0,0,0,0,0,0,0,0]
[null,null,null,null,null,null,null,null,null,null,null,null,null,null,null,0,0,0,null,0,0,0,0,0,0,0,0,0,0,0,0,0,null," "," "," "," "," "," "," "," "," "," "," "," ",null,15,15,15,15,15,15,15,15,15,15,15,15,15,0,6,0,0,0,0,0,0,0,0,0,0,0]
[null,null,null,null,null,null,null,null,null,null,null,null,null,null,null,0,0,0,null,0,0,0,0,0,0,0,0,0,0,0,0,0,null," "," "," "," "," "," "," "," "," "," "," "," ",null,15,15,15,15,15,15,15,15,15,15,15,15,15,0,6,0,0,0,0,0,0,0,0,0,0,0]
[null,null,null,null,null,null,null,null,null,null,null,null,null,null,null,0,0,0,null,0,0,0,0,0,0,0,0,0,0,0,0,0,null," "," "," "," "," "," "," "," "," "," "," "," ",null,15,15,15,15,15,15,15,15,15,15,15,15,15,0,6,0,0,0,0,0,0,0,0,0,0,0]
[null,null,null,null,null,null,null,null,null,null,null,null,null,null,null,0,0,0,null,0,0,0,0,0,0,0,0,0,0,0,0,0,null," "," "," "," "," "," "," "," "," "," "," "," ",null,15,15,15,15,15,15,15,15,15,15,15,15,15,0,6,0,0,0,0,0,0,0,0,0,0,0]
[null,null,null,null,null,null,null,null,null,null,null,null,null,null,null,0,0,0,null,0,0,0,0,0,0,0,0,0,0,0,0,0,null," "," "," "," "," "," "," "," "," "," "," "," ",null,15,15,15,15,15,15,15,15,15,15,15,15,15,0,6,0,0,0,0,0,0,0,0,0,0,0]
[null,null,null,null,null,null,null,null,null,null,null,null,null,null,null,0,0,0,null,0,0,0,0,0,0,0,0,0,0,0,0,0,null," "," "," "," "," "," "," "," "," "," "," "," ",null,15,15,15,15,15,15,15,15,15,15,15,15,15,0,6,0,0,0,0,0,0,0,0,0,0,0]
[null,null,null,null,null,null,null,null,null,null,null,null,null,null,null,0,0,0,null,0,0,0,0,0,0,0,0,0,0,0,0,0,null," "," "," "," "," "," "," "," "," "," "," "," ",null,15,15,15,15,15,15,15,15,15,15,15,15,15,0,6,0,0,0,0,0,0,0,0,0,0,0]
[null,null,null,null,null,null,null,null,null,null,null,null,null,null,null,0,0,0,null,0,0,0,0,0,0,0,0,0,0,0,0,0,null," "," "," "," "," "," "," "," "," "," "," "," ",null,15,15,15,15,15,15,15,15,15,15,15,15,15,0,6,0,0,0,0,0,0,0,0,0,0,0]
[null,null,null,null,null,null,null,null,null,null,null,null,null,null,null,0,0,0,null,0,0,0,0,0,0,0,0,0,0,0,0,0,null," "," "," "," "," "," "," "," "," "," "," "," ",null,15,15,15,15,15,15,15,15,15,15,15,15,15,0,6,0,0,0,0,0,0,0,0,0,0,0]
[null,null,null,null,null,null,null,null,null,null,null,null,null,null,null,0,0,0,null,0,0,0,0,0,0,0,0,0,0,0,0,0,null," "," "," "," "," "," "," "," "," "," "," "," ",null,15,15,15,15,15,15,15,15,15,15,15,15,15,0,6,0,0,0,0,0,0,0,0,0,0,0]
[null,null,null,null,null,null,null,null,null,null,null,null,null,null,null,0,0,0,null,0,0,0,0,0,0,0,0,0,0,0,0,0,null," "," "," "," "," "," "," "," "," "," "," "," ",null,15,15,15,15,15,15,15,15,15,15,15,15,15,0,6,0,0,0,0,0,0,{"$f":"IF(AA252=$AF252,BP$6,0)","v":0},0,0,0,0]
[null,null,null,null,null,null,null,null,null,null,null,null,null,null,null,0,0,0,null,0,0,0,0,0,0,0,0,0,0,0,0,0,null," "," "," "," "," "," "," "," "," "," "," "," ",null,15,15,15,15,15,15,15,15,15,15,15,15,15,0,6,0,{"$f":"IF(V253=$AF253,BK$6,0)","v":0},0,0,0,0,0,0,0,0,0]
[null,null,null,null,null,null,null,null,null,null,null,null,null,null,null,0,0,0,null,0,0,0,0,0,0,0,0,0,0,0,0,0,null," "," "," "," "," "," "," "," "," "," "," "," ",null,15,15,15,15,15,15,15,15,15,15,15,15,15,0,6,0,0,0,0,0,0,0,0,0,0,0]
[null,null,null,null,null,null,null,null,null,null,null,null,null,null,null,0,0,0,null,0,0,0,0,0,0,0,0,0,0,0,0,0,null," "," "," "," "," "," "," "," "," "," "," "," ",null,15,15,15,15,15,15,15,15,15,15,15,15,15,0,6,0,0,0,0,0,0,0,0,0,0,0]
[null,null,null,null,null,null,null,null,null,null,null,null,null,null,null,0,0,0,null,0,0,0,0,0,0,0,0,0,0,0,0,0,null," "," "," "," "," "," "," "," "," "," "," "," ",null,15,15,15,15,15,15,15,15,15,15,15,15,15,0,6,0,0,0,0,0,0,0,0,0,0,0]
[null,null,null,null,null,null,null,null,null,null,null,null,null,null,null,0,0,0,null,0,0,0,0,0,0,0,0,0,0,0,0,0,null," "," "," "," "," "," "," "," "," "," "," "," ",null,15,15,15,15,15,15,15,15,15,15,15,15,15,0,6,0,0,0,0,0,0,0,0,0,0,0]
[null,null,null,null,null,null,null,null,null,null,null,null,null,null,null,0,0,0,null,0,0,0,0,0,0,0,0,0,0,0,0,0,null," "," "," "," "," "," "," "," "," "," "," "," ",null,15,15,15,15,15,15,15,15,15,15,15,15,15,0,6,0,0,0,0,0,0,0,0,0,0,0]
[null,null,null,null,null,null,null,null,null,null,null,null,null,null,null,0,0,0,null,0,0,0,0,0,0,0,0,0,0,0,0,0,null," "," "," "," "," "," "," "," "," "," "," "," ",null,15,15,15,15,15,15,15,15,15,15,15,15,15,0,6,0,0,0,0,0,0,0,0,0,0,0]
[null,null,null,null,null,null,null,null,null,null,null,null,null,null,null,0,0,0,null,0,0,0,0,0,0,0,0,0,0,0,0,0,null," "," "," "," "," "," "," "," "," "," "," "," ",null,15,15,15,15,15,15,15,15,15,15,15,15,15,0,6,0,0,0,0,0,0,0,0,0,0,0]
[null,null,null,null,null,null,null,null,null,null,null,null,null,null,null,0,0,0,null,0,0,0,0,0,0,0,0,0,0,0,0,0,null," "," "," "," "," "," "," "," "," "," "," "," ",null,15,15,15,15,15,15,15,15,15,15,15,15,15,0,6,0,0,0,0,0,0,0,0,0,0,0]
[null,null,null,null,null,null,null,null,null,null,null,null,null,null,null,0,0,0,null,0,0,0,0,0,0,0,0,0,0,0,0,0,null," "," "," "," "," "," "," "," "," "," "," "," ",null,15,15,15,15,15,15,15,15,15,15,15,15,15,0,6,0,0,0,0,0,0,0,0,0,0,0]
[null,null,null,null,null,null,null,null,null,null,null,null,null,null,null,0,0,{"$f":"MIN(AH263:AS263)","v":0},null,{"$f":"COUNTIF($F263:$O263,$T$6)","v":0},{"$f":"COUNTIF($F263:$O263,$U$6)","v":0},{"$f":"COUNTIF($F263:$O263,$V$6)","v":0},{"$f":"COUNTIF($F263:$O263,$W$6)","v":0},{"$f":"COUNTIF($F263:$O263,$X$6)","v":0},{"$f":"COUNTIF($F263:$O263,$Y$6)","v":0},{"$f":"COUNTIF($F263:$O263,$Z$6)","v":0},{"$f":"COUNTIF($F263:$O263,$AA$6)","v":0},{"$f":"COUNTIF($F263:$O263,$AB$6)","v":0},{"$f":"COUNTIF($F263:$O263,$AC$6)","v":0},{"$f":"COUNTIF($F263:$O263,$AD$6)","v":0},{"$f":"COUNTIF($F263:$O263,$AE$6)","v":0},0,null," "," "," "," "," "," "," "," "," "," "," "," ",null,15,15,15,15,15,15,15,15,15,15,15,15,15,0,6,0,0,0,0,0,0,0,0,0,0,0]
[null,null,null,null,null,null,null,null,null,null,null,null,null,null,null,{"$f":"COUNTIF(F264:O264,\">0.8\")","v":0},{"$f":"IF(R264=0,(IF($R$2=1,BH264,0)),R264)","v":0},0,null,0,0,0,0,0,0,0,0,0,0,0,0,{"$f":"MAX(T264:AE264)","v":0},null," "," "," "," "," "," "," "," "," "," "," "," ",null,15,15,15,15,15,15,15,15,15,15,15,15,{"$f":"MIN(AU264:BF264)","v":15},{"$f":"IF(P264>=BG264,MAX(BI264:BT264),0)","v":0},{"$f":"IF(T264=$AF264,BI$6,0)","v":6},{"$f":"IF(U264=$AF264,BJ263,0)","v":0},0,0,0,0,0,0,0,0,0,0]
[null,null,null,null,null,null,null,null,null,null,null,null,null,null,null,0,0,0,null,0,0,0,0,0,0,0,0,0,0,0,0,0,null," "," "," "," "," "," "," "," "," "," "," "," ",null,15,15,15,15,15,15,15,15,15,15,15,15,15,0,6,0,0,0,0,0,0,0,0,0,0,0]
[null,null,null,null,null,null,null,null,null,null,null,null,null,null,null,0,0,0,null,0,0,0,0,0,0,0,0,0,0,0,0,0,null," "," "," "," "," "," "," "," "," "," "," "," ",null,15,15,15,15,15,15,15,15,15,15,15,15,15,0,6,0,0,0,0,0,0,0,0,0,0,0]
[null,null,null,null,null,null,null,null,null,null,null,null,null,null,null,0,0,0,null,0,0,0,0,0,0,0,0,0,0,0,0,0,null," "," "," "," "," "," "," "," "," "," "," "," ",null,15,15,15,15,15,15,15,15,15,15,15,15,15,0,6,0,0,0,0,0,0,0,0,0,0,0]
[null,null,null,null,null,null,null,null,null,null,null,null,null,null,null,0,0,0,null,0,0,0,0,0,0,0,0,0,0,0,0,0,null," "," "," "," "," "," "," "," "," "," "," "," ",null,15,15,15,15,15,15,15,15,15,15,15,15,15,0,6,0,0,0,0,0,0,0,0,0,0,0]
[null,null,null,null,null,null,null,null,null,null,null,null,null,null,null,0,0,0,null,0,0,0,0,0,0,0,0,0,0,0,0,0,null," "," "," "," "," "," "," "," "," "," "," "," ",null,15,15,15,15,15,15,15,15,15,15,15,15,15,0,6,0,0,0,0,0,0,0,0,0,0,0]
[null,null,null,null,null,null,null,null,null,null,null,null,null,null,null,0,0,0,null,0,0,0,0,0,0,0,0,0,0,0,0,0,null," "," "," "," "," "," "," "," "," "," "," "," ",null,15,15,15,15,15,15,15,15,15,15,15,15,15,0,6,0,0,0,0,0,0,0,0,0,0,0]
[null,null,null,null,null,null,null,null,null,null,null,null,null,null,null,0,0,0,null,0,0,0,0,0,0,0,0,0,0,0,0,0,null," "," "," "," "," "," "," "," "," "," "," "," ",null,15,15,15,15,15,15,15,15,15,15,15,15,15,0,6,0,0,0,0,0,0,0,0,0,0,0]
[null,null,null,null,null,null,null,null,null,null,null,null,null,null,null,0,0,0,null,0,0,0,0,0,0,0,0,0,0,0,0,0,null," "," "," "," "," "," "," "," "," "," "," "," ",null,15,15,15,15,15,15,15,15,15,15,15,15,15,0,6,0,0,0,0,0,0,0,0,0,0,0]
[null,null,null,null,null,null,null,null,null,null,null,null,null,null,null,0,0,0,null,0,0,0,0,0,0,0,0,0,0,0,0,0,null," "," "," "," "," "," "," "," "," "," "," "," ",null,15,15,15,15,15,15,15,15,15,15,15,15,15,0,6,0,0,0,0,0,0,0,0,0,0,0]
[null,null,null,null,null,null,null,null,null,null,null,null,null,null,null,0,0,0,null,0,0,0,0,0,0,0,0,0,0,0,0,0,null," "," "," "," "," "," "," "," "," "," "," "," ",null,15,15,15,15,15,15,15,15,15,15,15,15,15,0,6,0,0,0,0,0,0,0,0,0,0,0]
[null,null,null,null,null,null,null,null,null,null,null,null,null,null,null,0,0,0,null,0,0,0,0,0,0,0,0,0,0,0,0,0,null," "," "," "," "," "," "," "," "," "," "," "," ",null,15,15,15,15,15,15,15,15,15,15,15,15,15,0,6,0,0,0,0,0,0,0,0,0,0,0]
[null,null,null,null,null,null,null,null,null,null,null,null,null,null,null,0,0,0,null,0,0,0,0,0,0,0,0,0,0,0,0,0,null," "," "," "," "," "," "," "," "," "," "," "," ",null,15,15,15,15,15,15,15,15,15,15,15,15,15,0,6,0,0,0,0,0,0,0,0,0,0,0]
[null,null,null,null,null,null,null,null,null,null,null,null,null,null,null,0,0,0,null,0,0,0,0,0,0,0,0,0,0,0,0,0,null," "," "," "," "," "," "," "," "," "," "," "," ",null,15,15,15,15,15,15,15,15,15,15,15,15,15,0,6,0,0,0,0,0,0,0,0,0,0,0]
[null,null,null,null,null,null,null,null,null,null,null,null,null,null,null,0,0,0,null,0,0,0,0,0,0,0,0,0,0,0,0,0,null," "," "," "," "," "," "," "," "," "," "," "," ",null,15,15,15,15,15,15,15,15,15,15,15,15,15,0,6,0,0,0,0,0,0,0,0,0,0,0]
[null,null,null,null,null,null,null,null,null,null,null,null,null,null,null,0,0,0,null,0,0,0,0,0,0,0,0,0,0,0,0,0,null," "," "," "," "," "," "," "," "," "," "," "," ",null,15,15,15,15,15,15,15,15,15,15,15,15,15,0,6,0,0,0,0,0,0,0,0,0,0,0]
[null,null,null,null,null,null,null,null,null,null,null,null,null,null,null,0,0,0,null,0,0,0,0,0,0,0,0,0,0,0,0,0,null," "," "," "," "," "," "," "," "," "," "," "," ",null,15,15,15,15,15,15,15,15,15,15,15,15,15,0,6,0,0,0,0,0,0,0,0,0,0,0]
[null,null,null,null,null,null,null,null,null,null,null,null,null,null,null,0,0,0,null,0,0,0,0,0,0,0,0,0,0,0,0,0,null," "," "," "," "," "," "," "," "," "," "," "," ",null,15,15,15,15,15,15,15,15,15,15,15,15,15,0,6,0,0,0,0,0,0,0,0,0,0,0]
[null,null,null,null,null,null,null,null,null,null,null,null,null,null,null,0,0,0,null,0,0,0,0,0,0,0,0,0,0,0,0,0,null," "," "," "," "," "," "," "," "," "," "," "," ",null,15,15,15,15,15,15,15,15,15,15,15,15,15,0,6,0,0,0,0,0,0,0,0,0,0,0]
[null,null,null,null,null,null,null,null,null,null,null,null,null,null,null,0,0,0,null,0,0,0,0,0,0,0,0,0,0,0,0,0,null," "," "," "," "," "," "," "," "," "," "," "," ",null,15,15,15,15,15,15,15,15,15,15,15,15,15,0,6,0,0,0,0,0,0,0,0,0,0,0]
[null,null,null,null,null,null,null,null,null,null,null,null,null,null,null,0,0,0,null,0,0,0,0,0,0,0,0,0,0,0,0,0,null," "," "," "," "," "," "," "," "," "," "," "," ",null,15,15,15,15,15,15,15,15,15,15,15,15,15,0,6,0,0,0,0,0,0,0,0,0,0,0]
[null,null,null,null,null,null,null,null,null,null,null,null,null,null,null,0,0,0,null,0,0,0,0,0,0,0,0,0,0,0,0,0,null," "," "," "," "," "," "," "," "," "," "," "," ",null,15,15,15,15,15,15,15,15,15,15,15,15,15,0,6,0,0,0,0,0,0,0,0,0,0,0]
[null,null,null,null,null,null,null,null,null,null,null,null,null,null,null,0,0,0,null,0,0,0,0,0,0,0,0,0,0,0,0,0,null," "," "," "," "," "," "," "," "," "," "," "," ",null,15,15,15,15,15,15,15,15,15,15,15,15,15,0,6,0,0,0,0,0,0,0,0,0,0,0]
[null,null,null,null,null,null,null,null,null,null,null,null,null,null,null,0,0,0,null,0,0,0,0,0,0,0,0,0,0,0,0,0,null," "," "," "," "," "," "," "," "," "," "," "," ",null,15,15,15,15,15,15,15,15,15,15,15,15,15,0,6,0,0,0,0,0,0,0,0,0,0,0]
[null,null,null,null,null,null,null,null,null,null,null,null,null,null,null,0,0,0,null,0,0,0,0,0,0,0,0,0,0,0,0,0,null," "," "," "," "," "," "," "," "," "," "," "," ",null,15,15,15,15,15,15,15,15,15,15,15,15,15,0,6,0,0,0,0,0,0,0,0,0,0,0]
[null,null,null,null,null,null,null,null,null,null,null,null,null,null,null,0,0,0,null,0,0,0,0,0,0,0,0,0,0,0,0,0,null," "," "," "," "," "," "," "," "," "," "," "," ",null,15,15,15,15,15,15,15,15,15,15,15,15,15,0,6,0,0,0,0,0,0,0,0,0,0,0]
[null,null,null,null,null,null,null,null,null,null,null,null,null,null,null,0,0,0,null,0,0,0,0,0,0,0,0,0,0,0,0,0,null," "," "," "," "," "," "," "," "," "," "," "," ",null,15,15,15,15,15,15,15,15,15,15,15,15,15,0,6,0,0,0,0,0,0,0,0,0,0,0]
[null,null,null,null,null,null,null,null,null,null,null,null,null,null,null,0,0,0,null,0,0,0,0,0,0,0,0,0,0,0,0,0,null," "," "," "," "," "," "," "," "," "," "," "," ",null,15,15,15,15,15,15,15,15,15,15,15,15,15,0,6,0,0,0,0,0,0,0,0,0,0,0]
[null,null,null,null,null,null,null,null,null,null,null,null,null,null,null,0,0,0,null,0,0,0,0,0,0,0,0,0,0,0,0,0,null," "," "," "," "," "," "," "," "," "," "," "," ",null,15,15,15,15,15,15,15,15,15,15,15,15,15,0,6,0,0,0,0,0,0,0,0,0,0,0]
[null,null,null,null,null,null,null,null,null,null,null,null,null,null,null,0,0,0,null,0,0,0,0,0,0,0,0,0,0,0,0,0,null," "," "," "," "," "," "," "," "," "," "," "," ",null,15,15,15,15,15,15,15,15,15,15,15,15,15,0,6,0,0,0,0,0,0,0,0,0,0,0]
[null,null,null,null,null,null,null,null,null,null,null,null,null,null,null,0,0,0,null,0,0,0,0,0,0,0,0,0,0,0,0,0,null," "," "," "," "," "," "," "," "," "," "," "," ",null,15,15,15,15,15,15,15,15,15,15,15,15,15,0,6,0,0,0,0,0,0,0,0,0,0,0]
[null,null,null,null,null,null,null,null,null,null,null,null,null,null,null,0,0,0,null,0,0,0,0,0,0,0,0,0,0,0,0,0,null," "," "," "," "," "," "," "," "," "," "," "," ",null,15,15,15,15,15,15,15,15,15,15,15,15,15,0,6,0,0,0,0,0,0,0,0,0,0,0]
[null,null,null,null,null,null,null,null,null,null,null,null,null,null,null,0,0,0,null,0,0,0,0,0,0,0,0,0,0,0,0,0,null," "," "," "," "," "," "," "," "," "," "," "," ",null,15,15,15,15,15,15,15,15,15,15,15,15,15,0,6,0,0,0,0,0,0,0,0,0,0,0]
[null,null,null,null,null,null,null,null,null,null,null,null,null,null,null,0,0,0,null,0,0,0,0,0,0,0,0,0,0,0,0,0,null," "," "," "," "," "," "," "," "," "," "," "," ",null,15,15,15,15,15,15,15,15,15,15,15,15,15,0,6,0,0,0,0,0,0,0,0,0,0,0]
[null,null,null,null,null,null,null,null,null,null,null,null,null,null,null,0,0,0,null,0,0,0,0,0,0,0,0,0,0,0,0,0,null," "," "," "," "," "," "," "," "," "," "," "," ",null,15,15,15,15,15,15,15,15,15,15,15,15,15,0,6,0,0,0,0,0,0,0,0,0,0,0]
[null,null,null,null,null,null,null,null,null,null,null,null,null,null,null,0,0,0,null,0,0,0,0,0,0,0,0,0,0,0,0,0,null," "," "," "," "," "," "," "," "," "," "," "," ",null,15,15,15,15,15,15,15,15,15,15,15,15,15,0,6,0,0,0,0,0,0,0,0,0,0,0]
[null,null,null,null,null,null,null,null,null,null,null,null,null,null,null,0,0,0,null,0,0,0,0,0,0,0,0,0,0,0,0,0,null," "," "," "," "," "," "," "," "," "," "," "," ",null,15,15,15,15,15,15,15,15,15,15,15,15,15,0,6,0,0,0,0,0,0,0,0,0,0,0]
[null,null,null,null,null,null,null,null,null,null,null,null,null,null,null,0,0,0,null,0,0,0,0,0,0,0,0,0,0,0,0,0,null," "," "," "," "," "," "," "," "," "," "," "," ",null,15,15,15,15,15,15,15,15,15,15,15,15,15,0,6,0,0,0,0,0,0,0,0,0,0,0]
[null,null,null,null,null,null,null,null,null,null,null,null,null,null,null,0,0,0,null,0,0,0,0,0,0,0,0,0,0,0,0,0,null," "," "," "," "," "," "," "," "," "," "," "," ",null,15,15,15,15,15,15,15,15,15,15,15,15,15,0,6,0,0,0,0,0,0,0,0,0,0,0]
[null,null,null,null,null,null,null,null,null,null,null,null,null,null,null,0,0,0,null,0,0,0,0,0,0,0,0,0,0,0,0,0,null," "," "," "," "," "," "," "," "," "," "," "," ",null,15,15,15,15,15,15,15,15,15,15,15,15,15,0,6,0,0,0,0,0,0,{"$f":"IF(AA303=$AF303,BP$6,0)","v":0},0,0,0,0]
[null,null,null,null,null,null,null,null,null,null,null,null,null,null,null,0,0,0,null,0,0,0,0,0,0,0,0,0,0,0,0,0,null," "," "," "," "," "," "," "," "," "," "," "," ",null,15,15,15,15,15,15,15,15,15,15,15,15,15,0,6,0,{"$f":"IF(V304=$AF304,BK$6,0)","v":0},0,0,0,0,0,0,0,0,0]
[null,null,null,null,null,null,null,null,null,null,null,null,null,null,null,0,0,0,null,0,0,0,0,0,0,0,0,0,0,0,0,0,null," "," "," "," "," "," "," "," "," "," "," "," ",null,15,15,15,15,15,15,15,15,15,15,15,15,15,0,6,0,0,0,0,0,0,0,0,0,0,0]
[null,null,null,null,null,null,null,null,null,null,null,null,null,null,null,0,0,0,null,0,0,0,0,0,0,0,0,0,0,0,0,0,null," "," "," "," "," "," "," "," "," "," "," "," ",null,15,15,15,15,15,15,15,15,15,15,15,15,15,0,6,0,0,0,0,0,0,0,0,0,0,0]
[null,null,null,null,null,null,null,null,null,null,null,null,null,null,null,0,0,0,null,0,0,0,0,0,0,0,0,0,0,0,0,0,null," "," "," "," "," "," "," "," "," "," "," "," ",null,15,15,15,15,15,15,15,15,15,15,15,15,15,0,6,0,0,0,0,0,0,0,0,0,0,0]
[null,null,null,null,null,null,null,null,null,null,null,null,null,null,null,0,0,0,null,0,0,0,0,0,0,0,0,0,0,0,0,0,null," "," "," "," "," "," "," "," "," "," "," "," ",null,15,15,15,15,15,15,15,15,15,15,15,15,15,0,6,0,0,0,0,0,0,0,0,0,0,0]
[null,null,null,null,null,null,null,null,null,null,null,null,null,null,null,0,0,0,null,0,0,0,0,0,0,0,0,0,0,0,0,0,null," "," "," "," "," "," "," "," "," "," "," "," ",null,15,15,15,15,15,15,15,15,15,15,15,15,15,0,6,0,0,0,0,0,0,0,0,0,0,0]
[null,null,null,null,null,null,null,null,null,null,null,null,null,null,null,0,0,0,null,0,0,0,0,0,0,0,0,0,0,0,0,0,null," "," "," "," "," "," "," "," "," "," "," "," ",null,15,15,15,15,15,15,15,15,15,15,15,15,15,0,6,0,0,0,0,0,0,0,0,0,0,0]
[null,null,null,null,null,null,null,null,null,null,null,null,null,null,null,0,0,0,null,0,0,0,0,0,0,0,0,0,0,0,0,0,null," "," "," "," "," "," "," "," "," "," "," "," ",null,15,15,15,15,15,15,15,15,15,15,15,15,15,0,6,0,0,0,0,0,0,0,0,0,0,0]
[null,null,null,null,null,null,null,null,null,null,null,null,null,null,null,0,0,0,null,0,0,0,0,0,0,0,0,0,0,0,0,0,null," "," "," "," "," "," "," "," "," "," "," "," ",null,15,15,15,15,15,15,15,15,15,15,15,15,15,0,6,0,0,0,0,0,0,0,0,0,0,0]
[null,null,null,null,null,null,null,null,null,null,null,null,null,null,null,0,0,0,null,0,0,0,0,0,0,0,0,0,0,0,0,0,null," "," "," "," "," "," "," "," "," "," "," "," ",null,15,15,15,15,15,15,15,15,15,15,15,15,15,0,6,0,0,0,0,0,0,0,0,0,0,0]
[null,null,null,null,null,null,null,null,null,null,null,null,null,null,null,0,0,0,null,0,0,0,0,0,0,0,0,0,0,0,0,0,null," "," "," "," "," "," "," "," "," "," "," "," ",null,15,15,15,15,15,15,15,15,15,15,15,15,15,0,6,0,0,0,0,0,0,0,0,0,0,0]
[null,null,null,null,null,null,null,null,null,null,null,null,null,null,null,0,0,0,null,0,0,0,0,0,0,0,0,0,0,0,0,0,null," "," "," "," "," "," "," "," "," "," "," "," ",null,15,15,15,15,15,15,15,15,15,15,15,15,15,0,6,0,0,0,0,0,0,0,0,0,0,0]
[null,null,null,null,null,null,null,null,null,null,null,null,null,null,null,0,0,0,null,0,0,0,0,0,0,0,0,0,0,0,0,0,null," "," "," "," "," "," "," "," "," "," "," "," ",null,15,15,15,15,15,15,15,15,15,15,15,15,15,0,6,0,0,0,0,0,0,0,0,0,0,0]
[null,null,null,null,null,null,null,null,null,null,null,null,null,null,null,0,0,0,null,0,0,0,0,0,0,0,0,0,0,0,0,0,null," "," "," "," "," "," "," "," "," "," "," "," ",null,15,15,15,15,15,15,15,15,15,15,15,15,15,0,6,0,0,0,0,0,0,0,0,0,0,0]
[null,null,null,null,null,null,null,null,null,null,null,null,null,null,null,0,0,0,null,0,0,0,0,0,0,0,0,0,0,0,0,0,null," "," "," "," "," "," "," "," "," "," "," "," ",null,15,15,15,15,15,15,15,15,15,15,15,15,15,0,6,0,0,0,0,0,0,0,0,0,0,0]
[null,null,null,null,null,null,null,null,null,null,null,null,null,null,null,0,0,0,null,0,0,0,0,0,0,0,0,0,0,0,0,0,null," "," "," "," "," "," "," "," "," "," "," "," ",null,15,15,15,15,15,15,15,15,15,15,15,15,15,0,6,0,0,0,0,0,0,0,0,0,0,0]
[null,null,null,null,null,null,null,null,null,null,null,null,null,null,null,0,0,0,null,0,0,0,0,0,0,0,0,0,0,0,0,0,null," "," "," "," "," "," "," "," "," "," "," "," ",null,15,15,15,15,15,15,15,15,15,15,15,15,15,0,6,0,0,0,0,0,0,0,0,0,0,0]
[null,null,null,null,null,null,null,null,null,null,null,null,null,null,null,0,0,0,null,0,0,0,0,0,0,0,0,0,0,0,0,0,null," "," "," "," "," "," "," "," "," "," "," "," ",null,15,15,15,15,15,15,15,15,15,15,15,15,15,0,6,0,0,0,0,0,0,0,0,0,0,0]
[null,null,null,null,null,null,null,null,null,null,null,null,null,null,null,0,0,0,null,0,0,0,0,0,0,0,0,0,0,0,0,0,null," "," "," "," "," "," "," "," "," "," "," "," ",null,15,15,15,15,15,15,15,15,15,15,15,15,15,0,6,0,0,0,0,0,0,0,0,0,0,0]
[null,null,null,null,null,null,null,null,null,null,null,null,null,null,null,0,0,0,null,0,0,0,0,0,0,0,0,0,0,0,0,0,null," "," "," "," "," "," "," "," "," "," "," "," ",null,15,15,15,15,15,15,15,15,15,15,15,15,15,0,6,0,0,0,0,0,0,0,0,0,0,0]
[null,null,null,null,null,null,null,null,null,null,null,null,null,null,null,0,0,0,null,0,0,0,0,0,0,0,0,0,0,0,0,0,null," "," "," "," "," "," "," "," "," "," "," "," ",null,15,15,15,15,15,15,15,15,15,15,15,15,15,0,6,0,0,0,0,0,0,0,0,0,0,0]
[null,null,null,null,null,null,null,null,null,null,null,null,null,null,null,0,0,0,null,0,0,0,0,0,0,0,0,0,0,0,0,0,null," "," "," "," "," "," "," "," "," "," "," "," ",null,15,15,15,15,15,15,15,15,15,15,15,15,15,0,6,0,0,0,0,0,0,0,0,0,0,0]
[null,null,null,null,null,null,null,null,null,null,null,null,null,null,null,0,0,0,null,0,0,0,0,0,0,0,0,0,0,0,0,0,null," "," "," "," "," "," "," "," "," "," "," "," ",null,15,15,15,15,15,15,15,15,15,15,15,15,15,0,6,0,0,0,0,0,0,0,0,0,0,0]
[null,null,null,null,null,null,null,null,null,null,null,null,null,null,null,0,0,{"$f":"MIN(AH327:AS327)","v":0},null,{"$f":"COUNTIF($F327:$O327,$T$6)","v":0},{"$f":"COUNTIF($F327:$O327,$U$6)","v":0},{"$f":"COUNTIF($F327:$O327,$V$6)","v":0},{"$f":"COUNTIF($F327:$O327,$W$6)","v":0},{"$f":"COUNTIF($F327:$O327,$X$6)","v":0},{"$f":"COUNTIF($F327:$O327,$Y$6)","v":0},{"$f":"COUNTIF($F327:$O327,$Z$6)","v":0},{"$f":"COUNTIF($F327:$O327,$AA$6)","v":0},{"$f":"COUNTIF($F327:$O327,$AB$6)","v":0},{"$f":"COUNTIF($F327:$O327,$AC$6)","v":0},{"$f":"COUNTIF($F327:$O327,$AD$6)","v":0},{"$f":"COUNTIF($F327:$O327,$AE$6)","v":0},0,null," "," "," "," "," "," "," "," "," "," "," "," ",null,15,15,15,15,15,15,15,15,15,15,15,15,15,0,6,0,0,0,0,0,0,0,0,0,0,0]
[null,null,null,null,null,null,null,null,null,null,null,null,null,null,null,{"$f":"COUNTIF(F328:O328,\">0.8\")","v":0},{"$f":"IF(R328=0,(IF($R$2=1,BH328,0)),R328)","v":0},0,null,0,0,0,0,0,0,0,0,0,0,0,0,{"$f":"MAX(T328:AE328)","v":0},null," "," "," "," "," "," "," "," "," "," "," "," ",null,15,15,15,15,15,15,15,15,15,15,15,15,{"$f":"MIN(AU328:BF328)","v":15},{"$f":"IF(P328>=BG328,MAX(BI328:BT328),0)","v":0},{"$f":"IF(T328=$AF328,BI$6,0)","v":6},{"$f":"IF(U328=$AF328,BJ327,0)","v":0},0,0,0,0,0,0,0,0,0,0]
[null,null,null,null,null,null,null,null,null,null,null,null,null,null,null,0,0,0,null,0,0,0,0,0,0,0,0,0,0,0,0,0,null," "," "," "," "," "," "," "," "," "," "," "," ",null,15,15,15,15,15,15,15,15,15,15,15,15,15,0,6,0,0,0,0,0,0,0,0,0,0,0]
[null,null,null,null,null,null,null,null,null,null,null,null,null,null,null,0,0,0,null,0,0,0,0,0,0,0,0,0,0,0,0,0,null," "," "," "," "," "," "," "," "," "," "," "," ",null,15,15,15,15,15,15,15,15,15,15,15,15,15,0,6,0,0,0,0,0,0,0,0,0,0,0]
[null,null,null,null,null,null,null,null,null,null,null,null,null,null,null,0,0,0,null,0,0,0,0,0,0,0,0,0,0,0,0,0,null," "," "," "," "," "," "," "," "," "," "," "," ",null,15,15,15,15,15,15,15,15,15,15,15,15,15,0,6,0,0,0,0,0,0,0,0,0,0,0]
[null,null,null,null,null,null,null,null,null,null,null,null,null,null,null,0,0,0,null,0,0,0,0,0,0,0,0,0,0,0,0,0,null," "," "," "," "," "," "," "," "," "," "," "," ",null,15,15,15,15,15,15,15,15,15,15,15,15,15,0,6,0,0,0,0,0,0,0,0,0,0,0]
[null,null,null,null,null,null,null,null,null,null,null,null,null,null,null,0,0,0,null,0,0,0,0,0,0,0,0,0,0,0,0,0,null," "," "," "," "," "," "," "," "," "," "," "," ",null,15,15,15,15,15,15,15,15,15,15,15,15,15,0,6,0,0,0,0,0,0,0,0,0,0,0]
[null,null,null,null,null,null,null,null,null,null,null,null,null,null,null,0,0,0,null,0,0,0,0,0,0,0,0,0,0,0,0,0,null," "," "," "," "," "," "," "," "," "," "," "," ",null,15,15,15,15,15,15,15,15,15,15,15,15,15,0,6,0,0,0,0,0,0,0,0,0,0,0]
[null,null,null,null,null,null,null,null,null,null,null,null,null,null,null,0,0,0,null,0,0,0,0,0,0,0,0,0,0,0,0,0,null," "," "," "," "," "," "," "," "," "," "," "," ",null,15,15,15,15,15,15,15,15,15,15,15,15,15,0,6,0,0,0,0,0,0,0,0,0,0,0]
[null,null,null,null,null,null,null,null,null,null,null,null,null,null,null,0,0,0,null,0,0,0,0,0,0,0,0,0,0,0,0,0,null," "," "," "," "," "," "," "," "," "," "," "," ",null,15,15,15,15,15,15,15,15,15,15,15,15,15,0,6,0,0,0,0,0,0,0,0,0,0,0]
[null,null,null,null,null,null,null,null,null,null,null,null,null,null,null,0,0,0,null,0,0,0,0,0,0,0,0,0,0,0,0,0,null," "," "," "," "," "," "," "," "," "," "," "," ",null,15,15,15,15,15,15,15,15,15,15,15,15,15,0,6,0,0,0,0,0,0,0,0,0,0,0]
[null,null,null,null,null,null,null,null,null,null,null,null,null,null,null,0,0,0,null,0,0,0,0,0,0,0,0,0,0,0,0,0,null," "," "," "," "," "," "," "," "," "," "," "," ",null,15,15,15,15,15,15,15,15,15,15,15,15,15,0,6,0,0,0,0,0,0,0,0,0,0,0]
[null,null,null,null,null,null,null,null,null,null,null,null,null,null,null,0,0,0,null,0,0,0,0,0,0,0,0,0,0,0,0,0,null," "," "," "," "," "," "," "," "," "," "," "," ",null,15,15,15,15,15,15,15,15,15,15,15,15,15,0,6,0,0,0,0,0,0,0,0,0,0,0]
[null,null,null,null,null,null,null,null,null,null,null,null,null,null,null,0,0,0,null,0,0,0,0,0,0,0,0,0,0,0,0,0,null," "," "," "," "," "," "," "," "," "," "," "," ",null,15,15,15,15,15,15,15,15,15,15,15,15,15,0,6,0,0,0,0,0,0,0,0,0,0,0]
[null,null,null,null,null,null,null,null,null,null,null,null,null,null,null,0,0,0,null,0,0,0,0,0,0,0,0,0,0,0,0,0,null," "," "," "," "," "," "," "," "," "," "," "," ",null,15,15,15,15,15,15,15,15,15,15,15,15,15,0,6,0,0,0,0,0,0,0,0,0,0,0]
[null,null,null,null,null,null,null,null,null,null,null,null,null,null,null,0,0,0,null,0,0,0,0,0,0,0,0,0,0,0,0,0,null," "," "," "," "," "," "," "," "," "," "," "," ",null,15,15,15,15,15,15,15,15,15,15,15,15,15,0,6,0,0,0,0,0,0,0,0,0,0,0]
[null,null,null,null,null,null,null,null,null,null,null,null,null,null,null,0,0,0,null,0,0,0,0,0,0,0,0,0,0,0,0,0,null," "," "," "," "," "," "," "," "," "," "," "," ",null,15,15,15,15,15,15,15,15,15,15,15,15,15,0,6,0,0,0,0,0,0,0,0,0,0,0]
[null,null,null,null,null,null,null,null,null,null,null,null,null,null,null,0,0,0,null,0,0,0,0,0,0,0,0,0,0,0,0,0,null," "," "," "," "," "," "," "," "," "," "," "," ",null,15,15,15,15,15,15,15,15,15,15,15,15,15,0,6,0,0,0,0,0,0,0,0,0,0,0]
[null,null,null,null,null,null,null,null,null,null,null,null,null,null,null,0,0,0,null,0,0,0,0,0,0,0,0,0,0,0,0,0,null," "," "," "," "," "," "," "," "," "," "," "," ",null,15,15,15,15,15,15,15,15,15,15,15,15,15,0,6,0,0,0,0,0,0,0,0,0,0,0]
[null,null,null,null,null,null,null,null,null,null,null,null,null,null,null,0,0,0,null,0,0,0,0,0,0,0,0,0,0,0,0,0,null," "," "," "," "," "," "," "," "," "," "," "," ",null,15,15,15,15,15,15,15,15,15,15,15,15,15,0,6,0,0,0,0,0,0,0,0,0,0,0]
[null,null,null,null,null,null,null,null,null,null,null,null,null,null,null,0,0,0,null,0,0,0,0,0,0,0,0,0,0,0,0,0,null," "," "," "," "," "," "," "," "," "," "," "," ",null,15,15,15,15,15,15,15,15,15,15,15,15,15,0,6,0,0,0,0,0,0,0,0,0,0,0]
[null,null,null,null,null,null,null,null,null,null,null,null,null,null,null,0,0,0,null,0,0,0,0,0,0,0,0,0,0,0,0,0,null," "," "," "," "," "," "," "," "," "," "," "," ",null,15,15,15,15,15,15,15,15,15,15,15,15,15,0,6,0,0,0,0,0,0,0,0,0,0,0]
[null,null,null,null,null,null,null,null,null,null,null,null,null,null,null,0,0,0,null,0,0,0,0,0,0,0,0,0,0,0,0,0,null," "," "," "," "," "," "," "," "," "," "," "," ",null,15,15,15,15,15,15,15,15,15,15,15,15,15,0,6,0,0,0,0,0,0,0,0,0,0,0]
[null,null,null,null,null,null,null,null,null,null,null,null,null,null,null,0,0,0,null,0,0,0,0,0,0,0,0,0,0,0,0,0,null," "," "," "," "," "," "," "," "," "," "," "," ",null,15,15,15,15,15,15,15,15,15,15,15,15,15,0,6,0,0,0,0,0,0,0,0,0,0,0]
[null,null,null,null,null,null,null,null,null,null,null,null,null,null,null,0,0,0,null,0,0,0,0,0,0,0,0,0,0,0,0,0,null," "," "," "," "," "," "," "," "," "," "," "," ",null,15,15,15,15,15,15,15,15,15,15,15,15,15,0,6,0,0,0,0,0,0,0,0,0,0,0]
[null,null,null,null,null,null,null,null,null,null,null,null,null,null,null,0,0,0,null,0,0,0,0,0,0,0,0,0,0,0,0,0,null," "," "," "," "," "," "," "," "," "," "," "," ",null,15,15,15,15,15,15,15,15,15,15,15,15,15,0,6,0,0,0,0,0,0,0,0,0,0,0]
[null,null,null,null,null,null,null,null,null,null,null,null,null,null,null,0,0,0,null,0,0,0,0,0,0,0,0,0,0,0,0,0,null," "," "," "," "," "," "," "," "," "," "," "," ",null,15,15,15,15,15,15,15,15,15,15,15,15,15,0,6,0,0,0,0,0,0,0,0,0,0,0]
[null,null,null,null,null,null,null,null,null,null,null,null,null,null,null,0,0,0,null,0,0,0,0,0,0,0,0,0,0,0,0,0,null," "," "," "," "," "," "," "," "," "," "," "," ",null,15,15,15,15,15,15,15,15,15,15,15,15,15,0,6,0,0,0,0,0,0,{"$f":"IF(AA354=$AF354,BP$6,0)","v":0},0,0,0,0]
[null,null,null,null,null,null,null,null,null,null,null,null,null,null,null,0,0,0,null,0,0,0,0,0,0,0,0,0,0,0,0,0,null," "," "," "," "," "," "," "," "," "," "," "," ",null,15,15,15,15,15,15,15,15,15,15,15,15,15,0,6,0,{"$f":"IF(V355=$AF355,BK$6,0)","v":0},0,0,0,0,0,0,0,0,0]
[null,null,null,null,null,null,null,null,null,null,null,null,null,null,null,0,0,0,null,0,0,0,0,0,0,0,0,0,0,0,0,0,null," "," "," "," "," "," "," "," "," "," "," "," ",null,15,15,15,15,15,15,15,15,15,15,15,15,15,0,6,0,0,0,0,0,0,0,0,0,0,0]
[null,null,null,null,null,null,null,null,null,null,null,null,null,null,null,0,0,0,null,0,0,0,0,0,0,0,0,0,0,0,0,0,null," "," "," "," "," "," "," "," "," "," "," "," ",null,15,15,15,15,15,15,15,15,15,15,15,15,15,0,6,0,0,0,0,0,0,0,0,0,0,0]
[null,null,null,null,null,null,null,null,null,null,null,null,null,null,null,0,0,0,null,0,0,0,0,0,0,0,0,0,0,0,0,0,null," "," "," "," "," "," "," "," "," "," "," "," ",null,15,15,15,15,15,15,15,15,15,15,15,15,15,0,6,0,0,0,0,0,0,0,0,0,0,0]
[null,null,null,null,null,null,null,null,null,null,null,null,null,null,null,0,0,0,null,0,0,0,0,0,0,0,0,0,0,0,0,0,null," "," "," "," "," "," "," "," "," "," "," "," ",null,15,15,15,15,15,15,15,15,15,15,15,15,15,0,6,0,0,0,0,0,0,0,0,0,0,0]
[null,null,null,null,null,null,null,null,null,null,null,null,null,null,null,0,0,0,null,0,0,0,0,0,0,0,0,0,0,0,0,0,null," "," "," "," "," "," "," "," "," "," "," "," ",null,15,15,15,15,15,15,15,15,15,15,15,15,15,0,6,0,0,0,0,0,0,0,0,0,0,0]
[null,null,null,null,null,null,null,null,null,null,null,null,null,null,null,0,0,0,null,0,0,0,0,0,0,0,0,0,0,0,0,0,null," "," "," "," "," "," "," "," "," "," "," "," ",null,15,15,15,15,15,15,15,15,15,15,15,15,15,0,6,0,0,0,0,0,0,0,0,0,0,0]
[null,null,null,null,null,null,null,null,null,null,null,null,null,null,null,0,0,0,null,0,0,0,0,0,0,0,0,0,0,0,0,0,null," "," "," "," "," "," "," "," "," "," "," "," ",null,15,15,15,15,15,15,15,15,15,15,15,15,15,0,6,0,0,0,0,0,0,0,0,0,0,0]
[null,null,null,null,null,null,null,null,null,null,null,null,null,null,null,0,0,0,null,0,0,0,0,0,0,0,0,0,0,0,0,0,null," "," "," "," "," "," "," "," "," "," "," "," ",null,15,15,15,15,15,15,15,15,15,15,15,15,15,0,6,0,0,0,0,0,0,0,0,0,0,0]
[null,null,null,null,null,null,null,null,null,null,null,null,null,null,null,0,0,0,null,0,0,0,0,0,0,0,0,0,0,0,0,0,null," "," "," "," "," "," "," "," "," "," "," "," ",null,15,15,15,15,15,15,15,15,15,15,15,15,15,0,6,0,0,0,0,0,0,0,0,0,0,0]
[null,null,null,null,null,null,null,null,null,null,null,null,null,null,null,0,0,0,null,0,0,0,0,0,0,0,0,0,0,0,0,0,null," "," "," "," "," "," "," "," "," "," "," "," ",null,15,15,15,15,15,15,15,15,15,15,15,15,15,0,6,0,0,0,0,0,0,0,0,0,0,0]
[null,null,null,null,null,null,null,null,null,null,null,null,null,null,null,0,0,0,null,0,0,0,0,0,0,0,0,0,0,0,0,0,null," "," "," "," "," "," "," "," "," "," "," "," ",null,15,15,15,15,15,15,15,15,15,15,15,15,15,0,6,0,0,0,0,0,0,0,0,0,0,0]
[null,null,null,null,null,null,null,null,null,null,null,null,null,null,null,0,0,0,null,0,0,0,0,0,0,0,0,0,0,0,0,0,null," "," "," "," "," "," "," "," "," "," "," "," ",null,15,15,15,15,15,15,15,15,15,15,15,15,15,0,6,0,0,0,0,0,0,0,0,0,0,0]
[null,null,null,null,null,null,null,null,null,null,null,null,null,null,null,0,0,0,null,0,0,0,0,0,0,0,0,0,0,0,0,0,null," "," "," "," "," "," "," "," "," "," "," "," ",null,15,15,15,15,15,15,15,15,15,15,15,15,15,0,6,0,0,0,0,0,0,0,0,0,0,0]
[null,null,null,null,null,null,null,null,null,null,null,null,null,null,null,0,0,0,null,0,0,0,0,0,0,0,0,0,0,0,0,0,null," "," "," "," "," "," "," "," "," "," "," "," ",null,15,15,15,15,15,15,15,15,15,15,15,15,15,0,6,0,0,0,0,0,0,0,0,0,0,0]
[null,null,null,null,null,null,null,null,null,null,null,null,null,null,null,0,0,0,null,0,0,0,0,0,0,0,0,0,0,0,0,0,null," "," "," "," "," "," "," "," "," "," "," "," ",null,15,15,15,15,15,15,15,15,15,15,15,15,15,0,6,0,0,0,0,0,0,0,0,0,0,0]
[null,null,null,null,null,null,null,null,null,null,null,null,null,null,null,0,0,0,null,0,0,0,0,0,0,0,0,0,0,0,0,0,null," "," "," "," "," "," "," "," "," "," "," "," ",null,15,15,15,15,15,15,15,15,15,15,15,15,15,0,6,0,0,0,0,0,0,0,0,0,0,0]
[null,null,null,null,null,null,null,null,null,null,null,null,null,null,null,0,0,0,null,0,0,0,0,0,0,0,0,0,0,0,0,0,null," "," "," "," "," "," "," "," "," "," "," "," ",null,15,15,15,15,15,15,15,15,15,15,15,15,15,0,6,0,0,0,0,0,0,0,0,0,0,0]
[null,null,null,null,null,null,null,null,null,null,null,null,null,null,null,0,0,0,null,0,0,0,0,0,0,0,0,0,0,0,0,0,null," "," "," "," "," "," "," "," "," "," "," "," ",null,15,15,15,15,15,15,15,15,15,15,15,15,15,0,6,0,0,0,0,0,0,0,0,0,0,0]
[null,null,null,null,null,null,null,null,null,null,null,null,null,null,null,0,0,0,null,0,0,0,0,0,0,0,0,0,0,0,0,0,null," "," "," "," "," "," "," "," "," "," "," "," ",null,15,15,15,15,15,15,15,15,15,15,15,15,15,0,6,0,0,0,0,0,0,0,0,0,0,0]
[null,null,null,null,null,null,null,null,null,null,null,null,null,null,null,0,0,0,null,0,0,0,0,0,0,0,0,0,0,0,0,0,null," "," "," "," "," "," "," "," "," "," "," "," ",null,15,15,15,15,15,15,15,15,15,15,15,15,15,0,6,0,0,0,0,0,0,0,0,0,0,0]
[null,null,null,null,null,null,null,null,null,null,null,null,null,null,null,0,0,0,null,0,0,0,0,0,0,0,0,0,0,0,0,0,null," "," "," "," "," "," "," "," "," "," "," "," ",null,15,15,15,15,15,15,15,15,15,15,15,15,15,0,6,0,0,0,0,0,0,0,0,0,0,0]
[null,null,null,null,null,null,null,null,null,null,null,null,null,null,null,0,0,0,null,0,0,0,0,0,0,0,0,0,0,0,0,0,null," "," "," "," "," "," "," "," "," "," "," "," ",null,15,15,15,15,15,15,15,15,15,15,15,15,15,0,6,0,0,0,0,0,0,0,0,0,0,0]
[null,null,null,null,null,null,null,null,null,null,null,null,null,null,null,0,0,0,null,0,0,0,0,0,0,0,0,0,0,0,0,0,null," "," "," "," "," "," "," "," "," "," "," "," ",null,15,15,15,15,15,15,15,15,15,15,15,15,15,0,6,0,0,0,0,0,0,0,0,0,0,0]
[null,null,null,null,null,null,null,null,null,null,null,null,null,null,null,0,0,0,null,0,0,0,0,0,0,0,0,0,0,0,0,0,null," "," "," "," "," "," "," "," "," "," "," "," ",null,15,15,15,15,15,15,15,15,15,15,15,15,15,0,6,0,0,0,0,0,0,0,0,0,0,0]
[null,null,null,null,null,null,null,null,null,null,null,null,null,null,null,0,0,0,null,0,0,0,0,0,0,0,0,0,0,0,0,0,null," "," "," "," "," "," "," "," "," "," "," "," ",null,15,15,15,15,15,15,15,15,15,15,15,15,15,0,6,0,0,0,0,0,0,0,0,0,0,0]
[null,null,null,null,null,null,null,null,null,null,null,null,null,null,null,0,0,0,null,0,0,0,0,0,0,0,0,0,0,0,0,0,null," "," "," "," "," "," "," "," "," "," "," "," ",null,15,15,15,15,15,15,15,15,15,15,15,15,15,0,6,0,0,0,0,0,0,0,0,0,0,0]
[null,null,null,null,null,null,null,null,null,null,null,null,null,null,null,0,0,0,null,0,0,0,0,0,0,0,0,0,0,0,0,0,null," "," "," "," "," "," "," "," "," "," "," "," ",null,15,15,15,15,15,15,15,15,15,15,15,15,15,0,6,0,0,0,0,0,0,0,0,0,0,0]
[null,null,null,null,null,null,null,null,null,null,null,null,null,null,null,0,0,0,null,0,0,0,0,0,0,0,0,0,0,0,0,0,null," "," "," "," "," "," "," "," "," "," "," "," ",null,15,15,15,15,15,15,15,15,15,15,15,15,15,0,6,0,0,0,0,0,0,0,0,0,0,0]
[null,null,null,null,null,null,null,null,null,null,null,null,null,null,null,0,0,0,null,0,0,0,0,0,0,0,0,0,0,0,0,0,null," "," "," "," "," "," "," "," "," "," "," "," ",null,15,15,15,15,15,15,15,15,15,15,15,15,15,0,6,0,0,0,0,0,0,0,0,0,0,0]
[null,null,null,null,null,null,null,null,null,null,null,null,null,null,null,0,0,0,null,0,0,0,0,0,0,0,0,0,0,0,0,0,null," "," "," "," "," "," "," "," "," "," "," "," ",null,15,15,15,15,15,15,15,15,15,15,15,15,15,0,6,0,0,0,0,0,0,0,0,0,0,0]
[null,null,null,null,null,null,null,null,null,null,null,null,null,null,null,0,0,0,null,0,0,0,0,0,0,0,0,0,0,0,0,0,null," "," "," "," "," "," "," "," "," "," "," "," ",null,15,15,15,15,15,15,15,15,15,15,15,15,15,0,6,0,0,0,0,0,0,0,0,0,0,0]
[null,null,null,null,null,null,null,null,null,null,null,null,null,null,null,0,0,0,null,0,0,0,0,0,0,0,0,0,0,0,0,0,null," "," "," "," "," "," "," "," "," "," "," "," ",null,15,15,15,15,15,15,15,15,15,15,15,15,15,0,6,0,0,0,0,0,0,0,0,0,0,0]
[null,null,null,null,null,null,null,null,null,null,null,null,null,null,null,0,0,0,null,0,0,0,0,0,0,0,0,0,0,0,0,0,null," "," "," "," "," "," "," "," "," "," "," "," ",null,15,15,15,15,15,15,15,15,15,15,15,15,15,0,6,0,0,0,0,0,0,0,0,0,0,0]
[null,null,null,null,null,null,null,null,null,null,null,null,null,null,null,0,0,0,null,0,0,0,0,0,0,0,0,0,0,0,0,0,null," "," "," "," "," "," "," "," "," "," "," "," ",null,15,15,15,15,15,15,15,15,15,15,15,15,15,0,6,0,0,0,0,0,0,0,0,0,0,0]
[null,null,null,null,null,null,null,null,null,null,null,null,null,null,null,0,0,0,null,0,0,0,0,0,0,0,0,0,0,0,0,0,null," "," "," "," "," "," "," "," "," "," "," "," ",null,15,15,15,15,15,15,15,15,15,15,15,15,15,0,6,0,0,0,0,0,0,0,0,0,0,0]
[null,null,null,null,null,null,null,null,null,null,null,null,null,null,null,0,0,{"$f":"MIN(AH391:AS391)","v":0},null,{"$f":"COUNTIF($F391:$O391,$T$6)","v":0},{"$f":"COUNTIF($F391:$O391,$U$6)","v":0},{"$f":"COUNTIF($F391:$O391,$V$6)","v":0},{"$f":"COUNTIF($F391:$O391,$W$6)","v":0},{"$f":"COUNTIF($F391:$O391,$X$6)","v":0},{"$f":"COUNTIF($F391:$O391,$Y$6)","v":0},{"$f":"COUNTIF($F391:$O391,$Z$6)","v":0},{"$f":"COUNTIF($F391:$O391,$AA$6)","v":0},{"$f":"COUNTIF($F391:$O391,$AB$6)","v":0},{"$f":"COUNTIF($F391:$O391,$AC$6)","v":0},{"$f":"COUNTIF($F391:$O391,$AD$6)","v":0},{"$f":"COUNTIF($F391:$O391,$AE$6)","v":0},0,null," "," "," "," "," "," "," "," "," "," "," "," ",null,15,15,15,15,15,15,15,15,15,15,15,15,15,0,6,0,0,0,0,0,0,0,0,0,0,0]
[null,null,null,null,null,null,null,null,null,null,null,null,null,null,null,{"$f":"COUNTIF(F392:O392,\">0.8\")","v":0},{"$f":"IF(R392=0,(IF($R$2=1,BH392,0)),R392)","v":0},0,null,0,0,0,0,0,0,0,0,0,0,0,0,{"$f":"MAX(T392:AE392)","v":0},null," "," "," "," "," "," "," "," "," "," "," "," ",null,15,15,15,15,15,15,15,15,15,15,15,15,{"$f":"MIN(AU392:BF392)","v":15},{"$f":"IF(P392>=BG392,MAX(BI392:BT392),0)","v":0},{"$f":"IF(T392=$AF392,BI$6,0)","v":6},{"$f":"IF(U392=$AF392,BJ391,0)","v":0},0,0,0,0,0,0,0,0,0,0]
[null,null,null,null,null,null,null,null,null,null,null,null,null,null,null,0,0,0,null,0,0,0,0,0,0,0,0,0,0,0,0,0,null," "," "," "," "," "," "," "," "," "," "," "," ",null,15,15,15,15,15,15,15,15,15,15,15,15,15,0,6,0,0,0,0,0,0,0,0,0,0,0]
[null,null,null,null,null,null,null,null,null,null,null,null,null,null,null,0,0,0,null,0,0,0,0,0,0,0,0,0,0,0,0,0,null," "," "," "," "," "," "," "," "," "," "," "," ",null,15,15,15,15,15,15,15,15,15,15,15,15,15,0,6,0,0,0,0,0,0,0,0,0,0,0]
[null,null,null,null,null,null,null,null,null,null,null,null,null,null,null,0,0,0,null,0,0,0,0,0,0,0,0,0,0,0,0,0,null," "," "," "," "," "," "," "," "," "," "," "," ",null,15,15,15,15,15,15,15,15,15,15,15,15,15,0,6,0,0,0,0,0,0,0,0,0,0,0]
[null,null,null,null,null,null,null,null,null,null,null,null,null,null,null,0,0,0,null,0,0,0,0,0,0,0,0,0,0,0,0,0,null," "," "," "," "," "," "," "," "," "," "," "," ",null,15,15,15,15,15,15,15,15,15,15,15,15,15,0,6,0,0,0,0,0,0,0,0,0,0,0]
[null,null,null,null,null,null,null,null,null,null,null,null,null,null,null,0,0,0,null,0,0,0,0,0,0,0,0,0,0,0,0,0,null," "," "," "," "," "," "," "," "," "," "," "," ",null,15,15,15,15,15,15,15,15,15,15,15,15,15,0,6,0,0,0,0,0,0,0,0,0,0,0]
[null,null,null,null,null,null,null,null,null,null,null,null,null,null,null,0,0,0,null,0,0,0,0,0,0,0,0,0,0,0,0,0,null," "," "," "," "," "," "," "," "," "," "," "," ",null,15,15,15,15,15,15,15,15,15,15,15,15,15,0,6,0,0,0,0,0,0,0,0,0,0,0]
[null,null,null,null,null,null,null,null,null,null,null,null,null,null,null,0,0,0,null,0,0,0,0,0,0,0,0,0,0,0,0,0,null," "," "," "," "," "," "," "," "," "," "," "," ",null,15,15,15,15,15,15,15,15,15,15,15,15,15,0,6,0,0,0,0,0,0,0,0,0,0,0]
[null,null,null,null,null,null,null,null,null,null,null,null,null,null,null,0,0,0,null,0,0,0,0,0,0,0,0,0,0,0,0,0,null," "," "," "," "," "," "," "," "," "," "," "," ",null,15,15,15,15,15,15,15,15,15,15,15,15,15,0,6,0,0,0,0,0,0,0,0,0,0,0]
[null,null,null,null,null,null,null,null,null,null,null,null,null,null,null,0,0,0,null,0,0,0,0,0,0,0,0,0,0,0,0,0,null," "," "," "," "," "," "," "," "," "," "," "," ",null,15,15,15,15,15,15,15,15,15,15,15,15,15,0,6,0,0,0,0,0,0,0,0,0,0,0]
[null,null,null,null,null,null,null,null,null,null,null,null,null,null,null,0,0,0,null,0,0,0,0,0,0,0,0,0,0,0,0,0,null," "," "," "," "," "," "," "," "," "," "," "," ",null,15,15,15,15,15,15,15,15,15,15,15,15,15,0,6,0,0,0,0,0,0,0,0,0,0,0]
[null,null,null,null,null,null,null,null,null,null,null,null,null,null,null,0,0,0,null,0,0,0,0,0,0,0,0,0,0,0,0,0,null," "," "," "," "," "," "," "," "," "," "," "," ",null,15,15,15,15,15,15,15,15,15,15,15,15,15,0,6,0,0,0,0,0,0,0,0,0,0,0]
[null,null,null,null,null,null,null,null,null,null,null,null,null,null,null,0,0,0,null,0,0,0,0,0,0,0,0,0,0,0,0,0,null," "," "," "," "," "," "," "," "," "," "," "," ",null,15,15,15,15,15,15,15,15,15,15,15,15,15,0,6,0,0,0,0,0,0,0,0,0,0,0]
[null,null,null,null,null,null,null,null,null,null,null,null,null,null,null,0,0,0,null,0,0,0,0,0,0,0,0,0,0,0,0,0,null," "," "," "," "," "," "," "," "," "," "," "," ",null,15,15,15,15,15,15,15,15,15,15,15,15,15,0,6,0,0,0,0,0,0,{"$f":"IF(AA405=$AF405,BP$6,0)","v":0},0,0,0,0]
[null,null,null,null,null,null,null,null,null,null,null,null,null,null,null,0,0,0,null,0,0,0,0,0,0,0,0,0,0,0,0,0,null," "," "," "," "," "," "," "," "," "," "," "," ",null,15,15,15,15,15,15,15,15,15,15,15,15,15,0,6,0,{"$f":"IF(V406=$AF406,BK$6,0)","v":0},0,0,0,0,0,0,0,0,0]
[null,null,null,null,null,null,null,null,null,null,null,null,null,null,null,0,0,0,null,0,0,0,0,0,0,0,0,0,0,0,0,0,null," "," "," "," "," "," "," "," "," "," "," "," ",null,15,15,15,15,15,15,15,15,15,15,15,15,15,0,6,0,0,0,0,0,0,0,0,0,0,0]
[null,null,null,null,null,null,null,null,null,null,null,null,null,null,null,0,0,0,null,0,0,0,0,0,0,0,0,0,0,0,0,0,null," "," "," "," "," "," "," "," "," "," "," "," ",null,15,15,15,15,15,15,15,15,15,15,15,15,15,0,6,0,0,0,0,0,0,0,0,0,0,0]
[null,null,null,null,null,null,null,null,null,null,null,null,null,null,null,0,0,0,null,0,0,0,0,0,0,0,0,0,0,0,0,0,null," "," "," "," "," "," "," "," "," "," "," "," ",null,15,15,15,15,15,15,15,15,15,15,15,15,15,0,6,0,0,0,0,0,0,0,0,0,0,0]
[null,null,null,null,null,null,null,null,null,null,null,null,null,null,null,0,0,0,null,0,0,0,0,0,0,0,0,0,0,0,0,0,null," "," "," "," "," "," "," "," "," "," "," "," ",null,15,15,15,15,15,15,15,15,15,15,15,15,15,0,6,0,0,0,0,0,0,0,0,0,0,0]
[null,null,null,null,null,null,null,null,null,null,null,null,null,null,null,0,0,0,null,0,0,0,0,0,0,0,0,0,0,0,0,0,null," "," "," "," "," "," "," "," "," "," "," "," ",null,15,15,15,15,15,15,15,15,15,15,15,15,15,0,6,0,0,0,0,0,0,0,0,0,0,0]
[null,null,null,null,null,null,null,null,null,null,null,null,null,null,null,0,0,0,null,0,0,0,0,0,0,0,0,0,0,0,0,0,null," "," "," "," "," "," "," "," "," "," "," "," ",null,15,15,15,15,15,15,15,15,15,15,15,15,15,0,6,0,0,0,0,0,0,0,0,0,0,0]
[null,null,null,null,null,null,null,null,null,null,null,null,null,null,null,0,0,0,null,0,0,0,0,0,0,0,0,0,0,0,0,0,null," "," "," "," "," "," "," "," "," "," "," "," ",null,15,15,15,15,15,15,15,15,15,15,15,15,15,0,6,0,0,0,0,0,0,0,0,0,0,0]
[null,null,null,null,null,null,null,null,null,null,null,null,null,null,null,0,0,0,null,0,0,0,0,0,0,0,0,0,0,0,0,0,null," "," "," "," "," "," "," "," "," "," "," "," ",null,15,15,15,15,15,15,15,15,15,15,15,15,15,0,6,0,0,0,0,0,0,0,0,0,0,0]
[null,null,null,null,null,null,null,null,null,null,null,null,null,null,null,0,0,0,null,0,0,0,0,0,0,0,0,0,0,0,0,0,null," "," "," "," "," "," "," "," "," "," "," "," ",null,15,15,15,15,15,15,15,15,15,15,15,15,15,0,6,0,0,0,0,0,0,0,0,0,0,0]
[null,null,null,null,null,null,null,null,null,null,null,null,null,null,null,0,0,0,null,0,0,0,0,0,0,0,0,0,0,0,0,0,null," "," "," "," "," "," "," "," "," "," "," "," ",null,15,15,15,15,15,15,15,15,15,15,15,15,15,0,6,0,0,0,0,0,0,0,0,0,0,0]
[null,null,null,null,null,null,null,null,null,null,null,null,null,null,null,0,0,0,null,0,0,0,0,0,0,0,0,0,0,0,0,0,null," "," "," "," "," "," "," "," "," "," "," "," ",null,15,15,15,15,15,15,15,15,15,15,15,15,15,0,6,0,0,0,0,0,0,0,0,0,0,0]
[null,null,null,null,null,null,null,null,null,null,null,null,null,null,null,0,0,0,null,0,0,0,0,0,0,0,0,0,0,0,0,0,null," "," "," "," "," "," "," "," "," "," "," "," ",null,15,15,15,15,15,15,15,15,15,15,15,15,15,0,6,0,0,0,0,0,0,0,0,0,0,0]
[null,null,null,null,null,null,null,null,null,null,null,null,null,null,null,0,0,0,null,0,0,0,0,0,0,0,0,0,0,0,0,0,null," "," "," "," "," "," "," "," "," "," "," "," ",null,15,15,15,15,15,15,15,15,15,15,15,15,15,0,6,0,0,0,0,0,0,0,0,0,0,0]
[null,null,null,null,null,null,null,null,null,null,null,null,null,null,null,0,0,0,null,0,0,0,0,0,0,0,0,0,0,0,0,0,null," "," "," "," "," "," "," "," "," "," "," "," ",null,15,15,15,15,15,15,15,15,15,15,15,15,15,0,6,0,0,0,0,0,0,0,0,0,0,0]
[null,null,null,null,null,null,null,null,null,null,null,null,null,null,null,0,0,0,null,0,0,0,0,0,0,0,0,0,0,0,0,0,null," "," "," "," "," "," "," "," "," "," "," "," ",null,15,15,15,15,15,15,15,15,15,15,15,15,15,0,6,0,0,0,0,0,0,0,0,0,0,0]
[null,null,null,null,null,null,null,null,null,null,null,null,null,null,null,0,0,0,null,0,0,0,0,0,0,0,0,0,0,0,0,0,null," "," "," "," "," "," "," "," "," "," "," "," ",null,15,15,15,15,15,15,15,15,15,15,15,15,15,0,6,0,0,0,0,0,0,0,0,0,0,0]
[null,null,null,null,null,null,null,null,null,null,null,null,null,null,null,0,0,0,null,0,0,0,0,0,0,0,0,0,0,0,0,0,null," "," "," "," "," "," "," "," "," "," "," "," ",null,15,15,15,15,15,15,15,15,15,15,15,15,15,0,6,0,0,0,0,0,0,0,0,0,0,0]
[null,null,null,null,null,null,null,null,null,null,null,null,null,null,null,0,0,0,null,0,0,0,0,0,0,0,0,0,0,0,0,0,null," "," "," "," "," "," "," "," "," "," "," "," ",null,15,15,15,15,15,15,15,15,15,15,15,15,15,0,6,0,0,0,0,0,0,0,0,0,0,0]
[null,null,null,null,null,null,null,null,null,null,null,null,null,null,null,0,0,0,null,0,0,0,0,0,0,0,0,0,0,0,0,0,null," "," "," "," "," "," "," "," "," "," "," "," ",null,15,15,15,15,15,15,15,15,15,15,15,15,15,0,6,0,0,0,0,0,0,0,0,0,0,0]
[null,null,null,null,null,null,null,null,null,null,null,null,null,null,null,0,0,0,null,0,0,0,0,0,0,0,0,0,0,0,0,0,null," "," "," "," "," "," "," "," "," "," "," "," ",null,15,15,15,15,15,15,15,15,15,15,15,15,15,0,6,0,0,0,0,0,0,0,0,0,0,0]
[null,null,null,null,null,null,null,null,null,null,null,null,null,null,null,0,0,0,null,0,0,0,0,0,0,0,0,0,0,0,0,0,null," "," "," "," "," "," "," "," "," "," "," "," ",null,15,15,15,15,15,15,15,15,15,15,15,15,15,0,6,0,0,0,0,0,0,0,0,0,0,0]
[null,null,null,null,null,null,null,null,null,null,null,null,null,null,null,0,0,0,null,0,0,0,0,0,0,0,0,0,0,0,0,0,null," "," "," "," "," "," "," "," "," "," "," "," ",null,15,15,15,15,15,15,15,15,15,15,15,15,15,0,6,0,0,0,0,0,0,0,0,0,0,0]
[null,null,null,null,null,null,null,null,null,null,null,null,null,null,null,0,0,0,null,0,0,0,0,0,0,0,0,0,0,0,0,0,null," "," "," "," "," "," "," "," "," "," "," "," ",null,15,15,15,15,15,15,15,15,15,15,15,15,15,0,6,0,0,0,0,0,0,0,0,0,0,0]
[null,null,null,null,null,null,null,null,null,null,null,null,null,null,null,0,0,0,null,0,0,0,0,0,0,0,0,0,0,0,0,0,null," "," "," "," "," "," "," "," "," "," "," "," ",null,15,15,15,15,15,15,15,15,15,15,15,15,15,0,6,0,0,0,0,0,0,0,0,0,0,0]
[null,null,null,null,null,null,null,null,null,null,null,null,null,null,null,0,0,0,null,0,0,0,0,0,0,0,0,0,0,0,0,0,null," "," "," "," "," "," "," "," "," "," "," "," ",null,15,15,15,15,15,15,15,15,15,15,15,15,15,0,6,0,0,0,0,0,0,0,0,0,0,0]
[null,null,null,null,null,null,null,null,null,null,null,null,null,null,null,0,0,0,null,0,0,0,0,0,0,0,0,0,0,0,0,0,null," "," "," "," "," "," "," "," "," "," "," "," ",null,15,15,15,15,15,15,15,15,15,15,15,15,15,0,6,0,0,0,0,0,0,0,0,0,0,0]
[null,null,null,null,null,null,null,null,null,null,null,null,null,null,null,0,0,0,null,0,0,0,0,0,0,0,0,0,0,0,0,0,null," "," "," "," "," "," "," "," "," "," "," "," ",null,15,15,15,15,15,15,15,15,15,15,15,15,15,0,6,0,0,0,0,0,0,0,0,0,0,0]
[null,null,null,null,null,null,null,null,null,null,null,null,null,null,null,0,0,0,null,0,0,0,0,0,0,0,0,0,0,0,0,0,null," "," "," "," "," "," "," "," "," "," "," "," ",null,15,15,15,15,15,15,15,15,15,15,15,15,15,0,6,0,0,0,0,0,0,0,0,0,0,0]
[null,null,null,null,null,null,null,null,null,null,null,null,null,null,null,0,0,0,null,0,0,0,0,0,0,0,0,0,0,0,0,0,null," "," "," "," "," "," "," "," "," "," "," "," ",null,15,15,15,15,15,15,15,15,15,15,15,15,15,0,6,0,0,0,0,0,0,0,0,0,0,0]
[null,null,null,null,null,null,null,null,null,null,null,null,null,null,null,0,0,0,null,0,0,0,0,0,0,0,0,0,0,0,0,0,null," "," "," "," "," "," "," "," "," "," "," "," ",null,15,15,15,15,15,15,15,15,15,15,15,15,15,0,6,0,0,0,0,0,0,0,0,0,0,0]
[null,null,null,null,null,null,null,null,null,null,null,null,null,null,null,0,0,0,null,0,0,0,0,0,0,0,0,0,0,0,0,0,null," "," "," "," "," "," "," "," "," "," "," "," ",null,15,15,15,15,15,15,15,15,15,15,15,15,15,0,6,0,0,0,0,0,0,0,0,0,0,0]
[null,null,null,null,null,null,null,null,null,null,null,null,null,null,null,0,0,0,null,0,0,0,0,0,0,0,0,0,0,0,0,0,null," "," "," "," "," "," "," "," "," "," "," "," ",null,15,15,15,15,15,15,15,15,15,15,15,15,15,0,6,0,0,0,0,0,0,0,0,0,0,0]
[null,null,null,null,null,null,null,null,null,null,null,null,null,null,null,0,0,0,null,0,0,0,0,0,0,0,0,0,0,0,0,0,null," "," "," "," "," "," "," "," "," "," "," "," ",null,15,15,15,15,15,15,15,15,15,15,15,15,15,0,6,0,0,0,0,0,0,0,0,0,0,0]
[null,null,null,null,null,null,null,null,null,null,null,null,null,null,null,0,0,0,null,0,0,0,0,0,0,0,0,0,0,0,0,0,null," "," "," "," "," "," "," "," "," "," "," "," ",null,15,15,15,15,15,15,15,15,15,15,15,15,15,0,6,0,0,0,0,0,0,0,0,0,0,0]
[null,null,null,null,null,null,null,null,null,null,null,null,null,null,null,0,0,0,null,0,0,0,0,0,0,0,0,0,0,0,0,0,null," "," "," "," "," "," "," "," "," "," "," "," ",null,15,15,15,15,15,15,15,15,15,15,15,15,15,0,6,0,0,0,0,0,0,0,0,0,0,0]
[null,null,null,null,null,null,null,null,null,null,null,null,null,null,null,0,0,0,null,0,0,0,0,0,0,0,0,0,0,0,0,0,null," "," "," "," "," "," "," "," "," "," "," "," ",null,15,15,15,15,15,15,15,15,15,15,15,15,15,0,6,0,0,0,0,0,0,0,0,0,0,0]
[null,null,null,null,null,null,null,null,null,null,null,null,null,null,null,0,0,0,null,0,0,0,0,0,0,0,0,0,0,0,0,0,null," "," "," "," "," "," "," "," "," "," "," "," ",null,15,15,15,15,15,15,15,15,15,15,15,15,15,0,6,0,0,0,0,0,0,0,0,0,0,0]
[null,null,null,null,null,null,null,null,null,null,null,null,null,null,null,0,0,0,null,0,0,0,0,0,0,0,0,0,0,0,0,0,null," "," "," "," "," "," "," "," "," "," "," "," ",null,15,15,15,15,15,15,15,15,15,15,15,15,15,0,6,0,0,0,0,0,0,0,0,0,0,0]
[null,null,null,null,null,null,null,null,null,null,null,null,null,null,null,0,0,0,null,0,0,0,0,0,0,0,0,0,0,0,0,0,null," "," "," "," "," "," "," "," "," "," "," "," ",null,15,15,15,15,15,15,15,15,15,15,15,15,15,0,6,0,0,0,0,0,0,0,0,0,0,0]
[null,null,null,null,null,null,null,null,null,null,null,null,null,null,null,0,0,0,null,0,0,0,0,0,0,0,0,0,0,0,0,0,null," "," "," "," "," "," "," "," "," "," "," "," ",null,15,15,15,15,15,15,15,15,15,15,15,15,15,0,6,0,0,0,0,0,0,0,0,0,0,0]
[null,null,null,null,null,null,null,null,null,null,null,null,null,null,null,0,0,0,null,0,0,0,0,0,0,0,0,0,0,0,0,0,null," "," "," "," "," "," "," "," "," "," "," "," ",null,15,15,15,15,15,15,15,15,15,15,15,15,15,0,6,0,0,0,0,0,0,0,0,0,0,0]
[null,null,null,null,null,null,null,null,null,null,null,null,null,null,null,0,0,0,null,0,0,0,0,0,0,0,0,0,0,0,0,0,null," "," "," "," "," "," "," "," "," "," "," "," ",null,15,15,15,15,15,15,15,15,15,15,15,15,15,0,6,0,0,0,0,0,0,0,0,0,0,0]
[null,null,null,null,null,null,null,null,null,null,null,null,null,null,null,0,0,0,null,0,0,0,0,0,0,0,0,0,0,0,0,0,null," "," "," "," "," "," "," "," "," "," "," "," ",null,15,15,15,15,15,15,15,15,15,15,15,15,15,0,6,0,0,0,0,0,0,0,0,0,0,0]
[null,null,null,null,null,null,null,null,null,null,null,null,null,null,null,0,0,0,null,0,0,0,0,0,0,0,0,0,0,0,0,0,null," "," "," "," "," "," "," "," "," "," "," "," ",null,15,15,15,15,15,15,15,15,15,15,15,15,15,0,6,0,0,0,0,0,0,0,0,0,0,0]
[null,null,null,null,null,null,null,null,null,null,null,null,null,null,null,0,0,0,null,0,0,0,0,0,0,0,0,0,0,0,0,0,null," "," "," "," "," "," "," "," "," "," "," "," ",null,15,15,15,15,15,15,15,15,15,15,15,15,15,0,6,0,0,0,0,0,0,0,0,0,0,0]
[null,null,null,null,null,null,null,null,null,null,null,null,null,null,null,0,0,0,null,0,0,0,0,0,0,0,0,0,0,0,0,0,null," "," "," "," "," "," "," "," "," "," "," "," ",null,15,15,15,15,15,15,15,15,15,15,15,15,15,0,6,0,0,0,0,0,0,0,0,0,0,0]
[null,null,null,null,null,null,null,null,null,null,null,null,null,null,null,0,0,0,null,0,0,0,0,0,0,0,0,0,0,0,0,0,null," "," "," "," "," "," "," "," "," "," "," "," ",null,15,15,15,15,15,15,15,15,15,15,15,15,15,0,6,0,0,0,0,0,0,0,0,0,0,0]
[null,null,null,null,null,null,null,null,null,null,null,null,null,null,null,0,0,0,null,0,0,0,0,0,0,0,0,0,0,0,0,0,null," "," "," "," "," "," "," "," "," "," "," "," ",null,15,15,15,15,15,15,15,15,15,15,15,15,15,0,6,0,0,0,0,0,0,0,0,0,0,0]
[null,null,null,null,null,null,null,null,null,null,null,null,null,null,null,0,0,{"$f":"MIN(AH455:AS455)","v":0},null,{"$f":"COUNTIF($F455:$O455,$T$6)","v":0},{"$f":"COUNTIF($F455:$O455,$U$6)","v":0},{"$f":"COUNTIF($F455:$O455,$V$6)","v":0},{"$f":"COUNTIF($F455:$O455,$W$6)","v":0},{"$f":"COUNTIF($F455:$O455,$X$6)","v":0},{"$f":"COUNTIF($F455:$O455,$Y$6)","v":0},{"$f":"COUNTIF($F455:$O455,$Z$6)","v":0},{"$f":"COUNTIF($F455:$O455,$AA$6)","v":0},{"$f":"COUNTIF($F455:$O455,$AB$6)","v":0},{"$f":"COUNTIF($F455:$O455,$AC$6)","v":0},{"$f":"COUNTIF($F455:$O455,$AD$6)","v":0},{"$f":"COUNTIF($F455:$O455,$AE$6)","v":0},0,null," "," "," "," "," "," "," "," "," "," "," "," ",null,15,15,15,15,15,15,15,15,15,15,15,15,15,0,6,0,0,0,0,0,0,0,0,0,0,0]
[null,null,null,null,null,null,null,null,null,null,null,null,null,null,null,{"$f":"COUNTIF(F456:O456,\">0.8\")","v":0},{"$f":"IF(R456=0,(IF($R$2=1,BH456,0)),R456)","v":0},0,null,0,0,0,0,0,0,0,0,0,0,0,0,{"$f":"MAX(T456:AE456)","v":0},null," "," "," "," "," "," "," "," "," "," "," "," ",null,15,15,15,15,15,15,15,15,15,15,15,15,{"$f":"MIN(AU456:BF456)","v":15},{"$f":"IF(P456>=BG456,MAX(BI456:BT456),0)","v":0},{"$f":"IF(T456=$AF456,BI$6,0)","v":6},{"$f":"IF(U456=$AF456,BJ455,0)","v":0},0,0,0,0,0,{"$f":"IF(AA456=$AF456,BP$6,0)","v":0},0,0,0,0]
[null,null,null,null,null,null,null,null,null,null,null,null,null,null,null,0,0,0,null,0,0,0,0,0,0,0,0,0,0,0,0,0,null," "," "," "," "," "," "," "," "," "," "," "," ",null,15,15,15,15,15,15,15,15,15,15,15,15,15,0,6,0,{"$f":"IF(V457=$AF457,BK$6,0)","v":0},0,0,0,0,0,0,0,0,0]
[null,null,null,null,null,null,null,null,null,null,null,null,null,null,null,0,0,0,null,0,0,0,0,0,0,0,0,0,0,0,0,0,null," "," "," "," "," "," "," "," "," "," "," "," ",null,15,15,15,15,15,15,15,15,15,15,15,15,15,0,6,0,0,0,0,0,0,0,0,0,0,0]
[null,null,null,null,null,null,null,null,null,null,null,null,null,null,null,0,0,0,null,0,0,0,0,0,0,0,0,0,0,0,0,0,null," "," "," "," "," "," "," "," "," "," "," "," ",null,15,15,15,15,15,15,15,15,15,15,15,15,15,0,6,0,0,0,0,0,0,0,0,0,0,0]
[null,null,null,null,null,null,null,null,null,null,null,null,null,null,null,0,0,0,null,0,0,0,0,0,0,0,0,0,0,0,0,0,null," "," "," "," "," "," "," "," "," "," "," "," ",null,15,15,15,15,15,15,15,15,15,15,15,15,15,0,6,0,0,0,0,0,0,0,0,0,0,0]
[null,null,null,null,null,null,null,null,null,null,null,null,null,null,null,0,0,0,null,0,0,0,0,0,0,0,0,0,0,0,0,0,null," "," "," "," "," "," "," "," "," "," "," "," ",null,15,15,15,15,15,15,15,15,15,15,15,15,15,0,6,0,0,0,0,0,0,0,0,0,0,0]
[null,null,null,null,null,null,null,null,null,null,null,null,null,null,null,0,0,0,null,0,0,0,0,0,0,0,0,0,0,0,0,0,null," "," "," "," "," "," "," "," "," "," "," "," ",null,15,15,15,15,15,15,15,15,15,15,15,15,15,0,6,0,0,0,0,0,0,0,0,0,0,0]
[null,null,null,null,null,null,null,null,null,null,null,null,null,null,null,0,0,0,null,0,0,0,0,0,0,0,0,0,0,0,0,0,null," "," "," "," "," "," "," "," "," "," "," "," ",null,15,15,15,15,15,15,15,15,15,15,15,15,15,0,6,0,0,0,0,0,0,0,0,0,0,0]
[null,null,null,null,null,null,null,null,null,null,null,null,null,null,null,0,0,0,null,0,0,0,0,0,0,0,0,0,0,0,0,0,null," "," "," "," "," "," "," "," "," "," "," "," ",null,15,15,15,15,15,15,15,15,15,15,15,15,15,0,6,0,0,0,0,0,0,0,0,0,0,0]
[null,null,null,null,null,null,null,null,null,null,null,null,null,null,null,0,0,0,null,0,0,0,0,0,0,0,0,0,0,0,0,0,null," "," "," "," "," "," "," "," "," "," "," "," ",null,15,15,15,15,15,15,15,15,15,15,15,15,15,0,6,0,0,0,0,0,0,0,0,0,0,0]
[null,null,null,null,null,null,null,null,null,null,null,null,null,null,null,0,0,0,null,0,0,0,0,0,0,0,0,0,0,0,0,0,null," "," "," "," "," "," "," "," "," "," "," "," ",null,15,15,15,15,15,15,15,15,15,15,15,15,15,0,6,0,0,0,0,0,0,0,0,0,0,0]
[null,null,null,null,null,null,null,null,null,null,null,null,null,null,null,0,0,0,null,0,0,0,0,0,0,0,0,0,0,0,0,0,null," "," "," "," "," "," "," "," "," "," "," "," ",null,15,15,15,15,15,15,15,15,15,15,15,15,15,0,6,0,0,0,0,0,0,0,0,0,0,0]
[null,null,null,null,null,null,null,null,null,null,null,null,null,null,null,0,0,0,null,0,0,0,0,0,0,0,0,0,0,0,0,0,null," "," "," "," "," "," "," "," "," "," "," "," ",null,15,15,15,15,15,15,15,15,15,15,15,15,15,0,6,0,0,0,0,0,0,0,0,0,0,0]
[null,null,null,null,null,null,null,null,null,null,null,null,null,null,null,0,0,0,null,0,0,0,0,0,0,0,0,0,0,0,0,0,null," "," "," "," "," "," "," "," "," "," "," "," ",null,15,15,15,15,15,15,15,15,15,15,15,15,15,0,6,0,0,0,0,0,0,0,0,0,0,0]
[null,null,null,null,null,null,null,null,null,null,null,null,null,null,null,0,0,0,null,0,0,0,0,0,0,0,0,0,0,0,0,0,null," "," "," "," "," "," "," "," "," "," "," "," ",null,15,15,15,15,15,15,15,15,15,15,15,15,15,0,6,0,0,0,0,0,0,0,0,0,0,0]
[null,null,null,null,null,null,null,null,null,null,null,null,null,null,null,0,0,0,null,0,0,0,0,0,0,0,0,0,0,0,0,0,null," "," "," "," "," "," "," "," "," "," "," "," ",null,15,15,15,15,15,15,15,15,15,15,15,15,15,0,6,0,0,0,0,0,0,0,0,0,0,0]
[null,null,null,null,null,null,null,null,null,null,null,null,null,null,null,0,0,0,null,0,0,0,0,0,0,0,0,0,0,0,0,0,null," "," "," "," "," "," "," "," "," "," "," "," ",null,15,15,15,15,15,15,15,15,15,15,15,15,15,0,6,0,0,0,0,0,0,0,0,0,0,0]
[null,null,null,null,null,null,null,null,null,null,null,null,null,null,null,0,0,0,null,0,0,0,0,0,0,0,0,0,0,0,0,0,null," "," "," "," "," "," "," "," "," "," "," "," ",null,15,15,15,15,15,15,15,15,15,15,15,15,15,0,6,0,0,0,0,0,0,0,0,0,0,0]
[null,null,null,null,null,null,null,null,null,null,null,null,null,null,null,0,0,0,null,0,0,0,0,0,0,0,0,0,0,0,0,0,null," "," "," "," "," "," "," "," "," "," "," "," ",null,15,15,15,15,15,15,15,15,15,15,15,15,15,0,6,0,0,0,0,0,0,0,0,0,0,0]
[null,null,null,null,null,null,null,null,null,null,null,null,null,null,null,0,0,0,null,0,0,0,0,0,0,0,0,0,0,0,0,0,null," "," "," "," "," "," "," "," "," "," "," "," ",null,15,15,15,15,15,15,15,15,15,15,15,15,15,0,6,0,0,0,0,0,0,0,0,0,0,0]
[null,null,null,null,null,null,null,null,null,null,null,null,null,null,null,0,0,0,null,0,0,0,0,0,0,0,0,0,0,0,0,0,null," "," "," "," "," "," "," "," "," "," "," "," ",null,15,15,15,15,15,15,15,15,15,15,15,15,15,0,6,0,0,0,0,0,0,0,0,0,0,0]
[null,null,null,null,null,null,null,null,null,null,null,null,null,null,null,0,0,0,null,0,0,0,0,0,0,0,0,0,0,0,0,0,null," "," "," "," "," "," "," "," "," "," "," "," ",null,15,15,15,15,15,15,15,15,15,15,15,15,15,0,6,0,0,0,0,0,0,0,0,0,0,0]
[null,null,null,null,null,null,null,null,null,null,null,null,null,null,null,0,0,0,null,0,0,0,0,0,0,0,0,0,0,0,0,0,null," "," "," "," "," "," "," "," "," "," "," "," ",null,15,15,15,15,15,15,15,15,15,15,15,15,15,0,6,0,0,0,0,0,0,0,0,0,0,0]
[null,null,null,null,null,null,null,null,null,null,null,null,null,null,null,0,0,0,null,0,0,0,0,0,0,0,0,0,0,0,0,0,null," "," "," "," "," "," "," "," "," "," "," "," ",null,15,15,15,15,15,15,15,15,15,15,15,15,15,0,6,0,0,0,0,0,0,0,0,0,0,0]
[null,null,null,null,null,null,null,null,null,null,null,null,null,null,null,0,0,0,null,0,0,0,0,0,0,0,0,0,0,0,0,0,null," "," "," "," "," "," "," "," "," "," "," "," ",null,15,15,15,15,15,15,15,15,15,15,15,15,15,0,6,0,0,0,0,0,0,0,0,0,0,0]
[null,null,null,null,null,null,null,null,null,null,null,null,null,null,null,0,0,0,null,0,0,0,0,0,0,0,0,0,0,0,0,0,null," "," "," "," "," "," "," "," "," "," "," "," ",null,15,15,15,15,15,15,15,15,15,15,15,15,15,0,6,0,0,0,0,0,0,0,0,0,0,0]
[null,null,null,null,null,null,null,null,null,null,null,null,null,null,null,0,0,0,null,0,0,0,0,0,0,0,0,0,0,0,0,0,null," "," "," "," "," "," "," "," "," "," "," "," ",null,15,15,15,15,15,15,15,15,15,15,15,15,15,0,6,0,0,0,0,0,0,0,0,0,0,0]
[null,null,null,null,null,null,null,null,null,null,null,null,null,null,null,0,0,0,null,0,0,0,0,0,0,0,0,0,0,0,0,0,null," "," "," "," "," "," "," "," "," "," "," "," ",null,15,15,15,15,15,15,15,15,15,15,15,15,15,0,6,0,0,0,0,0,0,0,0,0,0,0]
[null,null,null,null,null,null,null,null,null,null,null,null,null,null,null,0,0,0,null,0,0,0,0,0,0,0,0,0,0,0,0,0,null," "," "," "," "," "," "," "," "," "," "," "," ",null,15,15,15,15,15,15,15,15,15,15,15,15,15,0,6,0,0,0,0,0,0,0,0,0,0,0]
[null,null,null,null,null,null,null,null,null,null,null,null,null,null,null,0,0,0,null,0,0,0,0,0,0,0,0,0,0,0,0,0,null," "," "," "," "," "," "," "," "," "," "," "," ",null,15,15,15,15,15,15,15,15,15,15,15,15,15,0,6,0,0,0,0,0,0,0,0,0,0,0]
[null,null,null,null,null,null,null,null,null,null,null,null,null,null,null,0,0,0,null,0,0,0,0,0,0,0,0,0,0,0,0,0,null," "," "," "," "," "," "," "," "," "," "," "," ",null,15,15,15,15,15,15,15,15,15,15,15,15,15,0,6,0,0,0,0,0,0,0,0,0,0,0]
[null,null,null,null,null,null,null,null,null,null,null,null,null,null,null,0,0,0,null,0,0,0,0,0,0,0,0,0,0,0,0,0,null," "," "," "," "," "," "," "," "," "," "," "," ",null,15,15,15,15,15,15,15,15,15,15,15,15,15,0,6,0,0,0,0,0,0,0,0,0,0,0]
[null,null,null,null,null,null,null,null,null,null,null,null,null,null,null,0,0,0,null,0,0,0,0,0,0,0,0,0,0,0,0,0,null," "," "," "," "," "," "," "," "," "," "," "," ",null,15,15,15,15,15,15,15,15,15,15,15,15,15,0,6,0,0,0,0,0,0,0,0,0,0,0]
[null,null,null,null,null,null,null,null,null,null,null,null,null,null,null,0,0,0,null,0,0,0,0,0,0,0,0,0,0,0,0,0,null," "," "," "," "," "," "," "," "," "," "," "," ",null,15,15,15,15,15,15,15,15,15,15,15,15,15,0,6,0,0,0,0,0,0,0,0,0,0,0]
[null,null,null,null,null,null,null,null,null,null,null,null,null,null,null,0,0,0,null,0,0,0,0,0,0,0,0,0,0,0,0,0,null," "," "," "," "," "," "," "," "," "," "," "," ",null,15,15,15,15,15,15,15,15,15,15,15,15,15,0,6,0,0,0,0,0,0,0,0,0,0,0]
[null,null,null,null,null,null,null,null,null,null,null,null,null,null,null,0,0,0,null,0,0,0,0,0,0,0,0,0,0,0,0,0,null," "," "," "," "," "," "," "," "," "," "," "," ",null,15,15,15,15,15,15,15,15,15,15,15,15,15,0,6,0,0,0,0,0,0,0,0,0,0,0]
[null,null,null,null,null,null,null,null,null,null,null,null,null,null,null,0,0,0,null,0,0,0,0,0,0,0,0,0,0,0,0,0,null," "," "," "," "," "," "," "," "," "," "," "," ",null,15,15,15,15,15,15,15,15,15,15,15,15,15,0,6,0,0,0,0,0,0,0,0,0,0,0]
[null,null,null,null,null,null,null,null,null,null,null,null,null,null,null,0,0,0,null,0,0,0,0,0,0,0,0,0,0,0,0,0,null," "," "," "," "," "," "," "," "," "," "," "," ",null,15,15,15,15,15,15,15,15,15,15,15,15,15,0,6,0,0,0,0,0,0,0,0,0,0,0]
[null,null,null,null,null,null,null,null,null,null,null,null,null,null,null,0,0,0,null,0,0,0,0,0,0,0,0,0,0,0,0,0,null," "," "," "," "," "," "," "," "," "," "," "," ",null,15,15,15,15,15,15,15,15,15,15,15,15,15,0,6,0,0,0,0,0,0,0,0,0,0,0]
[null,null,null,null,null,null,null,null,null,null,null,null,null,null,null,0,0,0,null,0,0,0,0,0,0,0,0,0,0,0,0,0,null," "," "," "," "," "," "," "," "," "," "," "," ",null,15,15,15,15,15,15,15,15,15,15,15,15,15,0,6,0,0,0,0,0,0,0,0,0,0,0]
[null,null,null,null,null,null,null,null,null,null,null,null,null,null,null,0,0,0,null,0,0,0,0,0,0,0,0,0,0,0,0,0,null," "," "," "," "," "," "," "," "," "," "," "," ",null,15,15,15,15,15,15,15,15,15,15,15,15,15,0,6,0,0,0,0,0,0,0,0,0,0,0]
[null,null,null,null,null,null,null,null,null,null,null,null,null,null,null,0,0,0,null,0,0,0,0,0,0,0,0,0,0,0,0,0,null," "," "," "," "," "," "," "," "," "," "," "," ",null,15,15,15,15,15,15,15,15,15,15,15,15,15,0,6,0,0,0,0,0,0,0,0,0,0,0]
[null,null,null,null,null,null,null,null,null,null,null,null,null,null,null,0,0,0,null,0,0,0,0,0,0,0,0,0,0,0,0,0,null," "," "," "," "," "," "," "," "," "," "," "," ",null,15,15,15,15,15,15,15,15,15,15,15,15,15,0,6,0,0,0,0,0,0,0,0,0,0,0]
[null,null,null,null,null,null,null,null,null,null,null,null,null,null,null,0,0,0,null,0,0,0,0,0,0,0,0,0,0,0,0,0,null," "," "," "," "," "," "," "," "," "," "," "," ",null,15,15,15,15,15,15,15,15,15,15,15,15,15,0,6,0,0,0,0,0,0,0,0,0,0,0]
[null,null,null,null,null,null,null,null,null,null,null,null,null,null,null,0,0,0,null,0,0,0,0,0,0,0,0,0,0,0,0,0,null," "," "," "," "," "," "," "," "," "," "," "," ",null,15,15,15,15,15,15,15,15,15,15,15,15,15,0,6,0,0,0,0,0,0,0,0,0,0,0]
[null,null,null,null,null,null,null,null,null,null,null,null,null,null,null,0,0,0,null,0,0,0,0,0,0,0,0,0,0,0,0,0,null," "," "," "," "," "," "," "," "," "," "," "," ",null,15,15,15,15,15,15,15,15,15,15,15,15,15,0,6,0,0,0,0,0,0,0,0,0,0,0]
[null,null,null,null,null,null,null,null,null,null,null,null,null,null,null,0,0,0,null,0,0,0,0,0,0,0,0,0,0,0,0,0,null," "," "," "," "," "," "," "," "," "," "," "," ",null,15,15,15,15,15,15,15,15,15,15,15,15,15,0,6,0,0,0,0,0,0,0,0,0,0,0]
[null,null,null,null,null,null,null,null,null,null,null,null,null,null,null,0,0,0,null,0,0,0,0,0,0,0,0,0,0,0,0,0,null," "," "," "," "," "," "," "," "," "," "," "," ",null,15,15,15,15,15,15,15,15,15,15,15,15,15,0,6,0,0,0,0,0,0,0,0,0,0,0]
[null,null,null,null,null,null,null,null,null,null,null,null,null,null,null,0,0,0,null,0,0,0,0,0,0,0,0,0,0,0,0,0,null," "," "," "," "," "," "," "," "," "," "," "," ",null,15,15,15,15,15,15,15,15,15,15,15,15,15,0,6,0,0,0,0,0,0,0,0,0,0,0]
[null,null,null,null,null,null,null,null,null,null,null,null,null,null,null,0,0,0,null,0,0,0,0,0,0,0,0,0,0,0,0,0,null," "," "," "," "," "," "," "," "," "," "," "," ",null,15,15,15,15,15,15,15,15,15,15,15,15,15,0,6,0,0,0,0,0,0,0,0,0,0,0]
[null,null,null,null,null,null,null,null,null,null,null,null,null,null,null,0,0,0,null,0,0,0,0,0,0,0,0,0,0,0,0,0,null," "," "," "," "," "," "," "," "," "," "," "," ",null,15,15,15,15,15,15,15,15,15,15,15,15,15,0,6,0,0,0,0,0,0,0,0,0,0,0]
[null,null,null,null,null,null,null,null,null,null,null,null,null,null,null,0,0,0,null,0,0,0,0,0,0,0,0,0,0,0,0,0,null," "," "," "," "," "," "," "," "," "," "," "," ",null,15,15,15,15,15,15,15,15,15,15,15,15,15,0,6,0,0,0,0,0,0,{"$f":"IF(AA507=$AF507,BP$6,0)","v":0},0,0,0,0]
[null,null,null,null,null,null,null,null,null,null,null,null,null,null,null,0,0,0,null,0,0,0,0,0,0,0,0,0,0,0,0,0,null," "," "," "," "," "," "," "," "," "," "," "," ",null,15,15,15,15,15,15,15,15,15,15,15,15,15,0,6,0,{"$f":"IF(V508=$AF508,BK$6,0)","v":0},0,0,0,0,0,0,0,0,0]
[null,null,null,null,null,null,null,null,null,null,null,null,null,null,null,0,0,0,null,0,0,0,0,0,0,0,0,0,0,0,0,0,null," "," "," "," "," "," "," "," "," "," "," "," ",null,15,15,15,15,15,15,15,15,15,15,15,15,15,0,6,0,0,0,0,0,0,0,0,0,0,0]
[null,null,null,null,null,null,null,null,null,null,null,null,null,null,null,0,0,0,null,0,0,0,0,0,0,0,0,0,0,0,0,0,null," "," "," "," "," "," "," "," "," "," "," "," ",null,15,15,15,15,15,15,15,15,15,15,15,15,15,0,6,0,0,0,0,0,0,0,0,0,0,0]
[null,null,null,null,null,null,null,null,null,null,null,null,null,null,null,0,0,0,null,0,0,0,0,0,0,0,0,0,0,0,0,0,null," "," "," "," "," "," "," "," "," "," "," "," ",null,15,15,15,15,15,15,15,15,15,15,15,15,15,0,6,0,0,0,0,0,0,0,0,0,0,0]
[null,null,null,null,null,null,null,null,null,null,null,null,null,null,null,0,0,0,null,0,0,0,0,0,0,0,0,0,0,0,0,0,null," "," "," "," "," "," "," "," "," "," "," "," ",null,15,15,15,15,15,15,15,15,15,15,15,15,15,0,6,0,0,0,0,0,0,0,0,0,0,0]
[null,null,null,null,null,null,null,null,null,null,null,null,null,null,null,0,0,0,null,0,0,0,0,0,0,0,0,0,0,0,0,0,null," "," "," "," "," "," "," "," "," "," "," "," ",null,15,15,15,15,15,15,15,15,15,15,15,15,15,0,6,0,0,0,0,0,0,0,0,0,0,0]
[null,null,null,null,null,null,null,null,null,null,null,null,null,null,null,0,0,0,null,0,0,0,0,0,0,0,0,0,0,0,0,0,null," "," "," "," "," "," "," "," "," "," "," "," ",null,15,15,15,15,15,15,15,15,15,15,15,15,15,0,6,0,0,0,0,0,0,0,0,0,0,0]
[null,null,null,null,null,null,null,null,null,null,null,null,null,null,null,0,0,0,null,0,0,0,0,0,0,0,0,0,0,0,0,0,null," "," "," "," "," "," "," "," "," "," "," "," ",null,15,15,15,15,15,15,15,15,15,15,15,15,15,0,6,0,0,0,0,0,0,0,0,0,0,0]
[null,null,null,null,null,null,null,null,null,null,null,null,null,null,null,0,0,0,null,0,0,0,0,0,0,0,0,0,0,0,0,0,null," "," "," "," "," "," "," "," "," "," "," "," ",null,15,15,15,15,15,15,15,15,15,15,15,15,15,0,6,0,0,0,0,0,0,0,0,0,0,0]
[null,null,null,null,null,null,null,null,null,null,null,null,null,null,null,0,0,0,null,0,0,0,0,0,0,0,0,0,0,0,0,0,null," "," "," "," "," "," "," "," "," "," "," "," ",null,15,15,15,15,15,15,15,15,15,15,15,15,15,0,6,0,0,0,0,0,0,0,0,0,0,0]
[null,null,null,null,null,null,null,null,null,null,null,null,null,null,null,0,0,0,null,0,0,0,0,0,0,0,0,0,0,0,0,0,null," "," "," "," "," "," "," "," "," "," "," "," ",null,15,15,15,15,15,15,15,15,15,15,15,15,15,0,6,0,0,0,0,0,0,0,0,0,0,0]
[null,null,null,null,null,null,null,null,null,null,null,null,null,null,null,0,0,{"$f":"MIN(AH519:AS519)","v":0},null,{"$f":"COUNTIF($F519:$O519,$T$6)","v":0},{"$f":"COUNTIF($F519:$O519,$U$6)","v":0},{"$f":"COUNTIF($F519:$O519,$V$6)","v":0},{"$f":"COUNTIF($F519:$O519,$W$6)","v":0},{"$f":"COUNTIF($F519:$O519,$X$6)","v":0},{"$f":"COUNTIF($F519:$O519,$Y$6)","v":0},{"$f":"COUNTIF($F519:$O519,$Z$6)","v":0},{"$f":"COUNTIF($F519:$O519,$AA$6)","v":0},{"$f":"COUNTIF($F519:$O519,$AB$6)","v":0},{"$f":"COUNTIF($F519:$O519,$AC$6)","v":0},{"$f":"COUNTIF($F519:$O519,$AD$6)","v":0},{"$f":"COUNTIF($F519:$O519,$AE$6)","v":0},0,null," "," "," "," "," "," "," "," "," "," "," "," ",null,15,15,15,15,15,15,15,15,15,15,15,15,15,0,6,0,0,0,0,0,0,0,0,0,0,0]
[null,null,null,null,null,null,null,null,null,null,null,null,null,null,null,{"$f":"COUNTIF(F520:O520,\">0.8\")","v":0},{"$f":"IF(R520=0,(IF($R$2=1,BH520,0)),R520)","v":0},0,null,0,0,0,0,0,0,0,0,0,0,0,0,{"$f":"MAX(T520:AE520)","v":0},null," "," "," "," "," "," "," "," "," "," "," "," ",null,15,15,15,15,15,15,15,15,15,15,15,15,{"$f":"MIN(AU520:BF520)","v":15},{"$f":"IF(P520>=BG520,MAX(BI520:BT520),0)","v":0},{"$f":"IF(T520=$AF520,BI$6,0)","v":6},{"$f":"IF(U520=$AF520,BJ519,0)","v":0},0,0,0,0,0,0,0,0,0,0]
[null,null,null,null,null,null,null,null,null,null,null,null,null,null,null,0,0,0,null,0,0,0,0,0,0,0,0,0,0,0,0,0,null," "," "," "," "," "," "," "," "," "," "," "," ",null,15,15,15,15,15,15,15,15,15,15,15,15,15,0,6,0,0,0,0,0,0,0,0,0,0,0]
[null,null,null,null,null,null,null,null,null,null,null,null,null,null,null,0,0,0,null,0,0,0,0,0,0,0,0,0,0,0,0,0,null," "," "," "," "," "," "," "," "," "," "," "," ",null,15,15,15,15,15,15,15,15,15,15,15,15,15,0,6,0,0,0,0,0,0,0,0,0,0,0]
[null,null,null,null,null,null,null,null,null,null,null,null,null,null,null,0,0,0,null,0,0,0,0,0,0,0,0,0,0,0,0,0,null," "," "," "," "," "," "," "," "," "," "," "," ",null,15,15,15,15,15,15,15,15,15,15,15,15,15,0,6,0,0,0,0,0,0,0,0,0,0,0]
[null,null,null,null,null,null,null,null,null,null,null,null,null,null,null,0,0,0,null,0,0,0,0,0,0,0,0,0,0,0,0,0,null," "," "," "," "," "," "," "," "," "," "," "," ",null,15,15,15,15,15,15,15,15,15,15,15,15,15,0,6,0,0,0,0,0,0,0,0,0,0,0]
[null,null,null,null,null,null,null,null,null,null,null,null,null,null,null,0,0,0,null,0,0,0,0,0,0,0,0,0,0,0,0,0,null," "," "," "," "," "," "," "," "," "," "," "," ",null,15,15,15,15,15,15,15,15,15,15,15,15,15,0,6,0,0,0,0,0,0,0,0,0,0,0]
[null,null,null,null,null,null,null,null,null,null,null,null,null,null,null,0,0,0,null,0,0,0,0,0,0,0,0,0,0,0,0,0,null," "," "," "," "," "," "," "," "," "," "," "," ",null,15,15,15,15,15,15,15,15,15,15,15,15,15,0,6,0,0,0,0,0,0,0,0,0,0,0]
[null,null,null,null,null,null,null,null,null,null,null,null,null,null,null,0,0,0,null,0,0,0,0,0,0,0,0,0,0,0,0,0,null," "," "," "," "," "," "," "," "," "," "," "," ",null,15,15,15,15,15,15,15,15,15,15,15,15,15,0,6,0,0,0,0,0,0,0,0,0,0,0]
[null,null,null,null,null,null,null,null,null,null,null,null,null,null,null,0,0,0,null,0,0,0,0,0,0,0,0,0,0,0,0,0,null," "," "," "," "," "," "," "," "," "," "," "," ",null,15,15,15,15,15,15,15,15,15,15,15,15,15,0,6,0,0,0,0,0,0,0,0,0,0,0]
[null,null,null,null,null,null,null,null,null,null,null,null,null,null,null,0,0,0,null,0,0,0,0,0,0,0,0,0,0,0,0,0,null," "," "," "," "," "," "," "," "," "," "," "," ",null,15,15,15,15,15,15,15,15,15,15,15,15,15,0,6,0,0,0,0,0,0,0,0,0,0,0]
[null,null,null,null,null,null,null,null,null,null,null,null,null,null,null,0,0,0,null,0,0,0,0,0,0,0,0,0,0,0,0,0,null," "," "," "," "," "," "," "," "," "," "," "," ",null,15,15,15,15,15,15,15,15,15,15,15,15,15,0,6,0,0,0,0,0,0,0,0,0,0,0]
[null,null,null,null,null,null,null,null,null,null,null,null,null,null,null,0,0,0,null,0,0,0,0,0,0,0,0,0,0,0,0,0,null," "," "," "," "," "," "," "," "," "," "," "," ",null,15,15,15,15,15,15,15,15,15,15,15,15,15,0,6,0,0,0,0,0,0,0,0,0,0,0]
[null,null,null,null,null,null,null,null,null,null,null,null,null,null,null,0,0,0,null,0,0,0,0,0,0,0,0,0,0,0,0,0,null," "," "," "," "," "," "," "," "," "," "," "," ",null,15,15,15,15,15,15,15,15,15,15,15,15,15,0,6,0,0,0,0,0,0,0,0,0,0,0]
[null,null,null,null,null,null,null,null,null,null,null,null,null,null,null,0,0,0,null,0,0,0,0,0,0,0,0,0,0,0,0,0,null," "," "," "," "," "," "," "," "," "," "," "," ",null,15,15,15,15,15,15,15,15,15,15,15,15,15,0,6,0,0,0,0,0,0,0,0,0,0,0]
[null,null,null,null,null,null,null,null,null,null,null,null,null,null,null,0,0,0,null,0,0,0,0,0,0,0,0,0,0,0,0,0,null," "," "," "," "," "," "," "," "," "," "," "," ",null,15,15,15,15,15,15,15,15,15,15,15,15,15,0,6,0,0,0,0,0,0,0,0,0,0,0]
[null,null,null,null,null,null,null,null,null,null,null,null,null,null,null,0,0,0,null,0,0,0,0,0,0,0,0,0,0,0,0,0,null," "," "," "," "," "," "," "," "," "," "," "," ",null,15,15,15,15,15,15,15,15,15,15,15,15,15,0,6,0,0,0,0,0,0,0,0,0,0,0]
[null,null,null,null,null,null,null,null,null,null,null,null,null,null,null,0,0,0,null,0,0,0,0,0,0,0,0,0,0,0,0,0,null," "," "," "," "," "," "," "," "," "," "," "," ",null,15,15,15,15,15,15,15,15,15,15,15,15,15,0,6,0,0,0,0,0,0,0,0,0,0,0]
[null,null,null,null,null,null,null,null,null,null,null,null,null,null,null,0,0,0,null,0,0,0,0,0,0,0,0,0,0,0,0,0,null," "," "," "," "," "," "," "," "," "," "," "," ",null,15,15,15,15,15,15,15,15,15,15,15,15,15,0,6,0,0,0,0,0,0,0,0,0,0,0]
[null,null,null,null,null,null,null,null,null,null,null,null,null,null,null,0,0,0,null,0,0,0,0,0,0,0,0,0,0,0,0,0,null," "," "," "," "," "," "," "," "," "," "," "," ",null,15,15,15,15,15,15,15,15,15,15,15,15,15,0,6,0,0,0,0,0,0,0,0,0,0,0]
[null,null,null,null,null,null,null,null,null,null,null,null,null,null,null,0,0,0,null,0,0,0,0,0,0,0,0,0,0,0,0,0,null," "," "," "," "," "," "," "," "," "," "," "," ",null,15,15,15,15,15,15,15,15,15,15,15,15,15,0,6,0,0,0,0,0,0,0,0,0,0,0]
[null,null,null,null,null,null,null,null,null,null,null,null,null,null,null,0,0,0,null,0,0,0,0,0,0,0,0,0,0,0,0,0,null," "," "," "," "," "," "," "," "," "," "," "," ",null,15,15,15,15,15,15,15,15,15,15,15,15,15,0,6,0,0,0,0,0,0,0,0,0,0,0]
[null,null,null,null,null,null,null,null,null,null,null,null,null,null,null,0,0,0,null,0,0,0,0,0,0,0,0,0,0,0,0,0,null," "," "," "," "," "," "," "," "," "," "," "," ",null,15,15,15,15,15,15,15,15,15,15,15,15,15,0,6,0,0,0,0,0,0,0,0,0,0,0]
[null,null,null,null,null,null,null,null,null,null,null,null,null,null,null,0,0,0,null,0,0,0,0,0,0,0,0,0,0,0,0,0,null," "," "," "," "," "," "," "," "," "," "," "," ",null,15,15,15,15,15,15,15,15,15,15,15,15,15,0,6,0,0,0,0,0,0,0,0,0,0,0]
[null,null,null,null,null,null,null,null,null,null,null,null,null,null,null,0,0,0,null,0,0,0,0,0,0,0,0,0,0,0,0,0,null," "," "," "," "," "," "," "," "," "," "," "," ",null,15,15,15,15,15,15,15,15,15,15,15,15,15,0,6,0,0,0,0,0,0,0,0,0,0,0]
[null,null,null,null,null,null,null,null,null,null,null,null,null,null,null,0,0,0,null,0,0,0,0,0,0,0,0,0,0,0,0,0,null," "," "," "," "," "," "," "," "," "," "," "," ",null,15,15,15,15,15,15,15,15,15,15,15,15,15,0,6,0,0,0,0,0,0,0,0,0,0,0]
[null,null,null,null,null,null,null,null,null,null,null,null,null,null,null,0,0,0,null,0,0,0,0,0,0,0,0,0,0,0,0,0,null," "," "," "," "," "," "," "," "," "," "," "," ",null,15,15,15,15,15,15,15,15,15,15,15,15,15,0,6,0,0,0,0,0,0,0,0,0,0,0]
[null,null,null,null,null,null,null,null,null,null,null,null,null,null,null,0,0,0,null,0,0,0,0,0,0,0,0,0,0,0,0,0,null," "," "," "," "," "," "," "," "," "," "," "," ",null,15,15,15,15,15,15,15,15,15,15,15,15,15,0,6,0,0,0,0,0,0,0,0,0,0,0]
[null,null,null,null,null,null,null,null,null,null,null,null,null,null,null,0,0,0,null,0,0,0,0,0,0,0,0,0,0,0,0,0,null," "," "," "," "," "," "," "," "," "," "," "," ",null,15,15,15,15,15,15,15,15,15,15,15,15,15,0,6,0,0,0,0,0,0,0,0,0,0,0]
[null,null,null,null,null,null,null,null,null,null,null,null,null,null,null,0,0,0,null,0,0,0,0,0,0,0,0,0,0,0,0,0,null," "," "," "," "," "," "," "," "," "," "," "," ",null,15,15,15,15,15,15,15,15,15,15,15,15,15,0,6,0,0,0,0,0,0,0,0,0,0,0]
[null,null,null,null,null,null,null,null,null,null,null,null,null,null,null,0,0,0,null,0,0,0,0,0,0,0,0,0,0,0,0,0,null," "," "," "," "," "," "," "," "," "," "," "," ",null,15,15,15,15,15,15,15,15,15,15,15,15,15,0,6,0,0,0,0,0,0,0,0,0,0,0]
[null,null,null,null,null,null,null,null,null,null,null,null,null,null,null,0,0,0,null,0,0,0,0,0,0,0,0,0,0,0,0,0,null," "," "," "," "," "," "," "," "," "," "," "," ",null,15,15,15,15,15,15,15,15,15,15,15,15,15,0,6,0,0,0,0,0,0,0,0,0,0,0]
[null,null,null,null,null,null,null,null,null,null,null,null,null,null,null,0,0,0,null,0,0,0,0,0,0,0,0,0,0,0,0,0,null," "," "," "," "," "," "," "," "," "," "," "," ",null,15,15,15,15,15,15,15,15,15,15,15,15,15,0,6,0,0,0,0,0,0,0,0,0,0,0]
[null,null,null,null,null,null,null,null,null,null,null,null,null,null,null,0,0,0,null,0,0,0,0,0,0,0,0,0,0,0,0,0,null," "," "," "," "," "," "," "," "," "," "," "," ",null,15,15,15,15,15,15,15,15,15,15,15,15,15,0,6,0,0,0,0,0,0,0,0,0,0,0]
[null,null,null,null,null,null,null,null,null,null,null,null,null,null,null,0,0,0,null,0,0,0,0,0,0,0,0,0,0,0,0,0,null," "," "," "," "," "," "," "," "," "," "," "," ",null,15,15,15,15,15,15,15,15,15,15,15,15,15,0,6,0,0,0,0,0,0,0,0,0,0,0]
[null,null,null,null,null,null,null,null,null,null,null,null,null,null,null,0,0,0,null,0,0,0,0,0,0,0,0,0,0,0,0,0,null," "," "," "," "," "," "," "," "," "," "," "," ",null,15,15,15,15,15,15,15,15,15,15,15,15,15,0,6,0,0,0,0,0,0,0,0,0,0,0]
[null,null,null,null,null,null,null,null,null,null,null,null,null,null,null,0,0,0,null,0,0,0,0,0,0,0,0,0,0,0,0,0,null," "," "," "," "," "," "," "," "," "," "," "," ",null,15,15,15,15,15,15,15,15,15,15,15,15,15,0,6,0,0,0,0,0,0,0,0,0,0,0]
[null,null,null,null,null,null,null,null,null,null,null,null,null,null,null,0,0,0,null,0,0,0,0,0,0,0,0,0,0,0,0,0,null," "," "," "," "," "," "," "," "," "," "," "," ",null,15,15,15,15,15,15,15,15,15,15,15,15,15,0,6,0,0,0,0,0,0,0,0,0,0,0]
[null,null,null,null,null,null,null,null,null,null,null,null,null,null,null,0,0,0,null,0,0,0,0,0,0,0,0,0,0,0,0,0,null," "," "," "," "," "," "," "," "," "," "," "," ",null,15,15,15,15,15,15,15,15,15,15,15,15,15,0,6,0,0,0,0,0,0,0,0,0,0,0]
[null,null,null,null,null,null,null,null,null,null,null,null,null,null,null,0,0,0,null,0,0,0,0,0,0,0,0,0,0,0,0,0,null," "," "," "," "," "," "," "," "," "," "," "," ",null,15,15,15,15,15,15,15,15,15,15,15,15,15,0,6,0,0,0,0,0,0,{"$f":"IF(AA558=$AF558,BP$6,0)","v":0},0,0,0,0]
[null,null,null,null,null,null,null,null,null,null,null,null,null,null,null,0,0,0,null,0,0,0,0,0,0,0,0,0,0,0,0,0,null," "," "," "," "," "," "," "," "," "," "," "," ",null,15,15,15,15,15,15,15,15,15,15,15,15,15,0,6,0,{"$f":"IF(V559=$AF559,BK$6,0)","v":0},0,0,0,0,0,0,0,0,0]
[null,null,null,null,null,null,null,null,null,null,null,null,null,null,null,0,0,0,null,0,0,0,0,0,0,0,0,0,0,0,0,0,null," "," "," "," "," "," "," "," "," "," "," "," ",null,15,15,15,15,15,15,15,15,15,15,15,15,15,0,6,0,0,0,0,0,0,0,0,0,0,0]
[null,null,null,null,null,null,null,null,null,null,null,null,null,null,null,0,0,0,null,0,0,0,0,0,0,0,0,0,0,0,0,0,null," "," "," "," "," "," "," "," "," "," "," "," ",null,15,15,15,15,15,15,15,15,15,15,15,15,15,0,6,0,0,0,0,0,0,0,0,0,0,0]
[null,null,null,null,null,null,null,null,null,null,null,null,null,null,null,0,0,0,null,0,0,0,0,0,0,0,0,0,0,0,0,0,null," "," "," "," "," "," "," "," "," "," "," "," ",null,15,15,15,15,15,15,15,15,15,15,15,15,15,0,6,0,0,0,0,0,0,0,0,0,0,0]
[null,null,null,null,null,null,null,null,null,null,null,null,null,null,null,0,0,0,null,0,0,0,0,0,0,0,0,0,0,0,0,0,null," "," "," "," "," "," "," "," "," "," "," "," ",null,15,15,15,15,15,15,15,15,15,15,15,15,15,0,6,0,0,0,0,0,0,0,0,0,0,0]
[null,null,null,null,null,null,null,null,null,null,null,null,null,null,null,0,0,0,null,0,0,0,0,0,0,0,0,0,0,0,0,0,null," "," "," "," "," "," "," "," "," "," "," "," ",null,15,15,15,15,15,15,15,15,15,15,15,15,15,0,6,0,0,0,0,0,0,0,0,0,0,0]
[null,null,null,null,null,null,null,null,null,null,null,null,null,null,null,0,0,0,null,0,0,0,0,0,0,0,0,0,0,0,0,0,null," "," "," "," "," "," "," "," "," "," "," "," ",null,15,15,15,15,15,15,15,15,15,15,15,15,15,0,6,0,0,0,0,0,0,0,0,0,0,0]
[null,null,null,null,null,null,null,null,null,null,null,null,null,null,null,0,0,0,null,0,0,0,0,0,0,0,0,0,0,0,0,0,null," "," "," "," "," "," "," "," "," "," "," "," ",null,15,15,15,15,15,15,15,15,15,15,15,15,15,0,6,0,0,0,0,0,0,0,0,0,0,0]
[null,null,null,null,null,null,null,null,null,null,null,null,null,null,null,0,0,0,null,0,0,0,0,0,0,0,0,0,0,0,0,0,null," "," "," "," "," "," "," "," "," "," "," "," ",null,15,15,15,15,15,15,15,15,15,15,15,15,15,0,6,0,0,0,0,0,0,0,0,0,0,0]
[null,null,null,null,null,null,null,null,null,null,null,null,null,null,null,0,0,0,null,0,0,0,0,0,0,0,0,0,0,0,0,0,null," "," "," "," "," "," "," "," "," "," "," "," ",null,15,15,15,15,15,15,15,15,15,15,15,15,15,0,6,0,0,0,0,0,0,0,0,0,0,0]
[null,null,null,null,null,null,null,null,null,null,null,null,null,null,null,0,0,0,null,0,0,0,0,0,0,0,0,0,0,0,0,0,null," "," "," "," "," "," "," "," "," "," "," "," ",null,15,15,15,15,15,15,15,15,15,15,15,15,15,0,6,0,0,0,0,0,0,0,0,0,0,0]
[null,null,null,null,null,null,null,null,null,null,null,null,null,null,null,0,0,0,null,0,0,0,0,0,0,0,0,0,0,0,0,0,null," "," "," "," "," "," "," "," "," "," "," "," ",null,15,15,15,15,15,15,15,15,15,15,15,15,15,0,6,0,0,0,0,0,0,0,0,0,0,0]
[null,null,null,null,null,null,null,null,null,null,null,null,null,null,null,0,0,0,null,0,0,0,0,0,0,0,0,0,0,0,0,0,null," "," "," "," "," "," "," "," "," "," "," "," ",null,15,15,15,15,15,15,15,15,15,15,15,15,15,0,6,0,0,0,0,0,0,0,0,0,0,0]
[null,null,null,null,null,null,null,null,null,null,null,null,null,null,null,0,0,0,null,0,0,0,0,0,0,0,0,0,0,0,0,0,null," "," "," "," "," "," "," "," "," "," "," "," ",null,15,15,15,15,15,15,15,15,15,15,15,15,15,0,6,0,0,0,0,0,0,0,0,0,0,0]
[null,null,null,null,null,null,null,null,null,null,null,null,null,null,null,0,0,0,null,0,0,0,0,0,0,0,0,0,0,0,0,0,null," "," "," "," "," "," "," "," "," "," "," "," ",null,15,15,15,15,15,15,15,15,15,15,15,15,15,0,6,0,0,0,0,0,0,0,0,0,0,0]
[null,null,null,null,null,null,null,null,null,null,null,null,null,null,null,0,0,0,null,0,0,0,0,0,0,0,0,0,0,0,0,0,null," "," "," "," "," "," "," "," "," "," "," "," ",null,15,15,15,15,15,15,15,15,15,15,15,15,15,0,6,0,0,0,0,0,0,0,0,0,0,0]
[null,null,null,null,null,null,null,null,null,null,null,null,null,null,null,0,0,0,null,0,0,0,0,0,0,0,0,0,0,0,0,0,null," "," "," "," "," "," "," "," "," "," "," "," ",null,15,15,15,15,15,15,15,15,15,15,15,15,15,0,6,0,0,0,0,0,0,0,0,0,0,0]
[null,null,null,null,null,null,null,null,null,null,null,null,null,null,null,0,0,0,null,0,0,0,0,0,0,0,0,0,0,0,0,0,null," "," "," "," "," "," "," "," "," "," "," "," ",null,15,15,15,15,15,15,15,15,15,15,15,15,15,0,6,0,0,0,0,0,0,0,0,0,0,0]
[null,null,null,null,null,null,null,null,null,null,null,null,null,null,null,0,0,0,null,0,0,0,0,0,0,0,0,0,0,0,0,0,null," "," "," "," "," "," "," "," "," "," "," "," ",null,15,15,15,15,15,15,15,15,15,15,15,15,15,0,6,0,0,0,0,0,0,0,0,0,0,0]
[null,null,null,null,null,null,null,null,null,null,null,null,null,null,null,0,0,0,null,0,0,0,0,0,0,0,0,0,0,0,0,0,null," "," "," "," "," "," "," "," "," "," "," "," ",null,15,15,15,15,15,15,15,15,15,15,15,15,15,0,6,0,0,0,0,0,0,0,0,0,0,0]
[null,null,null,null,null,null,null,null,null,null,null,null,null,null,null,0,0,0,null,0,0,0,0,0,0,0,0,0,0,0,0,0,null," "," "," "," "," "," "," "," "," "," "," "," ",null,15,15,15,15,15,15,15,15,15,15,15,15,15,0,6,0,0,0,0,0,0,0,0,0,0,0]
[null,null,null,null,null,null,null,null,null,null,null,null,null,null,null,0,0,0,null,0,0,0,0,0,0,0,0,0,0,0,0,0,null," "," "," "," "," "," "," "," "," "," "," "," ",null,15,15,15,15,15,15,15,15,15,15,15,15,15,0,6,0,0,0,0,0,0,0,0,0,0,0]
[null,null,null,null,null,null,null,null,null,null,null,null,null,null,null,0,0,0,null,0,0,0,0,0,0,0,0,0,0,0,0,0,null," "," "," "," "," "," "," "," "," "," "," "," ",null,15,15,15,15,15,15,15,15,15,15,15,15,15,0,6,0,0,0,0,0,0,0,0,0,0,0]
[null,null,null,null,null,null,null,null,null,null,null,null,null,null,null,0,0,0,null,0,0,0,0,0,0,0,0,0,0,0,0,0,null," "," "," "," "," "," "," "," "," "," "," "," ",null,15,15,15,15,15,15,15,15,15,15,15,15,15,0,6,0,0,0,0,0,0,0,0,0,0,0]
[null,null,null,null,null,null,null,null,null,null,null,null,null,null,null,0,0,{"$f":"MIN(AH583:AS583)","v":0},null,{"$f":"COUNTIF($F583:$O583,$T$6)","v":0},{"$f":"COUNTIF($F583:$O583,$U$6)","v":0},{"$f":"COUNTIF($F583:$O583,$V$6)","v":0},{"$f":"COUNTIF($F583:$O583,$W$6)","v":0},{"$f":"COUNTIF($F583:$O583,$X$6)","v":0},{"$f":"COUNTIF($F583:$O583,$Y$6)","v":0},{"$f":"COUNTIF($F583:$O583,$Z$6)","v":0},{"$f":"COUNTIF($F583:$O583,$AA$6)","v":0},{"$f":"COUNTIF($F583:$O583,$AB$6)","v":0},{"$f":"COUNTIF($F583:$O583,$AC$6)","v":0},{"$f":"COUNTIF($F583:$O583,$AD$6)","v":0},{"$f":"COUNTIF($F583:$O583,$AE$6)","v":0},0,null," "," "," "," "," "," "," "," "," "," "," "," ",null,15,15,15,15,15,15,15,15,15,15,15,15,15,0,6,0,0,0,0,0,0,0,0,0,0,0]
[null,null,null,null,null,null,null,null,null,null,null,null,null,null,null,{"$f":"COUNTIF(F584:O584,\">0.8\")","v":0},{"$f":"IF(R584=0,(IF($R$2=1,BH584,0)),R584)","v":0},0,null,0,0,0,0,0,0,0,0,0,0,0,0,{"$f":"MAX(T584:AE584)","v":0},null," "," "," "," "," "," "," "," "," "," "," "," ",null,15,15,15,15,15,15,15,15,15,15,15,15,{"$f":"MIN(AU584:BF584)","v":15},{"$f":"IF(P584>=BG584,MAX(BI584:BT584),0)","v":0},{"$f":"IF(T584=$AF584,BI$6,0)","v":6},{"$f":"IF(U584=$AF584,BJ583,0)","v":0},0,0,0,0,0,0,0,0,0,0]
[null,null,null,null,null,null,null,null,null,null,null,null,null,null,null,0,0,0,null,0,0,0,0,0,0,0,0,0,0,0,0,0,null," "," "," "," "," "," "," "," "," "," "," "," ",null,15,15,15,15,15,15,15,15,15,15,15,15,15,0,6,0,0,0,0,0,0,0,0,0,0,0]
[null,null,null,null,null,null,null,null,null,null,null,null,null,null,null,0,0,0,null,0,0,0,0,0,0,0,0,0,0,0,0,0,null," "," "," "," "," "," "," "," "," "," "," "," ",null,15,15,15,15,15,15,15,15,15,15,15,15,15,0,6,0,0,0,0,0,0,0,0,0,0,0]
[null,null,null,null,null,null,null,null,null,null,null,null,null,null,null,0,0,0,null,0,0,0,0,0,0,0,0,0,0,0,0,0,null," "," "," "," "," "," "," "," "," "," "," "," ",null,15,15,15,15,15,15,15,15,15,15,15,15,15,0,6,0,0,0,0,0,0,0,0,0,0,0]
[null,null,null,null,null,null,null,null,null,null,null,null,null,null,null,0,0,0,null,0,0,0,0,0,0,0,0,0,0,0,0,0,null," "," "," "," "," "," "," "," "," "," "," "," ",null,15,15,15,15,15,15,15,15,15,15,15,15,15,0,6,0,0,0,0,0,0,0,0,0,0,0]
[null,null,null,null,null,null,null,null,null,null,null,null,null,null,null,0,0,0,null,0,0,0,0,0,0,0,0,0,0,0,0,0,null," "," "," "," "," "," "," "," "," "," "," "," ",null,15,15,15,15,15,15,15,15,15,15,15,15,15,0,6,0,0,0,0,0,0,0,0,0,0,0]
[null,null,null,null,null,null,null,null,null,null,null,null,null,null,null,0,0,0,null,0,0,0,0,0,0,0,0,0,0,0,0,0,null," "," "," "," "," "," "," "," "," "," "," "," ",null,15,15,15,15,15,15,15,15,15,15,15,15,15,0,6,0,0,0,0,0,0,0,0,0,0,0]
[null,null,null,null,null,null,null,null,null,null,null,null,null,null,null,0,0,0,null,0,0,0,0,0,0,0,0,0,0,0,0,0,null," "," "," "," "," "," "," "," "," "," "," "," ",null,15,15,15,15,15,15,15,15,15,15,15,15,15,0,6,0,0,0,0,0,0,0,0,0,0,0]
[null,null,null,null,null,null,null,null,null,null,null,null,null,null,null,0,0,0,null,0,0,0,0,0,0,0,0,0,0,0,0,0,null," "," "," "," "," "," "," "," "," "," "," "," ",null,15,15,15,15,15,15,15,15,15,15,15,15,15,0,6,0,0,0,0,0,0,0,0,0,0,0]
[null,null,null,null,null,null,null,null,null,null,null,null,null,null,null,0,0,0,null,0,0,0,0,0,0,0,0,0,0,0,0,0,null," "," "," "," "," "," "," "," "," "," "," "," ",null,15,15,15,15,15,15,15,15,15,15,15,15,15,0,6,0,0,0,0,0,0,0,0,0,0,0]
[null,null,null,null,null,null,null,null,null,null,null,null,null,null,null,0,0,0,null,0,0,0,0,0,0,0,0,0,0,0,0,0,null," "," "," "," "," "," "," "," "," "," "," "," ",null,15,15,15,15,15,15,15,15,15,15,15,15,15,0,6,0,0,0,0,0,0,0,0,0,0,0]
[null,null,null,null,null,null,null,null,null,null,null,null,null,null,null,0,0,0,null,0,0,0,0,0,0,0,0,0,0,0,0,0,null," "," "," "," "," "," "," "," "," "," "," "," ",null,15,15,15,15,15,15,15,15,15,15,15,15,15,0,6,0,0,0,0,0,0,0,0,0,0,0]
[null,null,null,null,null,null,null,null,null,null,null,null,null,null,null,0,0,0,null,0,0,0,0,0,0,0,0,0,0,0,0,0,null," "," "," "," "," "," "," "," "," "," "," "," ",null,15,15,15,15,15,15,15,15,15,15,15,15,15,0,6,0,0,0,0,0,0,0,0,0,0,0]
[null,null,null,null,null,null,null,null,null,null,null,null,null,null,null,0,0,0,null,0,0,0,0,0,0,0,0,0,0,0,0,0,null," "," "," "," "," "," "," "," "," "," "," "," ",null,15,15,15,15,15,15,15,15,15,15,15,15,15,0,6,0,0,0,0,0,0,0,0,0,0,0]
[null,null,null,null,null,null,null,null,null,null,null,null,null,null,null,0,0,0,null,0,0,0,0,0,0,0,0,0,0,0,0,0,null," "," "," "," "," "," "," "," "," "," "," "," ",null,15,15,15,15,15,15,15,15,15,15,15,15,15,0,6,0,0,0,0,0,0,0,0,0,0,0]
[null,null,null,null,null,null,null,null,null,null,null,null,null,null,null,0,0,0,null,0,0,0,0,0,0,0,0,0,0,0,0,0,null," "," "," "," "," "," "," "," "," "," "," "," ",null,15,15,15,15,15,15,15,15,15,15,15,15,15,0,6,0,0,0,0,0,0,0,0,0,0,0]
[null,null,null,null,null,null,null,null,null,null,null,null,null,null,null,0,0,0,null,0,0,0,0,0,0,0,0,0,0,0,0,0,null," "," "," "," "," "," "," "," "," "," "," "," ",null,15,15,15,15,15,15,15,15,15,15,15,15,15,0,6,0,0,0,0,0,0,0,0,0,0,0]
[null,null,null,null,null,null,null,null,null,null,null,null,null,null,null,0,0,0,null,0,0,0,0,0,0,0,0,0,0,0,0,0,null," "," "," "," "," "," "," "," "," "," "," "," ",null,15,15,15,15,15,15,15,15,15,15,15,15,15,0,6,0,0,0,0,0,0,0,0,0,0,0]
[null,null,null,null,null,null,null,null,null,null,null,null,null,null,null,0,0,0,null,0,0,0,0,0,0,0,0,0,0,0,0,0,null," "," "," "," "," "," "," "," "," "," "," "," ",null,15,15,15,15,15,15,15,15,15,15,15,15,15,0,6,0,0,0,0,0,0,0,0,0,0,0]
[null,null,null,null,null,null,null,null,null,null,null,null,null,null,null,0,0,0,null,0,0,0,0,0,0,0,0,0,0,0,0,0,null," "," "," "," "," "," "," "," "," "," "," "," ",null,15,15,15,15,15,15,15,15,15,15,15,15,15,0,6,0,0,0,0,0,0,0,0,0,0,0]
[null,null,null,null,null,null,null,null,null,null,null,null,null,null,null,0,0,0,null,0,0,0,0,0,0,0,0,0,0,0,0,0,null," "," "," "," "," "," "," "," "," "," "," "," ",null,15,15,15,15,15,15,15,15,15,15,15,15,15,0,6,0,0,0,0,0,0,0,0,0,0,0]
[null,null,null,null,null,null,null,null,null,null,null,null,null,null,null,0,0,0,null,0,0,0,0,0,0,0,0,0,0,0,0,0,null," "," "," "," "," "," "," "," "," "," "," "," ",null,15,15,15,15,15,15,15,15,15,15,15,15,15,0,6,0,0,0,0,0,0,0,0,0,0,0]
[null,null,null,null,null,null,null,null,null,null,null,null,null,null,null,0,0,0,null,0,0,0,0,0,0,0,0,0,0,0,0,0,null," "," "," "," "," "," "," "," "," "," "," "," ",null,15,15,15,15,15,15,15,15,15,15,15,15,15,0,6,0,0,0,0,0,0,0,0,0,0,0]
[null,null,null,null,null,null,null,null,null,null,null,null,null,null,null,0,0,0,null,0,0,0,0,0,0,0,0,0,0,0,0,0,null," "," "," "," "," "," "," "," "," "," "," "," ",null,15,15,15,15,15,15,15,15,15,15,15,15,15,0,6,0,0,0,0,0,0,0,0,0,0,0]
[null,null,null,null,null,null,null,null,null,null,null,null,null,null,null,0,0,0,null,0,0,0,0,0,0,0,0,0,0,0,0,0,null," "," "," "," "," "," "," "," "," "," "," "," ",null,15,15,15,15,15,15,15,15,15,15,15,15,15,0,6,0,0,0,0,0,0,0,0,0,0,0]
[null,null,null,null,null,null,null,null,null,null,null,null,null,null,null,0,0,0,null,0,0,0,0,0,0,0,0,0,0,0,0,0,null," "," "," "," "," "," "," "," "," "," "," "," ",null,15,15,15,15,15,15,15,15,15,15,15,15,15,0,6,0,0,0,0,0,0,{"$f":"IF(AA609=$AF609,BP$6,0)","v":0},0,0,0,0]
[null,null,null,null,null,null,null,null,null,null,null,null,null,null,null,0,0,0,null,0,0,0,0,0,0,0,0,0,0,0,0,0,null," "," "," "," "," "," "," "," "," "," "," "," ",null,15,15,15,15,15,15,15,15,15,15,15,15,15,0,6,0,{"$f":"IF(V610=$AF610,BK$6,0)","v":0},0,0,0,0,0,0,0,0,0]
[null,null,null,null,null,null,null,null,null,null,null,null,null,null,null,0,0,0,null,0,0,0,0,0,0,0,0,0,0,0,0,0,null," "," "," "," "," "," "," "," "," "," "," "," ",null,15,15,15,15,15,15,15,15,15,15,15,15,15,0,6,0,0,0,0,0,0,0,0,0,0,0]
[null,null,null,null,null,null,null,null,null,null,null,null,null,null,null,0,0,0,null,0,0,0,0,0,0,0,0,0,0,0,0,0,null," "," "," "," "," "," "," "," "," "," "," "," ",null,15,15,15,15,15,15,15,15,15,15,15,15,15,0,6,0,0,0,0,0,0,0,0,0,0,0]
[null,null,null,null,null,null,null,null,null,null,null,null,null,null,null,0,0,0,null,0,0,0,0,0,0,0,0,0,0,0,0,0,null," "," "," "," "," "," "," "," "," "," "," "," ",null,15,15,15,15,15,15,15,15,15,15,15,15,15,0,6,0,0,0,0,0,0,0,0,0,0,0]
[null,null,null,null,null,null,null,null,null,null,null,null,null,null,null,0,0,0,null,0,0,0,0,0,0,0,0,0,0,0,0,0,null," "," "," "," "," "," "," "," "," "," "," "," ",null,15,15,15,15,15,15,15,15,15,15,15,15,15,0,6,0,0,0,0,0,0,0,0,0,0,0]
[null,null,null,null,null,null,null,null,null,null,null,null,null,null,null,0,0,0,null,0,0,0,0,0,0,0,0,0,0,0,0,0,null," "," "," "," "," "," "," "," "," "," "," "," ",null,15,15,15,15,15,15,15,15,15,15,15,15,15,0,6,0,0,0,0,0,0,0,0,0,0,0]
[null,null,null,null,null,null,null,null,null,null,null,null,null,null,null,0,0,0,null,0,0,0,0,0,0,0,0,0,0,0,0,0,null," "," "," "," "," "," "," "," "," "," "," "," ",null,15,15,15,15,15,15,15,15,15,15,15,15,15,0,6,0,0,0,0,0,0,0,0,0,0,0]
[null,null,null,null,null,null,null,null,null,null,null,null,null,null,null,0,0,0,null,0,0,0,0,0,0,0,0,0,0,0,0,0,null," "," "," "," "," "," "," "," "," "," "," "," ",null,15,15,15,15,15,15,15,15,15,15,15,15,15,0,6,0,0,0,0,0,0,0,0,0,0,0]
[null,null,null,null,null,null,null,null,null,null,null,null,null,null,null,0,0,0,null,0,0,0,0,0,0,0,0,0,0,0,0,0,null," "," "," "," "," "," "," "," "," "," "," "," ",null,15,15,15,15,15,15,15,15,15,15,15,15,15,0,6,0,0,0,0,0,0,0,0,0,0,0]
[null,null,null,null,null,null,null,null,null,null,null,null,null,null,null,0,0,0,null,0,0,0,0,0,0,0,0,0,0,0,0,0,null," "," "," "," "," "," "," "," "," "," "," "," ",null,15,15,15,15,15,15,15,15,15,15,15,15,15,0,6,0,0,0,0,0,0,0,0,0,0,0]
[null,null,null,null,null,null,null,null,null,null,null,null,null,null,null,0,0,0,null,0,0,0,0,0,0,0,0,0,0,0,0,0,null," "," "," "," "," "," "," "," "," "," "," "," ",null,15,15,15,15,15,15,15,15,15,15,15,15,15,0,6,0,0,0,0,0,0,0,0,0,0,0]
[null,null,null,null,null,null,null,null,null,null,null,null,null,null,null,0,0,0,null,0,0,0,0,0,0,0,0,0,0,0,0,0,null," "," "," "," "," "," "," "," "," "," "," "," ",null,15,15,15,15,15,15,15,15,15,15,15,15,15,0,6,0,0,0,0,0,0,0,0,0,0,0]
[null,null,null,null,null,null,null,null,null,null,null,null,null,null,null,0,0,0,null,0,0,0,0,0,0,0,0,0,0,0,0,0,null," "," "," "," "," "," "," "," "," "," "," "," ",null,15,15,15,15,15,15,15,15,15,15,15,15,15,0,6,0,0,0,0,0,0,0,0,0,0,0]
[null,null,null,null,null,null,null,null,null,null,null,null,null,null,null,0,0,0,null,0,0,0,0,0,0,0,0,0,0,0,0,0,null," "," "," "," "," "," "," "," "," "," "," "," ",null,15,15,15,15,15,15,15,15,15,15,15,15,15,0,6,0,0,0,0,0,0,0,0,0,0,0]
[null,null,null,null,null,null,null,null,null,null,null,null,null,null,null,0,0,0,null,0,0,0,0,0,0,0,0,0,0,0,0,0,null," "," "," "," "," "," "," "," "," "," "," "," ",null,15,15,15,15,15,15,15,15,15,15,15,15,15,0,6,0,0,0,0,0,0,0,0,0,0,0]
[null,null,null,null,null,null,null,null,null,null,null,null,null,null,null,0,0,0,null,0,0,0,0,0,0,0,0,0,0,0,0,0,null," "," "," "," "," "," "," "," "," "," "," "," ",null,15,15,15,15,15,15,15,15,15,15,15,15,15,0,6,0,0,0,0,0,0,0,0,0,0,0]
[null,null,null,null,null,null,null,null,null,null,null,null,null,null,null,0,0,0,null,0,0,0,0,0,0,0,0,0,0,0,0,0,null," "," "," "," "," "," "," "," "," "," "," "," ",null,15,15,15,15,15,15,15,15,15,15,15,15,15,0,6,0,0,0,0,0,0,0,0,0,0,0]
[null,null,null,null,null,null,null,null,null,null,null,null,null,null,null,0,0,0,null,0,0,0,0,0,0,0,0,0,0,0,0,0,null," "," "," "," "," "," "," "," "," "," "," "," ",null,15,15,15,15,15,15,15,15,15,15,15,15,15,0,6,0,0,0,0,0,0,0,0,0,0,0]
[null,null,null,null,null,null,null,null,null,null,null,null,null,null,null,0,0,0,null,0,0,0,0,0,0,0,0,0,0,0,0,0,null," "," "," "," "," "," "," "," "," "," "," "," ",null,15,15,15,15,15,15,15,15,15,15,15,15,15,0,6,0,0,0,0,0,0,0,0,0,0,0]
[null,null,null,null,null,null,null,null,null,null,null,null,null,null,null,0,0,0,null,0,0,0,0,0,0,0,0,0,0,0,0,0,null," "," "," "," "," "," "," "," "," "," "," "," ",null,15,15,15,15,15,15,15,15,15,15,15,15,15,0,6,0,0,0,0,0,0,0,0,0,0,0]
[null,null,null,null,null,null,null,null,null,null,null,null,null,null,null,0,0,0,null,0,0,0,0,0,0,0,0,0,0,0,0,0,null," "," "," "," "," "," "," "," "," "," "," "," ",null,15,15,15,15,15,15,15,15,15,15,15,15,15,0,6,0,0,0,0,0,0,0,0,0,0,0]
[null,null,null,null,null,null,null,null,null,null,null,null,null,null,null,0,0,0,null,0,0,0,0,0,0,0,0,0,0,0,0,0,null," "," "," "," "," "," "," "," "," "," "," "," ",null,15,15,15,15,15,15,15,15,15,15,15,15,15,0,6,0,0,0,0,0,0,0,0,0,0,0]
[null,null,null,null,null,null,null,null,null,null,null,null,null,null,null,0,0,0,null,0,0,0,0,0,0,0,0,0,0,0,0,0,null," "," "," "," "," "," "," "," "," "," "," "," ",null,15,15,15,15,15,15,15,15,15,15,15,15,15,0,6,0,0,0,0,0,0,0,0,0,0,0]
[null,null,null,null,null,null,null,null,null,null,null,null,null,null,null,0,0,0,null,0,0,0,0,0,0,0,0,0,0,0,0,0,null," "," "," "," "," "," "," "," "," "," "," "," ",null,15,15,15,15,15,15,15,15,15,15,15,15,15,0,6,0,0,0,0,0,0,0,0,0,0,0]
[null,null,null,null,null,null,null,null,null,null,null,null,null,null,null,0,0,0,null,0,0,0,0,0,0,0,0,0,0,0,0,0,null," "," "," "," "," "," "," "," "," "," "," "," ",null,15,15,15,15,15,15,15,15,15,15,15,15,15,0,6,0,0,0,0,0,0,0,0,0,0,0]
[null,null,null,null,null,null,null,null,null,null,null,null,null,null,null,0,0,0,null,0,0,0,0,0,0,0,0,0,0,0,0,0,null," "," "," "," "," "," "," "," "," "," "," "," ",null,15,15,15,15,15,15,15,15,15,15,15,15,15,0,6,0,0,0,0,0,0,0,0,0,0,0]
[null,null,null,null,null,null,null,null,null,null,null,null,null,null,null,0,0,0,null,0,0,0,0,0,0,0,0,0,0,0,0,0,null," "," "," "," "," "," "," "," "," "," "," "," ",null,15,15,15,15,15,15,15,15,15,15,15,15,15,0,6,0,0,0,0,0,0,0,0,0,0,0]
[null,null,null,null,null,null,null,null,null,null,null,null,null,null,null,0,0,0,null,0,0,0,0,0,0,0,0,0,0,0,0,0,null," "," "," "," "," "," "," "," "," "," "," "," ",null,15,15,15,15,15,15,15,15,15,15,15,15,15,0,6,0,0,0,0,0,0,0,0,0,0,0]
[null,null,null,null,null,null,null,null,null,null,null,null,null,null,null,0,0,0,null,0,0,0,0,0,0,0,0,0,0,0,0,0,null," "," "," "," "," "," "," "," "," "," "," "," ",null,15,15,15,15,15,15,15,15,15,15,15,15,15,0,6,0,0,0,0,0,0,0,0,0,0,0]
[null,null,null,null,null,null,null,null,null,null,null,null,null,null,null,0,0,0,null,0,0,0,0,0,0,0,0,0,0,0,0,0,null," "," "," "," "," "," "," "," "," "," "," "," ",null,15,15,15,15,15,15,15,15,15,15,15,15,15,0,6,0,0,0,0,0,0,0,0,0,0,0]
[null,null,null,null,null,null,null,null,null,null,null,null,null,null,null,0,0,0,null,0,0,0,0,0,0,0,0,0,0,0,0,0,null," "," "," "," "," "," "," "," "," "," "," "," ",null,15,15,15,15,15,15,15,15,15,15,15,15,15,0,6,0,0,0,0,0,0,0,0,0,0,0]
[null,null,null,null,null,null,null,null,null,null,null,null,null,null,null,0,0,0,null,0,0,0,0,0,0,0,0,0,0,0,0,0,null," "," "," "," "," "," "," "," "," "," "," "," ",null,15,15,15,15,15,15,15,15,15,15,15,15,15,0,6,0,0,0,0,0,0,0,0,0,0,0]
[null,null,null,null,null,null,null,null,null,null,null,null,null,null,null,0,0,0,null,0,0,0,0,0,0,0,0,0,0,0,0,0,null," "," "," "," "," "," "," "," "," "," "," "," ",null,15,15,15,15,15,15,15,15,15,15,15,15,15,0,6,0,0,0,0,0,0,0,0,0,0,0]
[null,null,null,null,null,null,null,null,null,null,null,null,null,null,null,0,0,0,null,0,0,0,0,0,0,0,0,0,0,0,0,0,null," "," "," "," "," "," "," "," "," "," "," "," ",null,15,15,15,15,15,15,15,15,15,15,15,15,15,0,6,0,0,0,0,0,0,0,0,0,0,0]
[null,null,null,null,null,null,null,null,null,null,null,null,null,null,null,0,0,0,null,0,0,0,0,0,0,0,0,0,0,0,0,0,null," "," "," "," "," "," "," "," "," "," "," "," ",null,15,15,15,15,15,15,15,15,15,15,15,15,15,0,6,0,0,0,0,0,0,0,0,0,0,0]
[null,null,null,null,null,null,null,null,null,null,null,null,null,null,null,0,0,0,null,0,0,0,0,0,0,0,0,0,0,0,0,0,null," "," "," "," "," "," "," "," "," "," "," "," ",null,15,15,15,15,15,15,15,15,15,15,15,15,15,0,6,0,0,0,0,0,0,0,0,0,0,0]
[null,null,null,null,null,null,null,null,null,null,null,null,null,null,null,0,0,0,null,0,0,0,0,0,0,0,0,0,0,0,0,0,null," "," "," "," "," "," "," "," "," "," "," "," ",null,15,15,15,15,15,15,15,15,15,15,15,15,15,0,6,0,0,0,0,0,0,0,0,0,0,0]
[null,null,null,null,null,null,null,null,null,null,null,null,null,null,null,0,0,{"$f":"MIN(AH647:AS647)","v":0},null,{"$f":"COUNTIF($F647:$O647,$T$6)","v":0},{"$f":"COUNTIF($F647:$O647,$U$6)","v":0},{"$f":"COUNTIF($F647:$O647,$V$6)","v":0},{"$f":"COUNTIF($F647:$O647,$W$6)","v":0},{"$f":"COUNTIF($F647:$O647,$X$6)","v":0},{"$f":"COUNTIF($F647:$O647,$Y$6)","v":0},{"$f":"COUNTIF($F647:$O647,$Z$6)","v":0},{"$f":"COUNTIF($F647:$O647,$AA$6)","v":0},{"$f":"COUNTIF($F647:$O647,$AB$6)","v":0},{"$f":"COUNTIF($F647:$O647,$AC$6)","v":0},{"$f":"COUNTIF($F647:$O647,$AD$6)","v":0},{"$f":"COUNTIF($F647:$O647,$AE$6)","v":0},0,null," "," "," "," "," "," "," "," "," "," "," "," ",null,15,15,15,15,15,15,15,15,15,15,15,15,15,0,6,0,0,0,0,0,0,0,0,0,0,0]
[null,null,null,null,null,null,null,null,null,null,null,null,null,null,null,{"$f":"COUNTIF(F648:O648,\">0.8\")","v":0},{"$f":"IF(R648=0,(IF($R$2=1,BH648,0)),R648)","v":0},0,null,0,0,0,0,0,0,0,0,0,0,0,0,{"$f":"MAX(T648:AE648)","v":0},null," "," "," "," "," "," "," "," "," "," "," "," ",null,15,15,15,15,15,15,15,15,15,15,15,15,{"$f":"MIN(AU648:BF648)","v":15},{"$f":"IF(P648>=BG648,MAX(BI648:BT648),0)","v":0},{"$f":"IF(T648=$AF648,BI$6,0)","v":6},{"$f":"IF(U648=$AF648,BJ647,0)","v":0},0,0,0,0,0,0,0,0,0,0]
[null,null,null,null,null,null,null,null,null,null,null,null,null,null,null,0,0,0,null,0,0,0,0,0,0,0,0,0,0,0,0,0,null," "," "," "," "," "," "," "," "," "," "," "," ",null,15,15,15,15,15,15,15,15,15,15,15,15,15,0,6,0,0,0,0,0,0,0,0,0,0,0]
[null,null,null,null,null,null,null,null,null,null,null,null,null,null,null,0,0,0,null,0,0,0,0,0,0,0,0,0,0,0,0,0,null," "," "," "," "," "," "," "," "," "," "," "," ",null,15,15,15,15,15,15,15,15,15,15,15,15,15,0,6,0,0,0,0,0,0,0,0,0,0,0]
[null,null,null,null,null,null,null,null,null,null,null,null,null,null,null,0,0,0,null,0,0,0,0,0,0,0,0,0,0,0,0,0,null," "," "," "," "," "," "," "," "," "," "," "," ",null,15,15,15,15,15,15,15,15,15,15,15,15,15,0,6,0,0,0,0,0,0,0,0,0,0,0]
[null,null,null,null,null,null,null,null,null,null,null,null,null,null,null,0,0,0,null,0,0,0,0,0,0,0,0,0,0,0,0,0,null," "," "," "," "," "," "," "," "," "," "," "," ",null,15,15,15,15,15,15,15,15,15,15,15,15,15,0,6,0,0,0,0,0,0,0,0,0,0,0]
[null,null,null,null,null,null,null,null,null,null,null,null,null,null,null,0,0,0,null,0,0,0,0,0,0,0,0,0,0,0,0,0,null," "," "," "," "," "," "," "," "," "," "," "," ",null,15,15,15,15,15,15,15,15,15,15,15,15,15,0,6,0,0,0,0,0,0,0,0,0,0,0]
[null,null,null,null,null,null,null,null,null,null,null,null,null,null,null,0,0,0,null,0,0,0,0,0,0,0,0,0,0,0,0,0,null," "," "," "," "," "," "," "," "," "," "," "," ",null,15,15,15,15,15,15,15,15,15,15,15,15,15,0,6,0,0,0,0,0,0,0,0,0,0,0]
[null,null,null,null,null,null,null,null,null,null,null,null,null,null,null,0,0,0,null,0,0,0,0,0,0,0,0,0,0,0,0,0,null," "," "," "," "," "," "," "," "," "," "," "," ",null,15,15,15,15,15,15,15,15,15,15,15,15,15,0,6,0,0,0,0,0,0,0,0,0,0,0]
[null,null,null,null,null,null,null,null,null,null,null,null,null,null,null,0,0,0,null,0,0,0,0,0,0,0,0,0,0,0,0,0,null," "," "," "," "," "," "," "," "," "," "," "," ",null,15,15,15,15,15,15,15,15,15,15,15,15,15,0,6,0,0,0,0,0,0,0,0,0,0,0]
[null,null,null,null,null,null,null,null,null,null,null,null,null,null,null,0,0,0,null,0,0,0,0,0,0,0,0,0,0,0,0,0,null," "," "," "," "," "," "," "," "," "," "," "," ",null,15,15,15,15,15,15,15,15,15,15,15,15,15,0,6,0,0,0,0,0,0,0,0,0,0,0]
[null,null,null,null,null,null,null,null,null,null,null,null,null,null,null,0,0,0,null,0,0,0,0,0,0,0,0,0,0,0,0,0,null," "," "," "," "," "," "," "," "," "," "," "," ",null,15,15,15,15,15,15,15,15,15,15,15,15,15,0,6,0,0,0,0,0,0,0,0,0,0,0]
[null,null,null,null,null,null,null,null,null,null,null,null,null,null,null,0,0,0,null,0,0,0,0,0,0,0,0,0,0,0,0,0,null," "," "," "," "," "," "," "," "," "," "," "," ",null,15,15,15,15,15,15,15,15,15,15,15,15,15,0,6,0,0,0,0,0,0,0,0,0,0,0]
[null,null,null,null,null,null,null,null,null,null,null,null,null,null,null,0,0,0,null,0,0,0,0,0,0,0,0,0,0,0,0,0,null," "," "," "," "," "," "," "," "," "," "," "," ",null,15,15,15,15,15,15,15,15,15,15,15,15,15,0,6,0,0,0,0,0,0,{"$f":"IF(AA660=$AF660,BP$6,0)","v":0},0,0,0,0]
[null,null,null,null,null,null,null,null,null,null,null,null,null,null,null,0,0,0,null,0,0,0,0,0,0,0,0,0,0,0,0,0,null," "," "," "," "," "," "," "," "," "," "," "," ",null,15,15,15,15,15,15,15,15,15,15,15,15,15,0,6,0,{"$f":"IF(V661=$AF661,BK$6,0)","v":0},0,0,0,0,0,0,0,0,0]
[null,null,null,null,null,null,null,null,null,null,null,null,null,null,null,0,0,0,null,0,0,0,0,0,0,0,0,0,0,0,0,0,null," "," "," "," "," "," "," "," "," "," "," "," ",null,15,15,15,15,15,15,15,15,15,15,15,15,15,0,6,0,0,0,0,0,0,0,0,0,0,0]
[null,null,null,null,null,null,null,null,null,null,null,null,null,null,null,0,0,0,null,0,0,0,0,0,0,0,0,0,0,0,0,0,null," "," "," "," "," "," "," "," "," "," "," "," ",null,15,15,15,15,15,15,15,15,15,15,15,15,15,0,6,0,0,0,0,0,0,0,0,0,0,0]
[null,null,null,null,null,null,null,null,null,null,null,null,null,null,null,0,0,0,null,0,0,0,0,0,0,0,0,0,0,0,0,0,null," "," "," "," "," "," "," "," "," "," "," "," ",null,15,15,15,15,15,15,15,15,15,15,15,15,15,0,6,0,0,0,0,0,0,0,0,0,0,0]
[null,null,null,null,null,null,null,null,null,null,null,null,null,null,null,0,0,0,null,0,0,0,0,0,0,0,0,0,0,0,0,0,null," "," "," "," "," "," "," "," "," "," "," "," ",null,15,15,15,15,15,15,15,15,15,15,15,15,15,0,6,0,0,0,0,0,0,0,0,0,0,0]
[null,null,null,null,null,null,null,null,null,null,null,null,null,null,null,0,0,0,null,0,0,0,0,0,0,0,0,0,0,0,0,0,null," "," "," "," "," "," "," "," "," "," "," "," ",null,15,15,15,15,15,15,15,15,15,15,15,15,15,0,6,0,0,0,0,0,0,0,0,0,0,0]
[null,null,null,null,null,null,null,null,null,null,null,null,null,null,null,0,0,0,null,0,0,0,0,0,0,0,0,0,0,0,0,0,null," "," "," "," "," "," "," "," "," "," "," "," ",null,15,15,15,15,15,15,15,15,15,15,15,15,15,0,6,0,0,0,0,0,0,0,0,0,0,0]
[null,null,null,null,null,null,null,null,null,null,null,null,null,null,null,0,0,0,null,0,0,0,0,0,0,0,0,0,0,0,0,0,null," "," "," "," "," "," "," "," "," "," "," "," ",null,15,15,15,15,15,15,15,15,15,15,15,15,15,0,6,0,0,0,0,0,0,0,0,0,0,0]
[null,null,null,null,null,null,null,null,null,null,null,null,null,null,null,0,0,0,null,0,0,0,0,0,0,0,0,0,0,0,0,0,null," "," "," "," "," "," "," "," "," "," "," "," ",null,15,15,15,15,15,15,15,15,15,15,15,15,15,0,6,0,0,0,0,0,0,0,0,0,0,0]
[null,null,null,null,null,null,null,null,null,null,null,null,null,null,null,0,0,0,null,0,0,0,0,0,0,0,0,0,0,0,0,0,null," "," "," "," "," "," "," "," "," "," "," "," ",null,15,15,15,15,15,15,15,15,15,15,15,15,15,0,6,0,0,0,0,0,0,0,0,0,0,0]
[null,null,null,null,null,null,null,null,null,null,null,null,null,null,null,0,0,0,null,0,0,0,0,0,0,0,0,0,0,0,0,0,null," "," "," "," "," "," "," "," "," "," "," "," ",null,15,15,15,15,15,15,15,15,15,15,15,15,15,0,6,0,0,0,0,0,0,0,0,0,0,0]
[null,null,null,null,null,null,null,null,null,null,null,null,null,null,null,0,0,0,null,0,0,0,0,0,0,0,0,0,0,0,0,0,null," "," "," "," "," "," "," "," "," "," "," "," ",null,15,15,15,15,15,15,15,15,15,15,15,15,15,0,6,0,0,0,0,0,0,0,0,0,0,0]
[null,null,null,null,null,null,null,null,null,null,null,null,null,null,null,0,0,0,null,0,0,0,0,0,0,0,0,0,0,0,0,0,null," "," "," "," "," "," "," "," "," "," "," "," ",null,15,15,15,15,15,15,15,15,15,15,15,15,15,0,6,0,0,0,0,0,0,0,0,0,0,0]
[null,null,null,null,null,null,null,null,null,null,null,null,null,null,null,0,0,0,null,0,0,0,0,0,0,0,0,0,0,0,0,0,null," "," "," "," "," "," "," "," "," "," "," "," ",null,15,15,15,15,15,15,15,15,15,15,15,15,15,0,6,0,0,0,0,0,0,0,0,0,0,0]
[null,null,null,null,null,null,null,null,null,null,null,null,null,null,null,0,0,0,null,0,0,0,0,0,0,0,0,0,0,0,0,0,null," "," "," "," "," "," "," "," "," "," "," "," ",null,15,15,15,15,15,15,15,15,15,15,15,15,15,0,6,0,0,0,0,0,0,0,0,0,0,0]
[null,null,null,null,null,null,null,null,null,null,null,null,null,null,null,0,0,0,null,0,0,0,0,0,0,0,0,0,0,0,0,0,null," "," "," "," "," "," "," "," "," "," "," "," ",null,15,15,15,15,15,15,15,15,15,15,15,15,15,0,6,0,0,0,0,0,0,0,0,0,0,0]
[null,null,null,null,null,null,null,null,null,null,null,null,null,null,null,0,0,0,null,0,0,0,0,0,0,0,0,0,0,0,0,0,null," "," "," "," "," "," "," "," "," "," "," "," ",null,15,15,15,15,15,15,15,15,15,15,15,15,15,0,6,0,0,0,0,0,0,0,0,0,0,0]
[null,null,null,null,null,null,null,null,null,null,null,null,null,null,null,0,0,0,null,0,0,0,0,0,0,0,0,0,0,0,0,0,null," "," "," "," "," "," "," "," "," "," "," "," ",null,15,15,15,15,15,15,15,15,15,15,15,15,15,0,6,0,0,0,0,0,0,0,0,0,0,0]
[null,null,null,null,null,null,null,null,null,null,null,null,null,null,null,0,0,0,null,0,0,0,0,0,0,0,0,0,0,0,0,0,null," "," "," "," "," "," "," "," "," "," "," "," ",null,15,15,15,15,15,15,15,15,15,15,15,15,15,0,6,0,0,0,0,0,0,0,0,0,0,0]
[null,null,null,null,null,null,null,null,null,null,null,null,null,null,null,0,0,0,null,0,0,0,0,0,0,0,0,0,0,0,0,0,null," "," "," "," "," "," "," "," "," "," "," "," ",null,15,15,15,15,15,15,15,15,15,15,15,15,15,0,6,0,0,0,0,0,0,0,0,0,0,0]
[null,null,null,null,null,null,null,null,null,null,null,null,null,null,null,0,0,0,null,0,0,0,0,0,0,0,0,0,0,0,0,0,null," "," "," "," "," "," "," "," "," "," "," "," ",null,15,15,15,15,15,15,15,15,15,15,15,15,15,0,6,0,0,0,0,0,0,0,0,0,0,0]
[null,null,null,null,null,null,null,null,null,null,null,null,null,null,null,0,0,0,null,0,0,0,0,0,0,0,0,0,0,0,0,0,null," "," "," "," "," "," "," "," "," "," "," "," ",null,15,15,15,15,15,15,15,15,15,15,15,15,15,0,6,0,0,0,0,0,0,0,0,0,0,0]
[null,null,null,null,null,null,null,null,null,null,null,null,null,null,null,0,0,0,null,0,0,0,0,0,0,0,0,0,0,0,0,0,null," "," "," "," "," "," "," "," "," "," "," "," ",null,15,15,15,15,15,15,15,15,15,15,15,15,15,0,6,0,0,0,0,0,0,0,0,0,0,0]
[null,null,null,null,null,null,null,null,null,null,null,null,null,null,null,0,0,0,null,0,0,0,0,0,0,0,0,0,0,0,0,0,null," "," "," "," "," "," "," "," "," "," "," "," ",null,15,15,15,15,15,15,15,15,15,15,15,15,15,0,6,0,0,0,0,0,0,0,0,0,0,0]
[null,null,null,null,null,null,null,null,null,null,null,null,null,null,null,0,0,0,null,0,0,0,0,0,0,0,0,0,0,0,0,0,null," "," "," "," "," "," "," "," "," "," "," "," ",null,15,15,15,15,15,15,15,15,15,15,15,15,15,0,6,0,0,0,0,0,0,0,0,0,0,0]
[null,null,null,null,null,null,null,null,null,null,null,null,null,null,null,0,0,0,null,0,0,0,0,0,0,0,0,0,0,0,0,0,null," "," "," "," "," "," "," "," "," "," "," "," ",null,15,15,15,15,15,15,15,15,15,15,15,15,15,0,6,0,0,0,0,0,0,0,0,0,0,0]
[null,null,null,null,null,null,null,null,null,null,null,null,null,null,null,0,0,0,null,0,0,0,0,0,0,0,0,0,0,0,0,0,null," "," "," "," "," "," "," "," "," "," "," "," ",null,15,15,15,15,15,15,15,15,15,15,15,15,15,0,6,0,0,0,0,0,0,0,0,0,0,0]
[null,null,null,null,null,null,null,null,null,null,null,null,null,null,null,0,0,0,null,0,0,0,0,0,0,0,0,0,0,0,0,0,null," "," "," "," "," "," "," "," "," "," "," "," ",null,15,15,15,15,15,15,15,15,15,15,15,15,15,0,6,0,0,0,0,0,0,0,0,0,0,0]
[null,null,null,null,null,null,null,null,null,null,null,null,null,null,null,0,0,0,null,0,0,0,0,0,0,0,0,0,0,0,0,0,null," "," "," "," "," "," "," "," "," "," "," "," ",null,15,15,15,15,15,15,15,15,15,15,15,15,15,0,6,0,0,0,0,0,0,0,0,0,0,0]
[null,null,null,null,null,null,null,null,null,null,null,null,null,null,null,0,0,0,null,0,0,0,0,0,0,0,0,0,0,0,0,0,null," "," "," "," "," "," "," "," "," "," "," "," ",null,15,15,15,15,15,15,15,15,15,15,15,15,15,0,6,0,0,0,0,0,0,0,0,0,0,0]
[null,null,null,null,null,null,null,null,null,null,null,null,null,null,null,0,0,0,null,0,0,0,0,0,0,0,0,0,0,0,0,0,null," "," "," "," "," "," "," "," "," "," "," "," ",null,15,15,15,15,15,15,15,15,15,15,15,15,15,0,6,0,0,0,0,0,0,0,0,0,0,0]
[null,null,null,null,null,null,null,null,null,null,null,null,null,null,null,0,0,0,null,0,0,0,0,0,0,0,0,0,0,0,0,0,null," "," "," "," "," "," "," "," "," "," "," "," ",null,15,15,15,15,15,15,15,15,15,15,15,15,15,0,6,0,0,0,0,0,0,0,0,0,0,0]
[null,null,null,null,null,null,null,null,null,null,null,null,null,null,null,0,0,0,null,0,0,0,0,0,0,0,0,0,0,0,0,0,null," "," "," "," "," "," "," "," "," "," "," "," ",null,15,15,15,15,15,15,15,15,15,15,15,15,15,0,6,0,0,0,0,0,0,0,0,0,0,0]
[null,null,null,null,null,null,null,null,null,null,null,null,null,null,null,0,0,0,null,0,0,0,0,0,0,0,0,0,0,0,0,0,null," "," "," "," "," "," "," "," "," "," "," "," ",null,15,15,15,15,15,15,15,15,15,15,15,15,15,0,6,0,0,0,0,0,0,0,0,0,0,0]
[null,null,null,null,null,null,null,null,null,null,null,null,null,null,null,0,0,0,null,0,0,0,0,0,0,0,0,0,0,0,0,0,null," "," "," "," "," "," "," "," "," "," "," "," ",null,15,15,15,15,15,15,15,15,15,15,15,15,15,0,6,0,0,0,0,0,0,0,0,0,0,0]
[null,null,null,null,null,null,null,null,null,null,null,null,null,null,null,0,0,0,null,0,0,0,0,0,0,0,0,0,0,0,0,0,null," "," "," "," "," "," "," "," "," "," "," "," ",null,15,15,15,15,15,15,15,15,15,15,15,15,15,0,6,0,0,0,0,0,0,0,0,0,0,0]
[null,null,null,null,null,null,null,null,null,null,null,null,null,null,null,0,0,0,null,0,0,0,0,0,0,0,0,0,0,0,0,0,null," "," "," "," "," "," "," "," "," "," "," "," ",null,15,15,15,15,15,15,15,15,15,15,15,15,15,0,6,0,0,0,0,0,0,0,0,0,0,0]
[null,null,null,null,null,null,null,null,null,null,null,null,null,null,null,0,0,0,null,0,0,0,0,0,0,0,0,0,0,0,0,0,null," "," "," "," "," "," "," "," "," "," "," "," ",null,15,15,15,15,15,15,15,15,15,15,15,15,15,0,6,0,0,0,0,0,0,0,0,0,0,0]
[null,null,null,null,null,null,null,null,null,null,null,null,null,null,null,0,0,0,null,0,0,0,0,0,0,0,0,0,0,0,0,0,null," "," "," "," "," "," "," "," "," "," "," "," ",null,15,15,15,15,15,15,15,15,15,15,15,15,15,0,6,0,0,0,0,0,0,0,0,0,0,0]
[null,null,null,null,null,null,null,null,null,null,null,null,null,null,null,0,0,0,null,0,0,0,0,0,0,0,0,0,0,0,0,0,null," "," "," "," "," "," "," "," "," "," "," "," ",null,15,15,15,15,15,15,15,15,15,15,15,15,15,0,6,0,0,0,0,0,0,0,0,0,0,0]
[null,null,null,null,null,null,null,null,null,null,null,null,null,null,null,0,0,0,null,0,0,0,0,0,0,0,0,0,0,0,0,0,null," "," "," "," "," "," "," "," "," "," "," "," ",null,15,15,15,15,15,15,15,15,15,15,15,15,15,0,6,0,0,0,0,0,0,0,0,0,0,0]
[null,null,null,null,null,null,null,null,null,null,null,null,null,null,null,0,0,0,null,0,0,0,0,0,0,0,0,0,0,0,0,0,null," "," "," "," "," "," "," "," "," "," "," "," ",null,15,15,15,15,15,15,15,15,15,15,15,15,15,0,6,0,0,0,0,0,0,0,0,0,0,0]
[null,null,null,null,null,null,null,null,null,null,null,null,null,null,null,0,0,0,null,0,0,0,0,0,0,0,0,0,0,0,0,0,null," "," "," "," "," "," "," "," "," "," "," "," ",null,15,15,15,15,15,15,15,15,15,15,15,15,15,0,6,0,0,0,0,0,0,0,0,0,0,0]
[null,null,null,null,null,null,null,null,null,null,null,null,null,null,null,0,0,0,null,0,0,0,0,0,0,0,0,0,0,0,0,0,null," "," "," "," "," "," "," "," "," "," "," "," ",null,15,15,15,15,15,15,15,15,15,15,15,15,15,0,6,0,0,0,0,0,0,0,0,0,0,0]
[null,null,null,null,null,null,null,null,null,null,null,null,null,null,null,0,0,0,null,0,0,0,0,0,0,0,0,0,0,0,0,0,null," "," "," "," "," "," "," "," "," "," "," "," ",null,15,15,15,15,15,15,15,15,15,15,15,15,15,0,6,0,0,0,0,0,0,0,0,0,0,0]
[null,null,null,null,null,null,null,null,null,null,null,null,null,null,null,0,0,0,null,0,0,0,0,0,0,0,0,0,0,0,0,0,null," "," "," "," "," "," "," "," "," "," "," "," ",null,15,15,15,15,15,15,15,15,15,15,15,15,15,0,6,0,0,0,0,0,0,0,0,0,0,0]
[null,null,null,null,null,null,null,null,null,null,null,null,null,null,null,0,0,0,null,0,0,0,0,0,0,0,0,0,0,0,0,0,null," "," "," "," "," "," "," "," "," "," "," "," ",null,15,15,15,15,15,15,15,15,15,15,15,15,15,0,6,0,0,0,0,0,0,0,0,0,0,0]
[null,null,null,null,null,null,null,null,null,null,null,null,null,null,null,0,0,0,null,0,0,0,0,0,0,0,0,0,0,0,0,0,null," "," "," "," "," "," "," "," "," "," "," "," ",null,15,15,15,15,15,15,15,15,15,15,15,15,15,0,6,0,0,0,0,0,0,0,0,0,0,0]
[null,null,null,null,null,null,null,null,null,null,null,null,null,null,null,0,0,0,null,0,0,0,0,0,0,0,0,0,0,0,0,0,null," "," "," "," "," "," "," "," "," "," "," "," ",null,15,15,15,15,15,15,15,15,15,15,15,15,15,0,6,0,0,0,0,0,0,0,0,0,0,0]
[null,null,null,null,null,null,null,null,null,null,null,null,null,null,null,0,0,0,null,0,0,0,0,0,0,0,0,0,0,0,0,0,null," "," "," "," "," "," "," "," "," "," "," "," ",null,15,15,15,15,15,15,15,15,15,15,15,15,15,0,6,0,0,0,0,0,0,0,0,0,0,0]
[null,null,null,null,null,null,null,null,null,null,null,null,null,null,null,0,0,{"$f":"MIN(AH711:AS711)","v":0},null,{"$f":"COUNTIF($F711:$O711,$T$6)","v":0},{"$f":"COUNTIF($F711:$O711,$U$6)","v":0},{"$f":"COUNTIF($F711:$O711,$V$6)","v":0},{"$f":"COUNTIF($F711:$O711,$W$6)","v":0},{"$f":"COUNTIF($F711:$O711,$X$6)","v":0},{"$f":"COUNTIF($F711:$O711,$Y$6)","v":0},{"$f":"COUNTIF($F711:$O711,$Z$6)","v":0},{"$f":"COUNTIF($F711:$O711,$AA$6)","v":0},{"$f":"COUNTIF($F711:$O711,$AB$6)","v":0},{"$f":"COUNTIF($F711:$O711,$AC$6)","v":0},{"$f":"COUNTIF($F711:$O711,$AD$6)","v":0},{"$f":"COUNTIF($F711:$O711,$AE$6)","v":0},0,null," "," "," "," "," "," "," "," "," "," "," "," ",null,15,15,15,15,15,15,15,15,15,15,15,15,15,0,6,0,0,0,0,0,0,{"$f":"IF(AA711=$AF711,BP$6,0)","v":0},0,0,0,0]
[null,null,null,null,null,null,null,null,null,null,null,null,null,null,null,{"$f":"COUNTIF(F712:O712,\">0.8\")","v":0},{"$f":"IF(R712=0,(IF($R$2=1,BH712,0)),R712)","v":0},0,null,0,0,0,0,0,0,0,0,0,0,0,0,{"$f":"MAX(T712:AE712)","v":0},null," "," "," "," "," "," "," "," "," "," "," "," ",null,15,15,15,15,15,15,15,15,15,15,15,15,{"$f":"MIN(AU712:BF712)","v":15},{"$f":"IF(P712>=BG712,MAX(BI712:BT712),0)","v":0},{"$f":"IF(T712=$AF712,BI$6,0)","v":6},{"$f":"IF(U712=$AF712,BJ711,0)","v":0},{"$f":"IF(V712=$AF712,BK$6,0)","v":0},0,0,0,0,0,0,0,0,0]
[null,null,null,null,null,null,null,null,null,null,null,null,null,null,null,0,0,0,null,0,0,0,0,0,0,0,0,0,0,0,0,0,null," "," "," "," "," "," "," "," "," "," "," "," ",null,15,15,15,15,15,15,15,15,15,15,15,15,15,0,6,0,0,0,0,0,0,0,0,0,0,0]
[null,null,null,null,null,null,null,null,null,null,null,null,null,null,null,0,0,0,null,0,0,0,0,0,0,0,0,0,0,0,0,0,null," "," "," "," "," "," "," "," "," "," "," "," ",null,15,15,15,15,15,15,15,15,15,15,15,15,15,0,6,0,0,0,0,0,0,0,0,0,0,0]
[null,null,null,null,null,null,null,null,null,null,null,null,null,null,null,0,0,0,null,0,0,0,0,0,0,0,0,0,0,0,0,0,null," "," "," "," "," "," "," "," "," "," "," "," ",null,15,15,15,15,15,15,15,15,15,15,15,15,15,0,6,0,0,0,0,0,0,0,0,0,0,0]
[null,null,null,null,null,null,null,null,null,null,null,null,null,null,null,0,0,0,null,0,0,0,0,0,0,0,0,0,0,0,0,0,null," "," "," "," "," "," "," "," "," "," "," "," ",null,15,15,15,15,15,15,15,15,15,15,15,15,15,0,6,0,0,0,0,0,0,0,0,0,0,0]
[null,null,null,null,null,null,null,null,null,null,null,null,null,null,null,0,0,0,null,0,0,0,0,0,0,0,0,0,0,0,0,0,null," "," "," "," "," "," "," "," "," "," "," "," ",null,15,15,15,15,15,15,15,15,15,15,15,15,15,0,6,0,0,0,0,0,0,0,0,0,0,0]
[null,null,null,null,null,null,null,null,null,null,null,null,null,null,null,0,0,0,null,0,0,0,0,0,0,0,0,0,0,0,0,0,null," "," "," "," "," "," "," "," "," "," "," "," ",null,15,15,15,15,15,15,15,15,15,15,15,15,15,0,6,0,0,0,0,0,0,0,0,0,0,0]
[null,null,null,null,null,null,null,null,null,null,null,null,null,null,null,0,0,0,null,0,0,0,0,0,0,0,0,0,0,0,0,0,null," "," "," "," "," "," "," "," "," "," "," "," ",null,15,15,15,15,15,15,15,15,15,15,15,15,15,0,6,0,0,0,0,0,0,0,0,0,0,0]
[null,null,null,null,null,null,null,null,null,null,null,null,null,null,null,0,0,0,null,0,0,0,0,0,0,0,0,0,0,0,0,0,null," "," "," "," "," "," "," "," "," "," "," "," ",null,15,15,15,15,15,15,15,15,15,15,15,15,15,0,6,0,0,0,0,0,0,0,0,0,0,0]
[null,null,null,null,null,null,null,null,null,null,null,null,null,null,null,0,0,0,null,0,0,0,0,0,0,0,0,0,0,0,0,0,null," "," "," "," "," "," "," "," "," "," "," "," ",null,15,15,15,15,15,15,15,15,15,15,15,15,15,0,6,0,0,0,0,0,0,0,0,0,0,0]
[null,null,null,null,null,null,null,null,null,null,null,null,null,null,null,0,0,0,null,0,0,0,0,0,0,0,0,0,0,0,0,0,null," "," "," "," "," "," "," "," "," "," "," "," ",null,15,15,15,15,15,15,15,15,15,15,15,15,15,0,6,0,0,0,0,0,0,0,0,0,0,0]
[null,null,null,null,null,null,null,null,null,null,null,null,null,null,null,0,0,0,null,0,0,0,0,0,0,0,0,0,0,0,0,0,null," "," "," "," "," "," "," "," "," "," "," "," ",null,15,15,15,15,15,15,15,15,15,15,15,15,15,0,6,0,0,0,0,0,0,0,0,0,0,0]
[null,null,null,null,null,null,null,null,null,null,null,null,null,null,null,0,0,0,null,0,0,0,0,0,0,0,0,0,0,0,0,0,null," "," "," "," "," "," "," "," "," "," "," "," ",null,15,15,15,15,15,15,15,15,15,15,15,15,15,0,6,0,0,0,0,0,0,0,0,0,0,0]
[null,null,null,null,null,null,null,null,null,null,null,null,null,null,null,0,0,0,null,0,0,0,0,0,0,0,0,0,0,0,0,0,null," "," "," "," "," "," "," "," "," "," "," "," ",null,15,15,15,15,15,15,15,15,15,15,15,15,15,0,6,0,0,0,0,0,0,0,0,0,0,0]
[null,null,null,null,null,null,null,null,null,null,null,null,null,null,null,0,0,0,null,0,0,0,0,0,0,0,0,0,0,0,0,0,null," "," "," "," "," "," "," "," "," "," "," "," ",null,15,15,15,15,15,15,15,15,15,15,15,15,15,0,6,0,0,0,0,0,0,0,0,0,0,0]
[null,null,null,null,null,null,null,null,null,null,null,null,null,null,null,0,0,0,null,0,0,0,0,0,0,0,0,0,0,0,0,0,null," "," "," "," "," "," "," "," "," "," "," "," ",null,15,15,15,15,15,15,15,15,15,15,15,15,15,0,6,0,0,0,0,0,0,0,0,0,0,0]
[null,null,null,null,null,null,null,null,null,null,null,null,null,null,null,0,0,0,null,0,0,0,0,0,0,0,0,0,0,0,0,0,null," "," "," "," "," "," "," "," "," "," "," "," ",null,15,15,15,15,15,15,15,15,15,15,15,15,15,0,6,0,0,0,0,0,0,0,0,0,0,0]
[null,null,null,null,null,null,null,null,null,null,null,null,null,null,null,0,0,0,null,0,0,0,0,0,0,0,0,0,0,0,0,0,null," "," "," "," "," "," "," "," "," "," "," "," ",null,15,15,15,15,15,15,15,15,15,15,15,15,15,0,6,0,0,0,0,0,0,0,0,0,0,0]
[null,null,null,null,null,null,null,null,null,null,null,null,null,null,null,0,0,0,null,0,0,0,0,0,0,0,0,0,0,0,0,0,null," "," "," "," "," "," "," "," "," "," "," "," ",null,15,15,15,15,15,15,15,15,15,15,15,15,15,0,6,0,0,0,0,0,0,0,0,0,0,0]
[null,null,null,null,null,null,null,null,null,null,null,null,null,null,null,0,0,0,null,0,0,0,0,0,0,0,0,0,0,0,0,0,null," "," "," "," "," "," "," "," "," "," "," "," ",null,15,15,15,15,15,15,15,15,15,15,15,15,15,0,6,0,0,0,0,0,0,0,0,0,0,0]
[null,null,null,null,null,null,null,null,null,null,null,null,null,null,null,0,0,0,null,0,0,0,0,0,0,0,0,0,0,0,0,0,null," "," "," "," "," "," "," "," "," "," "," "," ",null,15,15,15,15,15,15,15,15,15,15,15,15,15,0,6,0,0,0,0,0,0,0,0,0,0,0]
[null,null,null,null,null,null,null,null,null,null,null,null,null,null,null,0,0,0,null,0,0,0,0,0,0,0,0,0,0,0,0,0,null," "," "," "," "," "," "," "," "," "," "," "," ",null,15,15,15,15,15,15,15,15,15,15,15,15,15,0,6,0,0,0,0,0,0,0,0,0,0,0]
[null,null,null,null,null,null,null,null,null,null,null,null,null,null,null,0,0,0,null,0,0,0,0,0,0,0,0,0,0,0,0,0,null," "," "," "," "," "," "," "," "," "," "," "," ",null,15,15,15,15,15,15,15,15,15,15,15,15,15,0,6,0,0,0,0,0,0,0,0,0,0,0]
[null,null,null,null,null,null,null,null,null,null,null,null,null,null,null,0,0,0,null,0,0,0,0,0,0,0,0,0,0,0,0,0,null," "," "," "," "," "," "," "," "," "," "," "," ",null,15,15,15,15,15,15,15,15,15,15,15,15,15,0,6,0,0,0,0,0,0,0,0,0,0,0]
[null,null,null,null,null,null,null,null,null,null,null,null,null,null,null,0,0,0,null,0,0,0,0,0,0,0,0,0,0,0,0,0,null," "," "," "," "," "," "," "," "," "," "," "," ",null,15,15,15,15,15,15,15,15,15,15,15,15,15,0,6,0,0,0,0,0,0,0,0,0,0,0]
[null,null,null,null,null,null,null,null,null,null,null,null,null,null,null,0,0,0,null,0,0,0,0,0,0,0,0,0,0,0,0,0,null," "," "," "," "," "," "," "," "," "," "," "," ",null,15,15,15,15,15,15,15,15,15,15,15,15,15,0,6,0,0,0,0,0,0,0,0,0,0,0]
[null,null,null,null,null,null,null,null,null,null,null,null,null,null,null,0,0,0,null,0,0,0,0,0,0,0,0,0,0,0,0,0,null," "," "," "," "," "," "," "," "," "," "," "," ",null,15,15,15,15,15,15,15,15,15,15,15,15,15,0,6,0,0,0,0,0,0,0,0,0,0,0]
[null,null,null,null,null,null,null,null,null,null,null,null,null,null,null,0,0,0,null,0,0,0,0,0,0,0,0,0,0,0,0,0,null," "," "," "," "," "," "," "," "," "," "," "," ",null,15,15,15,15,15,15,15,15,15,15,15,15,15,0,6,0,0,0,0,0,0,0,0,0,0,0]
[null,null,null,null,null,null,null,null,null,null,null,null,null,null,null,0,0,0,null,0,0,0,0,0,0,0,0,0,0,0,0,0,null," "," "," "," "," "," "," "," "," "," "," "," ",null,15,15,15,15,15,15,15,15,15,15,15,15,15,0,6,0,0,0,0,0,0,0,0,0,0,0]
[null,null,null,null,null,null,null,null,null,null,null,null,null,null,null,0,0,0,null,0,0,0,0,0,0,0,0,0,0,0,0,0,null," "," "," "," "," "," "," "," "," "," "," "," ",null,15,15,15,15,15,15,15,15,15,15,15,15,15,0,6,0,0,0,0,0,0,0,0,0,0,0]
[null,null,null,null,null,null,null,null,null,null,null,null,null,null,null,0,0,0,null,0,0,0,0,0,0,0,0,0,0,0,0,0,null," "," "," "," "," "," "," "," "," "," "," "," ",null,15,15,15,15,15,15,15,15,15,15,15,15,15,0,6,0,0,0,0,0,0,0,0,0,0,0]
[null,null,null,null,null,null,null,null,null,null,null,null,null,null,null,0,0,0,null,0,0,0,0,0,0,0,0,0,0,0,0,0,null," "," "," "," "," "," "," "," "," "," "," "," ",null,15,15,15,15,15,15,15,15,15,15,15,15,15,0,6,0,0,0,0,0,0,0,0,0,0,0]
[null,null,null,null,null,null,null,null,null,null,null,null,null,null,null,0,0,0,null,0,0,0,0,0,0,0,0,0,0,0,0,0,null," "," "," "," "," "," "," "," "," "," "," "," ",null,15,15,15,15,15,15,15,15,15,15,15,15,15,0,6,0,0,0,0,0,0,0,0,0,0,0]
[null,null,null,null,null,null,null,null,null,null,null,null,null,null,null,0,0,0,null,0,0,0,0,0,0,0,0,0,0,0,0,0,null," "," "," "," "," "," "," "," "," "," "," "," ",null,15,15,15,15,15,15,15,15,15,15,15,15,15,0,6,0,0,0,0,0,0,0,0,0,0,0]
[null,null,null,null,null,null,null,null,null,null,null,null,null,null,null,0,0,0,null,0,0,0,0,0,0,0,0,0,0,0,0,0,null," "," "," "," "," "," "," "," "," "," "," "," ",null,15,15,15,15,15,15,15,15,15,15,15,15,15,0,6,0,0,0,0,0,0,0,0,0,0,0]
[null,null,null,null,null,null,null,null,null,null,null,null,null,null,null,0,0,0,null,0,0,0,0,0,0,0,0,0,0,0,0,0,null," "," "," "," "," "," "," "," "," "," "," "," ",null,15,15,15,15,15,15,15,15,15,15,15,15,15,0,6,0,0,0,0,0,0,0,0,0,0,0]
[null,null,null,null,null,null,null,null,null,null,null,null,null,null,null,0,0,0,null,0,0,0,0,0,0,0,0,0,0,0,0,0,null," "," "," "," "," "," "," "," "," "," "," "," ",null,15,15,15,15,15,15,15,15,15,15,15,15,15,0,6,0,0,0,0,0,0,0,0,0,0,0]
[null,null,null,null,null,null,null,null,null,null,null,null,null,null,null,0,0,0,null,0,0,0,0,0,0,0,0,0,0,0,0,0,null," "," "," "," "," "," "," "," "," "," "," "," ",null,15,15,15,15,15,15,15,15,15,15,15,15,15,0,6,0,0,0,0,0,0,0,0,0,0,0]
[null,null,null,null,null,null,null,null,null,null,null,null,null,null,null,0,0,0,null,0,0,0,0,0,0,0,0,0,0,0,0,0,null," "," "," "," "," "," "," "," "," "," "," "," ",null,15,15,15,15,15,15,15,15,15,15,15,15,15,0,6,0,0,0,0,0,0,0,0,0,0,0]
[null,null,null,null,null,null,null,null,null,null,null,null,null,null,null,0,0,0,null,0,0,0,0,0,0,0,0,0,0,0,0,0,null," "," "," "," "," "," "," "," "," "," "," "," ",null,15,15,15,15,15,15,15,15,15,15,15,15,15,0,6,0,0,0,0,0,0,0,0,0,0,0]
[null,null,null,null,null,null,null,null,null,null,null,null,null,null,null,0,0,0,null,0,0,0,0,0,0,0,0,0,0,0,0,0,null," "," "," "," "," "," "," "," "," "," "," "," ",null,15,15,15,15,15,15,15,15,15,15,15,15,15,0,6,0,0,0,0,0,0,0,0,0,0,0]
[null,null,null,null,null,null,null,null,null,null,null,null,null,null,null,0,0,0,null,0,0,0,0,0,0,0,0,0,0,0,0,0,null," "," "," "," "," "," "," "," "," "," "," "," ",null,15,15,15,15,15,15,15,15,15,15,15,15,15,0,6,0,0,0,0,0,0,0,0,0,0,0]
[null,null,null,null,null,null,null,null,null,null,null,null,null,null,null,0,0,0,null,0,0,0,0,0,0,0,0,0,0,0,0,0,null," "," "," "," "," "," "," "," "," "," "," "," ",null,15,15,15,15,15,15,15,15,15,15,15,15,15,0,6,0,0,0,0,0,0,0,0,0,0,0]
[null,null,null,null,null,null,null,null,null,null,null,null,null,null,null,0,0,0,null,0,0,0,0,0,0,0,0,0,0,0,0,0,null," "," "," "," "," "," "," "," "," "," "," "," ",null,15,15,15,15,15,15,15,15,15,15,15,15,15,0,6,0,0,0,0,0,0,0,0,0,0,0]
[null,null,null,null,null,null,null,null,null,null,null,null,null,null,null,0,0,0,null,0,0,0,0,0,0,0,0,0,0,0,0,0,null," "," "," "," "," "," "," "," "," "," "," "," ",null,15,15,15,15,15,15,15,15,15,15,15,15,15,0,6,0,0,0,0,0,0,0,0,0,0,0]
[null,null,null,null,null,null,null,null,null,null,null,null,null,null,null,0,0,0,null,0,0,0,0,0,0,0,0,0,0,0,0,0,null," "," "," "," "," "," "," "," "," "," "," "," ",null,15,15,15,15,15,15,15,15,15,15,15,15,15,0,6,0,0,0,0,0,0,0,0,0,0,0]
[null,null,null,null,null,null,null,null,null,null,null,null,null,null,null,0,0,0,null,0,0,0,0,0,0,0,0,0,0,0,0,0,null," "," "," "," "," "," "," "," "," "," "," "," ",null,15,15,15,15,15,15,15,15,15,15,15,15,15,0,6,0,0,0,0,0,0,0,0,0,0,0]
[null,null,null,null,null,null,null,null,null,null,null,null,null,null,null,0,0,0,null,0,0,0,0,0,0,0,0,0,0,0,0,0,null," "," "," "," "," "," "," "," "," "," "," "," ",null,15,15,15,15,15,15,15,15,15,15,15,15,15,0,6,0,0,0,0,0,0,0,0,0,0,0]
[null,null,null,null,null,null,null,null,null,null,null,null,null,null,null,0,0,0,null,0,0,0,0,0,0,0,0,0,0,0,0,0,null," "," "," "," "," "," "," "," "," "," "," "," ",null,15,15,15,15,15,15,15,15,15,15,15,15,15,0,6,0,0,0,0,0,0,0,0,0,0,0]
[null,null,null,null,null,null,null,null,null,null,null,null,null,null,null,0,0,0,null,0,0,0,0,0,0,0,0,0,0,0,0,0,null," "," "," "," "," "," "," "," "," "," "," "," ",null,15,15,15,15,15,15,15,15,15,15,15,15,15,0,6,0,0,0,0,0,0,0,0,0,0,0]
[null,null,null,null,null,null,null,null,null,null,null,null,null,null,null,0,0,0,null,0,0,0,0,0,0,0,0,0,0,0,0,0,null," "," "," "," "," "," "," "," "," "," "," "," ",null,15,15,15,15,15,15,15,15,15,15,15,15,15,0,6,0,0,0,0,0,0,{"$f":"IF(AA762=$AF762,BP$6,0)","v":0},0,0,0,0]
[null,null,null,null,null,null,null,null,null,null,null,null,null,null,null,0,0,0,null,0,0,0,0,0,0,0,0,0,0,0,0,0,null," "," "," "," "," "," "," "," "," "," "," "," ",null,15,15,15,15,15,15,15,15,15,15,15,15,15,0,6,0,{"$f":"IF(V763=$AF763,BK$6,0)","v":0},0,0,0,0,0,0,0,0,0]
[null,null,null,null,null,null,null,null,null,null,null,null,null,null,null,0,0,0,null,0,0,0,0,0,0,0,0,0,0,0,0,0,null," "," "," "," "," "," "," "," "," "," "," "," ",null,15,15,15,15,15,15,15,15,15,15,15,15,15,0,6,0,0,0,0,0,0,0,0,0,0,0]
[null,null,null,null,null,null,null,null,null,null,null,null,null,null,null,0,0,0,null,0,0,0,0,0,0,0,0,0,0,0,0,0,null," "," "," "," "," "," "," "," "," "," "," "," ",null,15,15,15,15,15,15,15,15,15,15,15,15,15,0,6,0,0,0,0,0,0,0,0,0,0,0]
[null,null,null,null,null,null,null,null,null,null,null,null,null,null,null,0,0,0,null,0,0,0,0,0,0,0,0,0,0,0,0,0,null," "," "," "," "," "," "," "," "," "," "," "," ",null,15,15,15,15,15,15,15,15,15,15,15,15,15,0,6,0,0,0,0,0,0,0,0,0,0,0]
[null,null,null,null,null,null,null,null,null,null,null,null,null,null,null,0,0,0,null,0,0,0,0,0,0,0,0,0,0,0,0,0,null," "," "," "," "," "," "," "," "," "," "," "," ",null,15,15,15,15,15,15,15,15,15,15,15,15,15,0,6,0,0,0,0,0,0,0,0,0,0,0]
[null,null,null,null,null,null,null,null,null,null,null,null,null,null,null,0,0,0,null,0,0,0,0,0,0,0,0,0,0,0,0,0,null," "," "," "," "," "," "," "," "," "," "," "," ",null,15,15,15,15,15,15,15,15,15,15,15,15,15,0,6,0,0,0,0,0,0,0,0,0,0,0]
[null,null,null,null,null,null,null,null,null,null,null,null,null,null,null,0,0,0,null,0,0,0,0,0,0,0,0,0,0,0,0,0,null," "," "," "," "," "," "," "," "," "," "," "," ",null,15,15,15,15,15,15,15,15,15,15,15,15,15,0,6,0,0,0,0,0,0,0,0,0,0,0]
[null,null,null,null,null,null,null,null,null,null,null,null,null,null,null,0,0,0,null,0,0,0,0,0,0,0,0,0,0,0,0,0,null," "," "," "," "," "," "," "," "," "," "," "," ",null,15,15,15,15,15,15,15,15,15,15,15,15,15,0,6,0,0,0,0,0,0,0,0,0,0,0]
[null,null,null,null,null,null,null,null,null,null,null,null,null,null,null,0,0,0,null,0,0,0,0,0,0,0,0,0,0,0,0,0,null," "," "," "," "," "," "," "," "," "," "," "," ",null,15,15,15,15,15,15,15,15,15,15,15,15,15,0,6,0,0,0,0,0,0,0,0,0,0,0]
[null,null,null,null,null,null,null,null,null,null,null,null,null,null,null,0,0,0,null,0,0,0,0,0,0,0,0,0,0,0,0,0,null," "," "," "," "," "," "," "," "," "," "," "," ",null,15,15,15,15,15,15,15,15,15,15,15,15,15,0,6,0,0,0,0,0,0,0,0,0,0,0]
[null,null,null,null,null,null,null,null,null,null,null,null,null,null,null,0,0,0,null,0,0,0,0,0,0,0,0,0,0,0,0,0,null," "," "," "," "," "," "," "," "," "," "," "," ",null,15,15,15,15,15,15,15,15,15,15,15,15,15,0,6,0,0,0,0,0,0,0,0,0,0,0]
[null,null,null,null,null,null,null,null,null,null,null,null,null,null,null,0,0,0,null,0,0,0,0,0,0,0,0,0,0,0,0,0,null," "," "," "," "," "," "," "," "," "," "," "," ",null,15,15,15,15,15,15,15,15,15,15,15,15,15,0,6,0,0,0,0,0,0,0,0,0,0,0]
[null,null,null,null,null,null,null,null,null,null,null,null,null,null,null,0,0,{"$f":"MIN(AH775:AS775)","v":0},null,{"$f":"COUNTIF($F775:$O775,$T$6)","v":0},{"$f":"COUNTIF($F775:$O775,$U$6)","v":0},{"$f":"COUNTIF($F775:$O775,$V$6)","v":0},{"$f":"COUNTIF($F775:$O775,$W$6)","v":0},{"$f":"COUNTIF($F775:$O775,$X$6)","v":0},{"$f":"COUNTIF($F775:$O775,$Y$6)","v":0},{"$f":"COUNTIF($F775:$O775,$Z$6)","v":0},{"$f":"COUNTIF($F775:$O775,$AA$6)","v":0},{"$f":"COUNTIF($F775:$O775,$AB$6)","v":0},{"$f":"COUNTIF($F775:$O775,$AC$6)","v":0},{"$f":"COUNTIF($F775:$O775,$AD$6)","v":0},{"$f":"COUNTIF($F775:$O775,$AE$6)","v":0},0,null," "," "," "," "," "," "," "," "," "," "," "," ",null,15,15,15,15,15,15,15,15,15,15,15,15,15,0,6,0,0,0,0,0,0,0,0,0,0,0]
[null,null,null,null,null,null,null,null,null,null,null,null,null,null,null,{"$f":"COUNTIF(F776:O776,\">0.8\")","v":0},{"$f":"IF(R776=0,(IF($R$2=1,BH776,0)),R776)","v":0},0,null,0,0,0,0,0,0,0,0,0,0,0,0,{"$f":"MAX(T776:AE776)","v":0},null," "," "," "," "," "," "," "," "," "," "," "," ",null,15,15,15,15,15,15,15,15,15,15,15,15,{"$f":"MIN(AU776:BF776)","v":15},{"$f":"IF(P776>=BG776,MAX(BI776:BT776),0)","v":0},{"$f":"IF(T776=$AF776,BI$6,0)","v":6},{"$f":"IF(U776=$AF776,BJ775,0)","v":0},0,0,0,0,0,0,0,0,0,0]
[null,null,null,null,null,null,null,null,null,null,null,null,null,null,null,0,0,0,null,0,0,0,0,0,0,0,0,0,0,0,0,0,null," "," "," "," "," "," "," "," "," "," "," "," ",null,15,15,15,15,15,15,15,15,15,15,15,15,15,0,6,0,0,0,0,0,0,0,0,0,0,0]
[null,null,null,null,null,null,null,null,null,null,null,null,null,null,null,0,0,0,null,0,0,0,0,0,0,0,0,0,0,0,0,0,null," "," "," "," "," "," "," "," "," "," "," "," ",null,15,15,15,15,15,15,15,15,15,15,15,15,15,0,6,0,0,0,0,0,0,0,0,0,0,0]
[null,null,null,null,null,null,null,null,null,null,null,null,null,null,null,0,0,0,null,0,0,0,0,0,0,0,0,0,0,0,0,0,null," "," "," "," "," "," "," "," "," "," "," "," ",null,15,15,15,15,15,15,15,15,15,15,15,15,15,0,6,0,0,0,0,0,0,0,0,0,0,0]
[null,null,null,null,null,null,null,null,null,null,null,null,null,null,null,0,0,0,null,0,0,0,0,0,0,0,0,0,0,0,0,0,null," "," "," "," "," "," "," "," "," "," "," "," ",null,15,15,15,15,15,15,15,15,15,15,15,15,15,0,6,0,0,0,0,0,0,0,0,0,0,0]
[null,null,null,null,null,null,null,null,null,null,null,null,null,null,null,0,0,0,null,0,0,0,0,0,0,0,0,0,0,0,0,0,null," "," "," "," "," "," "," "," "," "," "," "," ",null,15,15,15,15,15,15,15,15,15,15,15,15,15,0,6,0,0,0,0,0,0,0,0,0,0,0]
[null,null,null,null,null,null,null,null,null,null,null,null,null,null,null,0,0,0,null,0,0,0,0,0,0,0,0,0,0,0,0,0,null," "," "," "," "," "," "," "," "," "," "," "," ",null,15,15,15,15,15,15,15,15,15,15,15,15,15,0,6,0,0,0,0,0,0,0,0,0,0,0]
[null,null,null,null,null,null,null,null,null,null,null,null,null,null,null,0,0,0,null,0,0,0,0,0,0,0,0,0,0,0,0,0,null," "," "," "," "," "," "," "," "," "," "," "," ",null,15,15,15,15,15,15,15,15,15,15,15,15,15,0,6,0,0,0,0,0,0,0,0,0,0,0]
[null,null,null,null,null,null,null,null,null,null,null,null,null,null,null,0,0,0,null,0,0,0,0,0,0,0,0,0,0,0,0,0,null," "," "," "," "," "," "," "," "," "," "," "," ",null,15,15,15,15,15,15,15,15,15,15,15,15,15,0,6,0,0,0,0,0,0,0,0,0,0,0]
[null,null,null,null,null,null,null,null,null,null,null,null,null,null,null,0,0,0,null,0,0,0,0,0,0,0,0,0,0,0,0,0,null," "," "," "," "," "," "," "," "," "," "," "," ",null,15,15,15,15,15,15,15,15,15,15,15,15,15,0,6,0,0,0,0,0,0,0,0,0,0,0]
[null,null,null,null,null,null,null,null,null,null,null,null,null,null,null,0,0,0,null,0,0,0,0,0,0,0,0,0,0,0,0,0,null," "," "," "," "," "," "," "," "," "," "," "," ",null,15,15,15,15,15,15,15,15,15,15,15,15,15,0,6,0,0,0,0,0,0,0,0,0,0,0]
[null,null,null,null,null,null,null,null,null,null,null,null,null,null,null,0,0,0,null,0,0,0,0,0,0,0,0,0,0,0,0,0,null," "," "," "," "," "," "," "," "," "," "," "," ",null,15,15,15,15,15,15,15,15,15,15,15,15,15,0,6,0,0,0,0,0,0,0,0,0,0,0]
[null,null,null,null,null,null,null,null,null,null,null,null,null,null,null,0,0,0,null,0,0,0,0,0,0,0,0,0,0,0,0,0,null," "," "," "," "," "," "," "," "," "," "," "," ",null,15,15,15,15,15,15,15,15,15,15,15,15,15,0,6,0,0,0,0,0,0,0,0,0,0,0]
[null,null,null,null,null,null,null,null,null,null,null,null,null,null,null,0,0,0,null,0,0,0,0,0,0,0,0,0,0,0,0,0,null," "," "," "," "," "," "," "," "," "," "," "," ",null,15,15,15,15,15,15,15,15,15,15,15,15,15,0,6,0,0,0,0,0,0,0,0,0,0,0]
[null,null,null,null,null,null,null,null,null,null,null,null,null,null,null,0,0,0,null,0,0,0,0,0,0,0,0,0,0,0,0,0,null," "," "," "," "," "," "," "," "," "," "," "," ",null,15,15,15,15,15,15,15,15,15,15,15,15,15,0,6,0,0,0,0,0,0,0,0,0,0,0]
[null,null,null,null,null,null,null,null,null,null,null,null,null,null,null,0,0,0,null,0,0,0,0,0,0,0,0,0,0,0,0,0,null," "," "," "," "," "," "," "," "," "," "," "," ",null,15,15,15,15,15,15,15,15,15,15,15,15,15,0,6,0,0,0,0,0,0,0,0,0,0,0]
[null,null,null,null,null,null,null,null,null,null,null,null,null,null,null,0,0,0,null,0,0,0,0,0,0,0,0,0,0,0,0,0,null," "," "," "," "," "," "," "," "," "," "," "," ",null,15,15,15,15,15,15,15,15,15,15,15,15,15,0,6,0,0,0,0,0,0,0,0,0,0,0]
[null,null,null,null,null,null,null,null,null,null,null,null,null,null,null,0,0,0,null,0,0,0,0,0,0,0,0,0,0,0,0,0,null," "," "," "," "," "," "," "," "," "," "," "," ",null,15,15,15,15,15,15,15,15,15,15,15,15,15,0,6,0,0,0,0,0,0,0,0,0,0,0]
[null,null,null,null,null,null,null,null,null,null,null,null,null,null,null,0,0,0,null,0,0,0,0,0,0,0,0,0,0,0,0,0,null," "," "," "," "," "," "," "," "," "," "," "," ",null,15,15,15,15,15,15,15,15,15,15,15,15,15,0,6,0,0,0,0,0,0,0,0,0,0,0]
[null,null,null,null,null,null,null,null,null,null,null,null,null,null,null,0,0,0,null,0,0,0,0,0,0,0,0,0,0,0,0,0,null," "," "," "," "," "," "," "," "," "," "," "," ",null,15,15,15,15,15,15,15,15,15,15,15,15,15,0,6,0,0,0,0,0,0,0,0,0,0,0]
[null,null,null,null,null,null,null,null,null,null,null,null,null,null,null,0,0,0,null,0,0,0,0,0,0,0,0,0,0,0,0,0,null," "," "," "," "," "," "," "," "," "," "," "," ",null,15,15,15,15,15,15,15,15,15,15,15,15,15,0,6,0,0,0,0,0,0,0,0,0,0,0]
[null,null,null,null,null,null,null,null,null,null,null,null,null,null,null,0,0,0,null,0,0,0,0,0,0,0,0,0,0,0,0,0,null," "," "," "," "," "," "," "," "," "," "," "," ",null,15,15,15,15,15,15,15,15,15,15,15,15,15,0,6,0,0,0,0,0,0,0,0,0,0,0]
[null,null,null,null,null,null,null,null,null,null,null,null,null,null,null,0,0,0,null,0,0,0,0,0,0,0,0,0,0,0,0,0,null," "," "," "," "," "," "," "," "," "," "," "," ",null,15,15,15,15,15,15,15,15,15,15,15,15,15,0,6,0,0,0,0,0,0,0,0,0,0,0]
[null,null,null,null,null,null,null,null,null,null,null,null,null,null,null,0,0,0,null,0,0,0,0,0,0,0,0,0,0,0,0,0,null," "," "," "," "," "," "," "," "," "," "," "," ",null,15,15,15,15,15,15,15,15,15,15,15,15,15,0,6,0,0,0,0,0,0,0,0,0,0,0]
[null,null,null,null,null,null,null,null,null,null,null,null,null,null,null,0,0,0,null,0,0,0,0,0,0,0,0,0,0,0,0,0,null," "," "," "," "," "," "," "," "," "," "," "," ",null,15,15,15,15,15,15,15,15,15,15,15,15,15,0,6,0,0,0,0,0,0,0,0,0,0,0]
[null,null,null,null,null,null,null,null,null,null,null,null,null,null,null,0,0,0,null,0,0,0,0,0,0,0,0,0,0,0,0,0,null," "," "," "," "," "," "," "," "," "," "," "," ",null,15,15,15,15,15,15,15,15,15,15,15,15,15,0,6,0,0,0,0,0,0,0,0,0,0,0]
[null,null,null,null,null,null,null,null,null,null,null,null,null,null,null,0,0,0,null,0,0,0,0,0,0,0,0,0,0,0,0,0,null," "," "," "," "," "," "," "," "," "," "," "," ",null,15,15,15,15,15,15,15,15,15,15,15,15,15,0,6,0,0,0,0,0,0,0,0,0,0,0]
[null,null,null,null,null,null,null,null,null,null,null,null,null,null,null,0,0,0,null,0,0,0,0,0,0,0,0,0,0,0,0,0,null," "," "," "," "," "," "," "," "," "," "," "," ",null,15,15,15,15,15,15,15,15,15,15,15,15,15,0,6,0,0,0,0,0,0,0,0,0,0,0]
[null,null,null,null,null,null,null,null,null,null,null,null,null,null,null,0,0,0,null,0,0,0,0,0,0,0,0,0,0,0,0,0,null," "," "," "," "," "," "," "," "," "," "," "," ",null,15,15,15,15,15,15,15,15,15,15,15,15,15,0,6,0,0,0,0,0,0,0,0,0,0,0]
[null,null,null,null,null,null,null,null,null,null,null,null,null,null,null,0,0,0,null,0,0,0,0,0,0,0,0,0,0,0,0,0,null," "," "," "," "," "," "," "," "," "," "," "," ",null,15,15,15,15,15,15,15,15,15,15,15,15,15,0,6,0,0,0,0,0,0,0,0,0,0,0]
[null,null,null,null,null,null,null,null,null,null,null,null,null,null,null,0,0,0,null,0,0,0,0,0,0,0,0,0,0,0,0,0,null," "," "," "," "," "," "," "," "," "," "," "," ",null,15,15,15,15,15,15,15,15,15,15,15,15,15,0,6,0,0,0,0,0,0,0,0,0,0,0]
[null,null,null,null,null,null,null,null,null,null,null,null,null,null,null,0,0,0,null,0,0,0,0,0,0,0,0,0,0,0,0,0,null," "," "," "," "," "," "," "," "," "," "," "," ",null,15,15,15,15,15,15,15,15,15,15,15,15,15,0,6,0,0,0,0,0,0,0,0,0,0,0]
[null,null,null,null,null,null,null,null,null,null,null,null,null,null,null,0,0,0,null,0,0,0,0,0,0,0,0,0,0,0,0,0,null," "," "," "," "," "," "," "," "," "," "," "," ",null,15,15,15,15,15,15,15,15,15,15,15,15,15,0,6,0,0,0,0,0,0,0,0,0,0,0]
[null,null,null,null,null,null,null,null,null,null,null,null,null,null,null,0,0,0,null,0,0,0,0,0,0,0,0,0,0,0,0,0,null," "," "," "," "," "," "," "," "," "," "," "," ",null,15,15,15,15,15,15,15,15,15,15,15,15,15,0,6,0,0,0,0,0,0,0,0,0,0,0]
[null,null,null,null,null,null,null,null,null,null,null,null,null,null,null,0,0,0,null,0,0,0,0,0,0,0,0,0,0,0,0,0,null," "," "," "," "," "," "," "," "," "," "," "," ",null,15,15,15,15,15,15,15,15,15,15,15,15,15,0,6,0,0,0,0,0,0,0,0,0,0,0]
[null,null,null,null,null,null,null,null,null,null,null,null,null,null,null,0,0,0,null,0,0,0,0,0,0,0,0,0,0,0,0,0,null," "," "," "," "," "," "," "," "," "," "," "," ",null,15,15,15,15,15,15,15,15,15,15,15,15,15,0,6,0,0,0,0,0,0,0,0,0,0,0]
[null,null,null,null,null,null,null,null,null,null,null,null,null,null,null,0,0,0,null,0,0,0,0,0,0,0,0,0,0,0,0,0,null," "," "," "," "," "," "," "," "," "," "," "," ",null,15,15,15,15,15,15,15,15,15,15,15,15,15,0,6,0,0,0,0,0,0,0,0,0,0,0]
[null,null,null,null,null,null,null,null,null,null,null,null,null,null,null,0,0,0,null,0,0,0,0,0,0,0,0,0,0,0,0,0,null," "," "," "," "," "," "," "," "," "," "," "," ",null,15,15,15,15,15,15,15,15,15,15,15,15,15,0,6,0,0,0,0,0,0,{"$f":"IF(AA813=$AF813,BP$6,0)","v":0},0,0,0,0]
[null,null,null,null,null,null,null,null,null,null,null,null,null,null,null,0,0,0,null,0,0,0,0,0,0,0,0,0,0,0,0,0,null," "," "," "," "," "," "," "," "," "," "," "," ",null,15,15,15,15,15,15,15,15,15,15,15,15,15,0,6,0,{"$f":"IF(V814=$AF814,BK$6,0)","v":0},0,0,0,0,0,0,0,0,0]
[null,null,null,null,null,null,null,null,null,null,null,null,null,null,null,0,0,0,null,0,0,0,0,0,0,0,0,0,0,0,0,0,null," "," "," "," "," "," "," "," "," "," "," "," ",null,15,15,15,15,15,15,15,15,15,15,15,15,15,0,6,0,0,0,0,0,0,0,0,0,0,0]
[null,null,null,null,null,null,null,null,null,null,null,null,null,null,null,0,0,0,null,0,0,0,0,0,0,0,0,0,0,0,0,0,null," "," "," "," "," "," "," "," "," "," "," "," ",null,15,15,15,15,15,15,15,15,15,15,15,15,15,0,6,0,0,0,0,0,0,0,0,0,0,0]
[null,null,null,null,null,null,null,null,null,null,null,null,null,null,null,0,0,0,null,0,0,0,0,0,0,0,0,0,0,0,0,0,null," "," "," "," "," "," "," "," "," "," "," "," ",null,15,15,15,15,15,15,15,15,15,15,15,15,15,0,6,0,0,0,0,0,0,0,0,0,0,0]
[null,null,null,null,null,null,null,null,null,null,null,null,null,null,null,0,0,0,null,0,0,0,0,0,0,0,0,0,0,0,0,0,null," "," "," "," "," "," "," "," "," "," "," "," ",null,15,15,15,15,15,15,15,15,15,15,15,15,15,0,6,0,0,0,0,0,0,0,0,0,0,0]
[null,null,null,null,null,null,null,null,null,null,null,null,null,null,null,0,0,0,null,0,0,0,0,0,0,0,0,0,0,0,0,0,null," "," "," "," "," "," "," "," "," "," "," "," ",null,15,15,15,15,15,15,15,15,15,15,15,15,15,0,6,0,0,0,0,0,0,0,0,0,0,0]
[null,null,null,null,null,null,null,null,null,null,null,null,null,null,null,0,0,0,null,0,0,0,0,0,0,0,0,0,0,0,0,0,null," "," "," "," "," "," "," "," "," "," "," "," ",null,15,15,15,15,15,15,15,15,15,15,15,15,15,0,6,0,0,0,0,0,0,0,0,0,0,0]
[null,null,null,null,null,null,null,null,null,null,null,null,null,null,null,0,0,0,null,0,0,0,0,0,0,0,0,0,0,0,0,0,null," "," "," "," "," "," "," "," "," "," "," "," ",null,15,15,15,15,15,15,15,15,15,15,15,15,15,0,6,0,0,0,0,0,0,0,0,0,0,0]
[null,null,null,null,null,null,null,null,null,null,null,null,null,null,null,0,0,0,null,0,0,0,0,0,0,0,0,0,0,0,0,0,null," "," "," "," "," "," "," "," "," "," "," "," ",null,15,15,15,15,15,15,15,15,15,15,15,15,15,0,6,0,0,0,0,0,0,0,0,0,0,0]
[null,null,null,null,null,null,null,null,null,null,null,null,null,null,null,0,0,0,null,0,0,0,0,0,0,0,0,0,0,0,0,0,null," "," "," "," "," "," "," "," "," "," "," "," ",null,15,15,15,15,15,15,15,15,15,15,15,15,15,0,6,0,0,0,0,0,0,0,0,0,0,0]
[null,null,null,null,null,null,null,null,null,null,null,null,null,null,null,0,0,0,null,0,0,0,0,0,0,0,0,0,0,0,0,0,null," "," "," "," "," "," "," "," "," "," "," "," ",null,15,15,15,15,15,15,15,15,15,15,15,15,15,0,6,0,0,0,0,0,0,0,0,0,0,0]
[null,null,null,null,null,null,null,null,null,null,null,null,null,null,null,0,0,0,null,0,0,0,0,0,0,0,0,0,0,0,0,0,null," "," "," "," "," "," "," "," "," "," "," "," ",null,15,15,15,15,15,15,15,15,15,15,15,15,15,0,6,0,0,0,0,0,0,0,0,0,0,0]
[null,null,null,null,null,null,null,null,null,null,null,null,null,null,null,0,0,0,null,0,0,0,0,0,0,0,0,0,0,0,0,0,null," "," "," "," "," "," "," "," "," "," "," "," ",null,15,15,15,15,15,15,15,15,15,15,15,15,15,0,6,0,0,0,0,0,0,0,0,0,0,0]
[null,null,null,null,null,null,null,null,null,null,null,null,null,null,null,0,0,0,null,0,0,0,0,0,0,0,0,0,0,0,0,0,null," "," "," "," "," "," "," "," "," "," "," "," ",null,15,15,15,15,15,15,15,15,15,15,15,15,15,0,6,0,0,0,0,0,0,0,0,0,0,0]
[null,null,null,null,null,null,null,null,null,null,null,null,null,null,null,0,0,0,null,0,0,0,0,0,0,0,0,0,0,0,0,0,null," "," "," "," "," "," "," "," "," "," "," "," ",null,15,15,15,15,15,15,15,15,15,15,15,15,15,0,6,0,0,0,0,0,0,0,0,0,0,0]
[null,null,null,null,null,null,null,null,null,null,null,null,null,null,null,0,0,0,null,0,0,0,0,0,0,0,0,0,0,0,0,0,null," "," "," "," "," "," "," "," "," "," "," "," ",null,15,15,15,15,15,15,15,15,15,15,15,15,15,0,6,0,0,0,0,0,0,0,0,0,0,0]
[null,null,null,null,null,null,null,null,null,null,null,null,null,null,null,0,0,0,null,0,0,0,0,0,0,0,0,0,0,0,0,0,null," "," "," "," "," "," "," "," "," "," "," "," ",null,15,15,15,15,15,15,15,15,15,15,15,15,15,0,6,0,0,0,0,0,0,0,0,0,0,0]
[null,null,null,null,null,null,null,null,null,null,null,null,null,null,null,0,0,0,null,0,0,0,0,0,0,0,0,0,0,0,0,0,null," "," "," "," "," "," "," "," "," "," "," "," ",null,15,15,15,15,15,15,15,15,15,15,15,15,15,0,6,0,0,0,0,0,0,0,0,0,0,0]
[null,null,null,null,null,null,null,null,null,null,null,null,null,null,null,0,0,0,null,0,0,0,0,0,0,0,0,0,0,0,0,0,null," "," "," "," "," "," "," "," "," "," "," "," ",null,15,15,15,15,15,15,15,15,15,15,15,15,15,0,6,0,0,0,0,0,0,0,0,0,0,0]
[null,null,null,null,null,null,null,null,null,null,null,null,null,null,null,0,0,0,null,0,0,0,0,0,0,0,0,0,0,0,0,0,null," "," "," "," "," "," "," "," "," "," "," "," ",null,15,15,15,15,15,15,15,15,15,15,15,15,15,0,6,0,0,0,0,0,0,0,0,0,0,0]
[null,null,null,null,null,null,null,null,null,null,null,null,null,null,null,0,0,0,null,0,0,0,0,0,0,0,0,0,0,0,0,0,null," "," "," "," "," "," "," "," "," "," "," "," ",null,15,15,15,15,15,15,15,15,15,15,15,15,15,0,6,0,0,0,0,0,0,0,0,0,0,0]
[null,null,null,null,null,null,null,null,null,null,null,null,null,null,null,0,0,0,null,0,0,0,0,0,0,0,0,0,0,0,0,0,null," "," "," "," "," "," "," "," "," "," "," "," ",null,15,15,15,15,15,15,15,15,15,15,15,15,15,0,6,0,0,0,0,0,0,0,0,0,0,0]
[null,null,null,null,null,null,null,null,null,null,null,null,null,null,null,0,0,0,null,0,0,0,0,0,0,0,0,0,0,0,0,0,null," "," "," "," "," "," "," "," "," "," "," "," ",null,15,15,15,15,15,15,15,15,15,15,15,15,15,0,6,0,0,0,0,0,0,0,0,0,0,0]
[null,null,null,null,null,null,null,null,null,null,null,null,null,null,null,0,0,0,null,0,0,0,0,0,0,0,0,0,0,0,0,0,null," "," "," "," "," "," "," "," "," "," "," "," ",null,15,15,15,15,15,15,15,15,15,15,15,15,15,0,6,0,0,0,0,0,0,0,0,0,0,0]
[null,null,null,null,null,null,null,null,null,null,null,null,null,null,null,0,0,0,null,0,0,0,0,0,0,0,0,0,0,0,0,0,null," "," "," "," "," "," "," "," "," "," "," "," ",null,15,15,15,15,15,15,15,15,15,15,15,15,15,0,6,0,0,0,0,0,0,0,0,0,0,0]
[null,null,null,null,null,null,null,null,null,null,null,null,null,null,null,0,0,{"$f":"MIN(AH839:AS839)","v":0},null,{"$f":"COUNTIF($F839:$O839,$T$6)","v":0},{"$f":"COUNTIF($F839:$O839,$U$6)","v":0},{"$f":"COUNTIF($F839:$O839,$V$6)","v":0},{"$f":"COUNTIF($F839:$O839,$W$6)","v":0},{"$f":"COUNTIF($F839:$O839,$X$6)","v":0},{"$f":"COUNTIF($F839:$O839,$Y$6)","v":0},{"$f":"COUNTIF($F839:$O839,$Z$6)","v":0},{"$f":"COUNTIF($F839:$O839,$AA$6)","v":0},{"$f":"COUNTIF($F839:$O839,$AB$6)","v":0},{"$f":"COUNTIF($F839:$O839,$AC$6)","v":0},{"$f":"COUNTIF($F839:$O839,$AD$6)","v":0},{"$f":"COUNTIF($F839:$O839,$AE$6)","v":0},0,null," "," "," "," "," "," "," "," "," "," "," "," ",null,15,15,15,15,15,15,15,15,15,15,15,15,15,0,6,0,0,0,0,0,0,0,0,0,0,0]
[null,null,null,null,null,null,null,null,null,null,null,null,null,null,null,{"$f":"COUNTIF(F840:O840,\">0.8\")","v":0},{"$f":"IF(R840=0,(IF($R$2=1,BH840,0)),R840)","v":0},0,null,0,0,0,0,0,0,0,0,0,0,0,0,{"$f":"MAX(T840:AE840)","v":0},null," "," "," "," "," "," "," "," "," "," "," "," ",null,15,15,15,15,15,15,15,15,15,15,15,15,{"$f":"MIN(AU840:BF840)","v":15},{"$f":"IF(P840>=BG840,MAX(BI840:BT840),0)","v":0},{"$f":"IF(T840=$AF840,BI$6,0)","v":6},{"$f":"IF(U840=$AF840,BJ839,0)","v":0},0,0,0,0,0,0,0,0,0,0]
[null,null,null,null,null,null,null,null,null,null,null,null,null,null,null,0,0,0,null,0,0,0,0,0,0,0,0,0,0,0,0,0,null," "," "," "," "," "," "," "," "," "," "," "," ",null,15,15,15,15,15,15,15,15,15,15,15,15,15,0,6,0,0,0,0,0,0,0,0,0,0,0]
[null,null,null,null,null,null,null,null,null,null,null,null,null,null,null,0,0,0,null,0,0,0,0,0,0,0,0,0,0,0,0,0,null," "," "," "," "," "," "," "," "," "," "," "," ",null,15,15,15,15,15,15,15,15,15,15,15,15,15,0,6,0,0,0,0,0,0,0,0,0,0,0]
[null,null,null,null,null,null,null,null,null,null,null,null,null,null,null,0,0,0,null,0,0,0,0,0,0,0,0,0,0,0,0,0,null," "," "," "," "," "," "," "," "," "," "," "," ",null,15,15,15,15,15,15,15,15,15,15,15,15,15,0,6,0,0,0,0,0,0,0,0,0,0,0]
[null,null,null,null,null,null,null,null,null,null,null,null,null,null,null,0,0,0,null,0,0,0,0,0,0,0,0,0,0,0,0,0,null," "," "," "," "," "," "," "," "," "," "," "," ",null,15,15,15,15,15,15,15,15,15,15,15,15,15,0,6,0,0,0,0,0,0,0,0,0,0,0]
[null,null,null,null,null,null,null,null,null,null,null,null,null,null,null,0,0,0,null,0,0,0,0,0,0,0,0,0,0,0,0,0,null," "," "," "," "," "," "," "," "," "," "," "," ",null,15,15,15,15,15,15,15,15,15,15,15,15,15,0,6,0,0,0,0,0,0,0,0,0,0,0]
[null,null,null,null,null,null,null,null,null,null,null,null,null,null,null,0,0,0,null,0,0,0,0,0,0,0,0,0,0,0,0,0,null," "," "," "," "," "," "," "," "," "," "," "," ",null,15,15,15,15,15,15,15,15,15,15,15,15,15,0,6,0,0,0,0,0,0,0,0,0,0,0]
[null,null,null,null,null,null,null,null,null,null,null,null,null,null,null,0,0,0,null,0,0,0,0,0,0,0,0,0,0,0,0,0,null," "," "," "," "," "," "," "," "," "," "," "," ",null,15,15,15,15,15,15,15,15,15,15,15,15,15,0,6,0,0,0,0,0,0,0,0,0,0,0]
[null,null,null,null,null,null,null,null,null,null,null,null,null,null,null,0,0,0,null,0,0,0,0,0,0,0,0,0,0,0,0,0,null," "," "," "," "," "," "," "," "," "," "," "," ",null,15,15,15,15,15,15,15,15,15,15,15,15,15,0,6,0,0,0,0,0,0,0,0,0,0,0]
[null,null,null,null,null,null,null,null,null,null,null,null,null,null,null,0,0,0,null,0,0,0,0,0,0,0,0,0,0,0,0,0,null," "," "," "," "," "," "," "," "," "," "," "," ",null,15,15,15,15,15,15,15,15,15,15,15,15,15,0,6,0,0,0,0,0,0,0,0,0,0,0]
[null,null,null,null,null,null,null,null,null,null,null,null,null,null,null,0,0,0,null,0,0,0,0,0,0,0,0,0,0,0,0,0,null," "," "," "," "," "," "," "," "," "," "," "," ",null,15,15,15,15,15,15,15,15,15,15,15,15,15,0,6,0,0,0,0,0,0,0,0,0,0,0]
[null,null,null,null,null,null,null,null,null,null,null,null,null,null,null,0,0,0,null,0,0,0,0,0,0,0,0,0,0,0,0,0,null," "," "," "," "," "," "," "," "," "," "," "," ",null,15,15,15,15,15,15,15,15,15,15,15,15,15,0,6,0,0,0,0,0,0,0,0,0,0,0]
[null,null,null,null,null,null,null,null,null,null,null,null,null,null,null,0,0,0,null,0,0,0,0,0,0,0,0,0,0,0,0,0,null," "," "," "," "," "," "," "," "," "," "," "," ",null,15,15,15,15,15,15,15,15,15,15,15,15,15,0,6,0,0,0,0,0,0,0,0,0,0,0]
[null,null,null,null,null,null,null,null,null,null,null,null,null,null,null,0,0,0,null,0,0,0,0,0,0,0,0,0,0,0,0,0,null," "," "," "," "," "," "," "," "," "," "," "," ",null,15,15,15,15,15,15,15,15,15,15,15,15,15,0,6,0,0,0,0,0,0,0,0,0,0,0]
[null,null,null,null,null,null,null,null,null,null,null,null,null,null,null,0,0,0,null,0,0,0,0,0,0,0,0,0,0,0,0,0,null," "," "," "," "," "," "," "," "," "," "," "," ",null,15,15,15,15,15,15,15,15,15,15,15,15,15,0,6,0,0,0,0,0,0,0,0,0,0,0]
[null,null,null,null,null,null,null,null,null,null,null,null,null,null,null,0,0,0,null,0,0,0,0,0,0,0,0,0,0,0,0,0,null," "," "," "," "," "," "," "," "," "," "," "," ",null,15,15,15,15,15,15,15,15,15,15,15,15,15,0,6,0,0,0,0,0,0,0,0,0,0,0]
[null,null,null,null,null,null,null,null,null,null,null,null,null,null,null,0,0,0,null,0,0,0,0,0,0,0,0,0,0,0,0,0,null," "," "," "," "," "," "," "," "," "," "," "," ",null,15,15,15,15,15,15,15,15,15,15,15,15,15,0,6,0,0,0,0,0,0,0,0,0,0,0]
[null,null,null,null,null,null,null,null,null,null,null,null,null,null,null,0,0,0,null,0,0,0,0,0,0,0,0,0,0,0,0,0,null," "," "," "," "," "," "," "," "," "," "," "," ",null,15,15,15,15,15,15,15,15,15,15,15,15,15,0,6,0,0,0,0,0,0,0,0,0,0,0]
[null,null,null,null,null,null,null,null,null,null,null,null,null,null,null,0,0,0,null,0,0,0,0,0,0,0,0,0,0,0,0,0,null," "," "," "," "," "," "," "," "," "," "," "," ",null,15,15,15,15,15,15,15,15,15,15,15,15,15,0,6,0,0,0,0,0,0,0,0,0,0,0]
[null,null,null,null,null,null,null,null,null,null,null,null,null,null,null,0,0,0,null,0,0,0,0,0,0,0,0,0,0,0,0,0,null," "," "," "," "," "," "," "," "," "," "," "," ",null,15,15,15,15,15,15,15,15,15,15,15,15,15,0,6,0,0,0,0,0,0,0,0,0,0,0]
[null,null,null,null,null,null,null,null,null,null,null,null,null,null,null,0,0,0,null,0,0,0,0,0,0,0,0,0,0,0,0,0,null," "," "," "," "," "," "," "," "," "," "," "," ",null,15,15,15,15,15,15,15,15,15,15,15,15,15,0,6,0,0,0,0,0,0,0,0,0,0,0]
[null,null,null,null,null,null,null,null,null,null,null,null,null,null,null,0,0,0,null,0,0,0,0,0,0,0,0,0,0,0,0,0,null," "," "," "," "," "," "," "," "," "," "," "," ",null,15,15,15,15,15,15,15,15,15,15,15,15,15,0,6,0,0,0,0,0,0,0,0,0,0,0]
[null,null,null,null,null,null,null,null,null,null,null,null,null,null,null,0,0,0,null,0,0,0,0,0,0,0,0,0,0,0,0,0,null," "," "," "," "," "," "," "," "," "," "," "," ",null,15,15,15,15,15,15,15,15,15,15,15,15,15,0,6,0,0,0,0,0,0,0,0,0,0,0]
[null,null,null,null,null,null,null,null,null,null,null,null,null,null,null,0,0,0,null,0,0,0,0,0,0,0,0,0,0,0,0,0,null," "," "," "," "," "," "," "," "," "," "," "," ",null,15,15,15,15,15,15,15,15,15,15,15,15,15,0,6,0,0,0,0,0,0,0,0,0,0,0]
[null,null,null,null,null,null,null,null,null,null,null,null,null,null,null,0,0,0,null,0,0,0,0,0,0,0,0,0,0,0,0,0,null," "," "," "," "," "," "," "," "," "," "," "," ",null,15,15,15,15,15,15,15,15,15,15,15,15,15,0,6,0,0,0,0,0,0,{"$f":"IF(AA864=$AF864,BP$6,0)","v":0},0,0,0,0]
[null,null,null,null,null,null,null,null,null,null,null,null,null,null,null,0,0,0,null,0,0,0,0,0,0,0,0,0,0,0,0,0,null," "," "," "," "," "," "," "," "," "," "," "," ",null,15,15,15,15,15,15,15,15,15,15,15,15,15,0,6,0,{"$f":"IF(V865=$AF865,BK$6,0)","v":0},0,0,0,0,0,0,0,0,0]
[null,null,null,null,null,null,null,null,null,null,null,null,null,null,null,0,0,0,null,0,0,0,0,0,0,0,0,0,0,0,0,0,null," "," "," "," "," "," "," "," "," "," "," "," ",null,15,15,15,15,15,15,15,15,15,15,15,15,15,0,6,0,0,0,0,0,0,0,0,0,0,0]
[null,null,null,null,null,null,null,null,null,null,null,null,null,null,null,0,0,0,null,0,0,0,0,0,0,0,0,0,0,0,0,0,null," "," "," "," "," "," "," "," "," "," "," "," ",null,15,15,15,15,15,15,15,15,15,15,15,15,15,0,6,0,0,0,0,0,0,0,0,0,0,0]
[null,null,null,null,null,null,null,null,null,null,null,null,null,null,null,0,0,0,null,0,0,0,0,0,0,0,0,0,0,0,0,0,null," "," "," "," "," "," "," "," "," "," "," "," ",null,15,15,15,15,15,15,15,15,15,15,15,15,15,0,6,0,0,0,0,0,0,0,0,0,0,0]
[null,null,null,null,null,null,null,null,null,null,null,null,null,null,null,0,0,0,null,0,0,0,0,0,0,0,0,0,0,0,0,0,null," "," "," "," "," "," "," "," "," "," "," "," ",null,15,15,15,15,15,15,15,15,15,15,15,15,15,0,6,0,0,0,0,0,0,0,0,0,0,0]
[null,null,null,null,null,null,null,null,null,null,null,null,null,null,null,0,0,0,null,0,0,0,0,0,0,0,0,0,0,0,0,0,null," "," "," "," "," "," "," "," "," "," "," "," ",null,15,15,15,15,15,15,15,15,15,15,15,15,15,0,6,0,0,0,0,0,0,0,0,0,0,0]
[null,null,null,null,null,null,null,null,null,null,null,null,null,null,null,0,0,0,null,0,0,0,0,0,0,0,0,0,0,0,0,0,null," "," "," "," "," "," "," "," "," "," "," "," ",null,15,15,15,15,15,15,15,15,15,15,15,15,15,0,6,0,0,0,0,0,0,0,0,0,0,0]
[null,null,null,null,null,null,null,null,null,null,null,null,null,null,null,0,0,0,null,0,0,0,0,0,0,0,0,0,0,0,0,0,null," "," "," "," "," "," "," "," "," "," "," "," ",null,15,15,15,15,15,15,15,15,15,15,15,15,15,0,6,0,0,0,0,0,0,0,0,0,0,0]
[null,null,null,null,null,null,null,null,null,null,null,null,null,null,null,0,0,0,null,0,0,0,0,0,0,0,0,0,0,0,0,0,null," "," "," "," "," "," "," "," "," "," "," "," ",null,15,15,15,15,15,15,15,15,15,15,15,15,15,0,6,0,0,0,0,0,0,0,0,0,0,0]
[null,null,null,null,null,null,null,null,null,null,null,null,null,null,null,0,0,0,null,0,0,0,0,0,0,0,0,0,0,0,0,0,null," "," "," "," "," "," "," "," "," "," "," "," ",null,15,15,15,15,15,15,15,15,15,15,15,15,15,0,6,0,0,0,0,0,0,0,0,0,0,0]
[null,null,null,null,null,null,null,null,null,null,null,null,null,null,null,0,0,0,null,0,0,0,0,0,0,0,0,0,0,0,0,0,null," "," "," "," "," "," "," "," "," "," "," "," ",null,15,15,15,15,15,15,15,15,15,15,15,15,15,0,6,0,0,0,0,0,0,0,0,0,0,0]
[null,null,null,null,null,null,null,null,null,null,null,null,null,null,null,0,0,0,null,0,0,0,0,0,0,0,0,0,0,0,0,0,null," "," "," "," "," "," "," "," "," "," "," "," ",null,15,15,15,15,15,15,15,15,15,15,15,15,15,0,6,0,0,0,0,0,0,0,0,0,0,0]
[null,null,null,null,null,null,null,null,null,null,null,null,null,null,null,0,0,0,null,0,0,0,0,0,0,0,0,0,0,0,0,0,null," "," "," "," "," "," "," "," "," "," "," "," ",null,15,15,15,15,15,15,15,15,15,15,15,15,15,0,6,0,0,0,0,0,0,0,0,0,0,0]
[null,null,null,null,null,null,null,null,null,null,null,null,null,null,null,0,0,0,null,0,0,0,0,0,0,0,0,0,0,0,0,0,null," "," "," "," "," "," "," "," "," "," "," "," ",null,15,15,15,15,15,15,15,15,15,15,15,15,15,0,6,0,0,0,0,0,0,0,0,0,0,0]
[null,null,null,null,null,null,null,null,null,null,null,null,null,null,null,0,0,0,null,0,0,0,0,0,0,0,0,0,0,0,0,0,null," "," "," "," "," "," "," "," "," "," "," "," ",null,15,15,15,15,15,15,15,15,15,15,15,15,15,0,6,0,0,0,0,0,0,0,0,0,0,0]
[null,null,null,null,null,null,null,null,null,null,null,null,null,null,null,0,0,0,null,0,0,0,0,0,0,0,0,0,0,0,0,0,null," "," "," "," "," "," "," "," "," "," "," "," ",null,15,15,15,15,15,15,15,15,15,15,15,15,15,0,6,0,0,0,0,0,0,0,0,0,0,0]
[null,null,null,null,null,null,null,null,null,null,null,null,null,null,null,0,0,0,null,0,0,0,0,0,0,0,0,0,0,0,0,0,null," "," "," "," "," "," "," "," "," "," "," "," ",null,15,15,15,15,15,15,15,15,15,15,15,15,15,0,6,0,0,0,0,0,0,0,0,0,0,0]
[null,null,null,null,null,null,null,null,null,null,null,null,null,null,null,0,0,0,null,0,0,0,0,0,0,0,0,0,0,0,0,0,null," "," "," "," "," "," "," "," "," "," "," "," ",null,15,15,15,15,15,15,15,15,15,15,15,15,15,0,6,0,0,0,0,0,0,0,0,0,0,0]
[null,null,null,null,null,null,null,null,null,null,null,null,null,null,null,0,0,0,null,0,0,0,0,0,0,0,0,0,0,0,0,0,null," "," "," "," "," "," "," "," "," "," "," "," ",null,15,15,15,15,15,15,15,15,15,15,15,15,15,0,6,0,0,0,0,0,0,0,0,0,0,0]
[null,null,null,null,null,null,null,null,null,null,null,null,null,null,null,0,0,0,null,0,0,0,0,0,0,0,0,0,0,0,0,0,null," "," "," "," "," "," "," "," "," "," "," "," ",null,15,15,15,15,15,15,15,15,15,15,15,15,15,0,6,0,0,0,0,0,0,0,0,0,0,0]
[null,null,null,null,null,null,null,null,null,null,null,null,null,null,null,0,0,0,null,0,0,0,0,0,0,0,0,0,0,0,0,0,null," "," "," "," "," "," "," "," "," "," "," "," ",null,15,15,15,15,15,15,15,15,15,15,15,15,15,0,6,0,0,0,0,0,0,0,0,0,0,0]
[null,null,null,null,null,null,null,null,null,null,null,null,null,null,null,0,0,0,null,0,0,0,0,0,0,0,0,0,0,0,0,0,null," "," "," "," "," "," "," "," "," "," "," "," ",null,15,15,15,15,15,15,15,15,15,15,15,15,15,0,6,0,0,0,0,0,0,0,0,0,0,0]
[null,null,null,null,null,null,null,null,null,null,null,null,null,null,null,0,0,0,null,0,0,0,0,0,0,0,0,0,0,0,0,0,null," "," "," "," "," "," "," "," "," "," "," "," ",null,15,15,15,15,15,15,15,15,15,15,15,15,15,0,6,0,0,0,0,0,0,0,0,0,0,0]
[null,null,null,null,null,null,null,null,null,null,null,null,null,null,null,0,0,0,null,0,0,0,0,0,0,0,0,0,0,0,0,0,null," "," "," "," "," "," "," "," "," "," "," "," ",null,15,15,15,15,15,15,15,15,15,15,15,15,15,0,6,0,0,0,0,0,0,0,0,0,0,0]
[null,null,null,null,null,null,null,null,null,null,null,null,null,null,null,0,0,0,null,0,0,0,0,0,0,0,0,0,0,0,0,0,null," "," "," "," "," "," "," "," "," "," "," "," ",null,15,15,15,15,15,15,15,15,15,15,15,15,15,0,6,0,0,0,0,0,0,0,0,0,0,0]
[null,null,null,null,null,null,null,null,null,null,null,null,null,null,null,0,0,0,null,0,0,0,0,0,0,0,0,0,0,0,0,0,null," "," "," "," "," "," "," "," "," "," "," "," ",null,15,15,15,15,15,15,15,15,15,15,15,15,15,0,6,0,0,0,0,0,0,0,0,0,0,0]
[null,null,null,null,null,null,null,null,null,null,null,null,null,null,null,0,0,0,null,0,0,0,0,0,0,0,0,0,0,0,0,0,null," "," "," "," "," "," "," "," "," "," "," "," ",null,15,15,15,15,15,15,15,15,15,15,15,15,15,0,6,0,0,0,0,0,0,0,0,0,0,0]
[null,null,null,null,null,null,null,null,null,null,null,null,null,null,null,0,0,0,null,0,0,0,0,0,0,0,0,0,0,0,0,0,null," "," "," "," "," "," "," "," "," "," "," "," ",null,15,15,15,15,15,15,15,15,15,15,15,15,15,0,6,0,0,0,0,0,0,0,0,0,0,0]
[null,null,null,null,null,null,null,null,null,null,null,null,null,null,null,0,0,0,null,0,0,0,0,0,0,0,0,0,0,0,0,0,null," "," "," "," "," "," "," "," "," "," "," "," ",null,15,15,15,15,15,15,15,15,15,15,15,15,15,0,6,0,0,0,0,0,0,0,0,0,0,0]
[null,null,null,null,null,null,null,null,null,null,null,null,null,null,null,0,0,0,null,0,0,0,0,0,0,0,0,0,0,0,0,0,null," "," "," "," "," "," "," "," "," "," "," "," ",null,15,15,15,15,15,15,15,15,15,15,15,15,15,0,6,0,0,0,0,0,0,0,0,0,0,0]
[null,null,null,null,null,null,null,null,null,null,null,null,null,null,null,0,0,0,null,0,0,0,0,0,0,0,0,0,0,0,0,0,null," "," "," "," "," "," "," "," "," "," "," "," ",null,15,15,15,15,15,15,15,15,15,15,15,15,15,0,6,0,0,0,0,0,0,0,0,0,0,0]
[null,null,null,null,null,null,null,null,null,null,null,null,null,null,null,0,0,0,null,0,0,0,0,0,0,0,0,0,0,0,0,0,null," "," "," "," "," "," "," "," "," "," "," "," ",null,15,15,15,15,15,15,15,15,15,15,15,15,15,0,6,0,0,0,0,0,0,0,0,0,0,0]
[null,null,null,null,null,null,null,null,null,null,null,null,null,null,null,0,0,0,null,0,0,0,0,0,0,0,0,0,0,0,0,0,null," "," "," "," "," "," "," "," "," "," "," "," ",null,15,15,15,15,15,15,15,15,15,15,15,15,15,0,6,0,0,0,0,0,0,0,0,0,0,0]
[null,null,null,null,null,null,null,null,null,null,null,null,null,null,null,0,0,0,null,0,0,0,0,0,0,0,0,0,0,0,0,0,null," "," "," "," "," "," "," "," "," "," "," "," ",null,15,15,15,15,15,15,15,15,15,15,15,15,15,0,6,0,0,0,0,0,0,0,0,0,0,0]
[null,null,null,null,null,null,null,null,null,null,null,null,null,null,null,0,0,0,null,0,0,0,0,0,0,0,0,0,0,0,0,0,null," "," "," "," "," "," "," "," "," "," "," "," ",null,15,15,15,15,15,15,15,15,15,15,15,15,15,0,6,0,0,0,0,0,0,0,0,0,0,0]
[null,null,null,null,null,null,null,null,null,null,null,null,null,null,null,0,0,0,null,0,0,0,0,0,0,0,0,0,0,0,0,0,null," "," "," "," "," "," "," "," "," "," "," "," ",null,15,15,15,15,15,15,15,15,15,15,15,15,15,0,6,0,0,0,0,0,0,0,0,0,0,0]
[null,null,null,null,null,null,null,null,null,null,null,null,null,null,null,0,0,0,null,0,0,0,0,0,0,0,0,0,0,0,0,0,null," "," "," "," "," "," "," "," "," "," "," "," ",null,15,15,15,15,15,15,15,15,15,15,15,15,15,0,6,0,0,0,0,0,0,0,0,0,0,0]
[null,null,null,null,null,null,null,null,null,null,null,null,null,null,null,0,0,0,null,0,0,0,0,0,0,0,0,0,0,0,0,0,null," "," "," "," "," "," "," "," "," "," "," "," ",null,15,15,15,15,15,15,15,15,15,15,15,15,15,0,6,0,0,0,0,0,0,0,0,0,0,0]
[null,null,null,null,null,null,null,null,null,null,null,null,null,null,null,0,0,{"$f":"MIN(AH903:AS903)","v":0},null,{"$f":"COUNTIF($F903:$O903,$T$6)","v":0},{"$f":"COUNTIF($F903:$O903,$U$6)","v":0},{"$f":"COUNTIF($F903:$O903,$V$6)","v":0},{"$f":"COUNTIF($F903:$O903,$W$6)","v":0},{"$f":"COUNTIF($F903:$O903,$X$6)","v":0},{"$f":"COUNTIF($F903:$O903,$Y$6)","v":0},{"$f":"COUNTIF($F903:$O903,$Z$6)","v":0},{"$f":"COUNTIF($F903:$O903,$AA$6)","v":0},{"$f":"COUNTIF($F903:$O903,$AB$6)","v":0},{"$f":"COUNTIF($F903:$O903,$AC$6)","v":0},{"$f":"COUNTIF($F903:$O903,$AD$6)","v":0},{"$f":"COUNTIF($F903:$O903,$AE$6)","v":0},0,null," "," "," "," "," "," "," "," "," "," "," "," ",null,15,15,15,15,15,15,15,15,15,15,15,15,15,0,6,0,0,0,0,0,0,0,0,0,0,0]
[null,null,null,null,null,null,null,null,null,null,null,null,null,null,null,{"$f":"COUNTIF(F904:O904,\">0.8\")","v":0},{"$f":"IF(R904=0,(IF($R$2=1,BH904,0)),R904)","v":0},0,null,0,0,0,0,0,0,0,0,0,0,0,0,{"$f":"MAX(T904:AE904)","v":0},null," "," "," "," "," "," "," "," "," "," "," "," ",null,15,15,15,15,15,15,15,15,15,15,15,15,{"$f":"MIN(AU904:BF904)","v":15},{"$f":"IF(P904>=BG904,MAX(BI904:BT904),0)","v":0},{"$f":"IF(T904=$AF904,BI$6,0)","v":6},{"$f":"IF(U904=$AF904,BJ903,0)","v":0},0,0,0,0,0,0,0,0,0,0]
[null,null,null,null,null,null,null,null,null,null,null,null,null,null,null,0,0,0,null,0,0,0,0,0,0,0,0,0,0,0,0,0,null," "," "," "," "," "," "," "," "," "," "," "," ",null,15,15,15,15,15,15,15,15,15,15,15,15,15,0,6,0,0,0,0,0,0,0,0,0,0,0]
[null,null,null,null,null,null,null,null,null,null,null,null,null,null,null,0,0,0,null,0,0,0,0,0,0,0,0,0,0,0,0,0,null," "," "," "," "," "," "," "," "," "," "," "," ",null,15,15,15,15,15,15,15,15,15,15,15,15,15,0,6,0,0,0,0,0,0,0,0,0,0,0]
[null,null,null,null,null,null,null,null,null,null,null,null,null,null,null,0,0,0,null,0,0,0,0,0,0,0,0,0,0,0,0,0,null," "," "," "," "," "," "," "," "," "," "," "," ",null,15,15,15,15,15,15,15,15,15,15,15,15,15,0,6,0,0,0,0,0,0,0,0,0,0,0]
[null,null,null,null,null,null,null,null,null,null,null,null,null,null,null,0,0,0,null,0,0,0,0,0,0,0,0,0,0,0,0,0,null," "," "," "," "," "," "," "," "," "," "," "," ",null,15,15,15,15,15,15,15,15,15,15,15,15,15,0,6,0,0,0,0,0,0,0,0,0,0,0]
[null,null,null,null,null,null,null,null,null,null,null,null,null,null,null,0,0,0,null,0,0,0,0,0,0,0,0,0,0,0,0,0,null," "," "," "," "," "," "," "," "," "," "," "," ",null,15,15,15,15,15,15,15,15,15,15,15,15,15,0,6,0,0,0,0,0,0,0,0,0,0,0]
[null,null,null,null,null,null,null,null,null,null,null,null,null,null,null,0,0,0,null,0,0,0,0,0,0,0,0,0,0,0,0,0,null," "," "," "," "," "," "," "," "," "," "," "," ",null,15,15,15,15,15,15,15,15,15,15,15,15,15,0,6,0,0,0,0,0,0,0,0,0,0,0]
[null,null,null,null,null,null,null,null,null,null,null,null,null,null,null,0,0,0,null,0,0,0,0,0,0,0,0,0,0,0,0,0,null," "," "," "," "," "," "," "," "," "," "," "," ",null,15,15,15,15,15,15,15,15,15,15,15,15,15,0,6,0,0,0,0,0,0,0,0,0,0,0]
[null,null,null,null,null,null,null,null,null,null,null,null,null,null,null,0,0,0,null,0,0,0,0,0,0,0,0,0,0,0,0,0,null," "," "," "," "," "," "," "," "," "," "," "," ",null,15,15,15,15,15,15,15,15,15,15,15,15,15,0,6,0,0,0,0,0,0,0,0,0,0,0]
[null,null,null,null,null,null,null,null,null,null,null,null,null,null,null,0,0,0,null,0,0,0,0,0,0,0,0,0,0,0,0,0,null," "," "," "," "," "," "," "," "," "," "," "," ",null,15,15,15,15,15,15,15,15,15,15,15,15,15,0,6,0,0,0,0,0,0,0,0,0,0,0]
[null,null,null,null,null,null,null,null,null,null,null,null,null,null,null,0,0,0,null,0,0,0,0,0,0,0,0,0,0,0,0,0,null," "," "," "," "," "," "," "," "," "," "," "," ",null,15,15,15,15,15,15,15,15,15,15,15,15,15,0,6,0,0,0,0,0,0,0,0,0,0,0]
[null,null,null,null,null,null,null,null,null,null,null,null,null,null,null,0,0,0,null,0,0,0,0,0,0,0,0,0,0,0,0,0,null," "," "," "," "," "," "," "," "," "," "," "," ",null,15,15,15,15,15,15,15,15,15,15,15,15,15,0,6,0,0,0,0,0,0,{"$f":"IF(AA915=$AF915,BP$6,0)","v":0},0,0,0,0]
[null,null,null,null,null,null,null,null,null,null,null,null,null,null,null,0,0,0,null,0,0,0,0,0,0,0,0,0,0,0,0,0,null," "," "," "," "," "," "," "," "," "," "," "," ",null,15,15,15,15,15,15,15,15,15,15,15,15,15,0,6,0,{"$f":"IF(V916=$AF916,BK$6,0)","v":0},0,0,0,0,0,0,0,0,0]
[null,null,null,null,null,null,null,null,null,null,null,null,null,null,null,0,0,0,null,0,0,0,0,0,0,0,0,0,0,0,0,0,null," "," "," "," "," "," "," "," "," "," "," "," ",null,15,15,15,15,15,15,15,15,15,15,15,15,15,0,6,0,0,0,0,0,0,0,0,0,0,0]
[null,null,null,null,null,null,null,null,null,null,null,null,null,null,null,0,0,0,null,0,0,0,0,0,0,0,0,0,0,0,0,0,null," "," "," "," "," "," "," "," "," "," "," "," ",null,15,15,15,15,15,15,15,15,15,15,15,15,15,0,6,0,0,0,0,0,0,0,0,0,0,0]
[null,null,null,null,null,null,null,null,null,null,null,null,null,null,null,0,0,0,null,0,0,0,0,0,0,0,0,0,0,0,0,0,null," "," "," "," "," "," "," "," "," "," "," "," ",null,15,15,15,15,15,15,15,15,15,15,15,15,15,0,6,0,0,0,0,0,0,0,0,0,0,0]
[null,null,null,null,null,null,null,null,null,null,null,null,null,null,null,0,0,0,null,0,0,0,0,0,0,0,0,0,0,0,0,0,null," "," "," "," "," "," "," "," "," "," "," "," ",null,15,15,15,15,15,15,15,15,15,15,15,15,15,0,6,0,0,0,0,0,0,0,0,0,0,0]
[null,null,null,null,null,null,null,null,null,null,null,null,null,null,null,0,0,0,null,0,0,0,0,0,0,0,0,0,0,0,0,0,null," "," "," "," "," "," "," "," "," "," "," "," ",null,15,15,15,15,15,15,15,15,15,15,15,15,15,0,6,0,0,0,0,0,0,0,0,0,0,0]
[null,null,null,null,null,null,null,null,null,null,null,null,null,null,null,0,0,0,null,0,0,0,0,0,0,0,0,0,0,0,0,0,null," "," "," "," "," "," "," "," "," "," "," "," ",null,15,15,15,15,15,15,15,15,15,15,15,15,15,0,6,0,0,0,0,0,0,0,0,0,0,0]
[null,null,null,null,null,null,null,null,null,null,null,null,null,null,null,0,0,0,null,0,0,0,0,0,0,0,0,0,0,0,0,0,null," "," "," "," "," "," "," "," "," "," "," "," ",null,15,15,15,15,15,15,15,15,15,15,15,15,15,0,6,0,0,0,0,0,0,0,0,0,0,0]
[null,null,null,null,null,null,null,null,null,null,null,null,null,null,null,0,0,0,null,0,0,0,0,0,0,0,0,0,0,0,0,0,null," "," "," "," "," "," "," "," "," "," "," "," ",null,15,15,15,15,15,15,15,15,15,15,15,15,15,0,6,0,0,0,0,0,0,0,0,0,0,0]
[null,null,null,null,null,null,null,null,null,null,null,null,null,null,null,0,0,0,null,0,0,0,0,0,0,0,0,0,0,0,0,0,null," "," "," "," "," "," "," "," "," "," "," "," ",null,15,15,15,15,15,15,15,15,15,15,15,15,15,0,6,0,0,0,0,0,0,0,0,0,0,0]
[null,null,null,null,null,null,null,null,null,null,null,null,null,null,null,0,0,0,null,0,0,0,0,0,0,0,0,0,0,0,0,0,null," "," "," "," "," "," "," "," "," "," "," "," ",null,15,15,15,15,15,15,15,15,15,15,15,15,15,0,6,0,0,0,0,0,0,0,0,0,0,0]
[null,null,null,null,null,null,null,null,null,null,null,null,null,null,null,0,0,0,null,0,0,0,0,0,0,0,0,0,0,0,0,0,null," "," "," "," "," "," "," "," "," "," "," "," ",null,15,15,15,15,15,15,15,15,15,15,15,15,15,0,6,0,0,0,0,0,0,0,0,0,0,0]
[null,null,null,null,null,null,null,null,null,null,null,null,null,null,null,0,0,0,null,0,0,0,0,0,0,0,0,0,0,0,0,0,null," "," "," "," "," "," "," "," "," "," "," "," ",null,15,15,15,15,15,15,15,15,15,15,15,15,15,0,6,0,0,0,0,0,0,0,0,0,0,0]
[null,null,null,null,null,null,null,null,null,null,null,null,null,null,null,0,0,0,null,0,0,0,0,0,0,0,0,0,0,0,0,0,null," "," "," "," "," "," "," "," "," "," "," "," ",null,15,15,15,15,15,15,15,15,15,15,15,15,15,0,6,0,0,0,0,0,0,0,0,0,0,0]
[null,null,null,null,null,null,null,null,null,null,null,null,null,null,null,0,0,0,null,0,0,0,0,0,0,0,0,0,0,0,0,0,null," "," "," "," "," "," "," "," "," "," "," "," ",null,15,15,15,15,15,15,15,15,15,15,15,15,15,0,6,0,0,0,0,0,0,0,0,0,0,0]
[null,null,null,null,null,null,null,null,null,null,null,null,null,null,null,0,0,0,null,0,0,0,0,0,0,0,0,0,0,0,0,0,null," "," "," "," "," "," "," "," "," "," "," "," ",null,15,15,15,15,15,15,15,15,15,15,15,15,15,0,6,0,0,0,0,0,0,0,0,0,0,0]
[null,null,null,null,null,null,null,null,null,null,null,null,null,null,null,0,0,0,null,0,0,0,0,0,0,0,0,0,0,0,0,0,null," "," "," "," "," "," "," "," "," "," "," "," ",null,15,15,15,15,15,15,15,15,15,15,15,15,15,0,6,0,0,0,0,0,0,0,0,0,0,0]
[null,null,null,null,null,null,null,null,null,null,null,null,null,null,null,0,0,0,null,0,0,0,0,0,0,0,0,0,0,0,0,0,null," "," "," "," "," "," "," "," "," "," "," "," ",null,15,15,15,15,15,15,15,15,15,15,15,15,15,0,6,0,0,0,0,0,0,0,0,0,0,0]
[null,null,null,null,null,null,null,null,null,null,null,null,null,null,null,0,0,0,null,0,0,0,0,0,0,0,0,0,0,0,0,0,null," "," "," "," "," "," "," "," "," "," "," "," ",null,15,15,15,15,15,15,15,15,15,15,15,15,15,0,6,0,0,0,0,0,0,0,0,0,0,0]
[null,null,null,null,null,null,null,null,null,null,null,null,null,null,null,0,0,0,null,0,0,0,0,0,0,0,0,0,0,0,0,0,null," "," "," "," "," "," "," "," "," "," "," "," ",null,15,15,15,15,15,15,15,15,15,15,15,15,15,0,6,0,0,0,0,0,0,0,0,0,0,0]
[null,null,null,null,null,null,null,null,null,null,null,null,null,null,null,0,0,0,null,0,0,0,0,0,0,0,0,0,0,0,0,0,null," "," "," "," "," "," "," "," "," "," "," "," ",null,15,15,15,15,15,15,15,15,15,15,15,15,15,0,6,0,0,0,0,0,0,0,0,0,0,0]
[null,null,null,null,null,null,null,null,null,null,null,null,null,null,null,0,0,0,null,0,0,0,0,0,0,0,0,0,0,0,0,0,null," "," "," "," "," "," "," "," "," "," "," "," ",null,15,15,15,15,15,15,15,15,15,15,15,15,15,0,6,0,0,0,0,0,0,0,0,0,0,0]
[null,null,null,null,null,null,null,null,null,null,null,null,null,null,null,0,0,0,null,0,0,0,0,0,0,0,0,0,0,0,0,0,null," "," "," "," "," "," "," "," "," "," "," "," ",null,15,15,15,15,15,15,15,15,15,15,15,15,15,0,6,0,0,0,0,0,0,0,0,0,0,0]
[null,null,null,null,null,null,null,null,null,null,null,null,null,null,null,0,0,0,null,0,0,0,0,0,0,0,0,0,0,0,0,0,null," "," "," "," "," "," "," "," "," "," "," "," ",null,15,15,15,15,15,15,15,15,15,15,15,15,15,0,6,0,0,0,0,0,0,0,0,0,0,0]
[null,null,null,null,null,null,null,null,null,null,null,null,null,null,null,0,0,0,null,0,0,0,0,0,0,0,0,0,0,0,0,0,null," "," "," "," "," "," "," "," "," "," "," "," ",null,15,15,15,15,15,15,15,15,15,15,15,15,15,0,6,0,0,0,0,0,0,0,0,0,0,0]
[null,null,null,null,null,null,null,null,null,null,null,null,null,null,null,0,0,0,null,0,0,0,0,0,0,0,0,0,0,0,0,0,null," "," "," "," "," "," "," "," "," "," "," "," ",null,15,15,15,15,15,15,15,15,15,15,15,15,15,0,6,0,0,0,0,0,0,0,0,0,0,0]
[null,null,null,null,null,null,null,null,null,null,null,null,null,null,null,0,0,0,null,0,0,0,0,0,0,0,0,0,0,0,0,0,null," "," "," "," "," "," "," "," "," "," "," "," ",null,15,15,15,15,15,15,15,15,15,15,15,15,15,0,6,0,0,0,0,0,0,0,0,0,0,0]
[null,null,null,null,null,null,null,null,null,null,null,null,null,null,null,0,0,0,null,0,0,0,0,0,0,0,0,0,0,0,0,0,null," "," "," "," "," "," "," "," "," "," "," "," ",null,15,15,15,15,15,15,15,15,15,15,15,15,15,0,6,0,0,0,0,0,0,0,0,0,0,0]
[null,null,null,null,null,null,null,null,null,null,null,null,null,null,null,0,0,0,null,0,0,0,0,0,0,0,0,0,0,0,0,0,null," "," "," "," "," "," "," "," "," "," "," "," ",null,15,15,15,15,15,15,15,15,15,15,15,15,15,0,6,0,0,0,0,0,0,0,0,0,0,0]
[null,null,null,null,null,null,null,null,null,null,null,null,null,null,null,0,0,0,null,0,0,0,0,0,0,0,0,0,0,0,0,0,null," "," "," "," "," "," "," "," "," "," "," "," ",null,15,15,15,15,15,15,15,15,15,15,15,15,15,0,6,0,0,0,0,0,0,0,0,0,0,0]
[null,null,null,null,null,null,null,null,null,null,null,null,null,null,null,0,0,0,null,0,0,0,0,0,0,0,0,0,0,0,0,0,null," "," "," "," "," "," "," "," "," "," "," "," ",null,15,15,15,15,15,15,15,15,15,15,15,15,15,0,6,0,0,0,0,0,0,0,0,0,0,0]
[null,null,null,null,null,null,null,null,null,null,null,null,null,null,null,0,0,0,null,0,0,0,0,0,0,0,0,0,0,0,0,0,null," "," "," "," "," "," "," "," "," "," "," "," ",null,15,15,15,15,15,15,15,15,15,15,15,15,15,0,6,0,0,0,0,0,0,0,0,0,0,0]
[null,null,null,null,null,null,null,null,null,null,null,null,null,null,null,0,0,0,null,0,0,0,0,0,0,0,0,0,0,0,0,0,null," "," "," "," "," "," "," "," "," "," "," "," ",null,15,15,15,15,15,15,15,15,15,15,15,15,15,0,6,0,0,0,0,0,0,0,0,0,0,0]
[null,null,null,null,null,null,null,null,null,null,null,null,null,null,null,0,0,0,null,0,0,0,0,0,0,0,0,0,0,0,0,0,null," "," "," "," "," "," "," "," "," "," "," "," ",null,15,15,15,15,15,15,15,15,15,15,15,15,15,0,6,0,0,0,0,0,0,0,0,0,0,0]
[null,null,null,null,null,null,null,null,null,null,null,null,null,null,null,0,0,0,null,0,0,0,0,0,0,0,0,0,0,0,0,0,null," "," "," "," "," "," "," "," "," "," "," "," ",null,15,15,15,15,15,15,15,15,15,15,15,15,15,0,6,0,0,0,0,0,0,0,0,0,0,0]
[null,null,null,null,null,null,null,null,null,null,null,null,null,null,null,0,0,0,null,0,0,0,0,0,0,0,0,0,0,0,0,0,null," "," "," "," "," "," "," "," "," "," "," "," ",null,15,15,15,15,15,15,15,15,15,15,15,15,15,0,6,0,0,0,0,0,0,0,0,0,0,0]
[null,null,null,null,null,null,null,null,null,null,null,null,null,null,null,0,0,0,null,0,0,0,0,0,0,0,0,0,0,0,0,0,null," "," "," "," "," "," "," "," "," "," "," "," ",null,15,15,15,15,15,15,15,15,15,15,15,15,15,0,6,0,0,0,0,0,0,0,0,0,0,0]
[null,null,null,null,null,null,null,null,null,null,null,null,null,null,null,0,0,0,null,0,0,0,0,0,0,0,0,0,0,0,0,0,null," "," "," "," "," "," "," "," "," "," "," "," ",null,15,15,15,15,15,15,15,15,15,15,15,15,15,0,6,0,0,0,0,0,0,0,0,0,0,0]
[null,null,null,null,null,null,null,null,null,null,null,null,null,null,null,0,0,0,null,0,0,0,0,0,0,0,0,0,0,0,0,0,null," "," "," "," "," "," "," "," "," "," "," "," ",null,15,15,15,15,15,15,15,15,15,15,15,15,15,0,6,0,0,0,0,0,0,0,0,0,0,0]
[null,null,null,null,null,null,null,null,null,null,null,null,null,null,null,0,0,0,null,0,0,0,0,0,0,0,0,0,0,0,0,0,null," "," "," "," "," "," "," "," "," "," "," "," ",null,15,15,15,15,15,15,15,15,15,15,15,15,15,0,6,0,0,0,0,0,0,0,0,0,0,0]
[null,null,null,null,null,null,null,null,null,null,null,null,null,null,null,0,0,0,null,0,0,0,0,0,0,0,0,0,0,0,0,0,null," "," "," "," "," "," "," "," "," "," "," "," ",null,15,15,15,15,15,15,15,15,15,15,15,15,15,0,6,0,0,0,0,0,0,0,0,0,0,0]
[null,null,null,null,null,null,null,null,null,null,null,null,null,null,null,0,0,0,null,0,0,0,0,0,0,0,0,0,0,0,0,0,null," "," "," "," "," "," "," "," "," "," "," "," ",null,15,15,15,15,15,15,15,15,15,15,15,15,15,0,6,0,0,0,0,0,0,0,0,0,0,0]
[null,null,null,null,null,null,null,null,null,null,null,null,null,null,null,0,0,0,null,0,0,0,0,0,0,0,0,0,0,0,0,0,null," "," "," "," "," "," "," "," "," "," "," "," ",null,15,15,15,15,15,15,15,15,15,15,15,15,15,0,6,0,0,0,0,0,0,0,0,0,0,0]
[null,null,null,null,null,null,null,null,null,null,null,null,null,null,null,0,0,0,null,0,0,0,0,0,0,0,0,0,0,0,0,0,null," "," "," "," "," "," "," "," "," "," "," "," ",null,15,15,15,15,15,15,15,15,15,15,15,15,15,0,6,0,0,0,0,0,0,0,0,0,0,0]
[null,null,null,null,null,null,null,null,null,null,null,null,null,null,null,0,0,0,null,0,0,0,0,0,0,0,0,0,0,0,0,0,null," "," "," "," "," "," "," "," "," "," "," "," ",null,15,15,15,15,15,15,15,15,15,15,15,15,15,0,6,0,0,0,0,0,0,0,0,0,0,0]
[null,null,null,null,null,null,null,null,null,null,null,null,null,null,null,0,0,0,null,0,0,0,0,0,0,0,0,0,0,0,0,0,null," "," "," "," "," "," "," "," "," "," "," "," ",null,15,15,15,15,15,15,15,15,15,15,15,15,15,0,6,0,0,0,0,0,0,0,0,0,0,0]
[null,null,null,null,null,null,null,null,null,null,null,null,null,null,null,0,0,0,null,0,0,0,0,0,0,0,0,0,0,0,0,0,null," "," "," "," "," "," "," "," "," "," "," "," ",null,15,15,15,15,15,15,15,15,15,15,15,15,15,0,6,0,0,0,0,0,0,0,0,0,0,0]
[null,null,null,null,null,null,null,null,null,null,null,null,null,null,null,0,0,0,null,0,0,0,0,0,0,0,0,0,0,0,0,0,null," "," "," "," "," "," "," "," "," "," "," "," ",null,15,15,15,15,15,15,15,15,15,15,15,15,15,0,6,0,0,0,0,0,0,0,0,0,0,0]
[null,null,null,null,null,null,null,null,null,null,null,null,null,null,null,0,0,0,null,0,0,0,0,0,0,0,0,0,0,0,0,0,null," "," "," "," "," "," "," "," "," "," "," "," ",null,15,15,15,15,15,15,15,15,15,15,15,15,15,0,6,0,0,0,0,0,0,0,0,0,0,0]
[null,null,null,null,null,null,null,null,null,null,null,null,null,null,null,0,0,0,null,0,0,0,0,0,0,0,0,0,0,0,0,0,null," "," "," "," "," "," "," "," "," "," "," "," ",null,15,15,15,15,15,15,15,15,15,15,15,15,15,0,6,0,0,0,0,0,0,0,0,0,0,0]
[null,null,null,null,null,null,null,null,null,null,null,null,null,null,null,0,0,0,null,0,0,0,0,0,0,0,0,0,0,0,0,0,null," "," "," "," "," "," "," "," "," "," "," "," ",null,15,15,15,15,15,15,15,15,15,15,15,15,15,0,6,0,0,0,0,0,0,{"$f":"IF(AA966=$AF966,BP$6,0)","v":0},0,0,0,0]
[null,null,null,null,null,null,null,null,null,null,null,null,null,null,null,0,0,{"$f":"MIN(AH967:AS967)","v":0},null,{"$f":"COUNTIF($F967:$O967,$T$6)","v":0},{"$f":"COUNTIF($F967:$O967,$U$6)","v":0},{"$f":"COUNTIF($F967:$O967,$V$6)","v":0},{"$f":"COUNTIF($F967:$O967,$W$6)","v":0},{"$f":"COUNTIF($F967:$O967,$X$6)","v":0},{"$f":"COUNTIF($F967:$O967,$Y$6)","v":0},{"$f":"COUNTIF($F967:$O967,$Z$6)","v":0},{"$f":"COUNTIF($F967:$O967,$AA$6)","v":0},{"$f":"COUNTIF($F967:$O967,$AB$6)","v":0},{"$f":"COUNTIF($F967:$O967,$AC$6)","v":0},{"$f":"COUNTIF($F967:$O967,$AD$6)","v":0},{"$f":"COUNTIF($F967:$O967,$AE$6)","v":0},0,null," "," "," "," "," "," "," "," "," "," "," "," ",null,15,15,15,15,15,15,15,15,15,15,15,15,15,0,6,0,{"$f":"IF(V967=$AF967,BK$6,0)","v":0},0,0,0,0,0,0,0,0,0]
[null,null,null,null,null,null,null,null,null,null,null,null,null,null,null,{"$f":"COUNTIF(F968:O968,\">0.8\")","v":0},{"$f":"IF(R968=0,(IF($R$2=1,BH968,0)),R968)","v":0},0,null,0,0,0,0,0,0,0,0,0,0,0,0,{"$f":"MAX(T968:AE968)","v":0},null," "," "," "," "," "," "," "," "," "," "," "," ",null,15,15,15,15,15,15,15,15,15,15,15,15,{"$f":"MIN(AU968:BF968)","v":15},{"$f":"IF(P968>=BG968,MAX(BI968:BT968),0)","v":0},{"$f":"IF(T968=$AF968,BI$6,0)","v":6},{"$f":"IF(U968=$AF968,BJ967,0)","v":0},0,0,0,0,0,0,0,0,0,0]
[null,null,null,null,null,null,null,null,null,null,null,null,null,null,null,0,0,0,null,0,0,0,0,0,0,0,0,0,0,0,0,0,null," "," "," "," "," "," "," "," "," "," "," "," ",null,15,15,15,15,15,15,15,15,15,15,15,15,15,0,6,0,0,0,0,0,0,0,0,0,0,0]
[null,null,null,null,null,null,null,null,null,null,null,null,null,null,null,0,0,0,null,0,0,0,0,0,0,0,0,0,0,0,0,0,null," "," "," "," "," "," "," "," "," "," "," "," ",null,15,15,15,15,15,15,15,15,15,15,15,15,15,0,6,0,0,0,0,0,0,0,0,0,0,0]
[null,null,null,null,null,null,null,null,null,null,null,null,null,null,null,0,0,0,null,0,0,0,0,0,0,0,0,0,0,0,0,0,null," "," "," "," "," "," "," "," "," "," "," "," ",null,15,15,15,15,15,15,15,15,15,15,15,15,15,0,6,0,0,0,0,0,0,0,0,0,0,0]
[null,null,null,null,null,null,null,null,null,null,null,null,null,null,null,0,0,0,null,0,0,0,0,0,0,0,0,0,0,0,0,0,null," "," "," "," "," "," "," "," "," "," "," "," ",null,15,15,15,15,15,15,15,15,15,15,15,15,15,0,6,0,0,0,0,0,0,0,0,0,0,0]
[null,null,null,null,null,null,null,null,null,null,null,null,null,null,null,0,0,0,null,0,0,0,0,0,0,0,0,0,0,0,0,0,null," "," "," "," "," "," "," "," "," "," "," "," ",null,15,15,15,15,15,15,15,15,15,15,15,15,15,0,6,0,0,0,0,0,0,0,0,0,0,0]
[null,null,null,null,null,null,null,null,null,null,null,null,null,null,null,0,0,0,null,0,0,0,0,0,0,0,0,0,0,0,0,0,null," "," "," "," "," "," "," "," "," "," "," "," ",null,15,15,15,15,15,15,15,15,15,15,15,15,15,0,6,0,0,0,0,0,0,0,0,0,0,0]
[null,null,null,null,null,null,null,null,null,null,null,null,null,null,null,0,0,0,null,0,0,0,0,0,0,0,0,0,0,0,0,0,null," "," "," "," "," "," "," "," "," "," "," "," ",null,15,15,15,15,15,15,15,15,15,15,15,15,15,0,6,0,0,0,0,0,0,0,0,0,0,0]
[null,null,null,null,null,null,null,null,null,null,null,null,null,null,null,0,0,0,null,0,0,0,0,0,0,0,0,0,0,0,0,0,null," "," "," "," "," "," "," "," "," "," "," "," ",null,15,15,15,15,15,15,15,15,15,15,15,15,15,0,6,0,0,0,0,0,0,0,0,0,0,0]
[null,null,null,null,null,null,null,null,null,null,null,null,null,null,null,0,0,0,null,0,0,0,0,0,0,0,0,0,0,0,0,0,null," "," "," "," "," "," "," "," "," "," "," "," ",null,15,15,15,15,15,15,15,15,15,15,15,15,15,0,6,0,0,0,0,0,0,0,0,0,0,0]
[null,null,null,null,null,null,null,null,null,null,null,null,null,null,null,0,0,0,null,0,0,0,0,0,0,0,0,0,0,0,0,0,null," "," "," "," "," "," "," "," "," "," "," "," ",null,15,15,15,15,15,15,15,15,15,15,15,15,15,0,6,0,0,0,0,0,0,0,0,0,0,0]
[null,null,null,null,null,null,null,null,null,null,null,null,null,null,null,0,0,0,null,0,0,0,0,0,0,0,0,0,0,0,0,0,null," "," "," "," "," "," "," "," "," "," "," "," ",null,15,15,15,15,15,15,15,15,15,15,15,15,15,0,6,0,0,0,0,0,0,0,0,0,0,0]
[null,null,null,null,null,null,null,null,null,null,null,null,null,null,null,0,0,0,null,0,0,0,0,0,0,0,0,0,0,0,0,0,null," "," "," "," "," "," "," "," "," "," "," "," ",null,15,15,15,15,15,15,15,15,15,15,15,15,15,0,6,0,0,0,0,0,0,0,0,0,0,0]
[null,null,null,null,null,null,null,null,null,null,null,null,null,null,null,0,0,0,null,0,0,0,0,0,0,0,0,0,0,0,0,0,null," "," "," "," "," "," "," "," "," "," "," "," ",null,15,15,15,15,15,15,15,15,15,15,15,15,15,0,6,0,0,0,0,0,0,0,0,0,0,0]
[null,null,null,null,null,null,null,null,null,null,null,null,null,null,null,0,0,0,null,0,0,0,0,0,0,0,0,0,0,0,0,0,null," "," "," "," "," "," "," "," "," "," "," "," ",null,15,15,15,15,15,15,15,15,15,15,15,15,15,0,6,0,0,0,0,0,0,0,0,0,0,0]
[null,null,null,null,null,null,null,null,null,null,null,null,null,null,null,0,0,0,null,0,0,0,0,0,0,0,0,0,0,0,0,0,null," "," "," "," "," "," "," "," "," "," "," "," ",null,15,15,15,15,15,15,15,15,15,15,15,15,15,0,6,0,0,0,0,0,0,0,0,0,0,0]
[null,null,null,null,null,null,null,null,null,null,null,null,null,null,null,0,0,0,null,0,0,0,0,0,0,0,0,0,0,0,0,0,null," "," "," "," "," "," "," "," "," "," "," "," ",null,15,15,15,15,15,15,15,15,15,15,15,15,15,0,6,0,0,0,0,0,0,0,0,0,0,0]
[null,null,null,null,null,null,null,null,null,null,null,null,null,null,null,0,0,0,null,0,0,0,0,0,0,0,0,0,0,0,0,0,null," "," "," "," "," "," "," "," "," "," "," "," ",null,15,15,15,15,15,15,15,15,15,15,15,15,15,0,6,0,0,0,0,0,0,0,0,0,0,0]
[null,null,null,null,null,null,null,null,null,null,null,null,null,null,null,0,0,0,null,0,0,0,0,0,0,0,0,0,0,0,0,0,null," "," "," "," "," "," "," "," "," "," "," "," ",null,15,15,15,15,15,15,15,15,15,15,15,15,15,0,6,0,0,0,0,0,0,0,0,0,0,0]
[null,null,null,null,null,null,null,null,null,null,null,null,null,null,null,0,0,0,null,0,0,0,0,0,0,0,0,0,0,0,0,0,null," "," "," "," "," "," "," "," "," "," "," "," ",null,15,15,15,15,15,15,15,15,15,15,15,15,15,0,6,0,0,0,0,0,0,0,0,0,0,0]
[null,null,null,null,null,null,null,null,null,null,null,null,null,null,null,0,0,0,null,0,0,0,0,0,0,0,0,0,0,0,0,0,null," "," "," "," "," "," "," "," "," "," "," "," ",null,15,15,15,15,15,15,15,15,15,15,15,15,15,0,6,0,0,0,0,0,0,0,0,0,0,0]
[null,null,null,null,null,null,null,null,null,null,null,null,null,null,null,0,0,0,null,0,0,0,0,0,0,0,0,0,0,0,0,0,null," "," "," "," "," "," "," "," "," "," "," "," ",null,15,15,15,15,15,15,15,15,15,15,15,15,15,0,6,0,0,0,0,0,0,0,0,0,0,0]
[null,null,null,null,null,null,null,null,null,null,null,null,null,null,null,0,0,0,null,0,0,0,0,0,0,0,0,0,0,0,0,0,null," "," "," "," "," "," "," "," "," "," "," "," ",null,15,15,15,15,15,15,15,15,15,15,15,15,15,0,6,0,0,0,0,0,0,0,0,0,0,0]
[null,null,null,null,null,null,null,null,null,null,null,null,null,null,null,0,0,0,null,0,0,0,0,0,0,0,0,0,0,0,0,0,null," "," "," "," "," "," "," "," "," "," "," "," ",null,15,15,15,15,15,15,15,15,15,15,15,15,15,0,6,0,0,0,0,0,0,0,0,0,0,0]
[null,null,null,null,null,null,null,null,null,null,null,null,null,null,null,0,0,0,null,0,0,0,0,0,0,0,0,0,0,0,0,0,null," "," "," "," "," "," "," "," "," "," "," "," ",null,15,15,15,15,15,15,15,15,15,15,15,15,15,0,6,0,0,0,0,0,0,0,0,0,0,0]
[null,null,null,null,null,null,null,null,null,null,null,null,null,null,null,0,0,0,null,0,0,0,0,0,0,0,0,0,0,0,0,0,null," "," "," "," "," "," "," "," "," "," "," "," ",null,15,15,15,15,15,15,15,15,15,15,15,15,15,0,6,0,0,0,0,0,0,0,0,0,0,0]
[null,null,null,null,null,null,null,null,null,null,null,null,null,null,null,0,0,0,null,0,0,0,0,0,0,0,0,0,0,0,0,0,null," "," "," "," "," "," "," "," "," "," "," "," ",null,15,15,15,15,15,15,15,15,15,15,15,15,15,0,6,0,0,0,0,0,0,0,0,0,0,0]
[null,null,null,null,null,null,null,null,null,null,null,null,null,null,null,0,0,0,null,0,0,0,0,0,0,0,0,0,0,0,0,0,null," "," "," "," "," "," "," "," "," "," "," "," ",null,15,15,15,15,15,15,15,15,15,15,15,15,15,0,6,0,0,0,0,0,0,0,0,0,0,0]
[null,null,null,null,null,null,null,null,null,null,null,null,null,null,null,0,0,0,null,0,0,0,0,0,0,0,0,0,0,0,0,0,null," "," "," "," "," "," "," "," "," "," "," "," ",null,15,15,15,15,15,15,15,15,15,15,15,15,15,0,6,0,0,0,0,0,0,0,0,0,0,0]
[null,null,null,null,null,null,null,null,null,null,null,null,null,null,null,0,0,0,null,0,0,0,0,0,0,0,0,0,0,0,0,0,null," "," "," "," "," "," "," "," "," "," "," "," ",null,15,15,15,15,15,15,15,15,15,15,15,15,15,0,6,0,0,0,0,0,0,0,0,0,0,0]
[null,null,null,null,null,null,null,null,null,null,null,null,null,null,null,0,0,0,null,0,0,0,0,0,0,0,0,0,0,0,0,0,null," "," "," "," "," "," "," "," "," "," "," "," ",null,15,15,15,15,15,15,15,15,15,15,15,15,15,0,6,0,0,0,0,0,0,0,0,0,0,0]
[null,null,null,null,null,null,null,null,null,null,null,null,null,null,null,0,0,0,null,0,0,0,0,0,0,0,0,0,0,0,0,0,null," "," "," "," "," "," "," "," "," "," "," "," ",null,15,15,15,15,15,15,15,15,15,15,15,15,15,0,6,0,0,0,0,0,0,0,0,0,0,0]
[null,null,null,null,null,null,null,null,null,null,null,null,null,null,null,0,0,0,null,0,0,0,0,0,0,0,0,0,0,0,0,0,null," "," "," "," "," "," "," "," "," "," "," "," ",null,15,15,15,15,15,15,15,15,15,15,15,15,15,0,6,0,0,0,0,0,0,0,0,0,0,0]
[null,null,null,null,null,null,null,null,null,null,null,null,null,null,null,0,0,0,null,0,0,0,0,0,0,0,0,0,0,0,0,0,null," "," "," "," "," "," "," "," "," "," "," "," ",null,15,15,15,15,15,15,15,15,15,15,15,15,15,0,6,0,0,0,0,0,0,0,0,0,0,0]
[null,null,null,null,null,null,null,null,null,null,null,null,null,null,null,0,0,0,null,0,0,0,0,0,0,0,0,0,0,0,0,0,null," "," "," "," "," "," "," "," "," "," "," "," ",null,15,15,15,15,15,15,15,15,15,15,15,15,15,0,6,0,0,0,0,0,0,0,0,0,0,0]
[null,null,null,null,null,null,null,null,null,null,null,null,null,null,null,0,0,0,null,0,0,0,0,0,0,0,0,0,0,0,0,0,null," "," "," "," "," "," "," "," "," "," "," "," ",null,15,15,15,15,15,15,15,15,15,15,15,15,15,0,6,0,0,0,0,0,0,0,0,0,0,0]
[null,null,null,null,null,null,null,null,null,null,null,null,null,null,null,0,0,0,null,0,0,0,0,0,0,0,0,0,0,0,0,0,null," "," "," "," "," "," "," "," "," "," "," "," ",null,15,15,15,15,15,15,15,15,15,15,15,15,15,0,6,0,0,0,0,0,0,0,0,0,0,0]
[null,null,null,null,null,null,null,null,null,null,null,null,null,null,null,0,0,0,null,0,0,0,0,0,0,0,0,0,0,0,0,0,null," "," "," "," "," "," "," "," "," "," "," "," ",null,15,15,15,15,15,15,15,15,15,15,15,15,15,0,6,0,0,0,0,0,0,0,0,0,0,0]
[null,null,null,null,null,null,null,null,null,null,null,null,null,null,null,0,0,0,null,0,0,0,0,0,0,0,0,0,0,0,0,0,null," "," "," "," "," "," "," "," "," "," "," "," ",null,15,15,15,15,15,15,15,15,15,15,15,15,15,0,6,0,0,0,0,0,0,0,0,0,0,0]
[null,null,null,null,null,null,null,null,null,null,null,null,null,null,null,0,0,0,null,0,0,0,0,0,0,0,0,0,0,0,0,0,null," "," "," "," "," "," "," "," "," "," "," "," ",null,15,15,15,15,15,15,15,15,15,15,15,15,15,0,6,0,0,0,0,0,0,0,0,0,0,0]